{"text_format":"1","workbook":"xlsx","n_sheets":10,"sheets":["Startside","Dine valg","Registerdata","Indtastningsark","Nøgletalsanalyse","Skyggetabeller","Hjælpefane","Rapport","Infotekster","Data"],"not_rendered":{"charts":41,"images":56,"macros":1,"external_links":3,"defined_names":101,"comments":0,"pivot_tables":0},"unopened":[],"bounds":{"document_bytes":16777216,"sheet_cells":100000,"rows_first":2000,"rows_last":500,"rows_between":2000,"halvings":0,"cell_chars":16384,"cell_head_chars":4096},"cells_cut":0,"cells_raw":0,"read":"whole","date_system":"1900"}

{"sheet":"Startside","index":0,"n_rows":16,"n_cols":2,"rows_kept":16,"cut":false,"hidden":false,"merged":[[14,1,14,12],[15,1,15,12]]}
[]
[]
[]
[]
[]
[]
[]
[null,"Indsatstrappens Nøgletal"]
[]
[]
[null,"Version 2.0"]
[]
[]
[]
[null,"Velkommen til Indsatstrappens Nøgletal.\n\nIndsatstrappens Nøgletal er et redskab til at følge kommunernes foranstaltningsmønster på indsatstrappens trin.\n\nRedskabet indeholder data om anbringelser og forebyggende foranstaltninger på området for udsatte børn og unge fra 2007 og frem til nyeste offentliggjorte år i de nationale registre. Data stammer fra anbringelsesstatistikken hos Danmarks Statistik. \n\nDu har mulighed for at se en enkelt kommunes nøgletal samt at sammenligne med udvalgte sammenligningskommuner, og hele landet. Du kan desuden se udviklingen i nøgletallene over tid.\n\nIndsatstrappens trin er illustreret i figuren til højre. Du kan se, hvordan de enkelte nøgletal er defineret ved at bruge infoknapperne ved opgørelserne.\n\nPå Socialstyrelsens hjemmeside kan du finde en vejledning til, hvordan du bruger redskabet. \nDu kan tilgå sidenvia linket nedenfor. I selve redskabet er der også \nvejledninger til hvert trin, ligesom du kan få yderligere informationer ved at trykke på info-boksene."]
[null,"Gå til mere information på Socialstyrelsen.dk"]

{"sheet":"Dine valg","index":1,"n_rows":78,"n_cols":25,"rows_kept":78,"cut":false,"hidden":false,"merged":[[40,1,40,6],[70,3,70,4],[22,5,22,6],[4,1,14,3]]}
[]
[]
[null,"Dine valg"]
[]
[null,"Før du går i gang med at bruge redskabet, skal du tage stilling til hvilken kommune, du ønsker at se nøgletal for.\n\n\nNår du har foretaget dit valg, har du tre muligheder: \n1. Du kan se nøgletallene over tid og sammenligne med andre aktører ved at bruge knappen \"Nøgletalsanalyse\".\n2. Du kan se datagrundlaget for de nøgletal, der kan understøttes af registerdata ved at bruge knappen \"Registerdata\". \n3. Du kan se datagrundlaget for de nøgletal, som ikke er registerunderstøttede ved at bruge knappen \"Egne indtastninger\"."]
[]
[null,null,null,null,null,null,null,null,null,null,null,null,null,null,null,null,null,null,null,null,null,null,null,null,"Aarhus"]
[]
[]
[]
[]
[]
[]
[]
[]
[]
[]
[]
[]
[]
[]
[]
[null,"Vælg kommune",null,"Vælg sammenligningsgruppe",null,"Valgte kommuner"]
[null,{"$f":"VLOOKUP(Kom_valg,Data!B1674:C1771,2,FALSE)","v":"København"},null,null,null,"1.",{"$f":"IF($Y$7=\"\",\"\",$Y$7)","v":"Aarhus"}]
[null,null,null,null,null,"2.",{"$f":"IF($Y$8=\"\",\"\",$Y$8)","v":""}]
[null,null,null,null,null,"3.",{"$f":"IF($Y$9=\"\",\"\",$Y$9)","v":""}]
[null,null,null,null,null,"4.",{"$f":"IF($Y$10=\"\",\"\",$Y$10)","v":""}]
[null,null,null,null,null,"5.",{"$f":"IF($Y$11=\"\",\"\",$Y$11)","v":""}]
[null,null,null,null,null,"6.",{"$f":"IF($Y$12=\"\",\"\",$Y$12)","v":""}]
[null,null,null,null,null,"7.",{"$f":"IF($Y$13=\"\",\"\",$Y$13)","v":""}]
[]
[]
[]
[]
[]
[]
[]
[]
[]
[]
[]
[]
[]
[]
[]
[]
[]
[]
[]
[]
[]
[]
[]
[]
[]
[]
[]
[]
[]
[]
[]
[]
[]
[]
[]
[]
[]
[]
[]
[]
[null,null,null,"Vælg sammenligningsgruppe",null,null,"Valgte kommuner"]
[null,null,null,null,null,null,{"$f":"IF(K8=\"\",\"\",K8)","v":""}]
[null,null,null,null,null,null,""]
[null,null,null,null,null,null,""]
[null,null,null,null,null,null,""]
[null,null,null,null,null,null,""]
[null,null,null,null,null,null,""]
[null,null,null,null,null,null,""]

{"sheet":"Registerdata","index":2,"n_rows":381,"n_cols":18,"rows_kept":381,"cut":false,"hidden":false,"merged":[[2,3,3,3],[5,1,5,4],[9,1,9,2]]}
[]
[]
[null,"Registerdata"]
[]
[]
[null,"En række af nøgletallene i redskabet er baseret på registerdata. På denne side kan du se de registerbaserede nøgletal, og hvordan de for din valgte kommune ændrer sig over tid. \n\nDu kan vælge ét nøgletal af gangen, ved at vælge nøgletallet i rullemenuen nedenfor. Du kan se definitionen af det enkelte nøgletal, ved at klikke på infoknappen til venstre for tabellen.\n\nNøgletallet vil blive opgjort fra 2016 og frem til nyeste offentliggjorte data.\n\nDu kan se alle nøgletal over tid og sammenligne med andre aktører ved at vælge knappen \"Nøgletalsanalyse\".\n\nBemærk, at nøgletallet angives med *, hvis antallet af observationer er mindre end 3 individer."]
[null,null,null,null,{"$f":"IF(L10=\"\",\"\",L10)","v":""}]
[null,null,null,null,{"$f":"IF(L11=\"\",\"\",L11)","v":""},{"$f":"IF(M18=\"\",\"\",M18)","v":""}]
[null,null,null,null,null,{"$f":"IF(M86=\"\",\"\",M86)","v":""}]
[null,"Vælg nøgletal"]
[null,{"$f":"VLOOKUP(regNT_valg,Data!F1692:G1700,2,FALSE)","v":"Nøgletal 1 - Institutionsanbringelser"}]
[]
[]
[]
[null,{"$f":"Skyggetabeller!B6","v":"Nøgletal 1: Institutionsanbringelser"}]
[]
[null,{"$f":"Skyggetabeller!B9","v":"Nøgletal 1: \nInstitutionsanbringelser"},null,"2016-01-01","2016-07-01","2017-01-01","2017-07-01","2018-01-01","2018-07-01","2019-01-01","2019-07-01","2020-01-01","2020-07-01","2021-01-01","2021-07-01","2022-01-01","2022-07-01","2023-01-01"]
[null,{"$f":"Skyggetabeller!B10","v":"København"}]
[null,{"$f":"Skyggetabeller!B11","v":"Antal anbragte"},null,{"$f":"Skyggetabeller!D11","v":230},{"$f":"Skyggetabeller!E11","v":233},{"$f":"Skyggetabeller!F11","v":224},{"$f":"Skyggetabeller!G11","v":226},{"$f":"Skyggetabeller!H11","v":214},{"$f":"Skyggetabeller!I11","v":217},{"$f":"Skyggetabeller!J11","v":204},{"$f":"Skyggetabeller!K11","v":193},{"$f":"Skyggetabeller!L11","v":160},{"$f":"Skyggetabeller!M11","v":180},{"$f":"Skyggetabeller!N11","v":201},{"$f":"Skyggetabeller!O11","v":219},{"$f":"Skyggetabeller!P11","v":217},{"$f":"Skyggetabeller!Q11","v":243},{"$f":"Skyggetabeller!R11","v":248}]
[null,{"$f":"Skyggetabeller!B12","v":"Antal 0-17-årige"},null,{"$f":"Skyggetabeller!D12","v":103578},{"$f":"Skyggetabeller!E12","v":104797},{"$f":"Skyggetabeller!F12","v":105885},{"$f":"Skyggetabeller!G12","v":106913},{"$f":"Skyggetabeller!H12","v":107770},{"$f":"Skyggetabeller!I12","v":108734},{"$f":"Skyggetabeller!J12","v":109335},{"$f":"Skyggetabeller!K12","v":110138},{"$f":"Skyggetabeller!L12","v":110822},{"$f":"Skyggetabeller!M12","v":111068},{"$f":"Skyggetabeller!N12","v":110927},{"$f":"Skyggetabeller!O12","v":110614},{"$f":"Skyggetabeller!P12","v":110513},{"$f":"Skyggetabeller!Q12","v":110692},{"$f":"Skyggetabeller!R12","v":110835}]
[null,{"$f":"Skyggetabeller!B13","v":"Andel"},null,{"$f":"Skyggetabeller!D13","v":2.2205487651817952},{"$f":"Skyggetabeller!E13","v":2.2233460881513785},{"$f":"Skyggetabeller!F13","v":2.1155026679888556},{"$f":"Skyggetabeller!G13","v":2.1138682854283388},{"$f":"Skyggetabeller!H13","v":1.9857103089913706},{"$f":"Skyggetabeller!I13","v":1.9956959184799601},{"$f":"Skyggetabeller!J13","v":1.8658252160790232},{"$f":"Skyggetabeller!K13","v":1.7523470555121756},{"$f":"Skyggetabeller!L13","v":1.4437566548158307},{"$f":"Skyggetabeller!M13","v":1.6206288039759427},{"$f":"Skyggetabeller!N13","v":1.8120024881228196},{"$f":"Skyggetabeller!O13","v":1.9798578841737935},{"$f":"Skyggetabeller!P13","v":1.9635698967542279},{"$f":"Skyggetabeller!Q13","v":2.1952805984172299},{"$f":"Skyggetabeller!R13","v":2.2375603374385347}]
[null,{"$f":"Skyggetabeller!B14","v":"Sammenligningsgruppe, gns."}]
[null,{"$f":"Skyggetabeller!B15","v":"Antal anbragte"},null,{"$f":"Skyggetabeller!D15","v":189},{"$f":"Skyggetabeller!E15","v":203},{"$f":"Skyggetabeller!F15","v":191},{"$f":"Skyggetabeller!G15","v":190},{"$f":"Skyggetabeller!H15","v":180},{"$f":"Skyggetabeller!I15","v":168},{"$f":"Skyggetabeller!J15","v":174},{"$f":"Skyggetabeller!K15","v":178},{"$f":"Skyggetabeller!L15","v":171},{"$f":"Skyggetabeller!M15","v":173},{"$f":"Skyggetabeller!N15","v":175},{"$f":"Skyggetabeller!O15","v":175},{"$f":"Skyggetabeller!P15","v":161},{"$f":"Skyggetabeller!Q15","v":174},{"$f":"Skyggetabeller!R15","v":168}]
[null,{"$f":"Skyggetabeller!B16","v":"Antal 0-17-årige"},null,{"$f":"Skyggetabeller!D16","v":62241},{"$f":"Skyggetabeller!E16","v":62670},{"$f":"Skyggetabeller!F16","v":62903},{"$f":"Skyggetabeller!G16","v":63077},{"$f":"Skyggetabeller!H16","v":63245},{"$f":"Skyggetabeller!I16","v":63510},{"$f":"Skyggetabeller!J16","v":63607},{"$f":"Skyggetabeller!K16","v":63704},{"$f":"Skyggetabeller!L16","v":63890},{"$f":"Skyggetabeller!M16","v":64128},{"$f":"Skyggetabeller!N16","v":64334},{"$f":"Skyggetabeller!O16","v":64307},{"$f":"Skyggetabeller!P16","v":64049},{"$f":"Skyggetabeller!Q16","v":64356},{"$f":"Skyggetabeller!R16","v":64420}]
[null,{"$f":"Skyggetabeller!B17","v":"Andel"},null,{"$f":"Skyggetabeller!D17","v":3.0365836024485464},{"$f":"Skyggetabeller!E17","v":3.2391894048188927},{"$f":"Skyggetabeller!F17","v":3.0364211563836383},{"$f":"Skyggetabeller!G17","v":3.0121914485470138},{"$f":"Skyggetabeller!H17","v":2.8460747885208315},{"$f":"Skyggetabeller!I17","v":2.6452527161076995},{"$f":"Skyggetabeller!J17","v":2.7355479742795601},{"$f":"Skyggetabeller!K17","v":2.7941730503579052},{"$f":"Skyggetabeller!L17","v":2.6764751917357961},{"$f":"Skyggetabeller!M17","v":2.6977295409181639},{"$f":"Skyggetabeller!N17","v":2.7201790655019118},{"$f":"Skyggetabeller!O17","v":2.7213211625484006},{"$f":"Skyggetabeller!P17","v":2.5137004480944278},{"$f":"Skyggetabeller!Q17","v":2.7037106097333581},{"$f":"Skyggetabeller!R17","v":2.6078857497671533}]
[null,{"$f":"Skyggetabeller!B18","v":"Hele landet"}]
[null,{"$f":"Skyggetabeller!B19","v":"Antal anbragte"},null,{"$f":"Skyggetabeller!D19","v":3438},{"$f":"Skyggetabeller!E19","v":3434},{"$f":"Skyggetabeller!F19","v":3381},{"$f":"Skyggetabeller!G19","v":3463},{"$f":"Skyggetabeller!H19","v":3375},{"$f":"Skyggetabeller!I19","v":3401},{"$f":"Skyggetabeller!J19","v":3298},{"$f":"Skyggetabeller!K19","v":3276},{"$f":"Skyggetabeller!L19","v":3268},{"$f":"Skyggetabeller!M19","v":3331},{"$f":"Skyggetabeller!N19","v":3391},{"$f":"Skyggetabeller!O19","v":3479},{"$f":"Skyggetabeller!P19","v":3460},{"$f":"Skyggetabeller!Q19","v":3624},{"$f":"Skyggetabeller!R19","v":3632}]
[null,{"$f":"Skyggetabeller!B20","v":"Antal 0-17-årige"},null,{"$f":"Skyggetabeller!D20","v":1167426},{"$f":"Skyggetabeller!E20","v":1167002},{"$f":"Skyggetabeller!F20","v":1168201},{"$f":"Skyggetabeller!G20","v":1165363},{"$f":"Skyggetabeller!H20","v":1165475},{"$f":"Skyggetabeller!I20","v":1162195},{"$f":"Skyggetabeller!J20","v":1160360},{"$f":"Skyggetabeller!K20","v":1156537},{"$f":"Skyggetabeller!L20","v":1156116},{"$f":"Skyggetabeller!M20","v":1153027},{"$f":"Skyggetabeller!N20","v":1152972},{"$f":"Skyggetabeller!O20","v":1151374},{"$f":"Skyggetabeller!P20","v":1151704},{"$f":"Skyggetabeller!Q20","v":1157254},{"$f":"Skyggetabeller!R20","v":1155814}]
[null,{"$f":"Skyggetabeller!B21","v":"Andel"},null,{"$f":"Skyggetabeller!D21","v":2.9449404073577252},{"$f":"Skyggetabeller!E21","v":2.9425827890612015},{"$f":"Skyggetabeller!F21","v":2.8941937217995877},{"$f":"Skyggetabeller!G21","v":2.9716062720371248},{"$f":"Skyggetabeller!H21","v":2.8958150110469978},{"$f":"Skyggetabeller!I21","v":2.9263591738047401},{"$f":"Skyggetabeller!J21","v":2.8422213795718569},{"$f":"Skyggetabeller!K21","v":2.8325942014825292},{"$f":"Skyggetabeller!L21","v":2.8267059706811426},{"$f":"Skyggetabeller!M21","v":2.8889176055721157},{"$f":"Skyggetabeller!N21","v":2.9410948401175396},{"$f":"Skyggetabeller!O21","v":3.0216072275385755},{"$f":"Skyggetabeller!P21","v":3.0042441460653082},{"$f":"Skyggetabeller!Q21","v":3.1315510683047973},{"$f":"Skyggetabeller!R21","v":3.1423741190191503}]
[null,"Anm.: Hvis nøgletallet er angivet med * er der foretaget en diskretionering af data, da der er for få observationer. "]
[null,{"$f":"IF('Dine valg'!$G$24=\"\",\"Ingen sammenligningsgruppe valgt.\",\"Anm.: Valgte kommuner i sammenligningsgruppen: \"&'Dine valg'!$G$24&\" \"&'Dine valg'!$G$25&\" \"&'Dine valg'!$G$26&\" \"&'Dine valg'!$G$27&\" \"&'Dine valg'!$G$28&\" \"&'Dine valg'!$G$29&\" \"&'Dine valg'!$G$30)","v":"Anm.: Valgte kommuner i sammenligningsgruppen: Aarhus      "}]
[null,"Kilde: Socialstyrelsens egne beregninger baseret på registerdata fra Danmarks Statistik."]
[]
[null,"Undernøgletal - Institutionsanbringelser"]
[]
[null,{"$f":"Skyggetabeller!B24","v":"Nøgletal 1.1\nAnbragte på døgninstitutioner"},null,"2016-01-01","2016-07-01","2017-01-01","2017-07-01","2018-01-01","2018-07-01","2019-01-01","2019-07-01","2020-01-01","2020-07-01","2021-01-01","2021-07-01","2022-01-01","2022-07-01","2023-01-01"]
[null,{"$f":"Skyggetabeller!B25","v":"København"}]
[null,{"$f":"Skyggetabeller!B26","v":"Antal anbragte"},null,{"$f":"Skyggetabeller!D26","v":169},{"$f":"Skyggetabeller!E26","v":175},{"$f":"Skyggetabeller!F26","v":170},{"$f":"Skyggetabeller!G26","v":181},{"$f":"Skyggetabeller!H26","v":174},{"$f":"Skyggetabeller!I26","v":174},{"$f":"Skyggetabeller!J26","v":161},{"$f":"Skyggetabeller!K26","v":153},{"$f":"Skyggetabeller!L26","v":139},{"$f":"Skyggetabeller!M26","v":147},{"$f":"Skyggetabeller!N26","v":159},{"$f":"Skyggetabeller!O26","v":165},{"$f":"Skyggetabeller!P26","v":173},{"$f":"Skyggetabeller!Q26","v":196},{"$f":"Skyggetabeller!R26","v":200}]
[null,{"$f":"Skyggetabeller!B27","v":"Antal 0-17-årige"},null,{"$f":"Skyggetabeller!D27","v":230},{"$f":"Skyggetabeller!E27","v":233},{"$f":"Skyggetabeller!F27","v":224},{"$f":"Skyggetabeller!G27","v":226},{"$f":"Skyggetabeller!H27","v":214},{"$f":"Skyggetabeller!I27","v":217},{"$f":"Skyggetabeller!J27","v":204},{"$f":"Skyggetabeller!K27","v":193},{"$f":"Skyggetabeller!L27","v":160},{"$f":"Skyggetabeller!M27","v":180},{"$f":"Skyggetabeller!N27","v":201},{"$f":"Skyggetabeller!O27","v":219},{"$f":"Skyggetabeller!P27","v":217},{"$f":"Skyggetabeller!Q27","v":243},{"$f":"Skyggetabeller!R27","v":248}]
[null,{"$f":"Skyggetabeller!B28","v":"Andel"},null,{"$f":"Skyggetabeller!D28","v":0.73478260869565215},{"$f":"Skyggetabeller!E28","v":0.75107296137339052},{"$f":"Skyggetabeller!F28","v":0.7589285714285714},{"$f":"Skyggetabeller!G28","v":0.80088495575221241},{"$f":"Skyggetabeller!H28","v":0.81308411214953269},{"$f":"Skyggetabeller!I28","v":0.8018433179723502},{"$f":"Skyggetabeller!J28","v":0.78921568627450978},{"$f":"Skyggetabeller!K28","v":0.79274611398963735},{"$f":"Skyggetabeller!L28","v":0.86875000000000002},{"$f":"Skyggetabeller!M28","v":0.81666666666666665},{"$f":"Skyggetabeller!N28","v":0.79104477611940294},{"$f":"Skyggetabeller!O28","v":0.75342465753424659},{"$f":"Skyggetabeller!P28","v":0.79723502304147464},{"$f":"Skyggetabeller!Q28","v":0.80658436213991769},{"$f":"Skyggetabeller!R28","v":0.80645161290322576}]
[null,{"$f":"Skyggetabeller!B29","v":"Sammenligningsgruppe, gns."}]
[null,{"$f":"Skyggetabeller!B30","v":"Antal anbragte"},null,{"$f":"Skyggetabeller!D30","v":127},{"$f":"Skyggetabeller!E30","v":138},{"$f":"Skyggetabeller!F30","v":133},{"$f":"Skyggetabeller!G30","v":133},{"$f":"Skyggetabeller!H30","v":119},{"$f":"Skyggetabeller!I30","v":116},{"$f":"Skyggetabeller!J30","v":118},{"$f":"Skyggetabeller!K30","v":127},{"$f":"Skyggetabeller!L30","v":120},{"$f":"Skyggetabeller!M30","v":127},{"$f":"Skyggetabeller!N30","v":123},{"$f":"Skyggetabeller!O30","v":118},{"$f":"Skyggetabeller!P30","v":109},{"$f":"Skyggetabeller!Q30","v":109},{"$f":"Skyggetabeller!R30","v":110}]
[null,{"$f":"Skyggetabeller!B31","v":"Antal 0-17-årige"},null,{"$f":"Skyggetabeller!D31","v":189},{"$f":"Skyggetabeller!E31","v":203},{"$f":"Skyggetabeller!F31","v":191},{"$f":"Skyggetabeller!G31","v":190},{"$f":"Skyggetabeller!H31","v":180},{"$f":"Skyggetabeller!I31","v":168},{"$f":"Skyggetabeller!J31","v":174},{"$f":"Skyggetabeller!K31","v":178},{"$f":"Skyggetabeller!L31","v":171},{"$f":"Skyggetabeller!M31","v":173},{"$f":"Skyggetabeller!N31","v":175},{"$f":"Skyggetabeller!O31","v":175},{"$f":"Skyggetabeller!P31","v":161},{"$f":"Skyggetabeller!Q31","v":174},{"$f":"Skyggetabeller!R31","v":168}]
[null,{"$f":"Skyggetabeller!B32","v":"Andel"},null,{"$f":"Skyggetabeller!D32","v":0.67195767195767198},{"$f":"Skyggetabeller!E32","v":0.67980295566502458},{"$f":"Skyggetabeller!F32","v":0.69633507853403143},{"$f":"Skyggetabeller!G32","v":0.7},{"$f":"Skyggetabeller!H32","v":0.66111111111111109},{"$f":"Skyggetabeller!I32","v":0.69047619047619047},{"$f":"Skyggetabeller!J32","v":0.67816091954022983},{"$f":"Skyggetabeller!K32","v":0.7134831460674157},{"$f":"Skyggetabeller!L32","v":0.70175438596491224},{"$f":"Skyggetabeller!M32","v":0.73410404624277459},{"$f":"Skyggetabeller!N32","v":0.70285714285714285},{"$f":"Skyggetabeller!O32","v":0.67428571428571427},{"$f":"Skyggetabeller!P32","v":0.67701863354037262},{"$f":"Skyggetabeller!Q32","v":0.62643678160919536},{"$f":"Skyggetabeller!R32","v":0.65476190476190477}]
[null,{"$f":"Skyggetabeller!B33","v":"Hele landet"}]
[null,{"$f":"Skyggetabeller!B34","v":"Antal anbragte"},null,{"$f":"Skyggetabeller!D34","v":1830},{"$f":"Skyggetabeller!E34","v":1843},{"$f":"Skyggetabeller!F34","v":1815},{"$f":"Skyggetabeller!G34","v":1809},{"$f":"Skyggetabeller!H34","v":1760},{"$f":"Skyggetabeller!I34","v":1771},{"$f":"Skyggetabeller!J34","v":1688},{"$f":"Skyggetabeller!K34","v":1686},{"$f":"Skyggetabeller!L34","v":1675},{"$f":"Skyggetabeller!M34","v":1666},{"$f":"Skyggetabeller!N34","v":1701},{"$f":"Skyggetabeller!O34","v":1688},{"$f":"Skyggetabeller!P34","v":1699},{"$f":"Skyggetabeller!Q34","v":1763},{"$f":"Skyggetabeller!R34","v":1765}]
[null,{"$f":"Skyggetabeller!B35","v":"Antal 0-17-årige"},null,{"$f":"Skyggetabeller!D35","v":3438},{"$f":"Skyggetabeller!E35","v":3434},{"$f":"Skyggetabeller!F35","v":3381},{"$f":"Skyggetabeller!G35","v":3463},{"$f":"Skyggetabeller!H35","v":3375},{"$f":"Skyggetabeller!I35","v":3401},{"$f":"Skyggetabeller!J35","v":3298},{"$f":"Skyggetabeller!K35","v":3276},{"$f":"Skyggetabeller!L35","v":3268},{"$f":"Skyggetabeller!M35","v":3331},{"$f":"Skyggetabeller!N35","v":3391},{"$f":"Skyggetabeller!O35","v":3479},{"$f":"Skyggetabeller!P35","v":3460},{"$f":"Skyggetabeller!Q35","v":3624},{"$f":"Skyggetabeller!R35","v":3632}]
[null,{"$f":"Skyggetabeller!B36","v":"Andel"},null,{"$f":"Skyggetabeller!D36","v":0.53228621291448519},{"$f":"Skyggetabeller!E36","v":0.53669190448456605},{"$f":"Skyggetabeller!F36","v":0.53682342502218283},{"$f":"Skyggetabeller!G36","v":0.52237943979208779},{"$f":"Skyggetabeller!H36","v":0.52148148148148143},{"$f":"Skyggetabeller!I36","v":0.52072919729491329},{"$f":"Skyggetabeller!J36","v":0.51182534869617946},{"$f":"Skyggetabeller!K36","v":0.5146520146520146},{"$f":"Skyggetabeller!L36","v":0.51254589963280295},{"$f":"Skyggetabeller!M36","v":0.50015010507355151},{"$f":"Skyggetabeller!N36","v":0.50162194043055142},{"$f":"Skyggetabeller!O36","v":0.48519689565967233},{"$f":"Skyggetabeller!P36","v":0.49104046242774568},{"$f":"Skyggetabeller!Q36","v":0.48647902869757176},{"$f":"Skyggetabeller!R36","v":0.48595814977973567}]
[null,"Anm.: Hvis nøgletallet er angivet med * er der foretaget en diskretionering af data, da der er for få observationer. "]
[null,{"$f":"IF('Dine valg'!$G$24=\"\",\"Ingen sammenligningsgruppe valgt.\",\"Anm.: Valgte kommuner i sammenligningsgruppen: \"&'Dine valg'!$G$24&\" \"&'Dine valg'!$G$25&\" \"&'Dine valg'!$G$26&\" \"&'Dine valg'!$G$27&\" \"&'Dine valg'!$G$28&\" \"&'Dine valg'!$G$29&\" \"&'Dine valg'!$G$30)","v":"Anm.: Valgte kommuner i sammenligningsgruppen: Aarhus      "}]
[null,"Kilde: Socialstyrelsens egne beregninger baseret på registerdata fra Danmarks Statistik."]
[]
[null,{"$f":"Skyggetabeller!B39","v":"Nøgletal 1.2\nAnbragte på sikrede døgninstitutioner"},null,"2016-01-01","2016-07-01","2017-01-01","2017-07-01","2018-01-01","2018-07-01","2019-01-01","2019-07-01","2020-01-01","2020-07-01","2021-01-01","2021-07-01","2022-01-01","2022-07-01","2023-01-01"]
[null,{"$f":"Skyggetabeller!B40","v":"København"}]
[null,{"$f":"Skyggetabeller!B41","v":"Antal anbragte"},null,{"$f":"Skyggetabeller!D41","v":7},{"$f":"Skyggetabeller!E41","v":6},{"$f":"Skyggetabeller!F41","v":7},{"$f":"Skyggetabeller!G41","v":6},{"$f":"Skyggetabeller!H41","v":6},{"$f":"Skyggetabeller!I41","v":10},{"$f":"Skyggetabeller!J41","v":10},{"$f":"Skyggetabeller!K41","v":5},{"$f":"Skyggetabeller!L41","v":"*"},{"$f":"Skyggetabeller!M41","v":9},{"$f":"Skyggetabeller!N41","v":17},{"$f":"Skyggetabeller!O41","v":22},{"$f":"Skyggetabeller!P41","v":16},{"$f":"Skyggetabeller!Q41","v":15},{"$f":"Skyggetabeller!R41","v":10}]
[null,{"$f":"Skyggetabeller!B42","v":"Antal 0-17-årige"},null,{"$f":"Skyggetabeller!D42","v":230},{"$f":"Skyggetabeller!E42","v":233},{"$f":"Skyggetabeller!F42","v":224},{"$f":"Skyggetabeller!G42","v":226},{"$f":"Skyggetabeller!H42","v":214},{"$f":"Skyggetabeller!I42","v":217},{"$f":"Skyggetabeller!J42","v":204},{"$f":"Skyggetabeller!K42","v":193},{"$f":"Skyggetabeller!L42","v":160},{"$f":"Skyggetabeller!M42","v":180},{"$f":"Skyggetabeller!N42","v":201},{"$f":"Skyggetabeller!O42","v":219},{"$f":"Skyggetabeller!P42","v":217},{"$f":"Skyggetabeller!Q42","v":243},{"$f":"Skyggetabeller!R42","v":248}]
[null,{"$f":"Skyggetabeller!B43","v":"Andel"},null,{"$f":"Skyggetabeller!D43","v":3.0434782608695653E-2},{"$f":"Skyggetabeller!E43","v":2.575107296137339E-2},{"$f":"Skyggetabeller!F43","v":3.125E-2},{"$f":"Skyggetabeller!G43","v":2.6548672566371681E-2},{"$f":"Skyggetabeller!H43","v":2.8037383177570093E-2},{"$f":"Skyggetabeller!I43","v":4.6082949308755762E-2},{"$f":"Skyggetabeller!J43","v":4.9019607843137254E-2},{"$f":"Skyggetabeller!K43","v":2.5906735751295335E-2},{"$f":"Skyggetabeller!L43","v":"*"},{"$f":"Skyggetabeller!M43","v":0.05},{"$f":"Skyggetabeller!N43","v":8.45771144278607E-2},{"$f":"Skyggetabeller!O43","v":0.1004566210045662},{"$f":"Skyggetabeller!P43","v":7.3732718894009217E-2},{"$f":"Skyggetabeller!Q43","v":6.1728395061728392E-2},{"$f":"Skyggetabeller!R43","v":4.0322580645161289E-2}]
[null,{"$f":"Skyggetabeller!B44","v":"Sammenligningsgruppe, gns."}]
[null,{"$f":"Skyggetabeller!B45","v":"Antal anbragte"},null,{"$f":"Skyggetabeller!D45","v":7},{"$f":"Skyggetabeller!E45","v":4},{"$f":"Skyggetabeller!F45","v":3},{"$f":"Skyggetabeller!G45","v":4},{"$f":"Skyggetabeller!H45","v":4},{"$f":"Skyggetabeller!I45","v":7},{"$f":"Skyggetabeller!J45","v":10},{"$f":"Skyggetabeller!K45","v":9},{"$f":"Skyggetabeller!L45","v":16},{"$f":"Skyggetabeller!M45","v":11},{"$f":"Skyggetabeller!N45","v":15},{"$f":"Skyggetabeller!O45","v":14},{"$f":"Skyggetabeller!P45","v":14},{"$f":"Skyggetabeller!Q45","v":17},{"$f":"Skyggetabeller!R45","v":14}]
[null,{"$f":"Skyggetabeller!B46","v":"Antal 0-17-årige"},null,{"$f":"Skyggetabeller!D46","v":189},{"$f":"Skyggetabeller!E46","v":203},{"$f":"Skyggetabeller!F46","v":191},{"$f":"Skyggetabeller!G46","v":190},{"$f":"Skyggetabeller!H46","v":180},{"$f":"Skyggetabeller!I46","v":168},{"$f":"Skyggetabeller!J46","v":174},{"$f":"Skyggetabeller!K46","v":178},{"$f":"Skyggetabeller!L46","v":171},{"$f":"Skyggetabeller!M46","v":173},{"$f":"Skyggetabeller!N46","v":175},{"$f":"Skyggetabeller!O46","v":175},{"$f":"Skyggetabeller!P46","v":161},{"$f":"Skyggetabeller!Q46","v":174},{"$f":"Skyggetabeller!R46","v":168}]
[null,{"$f":"Skyggetabeller!B47","v":"Andel"},null,{"$f":"Skyggetabeller!D47","v":3.7037037037037035E-2},{"$f":"Skyggetabeller!E47","v":1.9704433497536946E-2},{"$f":"Skyggetabeller!F47","v":1.5706806282722512E-2},{"$f":"Skyggetabeller!G47","v":2.1052631578947368E-2},{"$f":"Skyggetabeller!H47","v":2.2222222222222223E-2},{"$f":"Skyggetabeller!I47","v":4.1666666666666664E-2},{"$f":"Skyggetabeller!J47","v":5.7471264367816091E-2},{"$f":"Skyggetabeller!K47","v":5.0561797752808987E-2},{"$f":"Skyggetabeller!L47","v":9.3567251461988299E-2},{"$f":"Skyggetabeller!M47","v":6.358381502890173E-2},{"$f":"Skyggetabeller!N47","v":8.5714285714285715E-2},{"$f":"Skyggetabeller!O47","v":0.08},{"$f":"Skyggetabeller!P47","v":8.6956521739130432E-2},{"$f":"Skyggetabeller!Q47","v":9.7701149425287362E-2},{"$f":"Skyggetabeller!R47","v":8.3333333333333329E-2}]
[null,{"$f":"Skyggetabeller!B48","v":"Hele landet"}]
[null,{"$f":"Skyggetabeller!B49","v":"Antal anbragte"},null,{"$f":"Skyggetabeller!D49","v":58},{"$f":"Skyggetabeller!E49","v":62},{"$f":"Skyggetabeller!F49","v":80},{"$f":"Skyggetabeller!G49","v":79},{"$f":"Skyggetabeller!H49","v":64},{"$f":"Skyggetabeller!I49","v":84},{"$f":"Skyggetabeller!J49","v":76},{"$f":"Skyggetabeller!K49","v":72},{"$f":"Skyggetabeller!L49","v":79},{"$f":"Skyggetabeller!M49","v":84},{"$f":"Skyggetabeller!N49","v":95},{"$f":"Skyggetabeller!O49","v":98},{"$f":"Skyggetabeller!P49","v":84},{"$f":"Skyggetabeller!Q49","v":88},{"$f":"Skyggetabeller!R49","v":85}]
[null,{"$f":"Skyggetabeller!B50","v":"Antal 0-17-årige"},null,{"$f":"Skyggetabeller!D50","v":3438},{"$f":"Skyggetabeller!E50","v":3434},{"$f":"Skyggetabeller!F50","v":3381},{"$f":"Skyggetabeller!G50","v":3463},{"$f":"Skyggetabeller!H50","v":3375},{"$f":"Skyggetabeller!I50","v":3401},{"$f":"Skyggetabeller!J50","v":3298},{"$f":"Skyggetabeller!K50","v":3276},{"$f":"Skyggetabeller!L50","v":3268},{"$f":"Skyggetabeller!M50","v":3331},{"$f":"Skyggetabeller!N50","v":3391},{"$f":"Skyggetabeller!O50","v":3479},{"$f":"Skyggetabeller!P50","v":3460},{"$f":"Skyggetabeller!Q50","v":3624},{"$f":"Skyggetabeller!R50","v":3632}]
[null,{"$f":"Skyggetabeller!B51","v":"Andel"},null,{"$f":"Skyggetabeller!D51","v":1.6870273414776031E-2},{"$f":"Skyggetabeller!E51","v":1.8054746651135701E-2},{"$f":"Skyggetabeller!F51","v":2.3661638568470866E-2},{"$f":"Skyggetabeller!G51","v":2.2812590239676581E-2},{"$f":"Skyggetabeller!H51","v":1.8962962962962963E-2},{"$f":"Skyggetabeller!I51","v":2.4698618053513671E-2},{"$f":"Skyggetabeller!J51","v":2.3044269254093391E-2},{"$f":"Skyggetabeller!K51","v":2.197802197802198E-2},{"$f":"Skyggetabeller!L51","v":2.4173806609547124E-2},{"$f":"Skyggetabeller!M51","v":2.5217652356649654E-2},{"$f":"Skyggetabeller!N51","v":2.8015334709525212E-2},{"$f":"Skyggetabeller!O51","v":2.8169014084507043E-2},{"$f":"Skyggetabeller!P51","v":2.4277456647398842E-2},{"$f":"Skyggetabeller!Q51","v":2.4282560706401765E-2},{"$f":"Skyggetabeller!R51","v":2.340308370044053E-2}]
[null,"Anm.: Hvis nøgletallet er angivet med * er der foretaget en diskretionering af data, da der er for få observationer. "]
[null,{"$f":"IF('Dine valg'!$G$24=\"\",\"Ingen sammenligningsgruppe valgt.\",\"Anm.: Valgte kommuner i sammenligningsgruppen: \"&'Dine valg'!$G$24&\" \"&'Dine valg'!$G$25&\" \"&'Dine valg'!$G$26&\" \"&'Dine valg'!$G$27&\" \"&'Dine valg'!$G$28&\" \"&'Dine valg'!$G$29&\" \"&'Dine valg'!$G$30)","v":"Anm.: Valgte kommuner i sammenligningsgruppen: Aarhus      "}]
[null,"Kilde: Socialstyrelsens egne beregninger baseret på registerdata fra Danmarks Statistik."]
[]
[null,{"$f":"Skyggetabeller!B55","v":"Nøgletal 1.3\nAnbragte på socialpædagogiske opholdssteder"},null,"2016-01-01","2016-07-01","2017-01-01","2017-07-01","2018-01-01","2018-07-01","2019-01-01","2019-07-01","2020-01-01","2020-07-01","2021-01-01","2021-07-01","2022-01-01","2022-07-01","2023-01-01"]
[null,{"$f":"Skyggetabeller!B56","v":"København"}]
[null,{"$f":"Skyggetabeller!B57","v":"Antal anbragte"},null,{"$f":"Skyggetabeller!D57","v":54},{"$f":"Skyggetabeller!E57","v":52},{"$f":"Skyggetabeller!F57","v":47},{"$f":"Skyggetabeller!G57","v":39},{"$f":"Skyggetabeller!H57","v":34},{"$f":"Skyggetabeller!I57","v":33},{"$f":"Skyggetabeller!J57","v":33},{"$f":"Skyggetabeller!K57","v":35},{"$f":"Skyggetabeller!L57","v":"*"},{"$f":"Skyggetabeller!M57","v":24},{"$f":"Skyggetabeller!N57","v":25},{"$f":"Skyggetabeller!O57","v":32},{"$f":"Skyggetabeller!P57","v":28},{"$f":"Skyggetabeller!Q57","v":32},{"$f":"Skyggetabeller!R57","v":38}]
[null,{"$f":"Skyggetabeller!B58","v":"Antal 0-17-årige"},null,{"$f":"Skyggetabeller!D58","v":230},{"$f":"Skyggetabeller!E58","v":233},{"$f":"Skyggetabeller!F58","v":224},{"$f":"Skyggetabeller!G58","v":226},{"$f":"Skyggetabeller!H58","v":214},{"$f":"Skyggetabeller!I58","v":217},{"$f":"Skyggetabeller!J58","v":204},{"$f":"Skyggetabeller!K58","v":193},{"$f":"Skyggetabeller!L58","v":160},{"$f":"Skyggetabeller!M58","v":180},{"$f":"Skyggetabeller!N58","v":201},{"$f":"Skyggetabeller!O58","v":219},{"$f":"Skyggetabeller!P58","v":217},{"$f":"Skyggetabeller!Q58","v":243},{"$f":"Skyggetabeller!R58","v":248}]
[null,{"$f":"Skyggetabeller!B59","v":"Andel"},null,{"$f":"Skyggetabeller!D59","v":0.23478260869565218},{"$f":"Skyggetabeller!E59","v":0.22317596566523606},{"$f":"Skyggetabeller!F59","v":0.20982142857142858},{"$f":"Skyggetabeller!G59","v":0.17256637168141592},{"$f":"Skyggetabeller!H59","v":0.15887850467289719},{"$f":"Skyggetabeller!I59","v":0.15207373271889402},{"$f":"Skyggetabeller!J59","v":0.16176470588235295},{"$f":"Skyggetabeller!K59","v":0.18134715025906736},{"$f":"Skyggetabeller!L59","v":"*"},{"$f":"Skyggetabeller!M59","v":0.13333333333333333},{"$f":"Skyggetabeller!N59","v":0.12437810945273632},{"$f":"Skyggetabeller!O59","v":0.14611872146118721},{"$f":"Skyggetabeller!P59","v":0.12903225806451613},{"$f":"Skyggetabeller!Q59","v":0.13168724279835392},{"$f":"Skyggetabeller!R59","v":0.15322580645161291}]
[null,{"$f":"Skyggetabeller!B60","v":"Sammenligningsgruppe, gns."}]
[null,{"$f":"Skyggetabeller!B61","v":"Antal anbragte"},null,{"$f":"Skyggetabeller!D61","v":55},{"$f":"Skyggetabeller!E61","v":61},{"$f":"Skyggetabeller!F61","v":55},{"$f":"Skyggetabeller!G61","v":53},{"$f":"Skyggetabeller!H61","v":57},{"$f":"Skyggetabeller!I61","v":45},{"$f":"Skyggetabeller!J61","v":46},{"$f":"Skyggetabeller!K61","v":42},{"$f":"Skyggetabeller!L61","v":35},{"$f":"Skyggetabeller!M61","v":35},{"$f":"Skyggetabeller!N61","v":37},{"$f":"Skyggetabeller!O61","v":43},{"$f":"Skyggetabeller!P61","v":38},{"$f":"Skyggetabeller!Q61","v":48},{"$f":"Skyggetabeller!R61","v":44}]
[null,{"$f":"Skyggetabeller!B62","v":"Antal 0-17-årige"},null,{"$f":"Skyggetabeller!D62","v":189},{"$f":"Skyggetabeller!E62","v":203},{"$f":"Skyggetabeller!F62","v":191},{"$f":"Skyggetabeller!G62","v":190},{"$f":"Skyggetabeller!H62","v":180},{"$f":"Skyggetabeller!I62","v":168},{"$f":"Skyggetabeller!J62","v":174},{"$f":"Skyggetabeller!K62","v":178},{"$f":"Skyggetabeller!L62","v":171},{"$f":"Skyggetabeller!M62","v":173},{"$f":"Skyggetabeller!N62","v":175},{"$f":"Skyggetabeller!O62","v":175},{"$f":"Skyggetabeller!P62","v":161},{"$f":"Skyggetabeller!Q62","v":174},{"$f":"Skyggetabeller!R62","v":168}]
[null,{"$f":"Skyggetabeller!B63","v":"Andel"},null,{"$f":"Skyggetabeller!D63","v":0.29100529100529099},{"$f":"Skyggetabeller!E63","v":0.30049261083743845},{"$f":"Skyggetabeller!F63","v":0.2879581151832461},{"$f":"Skyggetabeller!G63","v":0.27894736842105261},{"$f":"Skyggetabeller!H63","v":0.31666666666666665},{"$f":"Skyggetabeller!I63","v":0.26785714285714285},{"$f":"Skyggetabeller!J63","v":0.26436781609195403},{"$f":"Skyggetabeller!K63","v":0.23595505617977527},{"$f":"Skyggetabeller!L63","v":0.2046783625730994},{"$f":"Skyggetabeller!M63","v":0.20231213872832371},{"$f":"Skyggetabeller!N63","v":0.21142857142857144},{"$f":"Skyggetabeller!O63","v":0.24571428571428572},{"$f":"Skyggetabeller!P63","v":0.2360248447204969},{"$f":"Skyggetabeller!Q63","v":0.27586206896551724},{"$f":"Skyggetabeller!R63","v":0.26190476190476192}]
[null,{"$f":"Skyggetabeller!B64","v":"Hele landet"}]
[null,{"$f":"Skyggetabeller!B65","v":"Antal anbragte"},null,{"$f":"Skyggetabeller!D65","v":1550},{"$f":"Skyggetabeller!E65","v":1529},{"$f":"Skyggetabeller!F65","v":1486},{"$f":"Skyggetabeller!G65","v":1575},{"$f":"Skyggetabeller!H65","v":1551},{"$f":"Skyggetabeller!I65","v":1546},{"$f":"Skyggetabeller!J65","v":1534},{"$f":"Skyggetabeller!K65","v":1518},{"$f":"Skyggetabeller!L65","v":1514},{"$f":"Skyggetabeller!M65","v":1581},{"$f":"Skyggetabeller!N65","v":1595},{"$f":"Skyggetabeller!O65","v":1693},{"$f":"Skyggetabeller!P65","v":1677},{"$f":"Skyggetabeller!Q65","v":1773},{"$f":"Skyggetabeller!R65","v":1782}]
[null,{"$f":"Skyggetabeller!B66","v":"Antal 0-17-årige"},null,{"$f":"Skyggetabeller!D66","v":3438},{"$f":"Skyggetabeller!E66","v":3434},{"$f":"Skyggetabeller!F66","v":3381},{"$f":"Skyggetabeller!G66","v":3463},{"$f":"Skyggetabeller!H66","v":3375},{"$f":"Skyggetabeller!I66","v":3401},{"$f":"Skyggetabeller!J66","v":3298},{"$f":"Skyggetabeller!K66","v":3276},{"$f":"Skyggetabeller!L66","v":3268},{"$f":"Skyggetabeller!M66","v":3331},{"$f":"Skyggetabeller!N66","v":3391},{"$f":"Skyggetabeller!O66","v":3479},{"$f":"Skyggetabeller!P66","v":3460},{"$f":"Skyggetabeller!Q66","v":3624},{"$f":"Skyggetabeller!R66","v":3632}]
[null,{"$f":"Skyggetabeller!B67","v":"Andel"},null,{"$f":"Skyggetabeller!D67","v":0.45084351367073883},{"$f":"Skyggetabeller!E67","v":0.44525334886429818},{"$f":"Skyggetabeller!F67","v":0.43951493640934636},{"$f":"Skyggetabeller!G67","v":0.45480796996823564},{"$f":"Skyggetabeller!H67","v":0.45955555555555555},{"$f":"Skyggetabeller!I67","v":0.45457218465157306},{"$f":"Skyggetabeller!J67","v":0.46513038204972712},{"$f":"Skyggetabeller!K67","v":0.46336996336996339},{"$f":"Skyggetabeller!L67","v":0.46328029375764995},{"$f":"Skyggetabeller!M67","v":0.47463224256979886},{"$f":"Skyggetabeller!N67","v":0.47036272485992331},{"$f":"Skyggetabeller!O67","v":0.48663409025582066},{"$f":"Skyggetabeller!P67","v":0.48468208092485549},{"$f":"Skyggetabeller!Q67","v":0.48923841059602646},{"$f":"Skyggetabeller!R67","v":0.4906387665198238}]
[null,"Anm.: Hvis nøgletallet er angivet med * er der foretaget en diskretionering af data, da der er for få observationer. "]
[null,{"$f":"IF('Dine valg'!$G$24=\"\",\"Ingen sammenligningsgruppe valgt.\",\"Anm.: Valgte kommuner i sammenligningsgruppen: \"&'Dine valg'!$G$24&\" \"&'Dine valg'!$G$25&\" \"&'Dine valg'!$G$26&\" \"&'Dine valg'!$G$27&\" \"&'Dine valg'!$G$28&\" \"&'Dine valg'!$G$29&\" \"&'Dine valg'!$G$30)","v":"Anm.: Valgte kommuner i sammenligningsgruppen: Aarhus      "}]
[null,"Kilde: Socialstyrelsens egne beregninger baseret på registerdata fra Danmarks Statistik."]
[]
[null,{"$f":"Skyggetabeller!B90","v":"Nøgletal 2: Varighed af institutionsanbringelser"}]
[]
[null,{"$f":"Skyggetabeller!B93","v":"Nøgletal 2: \nGennemsnitlig varighed af igangværende institutionsanbringelser"},null,"2016-01-01","2016-07-01","2017-01-01","2017-07-01","2018-01-01","2018-07-01","2019-01-01","2019-07-01","2020-01-01","2020-07-01","2021-01-01","2021-07-01","2022-01-01","2022-07-01","2023-01-01"]
[null,{"$f":"Skyggetabeller!B94","v":"København"}]
[null,{"$f":"Skyggetabeller!B95","v":"Samlet antal dage"},null,{"$f":"Skyggetabeller!D95","v":185478},{"$f":"Skyggetabeller!E95","v":186030},{"$f":"Skyggetabeller!F95","v":176992},{"$f":"Skyggetabeller!G95","v":164546},{"$f":"Skyggetabeller!H95","v":154847},{"$f":"Skyggetabeller!I95","v":156577},{"$f":"Skyggetabeller!J95","v":149429},{"$f":"Skyggetabeller!K95","v":151260},{"$f":"Skyggetabeller!L95","v":125961},{"$f":"Skyggetabeller!M95","v":128612},{"$f":"Skyggetabeller!N95","v":128494},{"$f":"Skyggetabeller!O95","v":132359},{"$f":"Skyggetabeller!P95","v":131176},{"$f":"Skyggetabeller!Q95","v":136329},{"$f":"Skyggetabeller!R95","v":146245}]
[null,{"$f":"Skyggetabeller!B96","v":"Antal anbragte"},null,{"$f":"Skyggetabeller!D96","v":230},{"$f":"Skyggetabeller!E96","v":233},{"$f":"Skyggetabeller!F96","v":224},{"$f":"Skyggetabeller!G96","v":226},{"$f":"Skyggetabeller!H96","v":214},{"$f":"Skyggetabeller!I96","v":217},{"$f":"Skyggetabeller!J96","v":204},{"$f":"Skyggetabeller!K96","v":193},{"$f":"Skyggetabeller!L96","v":160},{"$f":"Skyggetabeller!M96","v":180},{"$f":"Skyggetabeller!N96","v":201},{"$f":"Skyggetabeller!O96","v":219},{"$f":"Skyggetabeller!P96","v":217},{"$f":"Skyggetabeller!Q96","v":243},{"$f":"Skyggetabeller!R96","v":248}]
[null,{"$f":"Skyggetabeller!B97","v":"Gennemsnitlig varighed"},null,{"$f":"Skyggetabeller!D97","v":806.42608695652177},{"$f":"Skyggetabeller!E97","v":798.41201716738192},{"$f":"Skyggetabeller!F97","v":790.14285714285711},{"$f":"Skyggetabeller!G97","v":728.07964601769913},{"$f":"Skyggetabeller!H97","v":723.58411214953276},{"$f":"Skyggetabeller!I97","v":721.55299539170505},{"$f":"Skyggetabeller!J97","v":732.49509803921569},{"$f":"Skyggetabeller!K97","v":783.73056994818648},{"$f":"Skyggetabeller!L97","v":787.25625000000002},{"$f":"Skyggetabeller!M97","v":714.51111111111106},{"$f":"Skyggetabeller!N97","v":639.27363184079604},{"$f":"Skyggetabeller!O97","v":604.37899543379001},{"$f":"Skyggetabeller!P97","v":604.49769585253455},{"$f":"Skyggetabeller!Q97","v":561.02469135802471},{"$f":"Skyggetabeller!R97","v":589.69758064516134}]
[null,{"$f":"Skyggetabeller!B98","v":"Sammenligningsgruppe, gns."}]
[null,{"$f":"Skyggetabeller!B99","v":"Samlet antal dage"},null,{"$f":"Skyggetabeller!D99","v":200604},{"$f":"Skyggetabeller!E99","v":208297},{"$f":"Skyggetabeller!F99","v":208831},{"$f":"Skyggetabeller!G99","v":206091},{"$f":"Skyggetabeller!H99","v":194184},{"$f":"Skyggetabeller!I99","v":170529},{"$f":"Skyggetabeller!J99","v":159152},{"$f":"Skyggetabeller!K99","v":173246},{"$f":"Skyggetabeller!L99","v":172055},{"$f":"Skyggetabeller!M99","v":165391},{"$f":"Skyggetabeller!N99","v":172915},{"$f":"Skyggetabeller!O99","v":176105},{"$f":"Skyggetabeller!P99","v":176903},{"$f":"Skyggetabeller!Q99","v":184152},{"$f":"Skyggetabeller!R99","v":174335}]
[null,{"$f":"Skyggetabeller!B100","v":"Antal anbragte"},null,{"$f":"Skyggetabeller!D100","v":189},{"$f":"Skyggetabeller!E100","v":203},{"$f":"Skyggetabeller!F100","v":191},{"$f":"Skyggetabeller!G100","v":190},{"$f":"Skyggetabeller!H100","v":180},{"$f":"Skyggetabeller!I100","v":168},{"$f":"Skyggetabeller!J100","v":174},{"$f":"Skyggetabeller!K100","v":178},{"$f":"Skyggetabeller!L100","v":171},{"$f":"Skyggetabeller!M100","v":173},{"$f":"Skyggetabeller!N100","v":175},{"$f":"Skyggetabeller!O100","v":175},{"$f":"Skyggetabeller!P100","v":161},{"$f":"Skyggetabeller!Q100","v":174},{"$f":"Skyggetabeller!R100","v":168}]
[null,{"$f":"Skyggetabeller!B101","v":"Gennemsnitlig varighed"},null,{"$f":"Skyggetabeller!D101","v":1061.3968253968253},{"$f":"Skyggetabeller!E101","v":1026.0935960591132},{"$f":"Skyggetabeller!F101","v":1093.3560209424083},{"$f":"Skyggetabeller!G101","v":1084.6894736842105},{"$f":"Skyggetabeller!H101","v":1078.8},{"$f":"Skyggetabeller!I101","v":1015.0535714285714},{"$f":"Skyggetabeller!J101","v":914.66666666666663},{"$f":"Skyggetabeller!K101","v":973.29213483146066},{"$f":"Skyggetabeller!L101","v":1006.1695906432749},{"$f":"Skyggetabeller!M101","v":956.01734104046238},{"$f":"Skyggetabeller!N101","v":988.08571428571429},{"$f":"Skyggetabeller!O101","v":1006.3142857142857},{"$f":"Skyggetabeller!P101","v":1098.7763975155281},{"$f":"Skyggetabeller!Q101","v":1058.344827586207},{"$f":"Skyggetabeller!R101","v":1037.7083333333333}]
[null,{"$f":"Skyggetabeller!B102","v":"Hele landet"}]
[null,{"$f":"Skyggetabeller!B103","v":"Samlet antal dage"},null,{"$f":"Skyggetabeller!D103","v":3141398},{"$f":"Skyggetabeller!E103","v":2999675},{"$f":"Skyggetabeller!F103","v":2926881},{"$f":"Skyggetabeller!G103","v":2872799},{"$f":"Skyggetabeller!H103","v":2788973},{"$f":"Skyggetabeller!I103","v":2678553},{"$f":"Skyggetabeller!J103","v":2556646},{"$f":"Skyggetabeller!K103","v":2525234},{"$f":"Skyggetabeller!L103","v":2484125},{"$f":"Skyggetabeller!M103","v":2543481},{"$f":"Skyggetabeller!N103","v":2543999},{"$f":"Skyggetabeller!O103","v":2565330},{"$f":"Skyggetabeller!P103","v":2595601},{"$f":"Skyggetabeller!Q103","v":2636910},{"$f":"Skyggetabeller!R103","v":2688748}]
[null,{"$f":"Skyggetabeller!B104","v":"Antal anbragte"},null,{"$f":"Skyggetabeller!D104","v":3438},{"$f":"Skyggetabeller!E104","v":3434},{"$f":"Skyggetabeller!F104","v":3381},{"$f":"Skyggetabeller!G104","v":3463},{"$f":"Skyggetabeller!H104","v":3375},{"$f":"Skyggetabeller!I104","v":3401},{"$f":"Skyggetabeller!J104","v":3298},{"$f":"Skyggetabeller!K104","v":3276},{"$f":"Skyggetabeller!L104","v":3268},{"$f":"Skyggetabeller!M104","v":3331},{"$f":"Skyggetabeller!N104","v":3391},{"$f":"Skyggetabeller!O104","v":3479},{"$f":"Skyggetabeller!P104","v":3460},{"$f":"Skyggetabeller!Q104","v":3624},{"$f":"Skyggetabeller!R104","v":3632}]
[null,{"$f":"Skyggetabeller!B105","v":"Gennemsnitlig varighed"},null,{"$f":"Skyggetabeller!D105","v":913.7283304246655},{"$f":"Skyggetabeller!E105","v":873.52213162492717},{"$f":"Skyggetabeller!F105","v":865.68500443655728},{"$f":"Skyggetabeller!G105","v":829.56944845509679},{"$f":"Skyggetabeller!H105","v":826.3623703703704},{"$f":"Skyggetabeller!I105","v":787.57806527491914},{"$f":"Skyggetabeller!J105","v":775.21103699211642},{"$f":"Skyggetabeller!K105","v":770.82844932844932},{"$f":"Skyggetabeller!L105","v":760.13616891064873},{"$f":"Skyggetabeller!M105","v":763.57880516361456},{"$f":"Skyggetabeller!N105","v":750.2208787968151},{"$f":"Skyggetabeller!O105","v":737.37568266743313},{"$f":"Skyggetabeller!P105","v":750.17369942196535},{"$f":"Skyggetabeller!Q105","v":727.62417218543044},{"$f":"Skyggetabeller!R105","v":740.29405286343615}]
[null,"Anm.: Hvis nøgletallet er angivet med * er der foretaget en diskretionering af data, da der er for få observationer. "]
[null,{"$f":"IF('Dine valg'!$G$24=\"\",\"Ingen sammenligningsgruppe valgt.\",\"Anm.: Valgte kommuner i sammenligningsgruppen: \"&'Dine valg'!$G$24&\" \"&'Dine valg'!$G$25&\" \"&'Dine valg'!$G$26&\" \"&'Dine valg'!$G$27&\" \"&'Dine valg'!$G$28&\" \"&'Dine valg'!$G$29&\" \"&'Dine valg'!$G$30)","v":"Anm.: Valgte kommuner i sammenligningsgruppen: Aarhus      "}]
[null,"Kilde: Socialstyrelsens egne beregninger baseret på registerdata fra Danmarks Statistik."]
[]
[null,"Undernøgletal - Varighed af igangværende institutionsanbringelser"]
[]
[null,{"$f":"Skyggetabeller!B108","v":"Nøgletal 2.1\nGennemsnitlig varighed af igangværende anbringelser på døgninstitution"},null,"2016-01-01","2016-07-01","2017-01-01","2017-07-01","2018-01-01","2018-07-01","2019-01-01","2019-07-01","2020-01-01","2020-07-01","2021-01-01","2021-07-01","2022-01-01","2022-07-01","2023-01-01"]
[null,{"$f":"Skyggetabeller!B109","v":"København"}]
[null,{"$f":"Skyggetabeller!B110","v":"Samlet antal dage"},null,{"$f":"Skyggetabeller!D110","v":131733},{"$f":"Skyggetabeller!E110","v":133739},{"$f":"Skyggetabeller!F110","v":126890},{"$f":"Skyggetabeller!G110","v":118827},{"$f":"Skyggetabeller!H110","v":109211},{"$f":"Skyggetabeller!I110","v":109671},{"$f":"Skyggetabeller!J110","v":102873},{"$f":"Skyggetabeller!K110","v":101422},{"$f":"Skyggetabeller!L110","v":94891},{"$f":"Skyggetabeller!M110","v":93866},{"$f":"Skyggetabeller!N110","v":95550},{"$f":"Skyggetabeller!O110","v":95564},{"$f":"Skyggetabeller!P110","v":97246},{"$f":"Skyggetabeller!Q110","v":99775},{"$f":"Skyggetabeller!R110","v":115330}]
[null,{"$f":"Skyggetabeller!B111","v":"Antal anbragte"},null,{"$f":"Skyggetabeller!D111","v":169},{"$f":"Skyggetabeller!E111","v":175},{"$f":"Skyggetabeller!F111","v":170},{"$f":"Skyggetabeller!G111","v":181},{"$f":"Skyggetabeller!H111","v":174},{"$f":"Skyggetabeller!I111","v":174},{"$f":"Skyggetabeller!J111","v":161},{"$f":"Skyggetabeller!K111","v":153},{"$f":"Skyggetabeller!L111","v":139},{"$f":"Skyggetabeller!M111","v":147},{"$f":"Skyggetabeller!N111","v":159},{"$f":"Skyggetabeller!O111","v":165},{"$f":"Skyggetabeller!P111","v":173},{"$f":"Skyggetabeller!Q111","v":196},{"$f":"Skyggetabeller!R111","v":200}]
[null,{"$f":"Skyggetabeller!B112","v":"Gennemsnitlig varighed"},null,{"$f":"Skyggetabeller!D112","v":779.48520710059177},{"$f":"Skyggetabeller!E112","v":764.22285714285715},{"$f":"Skyggetabeller!F112","v":746.41176470588232},{"$f":"Skyggetabeller!G112","v":656.50276243093924},{"$f":"Skyggetabeller!H112","v":627.64942528735628},{"$f":"Skyggetabeller!I112","v":630.29310344827582},{"$f":"Skyggetabeller!J112","v":638.96273291925468},{"$f":"Skyggetabeller!K112","v":662.88888888888891},{"$f":"Skyggetabeller!L112","v":682.66906474820144},{"$f":"Skyggetabeller!M112","v":638.54421768707482},{"$f":"Skyggetabeller!N112","v":600.94339622641508},{"$f":"Skyggetabeller!O112","v":579.17575757575753},{"$f":"Skyggetabeller!P112","v":562.11560693641616},{"$f":"Skyggetabeller!Q112","v":509.05612244897958},{"$f":"Skyggetabeller!R112","v":576.65}]
[null,{"$f":"Skyggetabeller!B113","v":"Sammenligningsgruppe, gns."}]
[null,{"$f":"Skyggetabeller!B114","v":"Samlet antal dage"},null,{"$f":"Skyggetabeller!D114","v":156966},{"$f":"Skyggetabeller!E114","v":162998},{"$f":"Skyggetabeller!F114","v":162866},{"$f":"Skyggetabeller!G114","v":163378},{"$f":"Skyggetabeller!H114","v":148645},{"$f":"Skyggetabeller!I114","v":132428},{"$f":"Skyggetabeller!J114","v":124068},{"$f":"Skyggetabeller!K114","v":136572},{"$f":"Skyggetabeller!L114","v":138504},{"$f":"Skyggetabeller!M114","v":139069},{"$f":"Skyggetabeller!N114","v":144465},{"$f":"Skyggetabeller!O114","v":151477},{"$f":"Skyggetabeller!P114","v":153357},{"$f":"Skyggetabeller!Q114","v":154573},{"$f":"Skyggetabeller!R114","v":147751}]
[null,{"$f":"Skyggetabeller!B115","v":"Antal anbragte"},null,{"$f":"Skyggetabeller!D115","v":127},{"$f":"Skyggetabeller!E115","v":138},{"$f":"Skyggetabeller!F115","v":133},{"$f":"Skyggetabeller!G115","v":133},{"$f":"Skyggetabeller!H115","v":119},{"$f":"Skyggetabeller!I115","v":116},{"$f":"Skyggetabeller!J115","v":118},{"$f":"Skyggetabeller!K115","v":127},{"$f":"Skyggetabeller!L115","v":120},{"$f":"Skyggetabeller!M115","v":127},{"$f":"Skyggetabeller!N115","v":123},{"$f":"Skyggetabeller!O115","v":118},{"$f":"Skyggetabeller!P115","v":109},{"$f":"Skyggetabeller!Q115","v":109},{"$f":"Skyggetabeller!R115","v":110}]
[null,{"$f":"Skyggetabeller!B116","v":"Gennemsnitlig varighed"},null,{"$f":"Skyggetabeller!D116","v":1235.9527559055118},{"$f":"Skyggetabeller!E116","v":1181.144927536232},{"$f":"Skyggetabeller!F116","v":1224.5563909774437},{"$f":"Skyggetabeller!G116","v":1228.406015037594},{"$f":"Skyggetabeller!H116","v":1249.1176470588234},{"$f":"Skyggetabeller!I116","v":1141.6206896551723},{"$f":"Skyggetabeller!J116","v":1051.4237288135594},{"$f":"Skyggetabeller!K116","v":1075.3700787401574},{"$f":"Skyggetabeller!L116","v":1154.2},{"$f":"Skyggetabeller!M116","v":1095.0314960629921},{"$f":"Skyggetabeller!N116","v":1174.5121951219512},{"$f":"Skyggetabeller!O116","v":1283.7033898305085},{"$f":"Skyggetabeller!P116","v":1406.9449541284403},{"$f":"Skyggetabeller!Q116","v":1418.1009174311926},{"$f":"Skyggetabeller!R116","v":1343.1909090909091}]
[null,{"$f":"Skyggetabeller!B117","v":"Hele landet"}]
[null,{"$f":"Skyggetabeller!B118","v":"Samlet antal dage"},null,{"$f":"Skyggetabeller!D118","v":1833692},{"$f":"Skyggetabeller!E118","v":1772046},{"$f":"Skyggetabeller!F118","v":1747663},{"$f":"Skyggetabeller!G118","v":1686242},{"$f":"Skyggetabeller!H118","v":1626960},{"$f":"Skyggetabeller!I118","v":1553179},{"$f":"Skyggetabeller!J118","v":1469501},{"$f":"Skyggetabeller!K118","v":1463985},{"$f":"Skyggetabeller!L118","v":1443662},{"$f":"Skyggetabeller!M118","v":1452255},{"$f":"Skyggetabeller!N118","v":1444481},{"$f":"Skyggetabeller!O118","v":1435374},{"$f":"Skyggetabeller!P118","v":1444354},{"$f":"Skyggetabeller!Q118","v":1469416},{"$f":"Skyggetabeller!R118","v":1510747}]
[null,{"$f":"Skyggetabeller!B119","v":"Antal anbragte"},null,{"$f":"Skyggetabeller!D119","v":1830},{"$f":"Skyggetabeller!E119","v":1843},{"$f":"Skyggetabeller!F119","v":1815},{"$f":"Skyggetabeller!G119","v":1809},{"$f":"Skyggetabeller!H119","v":1760},{"$f":"Skyggetabeller!I119","v":1771},{"$f":"Skyggetabeller!J119","v":1688},{"$f":"Skyggetabeller!K119","v":1686},{"$f":"Skyggetabeller!L119","v":1675},{"$f":"Skyggetabeller!M119","v":1666},{"$f":"Skyggetabeller!N119","v":1701},{"$f":"Skyggetabeller!O119","v":1688},{"$f":"Skyggetabeller!P119","v":1699},{"$f":"Skyggetabeller!Q119","v":1763},{"$f":"Skyggetabeller!R119","v":1765}]
[null,{"$f":"Skyggetabeller!B120","v":"Gennemsnitlig varighed"},null,{"$f":"Skyggetabeller!D120","v":1002.0174863387978},{"$f":"Skyggetabeller!E120","v":961.5008138903961},{"$f":"Skyggetabeller!F120","v":962.89972451790629},{"$f":"Skyggetabeller!G120","v":932.14040906578225},{"$f":"Skyggetabeller!H120","v":924.40909090909088},{"$f":"Skyggetabeller!I120","v":877.00677583286279},{"$f":"Skyggetabeller!J120","v":870.5574644549763},{"$f":"Skyggetabeller!K120","v":868.31850533807824},{"$f":"Skyggetabeller!L120","v":861.88776119402985},{"$f":"Skyggetabeller!M120","v":871.70168067226894},{"$f":"Skyggetabeller!N120","v":849.19517930629047},{"$f":"Skyggetabeller!O120","v":850.3400473933649},{"$f":"Skyggetabeller!P120","v":850.12007062978228},{"$f":"Skyggetabeller!Q120","v":833.47475893363583},{"$f":"Skyggetabeller!R120","v":855.94730878186965}]
[null,"Anm.: Hvis nøgletallet er angivet med * er der foretaget en diskretionering af data, da der er for få observationer. "]
[null,{"$f":"IF('Dine valg'!$G$24=\"\",\"Ingen sammenligningsgruppe valgt.\",\"Anm.: Valgte kommuner i sammenligningsgruppen: \"&'Dine valg'!$G$24&\" \"&'Dine valg'!$G$25&\" \"&'Dine valg'!$G$26&\" \"&'Dine valg'!$G$27&\" \"&'Dine valg'!$G$28&\" \"&'Dine valg'!$G$29&\" \"&'Dine valg'!$G$30)","v":"Anm.: Valgte kommuner i sammenligningsgruppen: Aarhus      "}]
[null,"Kilde: Socialstyrelsens egne beregninger baseret på registerdata fra Danmarks Statistik."]
[]
[null,{"$f":"Skyggetabeller!B123","v":"Nøgletal 2.2: \nGennemsnitlig varighed af igangværende anbringelser på sikret døgninstitution"},null,"2016-01-01","2016-07-01","2017-01-01","2017-07-01","2018-01-01","2018-07-01","2019-01-01","2019-07-01","2020-01-01","2020-07-01","2021-01-01","2021-07-01","2022-01-01","2022-07-01","2023-01-01"]
[null,{"$f":"Skyggetabeller!B124","v":"København"}]
[null,{"$f":"Skyggetabeller!B125","v":"Samlet antal dage"},null,{"$f":"Skyggetabeller!D125","v":3323},{"$f":"Skyggetabeller!E125","v":3189},{"$f":"Skyggetabeller!F125","v":2067},{"$f":"Skyggetabeller!G125","v":2443},{"$f":"Skyggetabeller!H125","v":2098},{"$f":"Skyggetabeller!I125","v":2830},{"$f":"Skyggetabeller!J125","v":2993},{"$f":"Skyggetabeller!K125","v":3225},{"$f":"Skyggetabeller!L125","v":"*"},{"$f":"Skyggetabeller!M125","v":801},{"$f":"Skyggetabeller!N125","v":1693},{"$f":"Skyggetabeller!O125","v":2439},{"$f":"Skyggetabeller!P125","v":2322},{"$f":"Skyggetabeller!Q125","v":1764},{"$f":"Skyggetabeller!R125","v":2455}]
[null,{"$f":"Skyggetabeller!B126","v":"Antal anbragte"},null,{"$f":"Skyggetabeller!D126","v":7},{"$f":"Skyggetabeller!E126","v":6},{"$f":"Skyggetabeller!F126","v":7},{"$f":"Skyggetabeller!G126","v":6},{"$f":"Skyggetabeller!H126","v":6},{"$f":"Skyggetabeller!I126","v":10},{"$f":"Skyggetabeller!J126","v":10},{"$f":"Skyggetabeller!K126","v":5},{"$f":"Skyggetabeller!L126","v":"*"},{"$f":"Skyggetabeller!M126","v":9},{"$f":"Skyggetabeller!N126","v":17},{"$f":"Skyggetabeller!O126","v":22},{"$f":"Skyggetabeller!P126","v":16},{"$f":"Skyggetabeller!Q126","v":15},{"$f":"Skyggetabeller!R126","v":10}]
[null,{"$f":"Skyggetabeller!B127","v":"Gennemsnitlig varighed"},null,{"$f":"Skyggetabeller!D127","v":474.71428571428572},{"$f":"Skyggetabeller!E127","v":531.5},{"$f":"Skyggetabeller!F127","v":295.28571428571428},{"$f":"Skyggetabeller!G127","v":407.16666666666669},{"$f":"Skyggetabeller!H127","v":349.66666666666669},{"$f":"Skyggetabeller!I127","v":283},{"$f":"Skyggetabeller!J127","v":299.3},{"$f":"Skyggetabeller!K127","v":645},{"$f":"Skyggetabeller!L127","v":"*"},{"$f":"Skyggetabeller!M127","v":89},{"$f":"Skyggetabeller!N127","v":99.588235294117652},{"$f":"Skyggetabeller!O127","v":110.86363636363636},{"$f":"Skyggetabeller!P127","v":145.125},{"$f":"Skyggetabeller!Q127","v":117.6},{"$f":"Skyggetabeller!R127","v":245.5}]
[null,{"$f":"Skyggetabeller!B128","v":"Sammenligningsgruppe, gns."}]
[null,{"$f":"Skyggetabeller!B129","v":"Samlet antal dage"},null,{"$f":"Skyggetabeller!D129","v":839},{"$f":"Skyggetabeller!E129","v":0},{"$f":"Skyggetabeller!F129","v":0},{"$f":"Skyggetabeller!G129","v":0},{"$f":"Skyggetabeller!H129","v":0},{"$f":"Skyggetabeller!I129","v":902},{"$f":"Skyggetabeller!J129","v":1195},{"$f":"Skyggetabeller!K129","v":2514},{"$f":"Skyggetabeller!L129","v":3886},{"$f":"Skyggetabeller!M129","v":1688},{"$f":"Skyggetabeller!N129","v":1831},{"$f":"Skyggetabeller!O129","v":3067},{"$f":"Skyggetabeller!P129","v":3724},{"$f":"Skyggetabeller!Q129","v":5481},{"$f":"Skyggetabeller!R129","v":5754}]
[null,{"$f":"Skyggetabeller!B130","v":"Antal anbragte"},null,{"$f":"Skyggetabeller!D130","v":7},{"$f":"Skyggetabeller!E130","v":4},{"$f":"Skyggetabeller!F130","v":3},{"$f":"Skyggetabeller!G130","v":4},{"$f":"Skyggetabeller!H130","v":4},{"$f":"Skyggetabeller!I130","v":7},{"$f":"Skyggetabeller!J130","v":10},{"$f":"Skyggetabeller!K130","v":9},{"$f":"Skyggetabeller!L130","v":16},{"$f":"Skyggetabeller!M130","v":11},{"$f":"Skyggetabeller!N130","v":15},{"$f":"Skyggetabeller!O130","v":14},{"$f":"Skyggetabeller!P130","v":14},{"$f":"Skyggetabeller!Q130","v":17},{"$f":"Skyggetabeller!R130","v":14}]
[null,{"$f":"Skyggetabeller!B131","v":"Gennemsnitlig varighed"},null,{"$f":"Skyggetabeller!D131","v":119.85714285714286},{"$f":"Skyggetabeller!E131","v":0},{"$f":"Skyggetabeller!F131","v":0},{"$f":"Skyggetabeller!G131","v":0},{"$f":"Skyggetabeller!H131","v":0},{"$f":"Skyggetabeller!I131","v":128.85714285714286},{"$f":"Skyggetabeller!J131","v":119.5},{"$f":"Skyggetabeller!K131","v":279.33333333333331},{"$f":"Skyggetabeller!L131","v":242.875},{"$f":"Skyggetabeller!M131","v":153.45454545454547},{"$f":"Skyggetabeller!N131","v":122.06666666666666},{"$f":"Skyggetabeller!O131","v":219.07142857142858},{"$f":"Skyggetabeller!P131","v":266},{"$f":"Skyggetabeller!Q131","v":322.41176470588238},{"$f":"Skyggetabeller!R131","v":411}]
[null,{"$f":"Skyggetabeller!B132","v":"Hele landet"}]
[null,{"$f":"Skyggetabeller!B133","v":"Samlet antal dage"},null,{"$f":"Skyggetabeller!D133","v":19522},{"$f":"Skyggetabeller!E133","v":19854},{"$f":"Skyggetabeller!F133","v":23846},{"$f":"Skyggetabeller!G133","v":25839},{"$f":"Skyggetabeller!H133","v":18299},{"$f":"Skyggetabeller!I133","v":18138},{"$f":"Skyggetabeller!J133","v":20357},{"$f":"Skyggetabeller!K133","v":23262},{"$f":"Skyggetabeller!L133","v":20737},{"$f":"Skyggetabeller!M133","v":21082},{"$f":"Skyggetabeller!N133","v":18812},{"$f":"Skyggetabeller!O133","v":22266},{"$f":"Skyggetabeller!P133","v":19232},{"$f":"Skyggetabeller!Q133","v":20585},{"$f":"Skyggetabeller!R133","v":20791}]
[null,{"$f":"Skyggetabeller!B134","v":"Antal anbragte"},null,{"$f":"Skyggetabeller!D134","v":58},{"$f":"Skyggetabeller!E134","v":62},{"$f":"Skyggetabeller!F134","v":80},{"$f":"Skyggetabeller!G134","v":79},{"$f":"Skyggetabeller!H134","v":64},{"$f":"Skyggetabeller!I134","v":84},{"$f":"Skyggetabeller!J134","v":76},{"$f":"Skyggetabeller!K134","v":72},{"$f":"Skyggetabeller!L134","v":79},{"$f":"Skyggetabeller!M134","v":84},{"$f":"Skyggetabeller!N134","v":95},{"$f":"Skyggetabeller!O134","v":98},{"$f":"Skyggetabeller!P134","v":84},{"$f":"Skyggetabeller!Q134","v":88},{"$f":"Skyggetabeller!R134","v":85}]
[null,{"$f":"Skyggetabeller!B135","v":"Gennemsnitlig varighed"},null,{"$f":"Skyggetabeller!D135","v":336.58620689655174},{"$f":"Skyggetabeller!E135","v":320.22580645161293},{"$f":"Skyggetabeller!F135","v":298.07499999999999},{"$f":"Skyggetabeller!G135","v":327.07594936708858},{"$f":"Skyggetabeller!H135","v":285.921875},{"$f":"Skyggetabeller!I135","v":215.92857142857142},{"$f":"Skyggetabeller!J135","v":267.85526315789474},{"$f":"Skyggetabeller!K135","v":323.08333333333331},{"$f":"Skyggetabeller!L135","v":262.49367088607596},{"$f":"Skyggetabeller!M135","v":250.97619047619048},{"$f":"Skyggetabeller!N135","v":198.02105263157895},{"$f":"Skyggetabeller!O135","v":227.20408163265307},{"$f":"Skyggetabeller!P135","v":228.95238095238096},{"$f":"Skyggetabeller!Q135","v":233.92045454545453},{"$f":"Skyggetabeller!R135","v":244.6}]
[null,"Anm.: Hvis nøgletallet er angivet med * er der foretaget en diskretionering af data, da der er for få observationer. "]
[null,{"$f":"IF('Dine valg'!$G$24=\"\",\"Ingen sammenligningsgruppe valgt.\",\"Anm.: Valgte kommuner i sammenligningsgruppen: \"&'Dine valg'!$G$24&\" \"&'Dine valg'!$G$25&\" \"&'Dine valg'!$G$26&\" \"&'Dine valg'!$G$27&\" \"&'Dine valg'!$G$28&\" \"&'Dine valg'!$G$29&\" \"&'Dine valg'!$G$30)","v":"Anm.: Valgte kommuner i sammenligningsgruppen: Aarhus      "}]
[null,"Kilde: Socialstyrelsens egne beregninger baseret på registerdata fra Danmarks Statistik."]
[]
[null,{"$f":"Skyggetabeller!B138","v":"Nøgletal 2.3: \nGennemsnitlig varighed af igangværende anbringelser på socialpædagogisk opholdssted"},null,"2016-01-01","2016-07-01","2017-01-01","2017-07-01","2018-01-01","2018-07-01","2019-01-01","2019-07-01","2020-01-01","2020-07-01","2021-01-01","2021-07-01","2022-01-01","2022-07-01","2023-01-01"]
[null,{"$f":"Skyggetabeller!B139","v":"København"}]
[null,{"$f":"Skyggetabeller!B140","v":"Samlet antal dage"},null,{"$f":"Skyggetabeller!D140","v":50422},{"$f":"Skyggetabeller!E140","v":49102},{"$f":"Skyggetabeller!F140","v":48035},{"$f":"Skyggetabeller!G140","v":43276},{"$f":"Skyggetabeller!H140","v":43538},{"$f":"Skyggetabeller!I140","v":44076},{"$f":"Skyggetabeller!J140","v":43563},{"$f":"Skyggetabeller!K140","v":46613},{"$f":"Skyggetabeller!L140","v":"*"},{"$f":"Skyggetabeller!M140","v":33945},{"$f":"Skyggetabeller!N140","v":31251},{"$f":"Skyggetabeller!O140","v":34356},{"$f":"Skyggetabeller!P140","v":31608},{"$f":"Skyggetabeller!Q140","v":34790},{"$f":"Skyggetabeller!R140","v":28460}]
[null,{"$f":"Skyggetabeller!B141","v":"Antal anbragte"},null,{"$f":"Skyggetabeller!D141","v":54},{"$f":"Skyggetabeller!E141","v":52},{"$f":"Skyggetabeller!F141","v":47},{"$f":"Skyggetabeller!G141","v":39},{"$f":"Skyggetabeller!H141","v":34},{"$f":"Skyggetabeller!I141","v":33},{"$f":"Skyggetabeller!J141","v":33},{"$f":"Skyggetabeller!K141","v":35},{"$f":"Skyggetabeller!L141","v":"*"},{"$f":"Skyggetabeller!M141","v":24},{"$f":"Skyggetabeller!N141","v":25},{"$f":"Skyggetabeller!O141","v":32},{"$f":"Skyggetabeller!P141","v":28},{"$f":"Skyggetabeller!Q141","v":32},{"$f":"Skyggetabeller!R141","v":38}]
[null,{"$f":"Skyggetabeller!B142","v":"Gennemsnitlig varighed"},null,{"$f":"Skyggetabeller!D142","v":933.74074074074076},{"$f":"Skyggetabeller!E142","v":944.26923076923072},{"$f":"Skyggetabeller!F142","v":1022.0212765957447},{"$f":"Skyggetabeller!G142","v":1109.6410256410256},{"$f":"Skyggetabeller!H142","v":1280.5294117647059},{"$f":"Skyggetabeller!I142","v":1335.6363636363637},{"$f":"Skyggetabeller!J142","v":1320.090909090909},{"$f":"Skyggetabeller!K142","v":1331.8},{"$f":"Skyggetabeller!L142","v":"*"},{"$f":"Skyggetabeller!M142","v":1414.375},{"$f":"Skyggetabeller!N142","v":1250.04},{"$f":"Skyggetabeller!O142","v":1073.625},{"$f":"Skyggetabeller!P142","v":1128.8571428571429},{"$f":"Skyggetabeller!Q142","v":1087.1875},{"$f":"Skyggetabeller!R142","v":748.9473684210526}]
[null,{"$f":"Skyggetabeller!B143","v":"Sammenligningsgruppe, gns."}]
[null,{"$f":"Skyggetabeller!B144","v":"Samlet antal dage"},null,{"$f":"Skyggetabeller!D144","v":42799},{"$f":"Skyggetabeller!E144","v":0},{"$f":"Skyggetabeller!F144","v":0},{"$f":"Skyggetabeller!G144","v":0},{"$f":"Skyggetabeller!H144","v":0},{"$f":"Skyggetabeller!I144","v":37199},{"$f":"Skyggetabeller!J144","v":33889},{"$f":"Skyggetabeller!K144","v":34160},{"$f":"Skyggetabeller!L144","v":29665},{"$f":"Skyggetabeller!M144","v":24634},{"$f":"Skyggetabeller!N144","v":26619},{"$f":"Skyggetabeller!O144","v":21561},{"$f":"Skyggetabeller!P144","v":19822},{"$f":"Skyggetabeller!Q144","v":24098},{"$f":"Skyggetabeller!R144","v":20830}]
[null,{"$f":"Skyggetabeller!B145","v":"Antal anbragte"},null,{"$f":"Skyggetabeller!D145","v":55},{"$f":"Skyggetabeller!E145","v":61},{"$f":"Skyggetabeller!F145","v":55},{"$f":"Skyggetabeller!G145","v":53},{"$f":"Skyggetabeller!H145","v":57},{"$f":"Skyggetabeller!I145","v":45},{"$f":"Skyggetabeller!J145","v":46},{"$f":"Skyggetabeller!K145","v":42},{"$f":"Skyggetabeller!L145","v":35},{"$f":"Skyggetabeller!M145","v":35},{"$f":"Skyggetabeller!N145","v":37},{"$f":"Skyggetabeller!O145","v":43},{"$f":"Skyggetabeller!P145","v":38},{"$f":"Skyggetabeller!Q145","v":48},{"$f":"Skyggetabeller!R145","v":44}]
[null,{"$f":"Skyggetabeller!B146","v":"Gennemsnitlig varighed"},null,{"$f":"Skyggetabeller!D146","v":778.16363636363633},{"$f":"Skyggetabeller!E146","v":0},{"$f":"Skyggetabeller!F146","v":0},{"$f":"Skyggetabeller!G146","v":0},{"$f":"Skyggetabeller!H146","v":0},{"$f":"Skyggetabeller!I146","v":826.64444444444439},{"$f":"Skyggetabeller!J146","v":736.71739130434787},{"$f":"Skyggetabeller!K146","v":813.33333333333337},{"$f":"Skyggetabeller!L146","v":847.57142857142856},{"$f":"Skyggetabeller!M146","v":703.82857142857142},{"$f":"Skyggetabeller!N146","v":719.43243243243239},{"$f":"Skyggetabeller!O146","v":501.41860465116281},{"$f":"Skyggetabeller!P146","v":521.63157894736844},{"$f":"Skyggetabeller!Q146","v":502.04166666666669},{"$f":"Skyggetabeller!R146","v":473.40909090909093}]
[null,{"$f":"Skyggetabeller!B147","v":"Hele landet"}]
[null,{"$f":"Skyggetabeller!B148","v":"Samlet antal dage"},null,{"$f":"Skyggetabeller!D148","v":1288184},{"$f":"Skyggetabeller!E148","v":1207775},{"$f":"Skyggetabeller!F148","v":1155372},{"$f":"Skyggetabeller!G148","v":1160718},{"$f":"Skyggetabeller!H148","v":1143714},{"$f":"Skyggetabeller!I148","v":1107236},{"$f":"Skyggetabeller!J148","v":1066788},{"$f":"Skyggetabeller!K148","v":1037987},{"$f":"Skyggetabeller!L148","v":1019726},{"$f":"Skyggetabeller!M148","v":1070144},{"$f":"Skyggetabeller!N148","v":1080706},{"$f":"Skyggetabeller!O148","v":1107690},{"$f":"Skyggetabeller!P148","v":1132015},{"$f":"Skyggetabeller!Q148","v":1146909},{"$f":"Skyggetabeller!R148","v":1157210}]
[null,{"$f":"Skyggetabeller!B149","v":"Antal anbragte"},null,{"$f":"Skyggetabeller!D149","v":1550},{"$f":"Skyggetabeller!E149","v":1529},{"$f":"Skyggetabeller!F149","v":1486},{"$f":"Skyggetabeller!G149","v":1575},{"$f":"Skyggetabeller!H149","v":1551},{"$f":"Skyggetabeller!I149","v":1546},{"$f":"Skyggetabeller!J149","v":1534},{"$f":"Skyggetabeller!K149","v":1518},{"$f":"Skyggetabeller!L149","v":1514},{"$f":"Skyggetabeller!M149","v":1581},{"$f":"Skyggetabeller!N149","v":1595},{"$f":"Skyggetabeller!O149","v":1693},{"$f":"Skyggetabeller!P149","v":1677},{"$f":"Skyggetabeller!Q149","v":1773},{"$f":"Skyggetabeller!R149","v":1782}]
[null,{"$f":"Skyggetabeller!B150","v":"Gennemsnitlig varighed"},null,{"$f":"Skyggetabeller!D150","v":831.08645161290326},{"$f":"Skyggetabeller!E150","v":789.91170699803797},{"$f":"Skyggetabeller!F150","v":777.50471063257066},{"$f":"Skyggetabeller!G150","v":736.96380952380957},{"$f":"Skyggetabeller!H150","v":737.40425531914889},{"$f":"Skyggetabeller!I150","v":716.19404915912025},{"$f":"Skyggetabeller!J150","v":695.42894393741847},{"$f":"Skyggetabeller!K150","v":683.78590250329376},{"$f":"Skyggetabeller!L150","v":673.53104359313079},{"$f":"Skyggetabeller!M150","v":676.87792536369386},{"$f":"Skyggetabeller!N150","v":677.55862068965519},{"$f":"Skyggetabeller!O150","v":654.27643236857648},{"$f":"Skyggetabeller!P150","v":675.02385211687533},{"$f":"Skyggetabeller!Q150","v":646.87478849407785},{"$f":"Skyggetabeller!R150","v":649.38832772166108}]
[null,"Anm.: Hvis nøgletallet er angivet med * er der foretaget en diskretionering af data, da der er for få observationer. "]
[null,{"$f":"IF('Dine valg'!$G$24=\"\",\"Ingen sammenligningsgruppe valgt.\",\"Anm.: Valgte kommuner i sammenligningsgruppen: \"&'Dine valg'!$G$24&\" \"&'Dine valg'!$G$25&\" \"&'Dine valg'!$G$26&\" \"&'Dine valg'!$G$27&\" \"&'Dine valg'!$G$28&\" \"&'Dine valg'!$G$29&\" \"&'Dine valg'!$G$30)","v":"Anm.: Valgte kommuner i sammenligningsgruppen: Aarhus      "}]
[null,"Kilde: Socialstyrelsens egne beregninger baseret på registerdata fra Danmarks Statistik."]
[]
[null,{"$f":"Skyggetabeller!B153","v":"Nøgletal 3: Anbragte i plejefamilie"}]
[]
[null,{"$f":"Skyggetabeller!B156","v":"Nøgletal 3: \nAnbragte i plejefamilie"},null,"2016-01-01","2016-07-01","2017-01-01","2017-07-01","2018-01-01","2018-07-01","2019-01-01","2019-07-01","2020-01-01","2020-07-01","2021-01-01","2021-07-01","2022-01-01","2022-07-01","2023-01-01"]
[null,{"$f":"Skyggetabeller!B157","v":"København"}]
[null,{"$f":"Skyggetabeller!B158","v":"Antal anbragte"},null,{"$f":"Skyggetabeller!D158","v":382},{"$f":"Skyggetabeller!E158","v":369},{"$f":"Skyggetabeller!F158","v":355},{"$f":"Skyggetabeller!G158","v":347},{"$f":"Skyggetabeller!H158","v":348},{"$f":"Skyggetabeller!I158","v":351},{"$f":"Skyggetabeller!J158","v":339},{"$f":"Skyggetabeller!K158","v":325},{"$f":"Skyggetabeller!L158","v":312},{"$f":"Skyggetabeller!M158","v":295},{"$f":"Skyggetabeller!N158","v":288},{"$f":"Skyggetabeller!O158","v":285},{"$f":"Skyggetabeller!P158","v":272},{"$f":"Skyggetabeller!Q158","v":264},{"$f":"Skyggetabeller!R158","v":269}]
[null,{"$f":"Skyggetabeller!B159","v":"Antal 0-17-årige"},null,{"$f":"Skyggetabeller!D159","v":103578},{"$f":"Skyggetabeller!E159","v":104797},{"$f":"Skyggetabeller!F159","v":105885},{"$f":"Skyggetabeller!G159","v":106913},{"$f":"Skyggetabeller!H159","v":107770},{"$f":"Skyggetabeller!I159","v":108734},{"$f":"Skyggetabeller!J159","v":109335},{"$f":"Skyggetabeller!K159","v":110138},{"$f":"Skyggetabeller!L159","v":110822},{"$f":"Skyggetabeller!M159","v":111068},{"$f":"Skyggetabeller!N159","v":110927},{"$f":"Skyggetabeller!O159","v":110614},{"$f":"Skyggetabeller!P159","v":110513},{"$f":"Skyggetabeller!Q159","v":110692},{"$f":"Skyggetabeller!R159","v":110835}]
[null,{"$f":"Skyggetabeller!B160","v":"Andel"},null,{"$f":"Skyggetabeller!D160","v":3.6880418621715036},{"$f":"Skyggetabeller!E160","v":3.5210931610637708},{"$f":"Skyggetabeller!F160","v":3.3526939604287671},{"$f":"Skyggetabeller!G160","v":3.2456296240868747},{"$f":"Skyggetabeller!H160","v":3.2290990071448453},{"$f":"Skyggetabeller!I160","v":3.2280611400297978},{"$f":"Skyggetabeller!J160","v":3.1005624914254359},{"$f":"Skyggetabeller!K160","v":2.9508434872614355},{"$f":"Skyggetabeller!L160","v":2.81532547689087},{"$f":"Skyggetabeller!M160","v":2.6560305398494619},{"$f":"Skyggetabeller!N160","v":2.596302072534189},{"$f":"Skyggetabeller!O160","v":2.5765273835138407},{"$f":"Skyggetabeller!P160","v":2.4612489028440092},{"$f":"Skyggetabeller!Q160","v":2.3849962056878549},{"$f":"Skyggetabeller!R160","v":2.4270311724635723}]
[null,{"$f":"Skyggetabeller!B161","v":"Sammenligningsgruppe, gns."}]
[null,{"$f":"Skyggetabeller!B162","v":"Antal anbragte"},null,{"$f":"Skyggetabeller!D162","v":208},{"$f":"Skyggetabeller!E162","v":215},{"$f":"Skyggetabeller!F162","v":221},{"$f":"Skyggetabeller!G162","v":225},{"$f":"Skyggetabeller!H162","v":228},{"$f":"Skyggetabeller!I162","v":240},{"$f":"Skyggetabeller!J162","v":239},{"$f":"Skyggetabeller!K162","v":234},{"$f":"Skyggetabeller!L162","v":232},{"$f":"Skyggetabeller!M162","v":233},{"$f":"Skyggetabeller!N162","v":224},{"$f":"Skyggetabeller!O162","v":214},{"$f":"Skyggetabeller!P162","v":214},{"$f":"Skyggetabeller!Q162","v":217},{"$f":"Skyggetabeller!R162","v":205}]
[null,{"$f":"Skyggetabeller!B163","v":"Antal 0-17-årige"},null,{"$f":"Skyggetabeller!D163","v":62241},{"$f":"Skyggetabeller!E163","v":62670},{"$f":"Skyggetabeller!F163","v":62903},{"$f":"Skyggetabeller!G163","v":63077},{"$f":"Skyggetabeller!H163","v":63245},{"$f":"Skyggetabeller!I163","v":63510},{"$f":"Skyggetabeller!J163","v":63607},{"$f":"Skyggetabeller!K163","v":63704},{"$f":"Skyggetabeller!L163","v":63890},{"$f":"Skyggetabeller!M163","v":64128},{"$f":"Skyggetabeller!N163","v":64334},{"$f":"Skyggetabeller!O163","v":64307},{"$f":"Skyggetabeller!P163","v":64049},{"$f":"Skyggetabeller!Q163","v":64356},{"$f":"Skyggetabeller!R163","v":64420}]
[null,{"$f":"Skyggetabeller!B164","v":"Andel"},null,{"$f":"Skyggetabeller!D164","v":3.3418486206841149},{"$f":"Skyggetabeller!E164","v":3.4306685814584332},{"$f":"Skyggetabeller!F164","v":3.5133459453444194},{"$f":"Skyggetabeller!G164","v":3.5670688206477799},{"$f":"Skyggetabeller!H164","v":3.6050280654597202},{"$f":"Skyggetabeller!I164","v":3.7789324515824281},{"$f":"Skyggetabeller!J164","v":3.7574480796138787},{"$f":"Skyggetabeller!K164","v":3.6732387291221902},{"$f":"Skyggetabeller!L164","v":3.6312411958052904},{"$f":"Skyggetabeller!M164","v":3.6333582834331337},{"$f":"Skyggetabeller!N164","v":3.4818292038424472},{"$f":"Skyggetabeller!O164","v":3.3277870216306158},{"$f":"Skyggetabeller!P164","v":3.3411918999515997},{"$f":"Skyggetabeller!Q164","v":3.371868978805395},{"$f":"Skyggetabeller!R164","v":3.1822415398944428}]
[null,{"$f":"Skyggetabeller!B165","v":"Hele landet"}]
[null,{"$f":"Skyggetabeller!B166","v":"Antal anbragte"},null,{"$f":"Skyggetabeller!D166","v":6595},{"$f":"Skyggetabeller!E166","v":6668},{"$f":"Skyggetabeller!F166","v":6765},{"$f":"Skyggetabeller!G166","v":6800},{"$f":"Skyggetabeller!H166","v":6764},{"$f":"Skyggetabeller!I166","v":6814},{"$f":"Skyggetabeller!J166","v":6788},{"$f":"Skyggetabeller!K166","v":6768},{"$f":"Skyggetabeller!L166","v":6647},{"$f":"Skyggetabeller!M166","v":6585},{"$f":"Skyggetabeller!N166","v":6525},{"$f":"Skyggetabeller!O166","v":6509},{"$f":"Skyggetabeller!P166","v":6410},{"$f":"Skyggetabeller!Q166","v":6335},{"$f":"Skyggetabeller!R166","v":6243}]
[null,{"$f":"Skyggetabeller!B167","v":"Antal 0-17-årige"},null,{"$f":"Skyggetabeller!D167","v":1167426},{"$f":"Skyggetabeller!E167","v":1167002},{"$f":"Skyggetabeller!F167","v":1168201},{"$f":"Skyggetabeller!G167","v":1165363},{"$f":"Skyggetabeller!H167","v":1165475},{"$f":"Skyggetabeller!I167","v":1162195},{"$f":"Skyggetabeller!J167","v":1160360},{"$f":"Skyggetabeller!K167","v":1156537},{"$f":"Skyggetabeller!L167","v":1156116},{"$f":"Skyggetabeller!M167","v":1153027},{"$f":"Skyggetabeller!N167","v":1152972},{"$f":"Skyggetabeller!O167","v":1151374},{"$f":"Skyggetabeller!P167","v":1151704},{"$f":"Skyggetabeller!Q167","v":1157254},{"$f":"Skyggetabeller!R167","v":1155814}]
[null,{"$f":"Skyggetabeller!B168","v":"Andel"},null,{"$f":"Skyggetabeller!D168","v":5.6491803334858055},{"$f":"Skyggetabeller!E168","v":5.7137862660046856},{"$f":"Skyggetabeller!F168","v":5.790955494816389},{"$f":"Skyggetabeller!G168","v":5.8350917267838431},{"$f":"Skyggetabeller!H168","v":5.8036422917694503},{"$f":"Skyggetabeller!I168","v":5.863043637255366},{"$f":"Skyggetabeller!J168","v":5.8499086490399526},{"$f":"Skyggetabeller!K168","v":5.8519528558100609},{"$f":"Skyggetabeller!L168","v":5.7494230682734262},{"$f":"Skyggetabeller!M168","v":5.7110544679352699},{"$f":"Skyggetabeller!N168","v":5.6592874761919632},{"$f":"Skyggetabeller!O168","v":5.6532456004738689},{"$f":"Skyggetabeller!P168","v":5.5656661781152108},{"$f":"Skyggetabeller!Q168","v":5.4741655678010188},{"$f":"Skyggetabeller!R168","v":5.4013881126201975}]
[null,"Anm.: Hvis nøgletallet er angivet med * er der foretaget en diskretionering af data, da der er for få observationer. "]
[null,{"$f":"IF('Dine valg'!$G$24=\"\",\"Ingen sammenligningsgruppe valgt.\",\"Anm.: Valgte kommuner i sammenligningsgruppen: \"&'Dine valg'!$G$24&\" \"&'Dine valg'!$G$25&\" \"&'Dine valg'!$G$26&\" \"&'Dine valg'!$G$27&\" \"&'Dine valg'!$G$28&\" \"&'Dine valg'!$G$29&\" \"&'Dine valg'!$G$30)","v":"Anm.: Valgte kommuner i sammenligningsgruppen: Aarhus      "}]
[null,"Kilde: Socialstyrelsens egne beregninger baseret på registerdata fra Danmarks Statistik."]
[]
[null,{"$f":"Skyggetabeller!B171","v":"Nøgletal 4: Anbragte i netværksplejefamilie"}]
[]
[null,{"$f":"Skyggetabeller!B174","v":"Nøgletal 4: \nAnbragte i netværksplejefamilie"},null,"2016-01-01","2016-07-01","2017-01-01","2017-07-01","2018-01-01","2018-07-01","2019-01-01","2019-07-01","2020-01-01","2020-07-01","2021-01-01","2021-07-01","2022-01-01","2022-07-01","2023-01-01"]
[null,{"$f":"Skyggetabeller!B175","v":"København"}]
[null,{"$f":"Skyggetabeller!B176","v":"Antal anbragte"},null,{"$f":"Skyggetabeller!D176","v":105},{"$f":"Skyggetabeller!E176","v":101},{"$f":"Skyggetabeller!F176","v":105},{"$f":"Skyggetabeller!G176","v":112},{"$f":"Skyggetabeller!H176","v":110},{"$f":"Skyggetabeller!I176","v":107},{"$f":"Skyggetabeller!J176","v":112},{"$f":"Skyggetabeller!K176","v":107},{"$f":"Skyggetabeller!L176","v":108},{"$f":"Skyggetabeller!M176","v":108},{"$f":"Skyggetabeller!N176","v":115},{"$f":"Skyggetabeller!O176","v":113},{"$f":"Skyggetabeller!P176","v":113},{"$f":"Skyggetabeller!Q176","v":112},{"$f":"Skyggetabeller!R176","v":114}]
[null,{"$f":"Skyggetabeller!B177","v":"Antal 0-17-årige"},null,{"$f":"Skyggetabeller!D177","v":103578},{"$f":"Skyggetabeller!E177","v":104797},{"$f":"Skyggetabeller!F177","v":105885},{"$f":"Skyggetabeller!G177","v":106913},{"$f":"Skyggetabeller!H177","v":107770},{"$f":"Skyggetabeller!I177","v":108734},{"$f":"Skyggetabeller!J177","v":109335},{"$f":"Skyggetabeller!K177","v":110138},{"$f":"Skyggetabeller!L177","v":110822},{"$f":"Skyggetabeller!M177","v":111068},{"$f":"Skyggetabeller!N177","v":110927},{"$f":"Skyggetabeller!O177","v":110614},{"$f":"Skyggetabeller!P177","v":110513},{"$f":"Skyggetabeller!Q177","v":110692},{"$f":"Skyggetabeller!R177","v":110835}]
[null,{"$f":"Skyggetabeller!B178","v":"Andel"},null,{"$f":"Skyggetabeller!D178","v":1.0137287841047327},{"$f":"Skyggetabeller!E178","v":0.96376804679523265},{"$f":"Skyggetabeller!F178","v":0.99164187561977624},{"$f":"Skyggetabeller!G178","v":1.0475807432211237},{"$f":"Skyggetabeller!H178","v":1.0206922149021065},{"$f":"Skyggetabeller!I178","v":0.98405282616292977},{"$f":"Skyggetabeller!J178","v":1.0243746284355422},{"$f":"Skyggetabeller!K178","v":0.97150847119068806},{"$f":"Skyggetabeller!L178","v":0.97453574200068582},{"$f":"Skyggetabeller!M178","v":0.97237728238556564},{"$f":"Skyggetabeller!N178","v":1.0367178414633047},{"$f":"Skyggetabeller!O178","v":1.0215705064458387},{"$f":"Skyggetabeller!P178","v":1.0225041397844596},{"$f":"Skyggetabeller!Q178","v":1.011816572109999},{"$f":"Skyggetabeller!R178","v":1.0285559615644877}]
[null,{"$f":"Skyggetabeller!B179","v":"Sammenligningsgruppe, gns."}]
[null,{"$f":"Skyggetabeller!B180","v":"Antal anbragte"},null,{"$f":"Skyggetabeller!D180","v":37},{"$f":"Skyggetabeller!E180","v":38},{"$f":"Skyggetabeller!F180","v":42},{"$f":"Skyggetabeller!G180","v":37},{"$f":"Skyggetabeller!H180","v":33},{"$f":"Skyggetabeller!I180","v":27},{"$f":"Skyggetabeller!J180","v":25},{"$f":"Skyggetabeller!K180","v":24},{"$f":"Skyggetabeller!L180","v":22},{"$f":"Skyggetabeller!M180","v":24},{"$f":"Skyggetabeller!N180","v":26},{"$f":"Skyggetabeller!O180","v":25},{"$f":"Skyggetabeller!P180","v":22},{"$f":"Skyggetabeller!Q180","v":22},{"$f":"Skyggetabeller!R180","v":25}]
[null,{"$f":"Skyggetabeller!B181","v":"Antal 0-17-årige"},null,{"$f":"Skyggetabeller!D181","v":62241},{"$f":"Skyggetabeller!E181","v":62670},{"$f":"Skyggetabeller!F181","v":62903},{"$f":"Skyggetabeller!G181","v":63077},{"$f":"Skyggetabeller!H181","v":63245},{"$f":"Skyggetabeller!I181","v":63510},{"$f":"Skyggetabeller!J181","v":63607},{"$f":"Skyggetabeller!K181","v":63704},{"$f":"Skyggetabeller!L181","v":63890},{"$f":"Skyggetabeller!M181","v":64128},{"$f":"Skyggetabeller!N181","v":64334},{"$f":"Skyggetabeller!O181","v":64307},{"$f":"Skyggetabeller!P181","v":64049},{"$f":"Skyggetabeller!Q181","v":64356},{"$f":"Skyggetabeller!R181","v":64420}]
[null,{"$f":"Skyggetabeller!B182","v":"Andel"},null,{"$f":"Skyggetabeller!D182","v":0.59446345656400112},{"$f":"Skyggetabeller!E182","v":0.60635072602521134},{"$f":"Skyggetabeller!F182","v":0.66769470454509317},{"$f":"Skyggetabeller!G182","v":0.58658465050652375},{"$f":"Skyggetabeller!H182","v":0.52178037789548581},{"$f":"Skyggetabeller!I182","v":0.42512990080302315},{"$f":"Skyggetabeller!J182","v":0.39303850205166102},{"$f":"Skyggetabeller!K182","v":0.37674243375612204},{"$f":"Skyggetabeller!L182","v":0.34434183753326031},{"$f":"Skyggetabeller!M182","v":0.37425149700598803},{"$f":"Skyggetabeller!N182","v":0.40414088973171264},{"$f":"Skyggetabeller!O182","v":0.38876016607834296},{"$f":"Skyggetabeller!P182","v":0.34348701775203361},{"$f":"Skyggetabeller!Q182","v":0.34184846789732115},{"$f":"Skyggetabeller!R182","v":0.38807823657249302}]
[null,{"$f":"Skyggetabeller!B183","v":"Hele landet"}]
[null,{"$f":"Skyggetabeller!B184","v":"Antal anbragte"},null,{"$f":"Skyggetabeller!D184","v":942},{"$f":"Skyggetabeller!E184","v":959},{"$f":"Skyggetabeller!F184","v":954},{"$f":"Skyggetabeller!G184","v":999},{"$f":"Skyggetabeller!H184","v":961},{"$f":"Skyggetabeller!I184","v":943},{"$f":"Skyggetabeller!J184","v":942},{"$f":"Skyggetabeller!K184","v":917},{"$f":"Skyggetabeller!L184","v":899},{"$f":"Skyggetabeller!M184","v":919},{"$f":"Skyggetabeller!N184","v":943},{"$f":"Skyggetabeller!O184","v":946},{"$f":"Skyggetabeller!P184","v":929},{"$f":"Skyggetabeller!Q184","v":947},{"$f":"Skyggetabeller!R184","v":978}]
[null,{"$f":"Skyggetabeller!B185","v":"Antal 0-17-årige"},null,{"$f":"Skyggetabeller!D185","v":1167426},{"$f":"Skyggetabeller!E185","v":1167002},{"$f":"Skyggetabeller!F185","v":1168201},{"$f":"Skyggetabeller!G185","v":1165363},{"$f":"Skyggetabeller!H185","v":1165475},{"$f":"Skyggetabeller!I185","v":1162195},{"$f":"Skyggetabeller!J185","v":1160360},{"$f":"Skyggetabeller!K185","v":1156537},{"$f":"Skyggetabeller!L185","v":1156116},{"$f":"Skyggetabeller!M185","v":1153027},{"$f":"Skyggetabeller!N185","v":1152972},{"$f":"Skyggetabeller!O185","v":1151374},{"$f":"Skyggetabeller!P185","v":1151704},{"$f":"Skyggetabeller!Q185","v":1157254},{"$f":"Skyggetabeller!R185","v":1155814}]
[null,{"$f":"Skyggetabeller!B186","v":"Andel"},null,{"$f":"Skyggetabeller!D186","v":0.80690339259190735},{"$f":"Skyggetabeller!E186","v":0.82176380160445317},{"$f":"Skyggetabeller!F186","v":0.81664028707388536},{"$f":"Skyggetabeller!G186","v":0.85724362280250876},{"$f":"Skyggetabeller!H186","v":0.82455651129367857},{"$f":"Skyggetabeller!I186","v":0.81139567800584234},{"$f":"Skyggetabeller!J186","v":0.81181702230342301},{"$f":"Skyggetabeller!K186","v":0.79288427434660547},{"$f":"Skyggetabeller!L186","v":0.77760363146950651},{"$f":"Skyggetabeller!M186","v":0.79703250661086},{"$f":"Skyggetabeller!N186","v":0.81788629732552054},{"$f":"Skyggetabeller!O186","v":0.82162702996593628},{"$f":"Skyggetabeller!P186","v":0.806630870431986},{"$f":"Skyggetabeller!Q186","v":0.81831646293726357},{"$f":"Skyggetabeller!R186","v":0.84615690759931961}]
[null,"Anm.: Hvis nøgletallet er angivet med * er der foretaget en diskretionering af data, da der er for få observationer. "]
[null,{"$f":"IF('Dine valg'!$G$24=\"\",\"Ingen sammenligningsgruppe valgt.\",\"Anm.: Valgte kommuner i sammenligningsgruppen: \"&'Dine valg'!$G$24&\" \"&'Dine valg'!$G$25&\" \"&'Dine valg'!$G$26&\" \"&'Dine valg'!$G$27&\" \"&'Dine valg'!$G$28&\" \"&'Dine valg'!$G$29&\" \"&'Dine valg'!$G$30)","v":"Anm.: Valgte kommuner i sammenligningsgruppen: Aarhus      "}]
[null,"Kilde: Socialstyrelsens egne beregninger baseret på registerdata fra Danmarks Statistik."]
[]
[null,{"$f":"Skyggetabeller!B189","v":"Nøgletal 5: Hjemmebaserede foranstaltninger"}]
[]
[null,{"$f":"Skyggetabeller!B192","v":"Nøgletal 5: \nModtagere af hjemmebaserede foranstaltninger"},null,"2016-01-01","2016-07-01","2017-01-01","2017-07-01","2018-01-01","2018-07-01","2019-01-01","2019-07-01","2020-01-01","2020-07-01","2021-01-01","2021-07-01","2022-01-01","2022-07-01","2023-01-01"]
[null,{"$f":"Skyggetabeller!B193","v":"København"}]
[null,{"$f":"Skyggetabeller!B194","v":"Antal modtagere"},null,{"$f":"Skyggetabeller!D194","v":1985},{"$f":"Skyggetabeller!E194","v":2101},{"$f":"Skyggetabeller!F194","v":2146},{"$f":"Skyggetabeller!G194","v":2233},{"$f":"Skyggetabeller!H194","v":2324},{"$f":"Skyggetabeller!I194","v":2384},{"$f":"Skyggetabeller!J194","v":2355},{"$f":"Skyggetabeller!K194","v":2239},{"$f":"Skyggetabeller!L194","v":2155},{"$f":"Skyggetabeller!M194","v":2139},{"$f":"Skyggetabeller!N194","v":2042},{"$f":"Skyggetabeller!O194","v":2302},{"$f":"Skyggetabeller!P194","v":2307},{"$f":"Skyggetabeller!Q194","v":2419},{"$f":"Skyggetabeller!R194","v":2424}]
[null,{"$f":"Skyggetabeller!B195","v":"Antal 0-17-årige"},null,{"$f":"Skyggetabeller!D195","v":103578},{"$f":"Skyggetabeller!E195","v":104797},{"$f":"Skyggetabeller!F195","v":105885},{"$f":"Skyggetabeller!G195","v":106913},{"$f":"Skyggetabeller!H195","v":107770},{"$f":"Skyggetabeller!I195","v":108734},{"$f":"Skyggetabeller!J195","v":109335},{"$f":"Skyggetabeller!K195","v":110138},{"$f":"Skyggetabeller!L195","v":110822},{"$f":"Skyggetabeller!M195","v":111068},{"$f":"Skyggetabeller!N195","v":110927},{"$f":"Skyggetabeller!O195","v":110614},{"$f":"Skyggetabeller!P195","v":110513},{"$f":"Skyggetabeller!Q195","v":110692},{"$f":"Skyggetabeller!R195","v":110835}]
[null,{"$f":"Skyggetabeller!B196","v":"Andel"},null,{"$f":"Skyggetabeller!D196","v":19.164301299503755},{"$f":"Skyggetabeller!E196","v":20.048283824918652},{"$f":"Skyggetabeller!F196","v":20.267271096000378},{"$f":"Skyggetabeller!G196","v":20.886141067971153},{"$f":"Skyggetabeller!H196","v":21.564442794840865},{"$f":"Skyggetabeller!I196","v":21.925064837125465},{"$f":"Skyggetabeller!J196","v":21.539305803265197},{"$f":"Skyggetabeller!K196","v":20.329041747625705},{"$f":"Skyggetabeller!L196","v":19.445597444550721},{"$f":"Skyggetabeller!M196","v":19.258472287247454},{"$f":"Skyggetabeller!N196","v":18.408502889287551},{"$f":"Skyggetabeller!O196","v":20.811108901224078},{"$f":"Skyggetabeller!P196","v":20.875372128165917},{"$f":"Skyggetabeller!Q196","v":21.853431142268636},{"$f":"Skyggetabeller!R196","v":21.870347814318585}]
[null,{"$f":"Skyggetabeller!B197","v":"Sammenligningsgruppe, gns."}]
[null,{"$f":"Skyggetabeller!B198","v":"Antal modtagere"},null,{"$f":"Skyggetabeller!D198","v":1152},{"$f":"Skyggetabeller!E198","v":1145},{"$f":"Skyggetabeller!F198","v":1132},{"$f":"Skyggetabeller!G198","v":1080},{"$f":"Skyggetabeller!H198","v":1164},{"$f":"Skyggetabeller!I198","v":1202},{"$f":"Skyggetabeller!J198","v":1303},{"$f":"Skyggetabeller!K198","v":1297},{"$f":"Skyggetabeller!L198","v":1303},{"$f":"Skyggetabeller!M198","v":1270},{"$f":"Skyggetabeller!N198","v":1252},{"$f":"Skyggetabeller!O198","v":1224},{"$f":"Skyggetabeller!P198","v":1147},{"$f":"Skyggetabeller!Q198","v":1112},{"$f":"Skyggetabeller!R198","v":1086}]
[null,{"$f":"Skyggetabeller!B199","v":"Antal 0-17-årige"},null,{"$f":"Skyggetabeller!D199","v":62241},{"$f":"Skyggetabeller!E199","v":62670},{"$f":"Skyggetabeller!F199","v":62903},{"$f":"Skyggetabeller!G199","v":63077},{"$f":"Skyggetabeller!H199","v":63245},{"$f":"Skyggetabeller!I199","v":63510},{"$f":"Skyggetabeller!J199","v":63607},{"$f":"Skyggetabeller!K199","v":63704},{"$f":"Skyggetabeller!L199","v":63890},{"$f":"Skyggetabeller!M199","v":64128},{"$f":"Skyggetabeller!N199","v":64334},{"$f":"Skyggetabeller!O199","v":64307},{"$f":"Skyggetabeller!P199","v":64049},{"$f":"Skyggetabeller!Q199","v":64356},{"$f":"Skyggetabeller!R199","v":64420}]
[null,{"$f":"Skyggetabeller!B200","v":"Andel"},null,{"$f":"Skyggetabeller!D200","v":18.508700053019712},{"$f":"Skyggetabeller!E200","v":18.270304771022818},{"$f":"Skyggetabeller!F200","v":17.9959620367868},{"$f":"Skyggetabeller!G200","v":17.12193033910934},{"$f":"Skyggetabeller!H200","v":18.404616965768042},{"$f":"Skyggetabeller!I200","v":18.926153361675325},{"$f":"Skyggetabeller!J200","v":20.485166726932569},{"$f":"Skyggetabeller!K200","v":20.359789024237099},{"$f":"Skyggetabeller!L200","v":20.394427922992644},{"$f":"Skyggetabeller!M200","v":19.804141716566864},{"$f":"Skyggetabeller!N200","v":19.460938228619391},{"$f":"Skyggetabeller!O200","v":19.033697731195673},{"$f":"Skyggetabeller!P200","v":17.908164061890115},{"$f":"Skyggetabeller!Q200","v":17.278886195537321},{"$f":"Skyggetabeller!R200","v":16.858118596709097}]
[null,{"$f":"Skyggetabeller!B201","v":"Hele landet"}]
[null,{"$f":"Skyggetabeller!B202","v":"Antal modtagere"},null,{"$f":"Skyggetabeller!D202","v":23861},{"$f":"Skyggetabeller!E202","v":23864},{"$f":"Skyggetabeller!F202","v":23957},{"$f":"Skyggetabeller!G202","v":23985},{"$f":"Skyggetabeller!H202","v":24277},{"$f":"Skyggetabeller!I202","v":23840},{"$f":"Skyggetabeller!J202","v":24353},{"$f":"Skyggetabeller!K202","v":24158},{"$f":"Skyggetabeller!L202","v":25052},{"$f":"Skyggetabeller!M202","v":25126},{"$f":"Skyggetabeller!N202","v":25586},{"$f":"Skyggetabeller!O202","v":26506},{"$f":"Skyggetabeller!P202","v":26802},{"$f":"Skyggetabeller!Q202","v":26911},{"$f":"Skyggetabeller!R202","v":27050}]
[null,{"$f":"Skyggetabeller!B203","v":"Antal 0-17-årige"},null,{"$f":"Skyggetabeller!D203","v":1167426},{"$f":"Skyggetabeller!E203","v":1167002},{"$f":"Skyggetabeller!F203","v":1168201},{"$f":"Skyggetabeller!G203","v":1165363},{"$f":"Skyggetabeller!H203","v":1165475},{"$f":"Skyggetabeller!I203","v":1162195},{"$f":"Skyggetabeller!J203","v":1160360},{"$f":"Skyggetabeller!K203","v":1156537},{"$f":"Skyggetabeller!L203","v":1156116},{"$f":"Skyggetabeller!M203","v":1153027},{"$f":"Skyggetabeller!N203","v":1152972},{"$f":"Skyggetabeller!O203","v":1151374},{"$f":"Skyggetabeller!P203","v":1151704},{"$f":"Skyggetabeller!Q203","v":1157254},{"$f":"Skyggetabeller!R203","v":1155814}]
[null,{"$f":"Skyggetabeller!B204","v":"Andel"},null,{"$f":"Skyggetabeller!D204","v":20.438982856300957},{"$f":"Skyggetabeller!E204","v":20.448979521885995},{"$f":"Skyggetabeller!F204","v":20.507601003594417},{"$f":"Skyggetabeller!G204","v":20.581569862780952},{"$f":"Skyggetabeller!H204","v":20.83013363650014},{"$f":"Skyggetabeller!I204","v":20.512908763159366},{"$f":"Skyggetabeller!J204","v":20.987452170016201},{"$f":"Skyggetabeller!K204","v":20.888220610322023},{"$f":"Skyggetabeller!L204","v":21.669105868269273},{"$f":"Skyggetabeller!M204","v":21.79133706322575},{"$f":"Skyggetabeller!N204","v":22.19134549668162},{"$f":"Skyggetabeller!O204","v":23.021190334330985},{"$f":"Skyggetabeller!P204","v":23.271604509492022},{"$f":"Skyggetabeller!Q204","v":23.254186202856072},{"$f":"Skyggetabeller!R204","v":23.403419581351326}]
[null,"Anm.: Hvis nøgletallet er angivet med * er der foretaget en diskretionering af data, da der er for få observationer. "]
[null,{"$f":"IF('Dine valg'!$G$24=\"\",\"Ingen sammenligningsgruppe valgt.\",\"Anm.: Valgte kommuner i sammenligningsgruppen: \"&'Dine valg'!$G$24&\" \"&'Dine valg'!$G$25&\" \"&'Dine valg'!$G$26&\" \"&'Dine valg'!$G$27&\" \"&'Dine valg'!$G$28&\" \"&'Dine valg'!$G$29&\" \"&'Dine valg'!$G$30)","v":"Anm.: Valgte kommuner i sammenligningsgruppen: Aarhus      "}]
[null,"Kilde: Socialstyrelsens egne beregninger baseret på registerdata fra Danmarks Statistik."]
[]
[null,"Undernøgletal - Hjemmebaserede foranstaltninger"]
[]
[null,{"$f":"Skyggetabeller!B207","v":"Nøgletal 5.1\nModtagere af døgnophold for både forældremyndigheds-indehaveren, barnet eller den unge og andre medlemmer af familien"},null,"2016-01-01","2016-07-01","2017-01-01","2017-07-01","2018-01-01","2018-07-01","2019-01-01","2019-07-01","2020-01-01","2020-07-01","2021-01-01","2021-07-01","2022-01-01","2022-07-01","2023-01-01"]
[null,{"$f":"Skyggetabeller!B208","v":"København"}]
[null,{"$f":"Skyggetabeller!B209","v":"Antal modtagere"},null,{"$f":"Skyggetabeller!D209","v":17},{"$f":"Skyggetabeller!E209","v":10},{"$f":"Skyggetabeller!F209","v":10},{"$f":"Skyggetabeller!G209","v":14},{"$f":"Skyggetabeller!H209","v":13},{"$f":"Skyggetabeller!I209","v":14},{"$f":"Skyggetabeller!J209","v":15},{"$f":"Skyggetabeller!K209","v":9},{"$f":"Skyggetabeller!L209","v":15},{"$f":"Skyggetabeller!M209","v":8},{"$f":"Skyggetabeller!N209","v":6},{"$f":"Skyggetabeller!O209","v":"*"},{"$f":"Skyggetabeller!P209","v":11},{"$f":"Skyggetabeller!Q209","v":9},{"$f":"Skyggetabeller!R209","v":10}]
[null,{"$f":"Skyggetabeller!B210","v":"Antal 0-17-årige"},null,{"$f":"Skyggetabeller!D210","v":103578},{"$f":"Skyggetabeller!E210","v":104797},{"$f":"Skyggetabeller!F210","v":105885},{"$f":"Skyggetabeller!G210","v":106913},{"$f":"Skyggetabeller!H210","v":107770},{"$f":"Skyggetabeller!I210","v":108734},{"$f":"Skyggetabeller!J210","v":109335},{"$f":"Skyggetabeller!K210","v":110138},{"$f":"Skyggetabeller!L210","v":110822},{"$f":"Skyggetabeller!M210","v":111068},{"$f":"Skyggetabeller!N210","v":110927},{"$f":"Skyggetabeller!O210","v":110614},{"$f":"Skyggetabeller!P210","v":110513},{"$f":"Skyggetabeller!Q210","v":110692},{"$f":"Skyggetabeller!R210","v":110835}]
[null,{"$f":"Skyggetabeller!B211","v":"Andel"},null,{"$f":"Skyggetabeller!D211","v":0.16412751742648055},{"$f":"Skyggetabeller!E211","v":9.5422578890617088E-2},{"$f":"Skyggetabeller!F211","v":9.4442083392359627E-2},{"$f":"Skyggetabeller!G211","v":0.13094759290264046},{"$f":"Skyggetabeller!H211","v":0.12062726176115803},{"$f":"Skyggetabeller!I211","v":0.12875457538580387},{"$f":"Skyggetabeller!J211","v":0.13719303059404583},{"$f":"Skyggetabeller!K211","v":8.1715665801085913E-2},{"$f":"Skyggetabeller!L211","v":0.13535218638898416},{"$f":"Skyggetabeller!M211","v":7.2027946843375226E-2},{"$f":"Skyggetabeller!N211","v":5.408962651112894E-2},{"$f":"Skyggetabeller!O211","v":"*"},{"$f":"Skyggetabeller!P211","v":9.9535801217956257E-2},{"$f":"Skyggetabeller!Q211","v":8.1306688830267759E-2},{"$f":"Skyggetabeller!R211","v":9.022420715477962E-2}]
[null,{"$f":"Skyggetabeller!B212","v":"Sammenligningsgruppe, gns."}]
[null,{"$f":"Skyggetabeller!B213","v":"Antal modtagere"},null,{"$f":"Skyggetabeller!D213","v":3},{"$f":"Skyggetabeller!E213","v":0},{"$f":"Skyggetabeller!F213","v":0},{"$f":"Skyggetabeller!G213","v":0},{"$f":"Skyggetabeller!H213","v":0},{"$f":"Skyggetabeller!I213","v":0},{"$f":"Skyggetabeller!J213","v":3},{"$f":"Skyggetabeller!K213","v":0},{"$f":"Skyggetabeller!L213","v":0},{"$f":"Skyggetabeller!M213","v":0},{"$f":"Skyggetabeller!N213","v":0},{"$f":"Skyggetabeller!O213","v":0},{"$f":"Skyggetabeller!P213","v":0},{"$f":"Skyggetabeller!Q213","v":0},{"$f":"Skyggetabeller!R213","v":0}]
[null,{"$f":"Skyggetabeller!B214","v":"Antal 0-17-årige"},null,{"$f":"Skyggetabeller!D214","v":62241},{"$f":"Skyggetabeller!E214","v":62670},{"$f":"Skyggetabeller!F214","v":62903},{"$f":"Skyggetabeller!G214","v":63077},{"$f":"Skyggetabeller!H214","v":63245},{"$f":"Skyggetabeller!I214","v":63510},{"$f":"Skyggetabeller!J214","v":63607},{"$f":"Skyggetabeller!K214","v":63704},{"$f":"Skyggetabeller!L214","v":63890},{"$f":"Skyggetabeller!M214","v":64128},{"$f":"Skyggetabeller!N214","v":64334},{"$f":"Skyggetabeller!O214","v":64307},{"$f":"Skyggetabeller!P214","v":64049},{"$f":"Skyggetabeller!Q214","v":64356},{"$f":"Skyggetabeller!R214","v":64420}]
[null,{"$f":"Skyggetabeller!B215","v":"Andel"},null,{"$f":"Skyggetabeller!D215","v":4.8199739721405503E-2},{"$f":"Skyggetabeller!E215","v":0},{"$f":"Skyggetabeller!F215","v":0},{"$f":"Skyggetabeller!G215","v":0},{"$f":"Skyggetabeller!H215","v":0},{"$f":"Skyggetabeller!I215","v":0},{"$f":"Skyggetabeller!J215","v":4.7164620246199315E-2},{"$f":"Skyggetabeller!K215","v":0},{"$f":"Skyggetabeller!L215","v":0},{"$f":"Skyggetabeller!M215","v":0},{"$f":"Skyggetabeller!N215","v":0},{"$f":"Skyggetabeller!O215","v":0},{"$f":"Skyggetabeller!P215","v":0},{"$f":"Skyggetabeller!Q215","v":0},{"$f":"Skyggetabeller!R215","v":0}]
[null,{"$f":"Skyggetabeller!B216","v":"Hele landet"}]
[null,{"$f":"Skyggetabeller!B217","v":"Antal modtagere"},null,{"$f":"Skyggetabeller!D217","v":90},{"$f":"Skyggetabeller!E217","v":63},{"$f":"Skyggetabeller!F217","v":87},{"$f":"Skyggetabeller!G217","v":85},{"$f":"Skyggetabeller!H217","v":68},{"$f":"Skyggetabeller!I217","v":84},{"$f":"Skyggetabeller!J217","v":79},{"$f":"Skyggetabeller!K217","v":72},{"$f":"Skyggetabeller!L217","v":88},{"$f":"Skyggetabeller!M217","v":86},{"$f":"Skyggetabeller!N217","v":77},{"$f":"Skyggetabeller!O217","v":63},{"$f":"Skyggetabeller!P217","v":72},{"$f":"Skyggetabeller!Q217","v":61},{"$f":"Skyggetabeller!R217","v":71}]
[null,{"$f":"Skyggetabeller!B218","v":"Antal 0-17-årige"},null,{"$f":"Skyggetabeller!D218","v":1167426},{"$f":"Skyggetabeller!E218","v":1167002},{"$f":"Skyggetabeller!F218","v":1168201},{"$f":"Skyggetabeller!G218","v":1165363},{"$f":"Skyggetabeller!H218","v":1165475},{"$f":"Skyggetabeller!I218","v":1162195},{"$f":"Skyggetabeller!J218","v":1160360},{"$f":"Skyggetabeller!K218","v":1156537},{"$f":"Skyggetabeller!L218","v":1156116},{"$f":"Skyggetabeller!M218","v":1153027},{"$f":"Skyggetabeller!N218","v":1152972},{"$f":"Skyggetabeller!O218","v":1151374},{"$f":"Skyggetabeller!P218","v":1151704},{"$f":"Skyggetabeller!Q218","v":1157254},{"$f":"Skyggetabeller!R218","v":1155814}]
[null,{"$f":"Skyggetabeller!B219","v":"Andel"},null,{"$f":"Skyggetabeller!D219","v":7.7092680820882858E-2},{"$f":"Skyggetabeller!E219","v":5.3984483317080861E-2},{"$f":"Skyggetabeller!F219","v":7.4473485299190817E-2},{"$f":"Skyggetabeller!G219","v":7.2938646584798039E-2},{"$f":"Skyggetabeller!H219","v":5.8345309852206179E-2},{"$f":"Skyggetabeller!I219","v":7.2277027521199105E-2},{"$f":"Skyggetabeller!J219","v":6.8082319280223388E-2},{"$f":"Skyggetabeller!K219","v":6.2254817615000652E-2},{"$f":"Skyggetabeller!L219","v":7.6116929443066264E-2},{"$f":"Skyggetabeller!M219","v":7.4586284622996685E-2},{"$f":"Skyggetabeller!N219","v":6.6783928837820861E-2},{"$f":"Skyggetabeller!O219","v":5.4717233496674407E-2},{"$f":"Skyggetabeller!P219","v":6.251606315511625E-2},{"$f":"Skyggetabeller!Q219","v":5.271098652499797E-2},{"$f":"Skyggetabeller!R219","v":6.1428568956596825E-2}]
[null,"Anm.: Hvis nøgletallet er angivet med * er der foretaget en diskretionering af data, da der er for få observationer. "]
[null,{"$f":"IF('Dine valg'!$G$24=\"\",\"Ingen sammenligningsgruppe valgt.\",\"Anm.: Valgte kommuner i sammenligningsgruppen: \"&'Dine valg'!$G$24&\" \"&'Dine valg'!$G$25&\" \"&'Dine valg'!$G$26&\" \"&'Dine valg'!$G$27&\" \"&'Dine valg'!$G$28&\" \"&'Dine valg'!$G$29&\" \"&'Dine valg'!$G$30)","v":"Anm.: Valgte kommuner i sammenligningsgruppen: Aarhus      "}]
[null,"Kilde: Socialstyrelsens egne beregninger baseret på registerdata fra Danmarks Statistik."]
[]
[null,{"$f":"Skyggetabeller!B222","v":"Nøgletal 5.2: \nModtagere af hjemmebaserede anbringelser"},null,"2016-01-01","2016-07-01","2017-01-01","2017-07-01","2018-01-01","2018-07-01","2019-01-01","2019-07-01","2020-01-01","2020-07-01","2021-01-01","2021-07-01","2022-01-01","2022-07-01","2023-01-01"]
[null,{"$f":"Skyggetabeller!B223","v":"København"}]
[null,{"$f":"Skyggetabeller!B224","v":"Antal modtagere"},null,{"$f":"Skyggetabeller!D224","v":26},{"$f":"Skyggetabeller!E224","v":19},{"$f":"Skyggetabeller!F224","v":23},{"$f":"Skyggetabeller!G224","v":23},{"$f":"Skyggetabeller!H224","v":23},{"$f":"Skyggetabeller!I224","v":15},{"$f":"Skyggetabeller!J224","v":19},{"$f":"Skyggetabeller!K224","v":9},{"$f":"Skyggetabeller!L224","v":10},{"$f":"Skyggetabeller!M224","v":10},{"$f":"Skyggetabeller!N224","v":15},{"$f":"Skyggetabeller!O224","v":15},{"$f":"Skyggetabeller!P224","v":15},{"$f":"Skyggetabeller!Q224","v":11},{"$f":"Skyggetabeller!R224","v":13}]
[null,{"$f":"Skyggetabeller!B225","v":"Antal 0-17-årige"},null,{"$f":"Skyggetabeller!D225","v":103578},{"$f":"Skyggetabeller!E225","v":104797},{"$f":"Skyggetabeller!F225","v":105885},{"$f":"Skyggetabeller!G225","v":106913},{"$f":"Skyggetabeller!H225","v":107770},{"$f":"Skyggetabeller!I225","v":108734},{"$f":"Skyggetabeller!J225","v":109335},{"$f":"Skyggetabeller!K225","v":110138},{"$f":"Skyggetabeller!L225","v":110822},{"$f":"Skyggetabeller!M225","v":111068},{"$f":"Skyggetabeller!N225","v":110927},{"$f":"Skyggetabeller!O225","v":110614},{"$f":"Skyggetabeller!P225","v":110513},{"$f":"Skyggetabeller!Q225","v":110692},{"$f":"Skyggetabeller!R225","v":110835}]
[null,{"$f":"Skyggetabeller!B226","v":"Andel"},null,{"$f":"Skyggetabeller!D226","v":0.25101855606402906},{"$f":"Skyggetabeller!E226","v":0.18130289989217249},{"$f":"Skyggetabeller!F226","v":0.21721679180242717},{"$f":"Skyggetabeller!G226","v":0.21512818834005218},{"$f":"Skyggetabeller!H226","v":0.21341746311589496},{"$f":"Skyggetabeller!I226","v":0.13795133077050417},{"$f":"Skyggetabeller!J226","v":0.17377783875245806},{"$f":"Skyggetabeller!K226","v":8.1715665801085913E-2},{"$f":"Skyggetabeller!L226","v":9.0234790925989419E-2},{"$f":"Skyggetabeller!M226","v":9.0034933554219029E-2},{"$f":"Skyggetabeller!N226","v":0.13522406627782235},{"$f":"Skyggetabeller!O226","v":0.13560670439546529},{"$f":"Skyggetabeller!P226","v":0.13573063802448582},{"$f":"Skyggetabeller!Q226","v":9.937484190366061E-2},{"$f":"Skyggetabeller!R226","v":0.11729146930121352}]
[null,{"$f":"Skyggetabeller!B227","v":"Sammenligningsgruppe, gns."}]
[null,{"$f":"Skyggetabeller!B228","v":"Antal modtagere"},null,{"$f":"Skyggetabeller!D228","v":30},{"$f":"Skyggetabeller!E228","v":19},{"$f":"Skyggetabeller!F228","v":24},{"$f":"Skyggetabeller!G228","v":25},{"$f":"Skyggetabeller!H228","v":18},{"$f":"Skyggetabeller!I228","v":0},{"$f":"Skyggetabeller!J228","v":7},{"$f":"Skyggetabeller!K228","v":5},{"$f":"Skyggetabeller!L228","v":0},{"$f":"Skyggetabeller!M228","v":0},{"$f":"Skyggetabeller!N228","v":0},{"$f":"Skyggetabeller!O228","v":0},{"$f":"Skyggetabeller!P228","v":0},{"$f":"Skyggetabeller!Q228","v":0},{"$f":"Skyggetabeller!R228","v":0}]
[null,{"$f":"Skyggetabeller!B229","v":"Antal 0-17-årige"},null,{"$f":"Skyggetabeller!D229","v":62241},{"$f":"Skyggetabeller!E229","v":62670},{"$f":"Skyggetabeller!F229","v":62903},{"$f":"Skyggetabeller!G229","v":63077},{"$f":"Skyggetabeller!H229","v":63245},{"$f":"Skyggetabeller!I229","v":63510},{"$f":"Skyggetabeller!J229","v":63607},{"$f":"Skyggetabeller!K229","v":63704},{"$f":"Skyggetabeller!L229","v":63890},{"$f":"Skyggetabeller!M229","v":64128},{"$f":"Skyggetabeller!N229","v":64334},{"$f":"Skyggetabeller!O229","v":64307},{"$f":"Skyggetabeller!P229","v":64049},{"$f":"Skyggetabeller!Q229","v":64356},{"$f":"Skyggetabeller!R229","v":64420}]
[null,{"$f":"Skyggetabeller!B230","v":"Andel"},null,{"$f":"Skyggetabeller!D230","v":0.48199739721405505},{"$f":"Skyggetabeller!E230","v":0.30317536301260567},{"$f":"Skyggetabeller!F230","v":0.38153983116862472},{"$f":"Skyggetabeller!G230","v":0.39634098007197555},{"$f":"Skyggetabeller!H230","v":0.28460747885208321},{"$f":"Skyggetabeller!I230","v":0},{"$f":"Skyggetabeller!J230","v":0.11005078057446507},{"$f":"Skyggetabeller!K230","v":7.8488007032525425E-2},{"$f":"Skyggetabeller!L230","v":0},{"$f":"Skyggetabeller!M230","v":0},{"$f":"Skyggetabeller!N230","v":0},{"$f":"Skyggetabeller!O230","v":0},{"$f":"Skyggetabeller!P230","v":0},{"$f":"Skyggetabeller!Q230","v":0},{"$f":"Skyggetabeller!R230","v":0}]
[null,{"$f":"Skyggetabeller!B231","v":"Hele landet"}]
[null,{"$f":"Skyggetabeller!B232","v":"Antal modtagere"},null,{"$f":"Skyggetabeller!D232","v":398},{"$f":"Skyggetabeller!E232","v":364},{"$f":"Skyggetabeller!F232","v":360},{"$f":"Skyggetabeller!G232","v":336},{"$f":"Skyggetabeller!H232","v":319},{"$f":"Skyggetabeller!I232","v":255},{"$f":"Skyggetabeller!J232","v":252},{"$f":"Skyggetabeller!K232","v":223},{"$f":"Skyggetabeller!L232","v":252},{"$f":"Skyggetabeller!M232","v":235},{"$f":"Skyggetabeller!N232","v":251},{"$f":"Skyggetabeller!O232","v":245},{"$f":"Skyggetabeller!P232","v":255},{"$f":"Skyggetabeller!Q232","v":249},{"$f":"Skyggetabeller!R232","v":244}]
[null,{"$f":"Skyggetabeller!B233","v":"Antal 0-17-årige"},null,{"$f":"Skyggetabeller!D233","v":1167426},{"$f":"Skyggetabeller!E233","v":1167002},{"$f":"Skyggetabeller!F233","v":1168201},{"$f":"Skyggetabeller!G233","v":1165363},{"$f":"Skyggetabeller!H233","v":1165475},{"$f":"Skyggetabeller!I233","v":1162195},{"$f":"Skyggetabeller!J233","v":1160360},{"$f":"Skyggetabeller!K233","v":1156537},{"$f":"Skyggetabeller!L233","v":1156116},{"$f":"Skyggetabeller!M233","v":1153027},{"$f":"Skyggetabeller!N233","v":1152972},{"$f":"Skyggetabeller!O233","v":1151374},{"$f":"Skyggetabeller!P233","v":1151704},{"$f":"Skyggetabeller!Q233","v":1157254},{"$f":"Skyggetabeller!R233","v":1155814}]
[null,{"$f":"Skyggetabeller!B234","v":"Andel"},null,{"$f":"Skyggetabeller!D234","v":0.34092096629679308},{"$f":"Skyggetabeller!E234","v":0.31191034805424495},{"$f":"Skyggetabeller!F234","v":0.30816614606561715},{"$f":"Skyggetabeller!G234","v":0.28832217944108407},{"$f":"Skyggetabeller!H234","v":0.2737081447478496},{"$f":"Skyggetabeller!I234","v":0.21941240497506873},{"$f":"Skyggetabeller!J234","v":0.21717398048881381},{"$f":"Skyggetabeller!K234","v":0.19281700455757145},{"$f":"Skyggetabeller!L234","v":0.21797120704150796},{"$f":"Skyggetabeller!M234","v":0.20381135914423512},{"$f":"Skyggetabeller!N234","v":0.21769826153627322},{"$f":"Skyggetabeller!O234","v":0.21278924137595601},{"$f":"Skyggetabeller!P234","v":0.22141105700770339},{"$f":"Skyggetabeller!Q234","v":0.21516451876597534},{"$f":"Skyggetabeller!R234","v":0.21110663134379754}]
[null,"Anm.: Hvis nøgletallet er angivet med * er der foretaget en diskretionering af data, da der er for få observationer. "]
[null,{"$f":"IF('Dine valg'!$G$24=\"\",\"Ingen sammenligningsgruppe valgt.\",\"Anm.: Valgte kommuner i sammenligningsgruppen: \"&'Dine valg'!$G$24&\" \"&'Dine valg'!$G$25&\" \"&'Dine valg'!$G$26&\" \"&'Dine valg'!$G$27&\" \"&'Dine valg'!$G$28&\" \"&'Dine valg'!$G$29&\" \"&'Dine valg'!$G$30)","v":"Anm.: Valgte kommuner i sammenligningsgruppen: Aarhus      "}]
[null,"Kilde: Socialstyrelsens egne beregninger baseret på registerdata fra Danmarks Statistik."]
[]
[null,{"$f":"Skyggetabeller!B237","v":"Nøgletal 5.3: \nBørn og unge, der modtager ikke-forældrerettede forebyggende foranstaltninger"},null,"2016-01-01","2016-07-01","2017-01-01","2017-07-01","2018-01-01","2018-07-01","2019-01-01","2019-07-01","2020-01-01","2020-07-01","2021-01-01","2021-07-01","2022-01-01","2022-07-01","2023-01-01"]
[null,{"$f":"Skyggetabeller!B238","v":"København"}]
[null,{"$f":"Skyggetabeller!B239","v":"Antal modtagere"},null,{"$f":"Skyggetabeller!D239","v":1938},{"$f":"Skyggetabeller!E239","v":2069},{"$f":"Skyggetabeller!F239","v":2108},{"$f":"Skyggetabeller!G239","v":2193},{"$f":"Skyggetabeller!H239","v":2283},{"$f":"Skyggetabeller!I239","v":2351},{"$f":"Skyggetabeller!J239","v":2318},{"$f":"Skyggetabeller!K239","v":2218},{"$f":"Skyggetabeller!L239","v":2125},{"$f":"Skyggetabeller!M239","v":2110},{"$f":"Skyggetabeller!N239","v":2007},{"$f":"Skyggetabeller!O239","v":2273},{"$f":"Skyggetabeller!P239","v":2266},{"$f":"Skyggetabeller!Q239","v":2386},{"$f":"Skyggetabeller!R239","v":2387}]
[null,{"$f":"Skyggetabeller!B240","v":"Antal 0-17-årige"},null,{"$f":"Skyggetabeller!D240","v":103578},{"$f":"Skyggetabeller!E240","v":104797},{"$f":"Skyggetabeller!F240","v":105885},{"$f":"Skyggetabeller!G240","v":106913},{"$f":"Skyggetabeller!H240","v":107770},{"$f":"Skyggetabeller!I240","v":108734},{"$f":"Skyggetabeller!J240","v":109335},{"$f":"Skyggetabeller!K240","v":110138},{"$f":"Skyggetabeller!L240","v":110822},{"$f":"Skyggetabeller!M240","v":111068},{"$f":"Skyggetabeller!N240","v":110927},{"$f":"Skyggetabeller!O240","v":110614},{"$f":"Skyggetabeller!P240","v":110513},{"$f":"Skyggetabeller!Q240","v":110692},{"$f":"Skyggetabeller!R240","v":110835}]
[null,{"$f":"Skyggetabeller!B241","v":"Andel"},null,{"$f":"Skyggetabeller!D241","v":18.710536986618781},{"$f":"Skyggetabeller!E241","v":19.742931572468677},{"$f":"Skyggetabeller!F241","v":19.908391179109412},{"$f":"Skyggetabeller!G241","v":20.512005088249325},{"$f":"Skyggetabeller!H241","v":21.184002969286443},{"$f":"Skyggetabeller!I241","v":21.621571909430354},{"$f":"Skyggetabeller!J241","v":21.200896327799882},{"$f":"Skyggetabeller!K241","v":20.138371860756507},{"$f":"Skyggetabeller!L241","v":19.174893071772754},{"$f":"Skyggetabeller!M241","v":18.997370979940214},{"$f":"Skyggetabeller!N241","v":18.092980067972629},{"$f":"Skyggetabeller!O241","v":20.548935939392841},{"$f":"Skyggetabeller!P241","v":20.504375050898989},{"$f":"Skyggetabeller!Q241","v":21.555306616557655},{"$f":"Skyggetabeller!R241","v":21.536518247845898}]
[null,{"$f":"Skyggetabeller!B242","v":"Sammenligningsgruppe, gns."}]
[null,{"$f":"Skyggetabeller!B243","v":"Antal modtagere"},null,{"$f":"Skyggetabeller!D243","v":1103},{"$f":"Skyggetabeller!E243","v":1110},{"$f":"Skyggetabeller!F243","v":1098},{"$f":"Skyggetabeller!G243","v":1043},{"$f":"Skyggetabeller!H243","v":1133},{"$f":"Skyggetabeller!I243","v":1174},{"$f":"Skyggetabeller!J243","v":1280},{"$f":"Skyggetabeller!K243","v":1278},{"$f":"Skyggetabeller!L243","v":1280},{"$f":"Skyggetabeller!M243","v":1251},{"$f":"Skyggetabeller!N243","v":1233},{"$f":"Skyggetabeller!O243","v":1207},{"$f":"Skyggetabeller!P243","v":1129},{"$f":"Skyggetabeller!Q243","v":1097},{"$f":"Skyggetabeller!R243","v":1071}]
[null,{"$f":"Skyggetabeller!B244","v":"Antal 0-17-årige"},null,{"$f":"Skyggetabeller!D244","v":62241},{"$f":"Skyggetabeller!E244","v":62670},{"$f":"Skyggetabeller!F244","v":62903},{"$f":"Skyggetabeller!G244","v":63077},{"$f":"Skyggetabeller!H244","v":63245},{"$f":"Skyggetabeller!I244","v":63510},{"$f":"Skyggetabeller!J244","v":63607},{"$f":"Skyggetabeller!K244","v":63704},{"$f":"Skyggetabeller!L244","v":63890},{"$f":"Skyggetabeller!M244","v":64128},{"$f":"Skyggetabeller!N244","v":64334},{"$f":"Skyggetabeller!O244","v":64307},{"$f":"Skyggetabeller!P244","v":64049},{"$f":"Skyggetabeller!Q244","v":64356},{"$f":"Skyggetabeller!R244","v":64420}]
[null,{"$f":"Skyggetabeller!B245","v":"Andel"},null,{"$f":"Skyggetabeller!D245","v":17.721437637570091},{"$f":"Skyggetabeller!E245","v":17.711823839157493},{"$f":"Skyggetabeller!F245","v":17.45544727596458},{"$f":"Skyggetabeller!G245","v":16.535345688602821},{"$f":"Skyggetabeller!H245","v":17.914459641078349},{"$f":"Skyggetabeller!I245","v":18.48527790899071},{"$f":"Skyggetabeller!J245","v":20.12357130504504},{"$f":"Skyggetabeller!K245","v":20.0615345975135},{"$f":"Skyggetabeller!L245","v":20.034434183753326},{"$f":"Skyggetabeller!M245","v":19.507859281437128},{"$f":"Skyggetabeller!N245","v":19.165604501507755},{"$f":"Skyggetabeller!O245","v":18.769340818262396},{"$f":"Skyggetabeller!P245","v":17.627129229183907},{"$f":"Skyggetabeller!Q245","v":17.04580769469824},{"$f":"Skyggetabeller!R245","v":16.625271654765601}]
[null,{"$f":"Skyggetabeller!B246","v":"Hele landet"}]
[null,{"$f":"Skyggetabeller!B247","v":"Antal modtagere"},null,{"$f":"Skyggetabeller!D247","v":23022},{"$f":"Skyggetabeller!E247","v":23094},{"$f":"Skyggetabeller!F247","v":23188},{"$f":"Skyggetabeller!G247","v":23270},{"$f":"Skyggetabeller!H247","v":23601},{"$f":"Skyggetabeller!I247","v":23231},{"$f":"Skyggetabeller!J247","v":23784},{"$f":"Skyggetabeller!K247","v":23654},{"$f":"Skyggetabeller!L247","v":24495},{"$f":"Skyggetabeller!M247","v":24589},{"$f":"Skyggetabeller!N247","v":25026},{"$f":"Skyggetabeller!O247","v":25988},{"$f":"Skyggetabeller!P247","v":26269},{"$f":"Skyggetabeller!Q247","v":26379},{"$f":"Skyggetabeller!R247","v":26490}]
[null,{"$f":"Skyggetabeller!B248","v":"Antal 0-17-årige"},null,{"$f":"Skyggetabeller!D248","v":1167426},{"$f":"Skyggetabeller!E248","v":1167002},{"$f":"Skyggetabeller!F248","v":1168201},{"$f":"Skyggetabeller!G248","v":1165363},{"$f":"Skyggetabeller!H248","v":1165475},{"$f":"Skyggetabeller!I248","v":1162195},{"$f":"Skyggetabeller!J248","v":1160360},{"$f":"Skyggetabeller!K248","v":1156537},{"$f":"Skyggetabeller!L248","v":1156116},{"$f":"Skyggetabeller!M248","v":1153027},{"$f":"Skyggetabeller!N248","v":1152972},{"$f":"Skyggetabeller!O248","v":1151374},{"$f":"Skyggetabeller!P248","v":1151704},{"$f":"Skyggetabeller!Q248","v":1157254},{"$f":"Skyggetabeller!R248","v":1155814}]
[null,{"$f":"Skyggetabeller!B249","v":"Andel"},null,{"$f":"Skyggetabeller!D249","v":19.720307753981839},{"$f":"Skyggetabeller!E249","v":19.789169170232785},{"$f":"Skyggetabeller!F249","v":19.84932387491536},{"$f":"Skyggetabeller!G249","v":19.968027129744122},{"$f":"Skyggetabeller!H249","v":20.250112615028208},{"$f":"Skyggetabeller!I249","v":19.988900313630673},{"$f":"Skyggetabeller!J249","v":20.497087110896619},{"$f":"Skyggetabeller!K249","v":20.452436887017015},{"$f":"Skyggetabeller!L249","v":21.187320303498957},{"$f":"Skyggetabeller!M249","v":21.325606425521691},{"$f":"Skyggetabeller!N249","v":21.705644196042922},{"$f":"Skyggetabeller!O249","v":22.571293081136105},{"$f":"Skyggetabeller!P249","v":22.808811986413176},{"$f":"Skyggetabeller!Q249","v":22.794477271195433},{"$f":"Skyggetabeller!R249","v":22.918912558595068}]
[null,"Anm.: Hvis nøgletallet er angivet med * er der foretaget en diskretionering af data, da der er for få observationer. "]
[null,{"$f":"IF('Dine valg'!$G$24=\"\",\"Ingen sammenligningsgruppe valgt.\",\"Anm.: Valgte kommuner i sammenligningsgruppen: \"&'Dine valg'!$G$24&\" \"&'Dine valg'!$G$25&\" \"&'Dine valg'!$G$26&\" \"&'Dine valg'!$G$27&\" \"&'Dine valg'!$G$28&\" \"&'Dine valg'!$G$29&\" \"&'Dine valg'!$G$30)","v":"Anm.: Valgte kommuner i sammenligningsgruppen: Aarhus      "}]
[null,"Kilde: Socialstyrelsens egne beregninger baseret på registerdata fra Danmarks Statistik."]
[]
[null,{"$f":"Skyggetabeller!B252","v":"Nøgletal 5.4: \nModtagere af forældrerettede indsatser"},null,"2016-01-01","2016-07-01","2017-01-01","2017-07-01","2018-01-01","2018-07-01","2019-01-01","2019-07-01","2020-01-01","2020-07-01","2021-01-01","2021-07-01","2022-01-01","2022-07-01","2023-01-01"]
[null,{"$f":"Skyggetabeller!B253","v":"København"}]
[null,{"$f":"Skyggetabeller!B254","v":"Antal modtagere"},null,{"$f":"Skyggetabeller!D254","v":4},{"$f":"Skyggetabeller!E254","v":3},{"$f":"Skyggetabeller!F254","v":5},{"$f":"Skyggetabeller!G254","v":3},{"$f":"Skyggetabeller!H254","v":5},{"$f":"Skyggetabeller!I254","v":4},{"$f":"Skyggetabeller!J254","v":3},{"$f":"Skyggetabeller!K254","v":3},{"$f":"Skyggetabeller!L254","v":5},{"$f":"Skyggetabeller!M254","v":11},{"$f":"Skyggetabeller!N254","v":14},{"$f":"Skyggetabeller!O254","v":"*"},{"$f":"Skyggetabeller!P254","v":15},{"$f":"Skyggetabeller!Q254","v":13},{"$f":"Skyggetabeller!R254","v":14}]
[null,{"$f":"Skyggetabeller!B255","v":"Antal 0-17-årige"},null,{"$f":"Skyggetabeller!D255","v":103578},{"$f":"Skyggetabeller!E255","v":104797},{"$f":"Skyggetabeller!F255","v":105885},{"$f":"Skyggetabeller!G255","v":106913},{"$f":"Skyggetabeller!H255","v":107770},{"$f":"Skyggetabeller!I255","v":108734},{"$f":"Skyggetabeller!J255","v":109335},{"$f":"Skyggetabeller!K255","v":110138},{"$f":"Skyggetabeller!L255","v":110822},{"$f":"Skyggetabeller!M255","v":111068},{"$f":"Skyggetabeller!N255","v":110927},{"$f":"Skyggetabeller!O255","v":110614},{"$f":"Skyggetabeller!P255","v":110513},{"$f":"Skyggetabeller!Q255","v":110692},{"$f":"Skyggetabeller!R255","v":110835}]
[null,{"$f":"Skyggetabeller!B256","v":"Andel"},null,{"$f":"Skyggetabeller!D256","v":3.8618239394466007E-2},{"$f":"Skyggetabeller!E256","v":2.8626773667185131E-2},{"$f":"Skyggetabeller!F256","v":4.7221041696179814E-2},{"$f":"Skyggetabeller!G256","v":2.8060198479137242E-2},{"$f":"Skyggetabeller!H256","v":4.6395100677368475E-2},{"$f":"Skyggetabeller!I256","v":3.6787021538801111E-2},{"$f":"Skyggetabeller!J256","v":2.7438606118809165E-2},{"$f":"Skyggetabeller!K256","v":2.723855526702864E-2},{"$f":"Skyggetabeller!L256","v":4.511739546299471E-2},{"$f":"Skyggetabeller!M256","v":9.9038426909640931E-2},{"$f":"Skyggetabeller!N256","v":0.12620912852596752},{"$f":"Skyggetabeller!O256","v":"*"},{"$f":"Skyggetabeller!P256","v":0.13573063802448582},{"$f":"Skyggetabeller!Q256","v":0.11744299497705345},{"$f":"Skyggetabeller!R256","v":0.12631389001669147}]
[null,{"$f":"Skyggetabeller!B257","v":"Sammenligningsgruppe, gns."}]
[null,{"$f":"Skyggetabeller!B258","v":"Antal modtagere"},null,{"$f":"Skyggetabeller!D258","v":16},{"$f":"Skyggetabeller!E258","v":0},{"$f":"Skyggetabeller!F258","v":0},{"$f":"Skyggetabeller!G258","v":0},{"$f":"Skyggetabeller!H258","v":0},{"$f":"Skyggetabeller!I258","v":16},{"$f":"Skyggetabeller!J258","v":13},{"$f":"Skyggetabeller!K258","v":14},{"$f":"Skyggetabeller!L258","v":16},{"$f":"Skyggetabeller!M258","v":15},{"$f":"Skyggetabeller!N258","v":15},{"$f":"Skyggetabeller!O258","v":14},{"$f":"Skyggetabeller!P258","v":15},{"$f":"Skyggetabeller!Q258","v":11},{"$f":"Skyggetabeller!R258","v":15}]
[null,{"$f":"Skyggetabeller!B259","v":"Antal 0-17-årige"},null,{"$f":"Skyggetabeller!D259","v":62241},{"$f":"Skyggetabeller!E259","v":62670},{"$f":"Skyggetabeller!F259","v":62903},{"$f":"Skyggetabeller!G259","v":63077},{"$f":"Skyggetabeller!H259","v":63245},{"$f":"Skyggetabeller!I259","v":63510},{"$f":"Skyggetabeller!J259","v":63607},{"$f":"Skyggetabeller!K259","v":63704},{"$f":"Skyggetabeller!L259","v":63890},{"$f":"Skyggetabeller!M259","v":64128},{"$f":"Skyggetabeller!N259","v":64334},{"$f":"Skyggetabeller!O259","v":64307},{"$f":"Skyggetabeller!P259","v":64049},{"$f":"Skyggetabeller!Q259","v":64356},{"$f":"Skyggetabeller!R259","v":64420}]
[null,{"$f":"Skyggetabeller!B260","v":"Andel"},null,{"$f":"Skyggetabeller!D260","v":0.25706527851416272},{"$f":"Skyggetabeller!E260","v":0},{"$f":"Skyggetabeller!F260","v":0},{"$f":"Skyggetabeller!G260","v":0},{"$f":"Skyggetabeller!H260","v":0},{"$f":"Skyggetabeller!I260","v":0.25192883010549522},{"$f":"Skyggetabeller!J260","v":0.2043800210668637},{"$f":"Skyggetabeller!K260","v":0.21976641969107122},{"$f":"Skyggetabeller!L260","v":0.25043042729691661},{"$f":"Skyggetabeller!M260","v":0.23390718562874252},{"$f":"Skyggetabeller!N260","v":0.23315820561444958},{"$f":"Skyggetabeller!O260","v":0.21770569300387208},{"$f":"Skyggetabeller!P260","v":0.23419569392184109},{"$f":"Skyggetabeller!Q260","v":0.17092423394866058},{"$f":"Skyggetabeller!R260","v":0.23284694194349581}]
[null,{"$f":"Skyggetabeller!B261","v":"Hele landet"}]
[null,{"$f":"Skyggetabeller!B262","v":"Antal modtagere"},null,{"$f":"Skyggetabeller!D262","v":351},{"$f":"Skyggetabeller!E262","v":343},{"$f":"Skyggetabeller!F262","v":322},{"$f":"Skyggetabeller!G262","v":294},{"$f":"Skyggetabeller!H262","v":289},{"$f":"Skyggetabeller!I262","v":270},{"$f":"Skyggetabeller!J262","v":238},{"$f":"Skyggetabeller!K262","v":209},{"$f":"Skyggetabeller!L262","v":217},{"$f":"Skyggetabeller!M262","v":216},{"$f":"Skyggetabeller!N262","v":232},{"$f":"Skyggetabeller!O262","v":210},{"$f":"Skyggetabeller!P262","v":206},{"$f":"Skyggetabeller!Q262","v":222},{"$f":"Skyggetabeller!R262","v":245}]
[null,{"$f":"Skyggetabeller!B263","v":"Antal 0-17-årige"},null,{"$f":"Skyggetabeller!D263","v":1167426},{"$f":"Skyggetabeller!E263","v":1167002},{"$f":"Skyggetabeller!F263","v":1168201},{"$f":"Skyggetabeller!G263","v":1165363},{"$f":"Skyggetabeller!H263","v":1165475},{"$f":"Skyggetabeller!I263","v":1162195},{"$f":"Skyggetabeller!J263","v":1160360},{"$f":"Skyggetabeller!K263","v":1156537},{"$f":"Skyggetabeller!L263","v":1156116},{"$f":"Skyggetabeller!M263","v":1153027},{"$f":"Skyggetabeller!N263","v":1152972},{"$f":"Skyggetabeller!O263","v":1151374},{"$f":"Skyggetabeller!P263","v":1151704},{"$f":"Skyggetabeller!Q263","v":1157254},{"$f":"Skyggetabeller!R263","v":1155814}]
[null,{"$f":"Skyggetabeller!B264","v":"Andel"},null,{"$f":"Skyggetabeller!D264","v":0.30066145520144316},{"$f":"Skyggetabeller!E264","v":0.29391552028188467},{"$f":"Skyggetabeller!F264","v":0.27563749731424642},{"$f":"Skyggetabeller!G264","v":0.25228190701094855},{"$f":"Skyggetabeller!H264","v":0.24796756687187629},{"$f":"Skyggetabeller!I264","v":0.23231901703242572},{"$f":"Skyggetabeller!J264","v":0.20510875935054637},{"$f":"Skyggetabeller!K264","v":0.18071190113243243},{"$f":"Skyggetabeller!L264","v":0.18769742828574296},{"$f":"Skyggetabeller!M264","v":0.18733299393682887},{"$f":"Skyggetabeller!N264","v":0.20121911026460312},{"$f":"Skyggetabeller!O264","v":0.18239077832224804},{"$f":"Skyggetabeller!P264","v":0.17886540291602704},{"$f":"Skyggetabeller!Q264","v":0.19183342636966474},{"$f":"Skyggetabeller!R264","v":0.21197182245586227}]
[null,"Anm.: Hvis nøgletallet er angivet med * er der foretaget en diskretionering af data, da der er for få observationer. "]
[null,{"$f":"IF('Dine valg'!$G$24=\"\",\"Ingen sammenligningsgruppe valgt.\",\"Anm.: Valgte kommuner i sammenligningsgruppen: \"&'Dine valg'!$G$24&\" \"&'Dine valg'!$G$25&\" \"&'Dine valg'!$G$26&\" \"&'Dine valg'!$G$27&\" \"&'Dine valg'!$G$28&\" \"&'Dine valg'!$G$29&\" \"&'Dine valg'!$G$30)","v":"Anm.: Valgte kommuner i sammenligningsgruppen: Aarhus      "}]
[null,"Kilde: Socialstyrelsens egne beregninger baseret på registerdata fra Danmarks Statistik."]
[]
[null,{"$f":"Skyggetabeller!B289","v":"Nøgletal 7: Fra institutionsanbringelse og ned ad trappen"}]
[]
[null,{"$f":"Skyggetabeller!B292","v":"Nøgletal 7: \nBørn og unge, der ved forrige opgørelse var institutionsanbragt eller anbragt på socialpædagogisk opholdssted, og som nu ikke er anbragt eller anbragt i anden form"},null,"2016-01-01","2016-07-01","2017-01-01","2017-07-01","2018-01-01","2018-07-01","2019-01-01","2019-07-01","2020-01-01","2020-07-01","2021-01-01","2021-07-01","2022-01-01","2022-07-01","2023-01-01"]
[null,{"$f":"Skyggetabeller!B293","v":"København"}]
[null,{"$f":"Skyggetabeller!B294","v":"Antal, der har bevæget sig"},null,{"$f":"Skyggetabeller!D294","v":65},{"$f":"Skyggetabeller!E294","v":47},{"$f":"Skyggetabeller!F294","v":46},{"$f":"Skyggetabeller!G294","v":50},{"$f":"Skyggetabeller!H294","v":60},{"$f":"Skyggetabeller!I294","v":51},{"$f":"Skyggetabeller!J294","v":48},{"$f":"Skyggetabeller!K294","v":50},{"$f":"Skyggetabeller!L294","v":72},{"$f":"Skyggetabeller!M294","v":31},{"$f":"Skyggetabeller!N294","v":38},{"$f":"Skyggetabeller!O294","v":43},{"$f":"Skyggetabeller!P294","v":56},{"$f":"Skyggetabeller!Q294","v":53},{"$f":"Skyggetabeller!R294","v":48}]
[null,{"$f":"Skyggetabeller!B295","v":"Antal tidligere institutionsanbragte"},null,{"$f":"Skyggetabeller!D295","v":251},{"$f":"Skyggetabeller!E295","v":230},{"$f":"Skyggetabeller!F295","v":233},{"$f":"Skyggetabeller!G295","v":224},{"$f":"Skyggetabeller!H295","v":226},{"$f":"Skyggetabeller!I295","v":214},{"$f":"Skyggetabeller!J295","v":217},{"$f":"Skyggetabeller!K295","v":204},{"$f":"Skyggetabeller!L295","v":193},{"$f":"Skyggetabeller!M295","v":160},{"$f":"Skyggetabeller!N295","v":180},{"$f":"Skyggetabeller!O295","v":201},{"$f":"Skyggetabeller!P295","v":219},{"$f":"Skyggetabeller!Q295","v":217},{"$f":"Skyggetabeller!R295","v":243}]
[null,{"$f":"Skyggetabeller!B296","v":"Andel"},null,{"$f":"Skyggetabeller!D296","v":0.25896414342629481},{"$f":"Skyggetabeller!E296","v":0.20434782608695654},{"$f":"Skyggetabeller!F296","v":0.19742489270386265},{"$f":"Skyggetabeller!G296","v":0.22321428571428573},{"$f":"Skyggetabeller!H296","v":0.26548672566371684},{"$f":"Skyggetabeller!I296","v":0.23831775700934579},{"$f":"Skyggetabeller!J296","v":0.22119815668202766},{"$f":"Skyggetabeller!K296","v":0.24509803921568626},{"$f":"Skyggetabeller!L296","v":0.37305699481865284},{"$f":"Skyggetabeller!M296","v":0.19375000000000001},{"$f":"Skyggetabeller!N296","v":0.21111111111111111},{"$f":"Skyggetabeller!O296","v":0.21393034825870647},{"$f":"Skyggetabeller!P296","v":0.25570776255707761},{"$f":"Skyggetabeller!Q296","v":0.24423963133640553},{"$f":"Skyggetabeller!R296","v":0.19753086419753085}]
[null,{"$f":"Skyggetabeller!B297","v":"Sammenligningsgruppe, gns."}]
[null,{"$f":"Skyggetabeller!B298","v":"Antal, der har bevæget sig"},null,{"$f":"Skyggetabeller!D298","v":30},{"$f":"Skyggetabeller!E298","v":31},{"$f":"Skyggetabeller!F298","v":36},{"$f":"Skyggetabeller!G298","v":35},{"$f":"Skyggetabeller!H298","v":35},{"$f":"Skyggetabeller!I298","v":37},{"$f":"Skyggetabeller!J298","v":28},{"$f":"Skyggetabeller!K298","v":25},{"$f":"Skyggetabeller!L298","v":31},{"$f":"Skyggetabeller!M298","v":46},{"$f":"Skyggetabeller!N298","v":28},{"$f":"Skyggetabeller!O298","v":31},{"$f":"Skyggetabeller!P298","v":39},{"$f":"Skyggetabeller!Q298","v":22},{"$f":"Skyggetabeller!R298","v":32}]
[null,{"$f":"Skyggetabeller!B299","v":"Antal tidligere institutionsanbragte"},null,{"$f":"Skyggetabeller!D299","v":190},{"$f":"Skyggetabeller!E299","v":189},{"$f":"Skyggetabeller!F299","v":203},{"$f":"Skyggetabeller!G299","v":191},{"$f":"Skyggetabeller!H299","v":190},{"$f":"Skyggetabeller!I299","v":180},{"$f":"Skyggetabeller!J299","v":168},{"$f":"Skyggetabeller!K299","v":174},{"$f":"Skyggetabeller!L299","v":178},{"$f":"Skyggetabeller!M299","v":171},{"$f":"Skyggetabeller!N299","v":173},{"$f":"Skyggetabeller!O299","v":175},{"$f":"Skyggetabeller!P299","v":175},{"$f":"Skyggetabeller!Q299","v":161},{"$f":"Skyggetabeller!R299","v":174}]
[null,{"$f":"Skyggetabeller!B300","v":"Andel"},null,{"$f":"Skyggetabeller!D300","v":0.15789473684210525},{"$f":"Skyggetabeller!E300","v":0.16402116402116401},{"$f":"Skyggetabeller!F300","v":0.17733990147783252},{"$f":"Skyggetabeller!G300","v":0.18324607329842932},{"$f":"Skyggetabeller!H300","v":0.18421052631578946},{"$f":"Skyggetabeller!I300","v":0.20555555555555555},{"$f":"Skyggetabeller!J300","v":0.16666666666666666},{"$f":"Skyggetabeller!K300","v":0.14367816091954022},{"$f":"Skyggetabeller!L300","v":0.17415730337078653},{"$f":"Skyggetabeller!M300","v":0.26900584795321636},{"$f":"Skyggetabeller!N300","v":0.16184971098265896},{"$f":"Skyggetabeller!O300","v":0.17714285714285713},{"$f":"Skyggetabeller!P300","v":0.22285714285714286},{"$f":"Skyggetabeller!Q300","v":0.13664596273291926},{"$f":"Skyggetabeller!R300","v":0.18390804597701149}]
[null,{"$f":"Skyggetabeller!B301","v":"Hele landet"}]
[null,{"$f":"Skyggetabeller!B302","v":"Antal, der har bevæget sig"},null,{"$f":"Skyggetabeller!D302","v":626},{"$f":"Skyggetabeller!E302","v":673},{"$f":"Skyggetabeller!F302","v":634},{"$f":"Skyggetabeller!G302","v":653},{"$f":"Skyggetabeller!H302","v":697},{"$f":"Skyggetabeller!I302","v":645},{"$f":"Skyggetabeller!J302","v":675},{"$f":"Skyggetabeller!K302","v":602},{"$f":"Skyggetabeller!L302","v":652},{"$f":"Skyggetabeller!M302","v":557},{"$f":"Skyggetabeller!N302","v":594},{"$f":"Skyggetabeller!O302","v":584},{"$f":"Skyggetabeller!P302","v":646},{"$f":"Skyggetabeller!Q302","v":562},{"$f":"Skyggetabeller!R302","v":637}]
[null,{"$f":"Skyggetabeller!B303","v":"Antal tidligere institutionsanbragte"},null,{"$f":"Skyggetabeller!D303","v":3525},{"$f":"Skyggetabeller!E303","v":3438},{"$f":"Skyggetabeller!F303","v":3434},{"$f":"Skyggetabeller!G303","v":3381},{"$f":"Skyggetabeller!H303","v":3463},{"$f":"Skyggetabeller!I303","v":3375},{"$f":"Skyggetabeller!J303","v":3401},{"$f":"Skyggetabeller!K303","v":3298},{"$f":"Skyggetabeller!L303","v":3276},{"$f":"Skyggetabeller!M303","v":3268},{"$f":"Skyggetabeller!N303","v":3331},{"$f":"Skyggetabeller!O303","v":3391},{"$f":"Skyggetabeller!P303","v":3479},{"$f":"Skyggetabeller!Q303","v":3460},{"$f":"Skyggetabeller!R303","v":3624}]
[null,{"$f":"Skyggetabeller!B304","v":"Andel"},null,{"$f":"Skyggetabeller!D304","v":0.17758865248226952},{"$f":"Skyggetabeller!E304","v":0.19575334496800464},{"$f":"Skyggetabeller!F304","v":0.18462434478741993},{"$f":"Skyggetabeller!G304","v":0.19313812481514345},{"$f":"Skyggetabeller!H304","v":0.20127057464626047},{"$f":"Skyggetabeller!I304","v":0.19111111111111112},{"$f":"Skyggetabeller!J304","v":0.19847103793002058},{"$f":"Skyggetabeller!K304","v":0.18253486961795026},{"$f":"Skyggetabeller!L304","v":0.19902319902319901},{"$f":"Skyggetabeller!M304","v":0.1704406364749082},{"$f":"Skyggetabeller!N304","v":0.17832482737916541},{"$f":"Skyggetabeller!O304","v":0.17222058389855499},{"$f":"Skyggetabeller!P304","v":0.18568554182236274},{"$f":"Skyggetabeller!Q304","v":0.16242774566473989},{"$f":"Skyggetabeller!R304","v":0.17577262693156734}]
[null,"Anm.: Hvis nøgletallet er angivet med * er der foretaget en diskretionering af data, da der er for få observationer. "]
[null,{"$f":"IF('Dine valg'!$G$24=\"\",\"Ingen sammenligningsgruppe valgt.\",\"Anm.: Valgte kommuner i sammenligningsgruppen: \"&'Dine valg'!$G$24&\" \"&'Dine valg'!$G$25&\" \"&'Dine valg'!$G$26&\" \"&'Dine valg'!$G$27&\" \"&'Dine valg'!$G$28&\" \"&'Dine valg'!$G$29&\" \"&'Dine valg'!$G$30)","v":"Anm.: Valgte kommuner i sammenligningsgruppen: Aarhus      "}]
[null,"Kilde: Socialstyrelsens egne beregninger baseret på registerdata fra Danmarks Statistik."]
[]
[]
[null,"Undernøgletal - Tidligere institutionsanbragte"]
[]
[null,{"$f":"Skyggetabeller!B307","v":"Nøgletal 7.1: \nTidligere institutionsanbragte, som nu er anbragt i anden form"},null,"2016-01-01","2016-07-01","2017-01-01","2017-07-01","2018-01-01","2018-07-01","2019-01-01","2019-07-01","2020-01-01","2020-07-01","2021-01-01","2021-07-01","2022-01-01","2022-07-01","2023-01-01"]
[null,{"$f":"Skyggetabeller!B308","v":"København"}]
[null,{"$f":"Skyggetabeller!B309","v":"Antal, der har bevæget sig"},null,{"$f":"Skyggetabeller!D309","v":11},{"$f":"Skyggetabeller!E309","v":5},{"$f":"Skyggetabeller!F309","v":9},{"$f":"Skyggetabeller!G309","v":4},{"$f":"Skyggetabeller!H309","v":10},{"$f":"Skyggetabeller!I309","v":6},{"$f":"Skyggetabeller!J309","v":9},{"$f":"Skyggetabeller!K309","v":4},{"$f":"Skyggetabeller!L309","v":7},{"$f":"Skyggetabeller!M309","v":3},{"$f":"Skyggetabeller!N309","v":7},{"$f":"Skyggetabeller!O309","v":5},{"$f":"Skyggetabeller!P309","v":9},{"$f":"Skyggetabeller!Q309","v":0},{"$f":"Skyggetabeller!R309","v":6}]
[null,{"$f":"Skyggetabeller!B310","v":"Antal tidligere institutionsanbragte"},null,{"$f":"Skyggetabeller!D310","v":251},{"$f":"Skyggetabeller!E310","v":230},{"$f":"Skyggetabeller!F310","v":233},{"$f":"Skyggetabeller!G310","v":224},{"$f":"Skyggetabeller!H310","v":226},{"$f":"Skyggetabeller!I310","v":214},{"$f":"Skyggetabeller!J310","v":217},{"$f":"Skyggetabeller!K310","v":204},{"$f":"Skyggetabeller!L310","v":193},{"$f":"Skyggetabeller!M310","v":160},{"$f":"Skyggetabeller!N310","v":180},{"$f":"Skyggetabeller!O310","v":201},{"$f":"Skyggetabeller!P310","v":219},{"$f":"Skyggetabeller!Q310","v":217},{"$f":"Skyggetabeller!R310","v":243}]
[null,{"$f":"Skyggetabeller!B311","v":"Andel"},null,{"$f":"Skyggetabeller!D311","v":4.3824701195219126E-2},{"$f":"Skyggetabeller!E311","v":2.1739130434782608E-2},{"$f":"Skyggetabeller!F311","v":3.8626609442060089E-2},{"$f":"Skyggetabeller!G311","v":1.7857142857142856E-2},{"$f":"Skyggetabeller!H311","v":4.4247787610619468E-2},{"$f":"Skyggetabeller!I311","v":2.8037383177570093E-2},{"$f":"Skyggetabeller!J311","v":4.1474654377880185E-2},{"$f":"Skyggetabeller!K311","v":1.9607843137254902E-2},{"$f":"Skyggetabeller!L311","v":3.6269430051813469E-2},{"$f":"Skyggetabeller!M311","v":1.8749999999999999E-2},{"$f":"Skyggetabeller!N311","v":3.888888888888889E-2},{"$f":"Skyggetabeller!O311","v":2.4875621890547265E-2},{"$f":"Skyggetabeller!P311","v":4.1095890410958902E-2},{"$f":"Skyggetabeller!Q311","v":0},{"$f":"Skyggetabeller!R311","v":2.4691358024691357E-2}]
[null,{"$f":"Skyggetabeller!B312","v":"Sammenligningsgruppe, gns."}]
[null,{"$f":"Skyggetabeller!B313","v":"Antal, der har bevæget sig"},null,{"$f":"Skyggetabeller!D313","v":4},{"$f":"Skyggetabeller!E313","v":3},{"$f":"Skyggetabeller!F313","v":6},{"$f":"Skyggetabeller!G313","v":0},{"$f":"Skyggetabeller!H313","v":5},{"$f":"Skyggetabeller!I313","v":0},{"$f":"Skyggetabeller!J313","v":0},{"$f":"Skyggetabeller!K313","v":0},{"$f":"Skyggetabeller!L313","v":0},{"$f":"Skyggetabeller!M313","v":4},{"$f":"Skyggetabeller!N313","v":0},{"$f":"Skyggetabeller!O313","v":3},{"$f":"Skyggetabeller!P313","v":0},{"$f":"Skyggetabeller!Q313","v":4},{"$f":"Skyggetabeller!R313","v":0}]
[null,{"$f":"Skyggetabeller!B314","v":"Antal tidligere institutionsanbragte"},null,{"$f":"Skyggetabeller!D314","v":190},{"$f":"Skyggetabeller!E314","v":189},{"$f":"Skyggetabeller!F314","v":203},{"$f":"Skyggetabeller!G314","v":191},{"$f":"Skyggetabeller!H314","v":190},{"$f":"Skyggetabeller!I314","v":180},{"$f":"Skyggetabeller!J314","v":168},{"$f":"Skyggetabeller!K314","v":174},{"$f":"Skyggetabeller!L314","v":178},{"$f":"Skyggetabeller!M314","v":171},{"$f":"Skyggetabeller!N314","v":173},{"$f":"Skyggetabeller!O314","v":175},{"$f":"Skyggetabeller!P314","v":175},{"$f":"Skyggetabeller!Q314","v":161},{"$f":"Skyggetabeller!R314","v":174}]
[null,{"$f":"Skyggetabeller!B315","v":"Andel"},null,{"$f":"Skyggetabeller!D315","v":2.1052631578947368E-2},{"$f":"Skyggetabeller!E315","v":1.5873015873015872E-2},{"$f":"Skyggetabeller!F315","v":2.9556650246305417E-2},{"$f":"Skyggetabeller!G315","v":0},{"$f":"Skyggetabeller!H315","v":2.6315789473684209E-2},{"$f":"Skyggetabeller!I315","v":0},{"$f":"Skyggetabeller!J315","v":0},{"$f":"Skyggetabeller!K315","v":0},{"$f":"Skyggetabeller!L315","v":0},{"$f":"Skyggetabeller!M315","v":2.3391812865497075E-2},{"$f":"Skyggetabeller!N315","v":0},{"$f":"Skyggetabeller!O315","v":1.7142857142857144E-2},{"$f":"Skyggetabeller!P315","v":0},{"$f":"Skyggetabeller!Q315","v":2.4844720496894408E-2},{"$f":"Skyggetabeller!R315","v":0}]
[null,{"$f":"Skyggetabeller!B316","v":"Hele landet"}]
[null,{"$f":"Skyggetabeller!B317","v":"Antal, der har bevæget sig"},null,{"$f":"Skyggetabeller!D317","v":63},{"$f":"Skyggetabeller!E317","v":75},{"$f":"Skyggetabeller!F317","v":76},{"$f":"Skyggetabeller!G317","v":72},{"$f":"Skyggetabeller!H317","v":80},{"$f":"Skyggetabeller!I317","v":59},{"$f":"Skyggetabeller!J317","v":77},{"$f":"Skyggetabeller!K317","v":60},{"$f":"Skyggetabeller!L317","v":74},{"$f":"Skyggetabeller!M317","v":50},{"$f":"Skyggetabeller!N317","v":68},{"$f":"Skyggetabeller!O317","v":59},{"$f":"Skyggetabeller!P317","v":44},{"$f":"Skyggetabeller!Q317","v":42},{"$f":"Skyggetabeller!R317","v":52}]
[null,{"$f":"Skyggetabeller!B318","v":"Antal tidligere institutionsanbragte"},null,{"$f":"Skyggetabeller!D318","v":3525},{"$f":"Skyggetabeller!E318","v":3438},{"$f":"Skyggetabeller!F318","v":3434},{"$f":"Skyggetabeller!G318","v":3381},{"$f":"Skyggetabeller!H318","v":3463},{"$f":"Skyggetabeller!I318","v":3375},{"$f":"Skyggetabeller!J318","v":3401},{"$f":"Skyggetabeller!K318","v":3298},{"$f":"Skyggetabeller!L318","v":3276},{"$f":"Skyggetabeller!M318","v":3268},{"$f":"Skyggetabeller!N318","v":3331},{"$f":"Skyggetabeller!O318","v":3391},{"$f":"Skyggetabeller!P318","v":3479},{"$f":"Skyggetabeller!Q318","v":3460},{"$f":"Skyggetabeller!R318","v":3624}]
[null,{"$f":"Skyggetabeller!B319","v":"Andel"},null,{"$f":"Skyggetabeller!D319","v":1.7872340425531916E-2},{"$f":"Skyggetabeller!E319","v":2.181500872600349E-2},{"$f":"Skyggetabeller!F319","v":2.2131624927198602E-2},{"$f":"Skyggetabeller!G319","v":2.1295474711623779E-2},{"$f":"Skyggetabeller!H319","v":2.310135720473578E-2},{"$f":"Skyggetabeller!I319","v":1.748148148148148E-2},{"$f":"Skyggetabeller!J319","v":2.2640399882387533E-2},{"$f":"Skyggetabeller!K319","v":1.8192844147968467E-2},{"$f":"Skyggetabeller!L319","v":2.2588522588522588E-2},{"$f":"Skyggetabeller!M319","v":1.5299877600979192E-2},{"$f":"Skyggetabeller!N319","v":2.04142900030021E-2},{"$f":"Skyggetabeller!O319","v":1.739899734591566E-2},{"$f":"Skyggetabeller!P319","v":1.2647312446105202E-2},{"$f":"Skyggetabeller!Q319","v":1.2138728323699421E-2},{"$f":"Skyggetabeller!R319","v":1.434878587196468E-2}]
[null,"Anm.: Hvis nøgletallet er angivet med * er der foretaget en diskretionering af data, da der er for få observationer. "]
[null,{"$f":"IF('Dine valg'!$G$24=\"\",\"Ingen sammenligningsgruppe valgt.\",\"Anm.: Valgte kommuner i sammenligningsgruppen: \"&'Dine valg'!$G$24&\" \"&'Dine valg'!$G$25&\" \"&'Dine valg'!$G$26&\" \"&'Dine valg'!$G$27&\" \"&'Dine valg'!$G$28&\" \"&'Dine valg'!$G$29&\" \"&'Dine valg'!$G$30)","v":"Anm.: Valgte kommuner i sammenligningsgruppen: Aarhus      "}]
[null,"Kilde: Socialstyrelsens egne beregninger baseret på registerdata fra Danmarks Statistik."]
[]
[]
[null,{"$f":"Skyggetabeller!B322","v":"Nøgletal 7.2: \nTidligere institutionsanbragte, som nu ikke er anbragt "},null,"2016-01-01","2016-07-01","2017-01-01","2017-07-01","2018-01-01","2018-07-01","2019-01-01","2019-07-01","2020-01-01","2020-07-01","2021-01-01","2021-07-01","2022-01-01","2022-07-01","2023-01-01"]
[null,{"$f":"Skyggetabeller!B323","v":"København"}]
[null,{"$f":"Skyggetabeller!B324","v":"Antal, der har bevæget sig"},null,{"$f":"Skyggetabeller!D324","v":54},{"$f":"Skyggetabeller!E324","v":42},{"$f":"Skyggetabeller!F324","v":37},{"$f":"Skyggetabeller!G324","v":46},{"$f":"Skyggetabeller!H324","v":50},{"$f":"Skyggetabeller!I324","v":45},{"$f":"Skyggetabeller!J324","v":39},{"$f":"Skyggetabeller!K324","v":46},{"$f":"Skyggetabeller!L324","v":65},{"$f":"Skyggetabeller!M324","v":28},{"$f":"Skyggetabeller!N324","v":31},{"$f":"Skyggetabeller!O324","v":38},{"$f":"Skyggetabeller!P324","v":47},{"$f":"Skyggetabeller!Q324","v":0},{"$f":"Skyggetabeller!R324","v":42}]
[null,{"$f":"Skyggetabeller!B325","v":"Antal tidligere institutionsanbragte"},null,{"$f":"Skyggetabeller!D325","v":251},{"$f":"Skyggetabeller!E325","v":230},{"$f":"Skyggetabeller!F325","v":233},{"$f":"Skyggetabeller!G325","v":224},{"$f":"Skyggetabeller!H325","v":226},{"$f":"Skyggetabeller!I325","v":214},{"$f":"Skyggetabeller!J325","v":217},{"$f":"Skyggetabeller!K325","v":204},{"$f":"Skyggetabeller!L325","v":193},{"$f":"Skyggetabeller!M325","v":160},{"$f":"Skyggetabeller!N325","v":180},{"$f":"Skyggetabeller!O325","v":201},{"$f":"Skyggetabeller!P325","v":219},{"$f":"Skyggetabeller!Q325","v":217},{"$f":"Skyggetabeller!R325","v":243}]
[null,{"$f":"Skyggetabeller!B326","v":"Andel"},null,{"$f":"Skyggetabeller!D326","v":0.2151394422310757},{"$f":"Skyggetabeller!E326","v":0.18260869565217391},{"$f":"Skyggetabeller!F326","v":0.15879828326180256},{"$f":"Skyggetabeller!G326","v":0.20535714285714285},{"$f":"Skyggetabeller!H326","v":0.22123893805309736},{"$f":"Skyggetabeller!I326","v":0.2102803738317757},{"$f":"Skyggetabeller!J326","v":0.17972350230414746},{"$f":"Skyggetabeller!K326","v":0.22549019607843138},{"$f":"Skyggetabeller!L326","v":0.33678756476683935},{"$f":"Skyggetabeller!M326","v":0.17499999999999999},{"$f":"Skyggetabeller!N326","v":0.17222222222222222},{"$f":"Skyggetabeller!O326","v":0.1890547263681592},{"$f":"Skyggetabeller!P326","v":0.21461187214611871},{"$f":"Skyggetabeller!Q326","v":0},{"$f":"Skyggetabeller!R326","v":0.1728395061728395}]
[null,{"$f":"Skyggetabeller!B327","v":"Sammenligningsgruppe, gns."}]
[null,{"$f":"Skyggetabeller!B328","v":"Antal, der har bevæget sig"},null,{"$f":"Skyggetabeller!D328","v":26},{"$f":"Skyggetabeller!E328","v":28},{"$f":"Skyggetabeller!F328","v":30},{"$f":"Skyggetabeller!G328","v":35},{"$f":"Skyggetabeller!H328","v":30},{"$f":"Skyggetabeller!I328","v":0},{"$f":"Skyggetabeller!J328","v":0},{"$f":"Skyggetabeller!K328","v":25},{"$f":"Skyggetabeller!L328","v":31},{"$f":"Skyggetabeller!M328","v":42},{"$f":"Skyggetabeller!N328","v":28},{"$f":"Skyggetabeller!O328","v":28},{"$f":"Skyggetabeller!P328","v":0},{"$f":"Skyggetabeller!Q328","v":18},{"$f":"Skyggetabeller!R328","v":32}]
[null,{"$f":"Skyggetabeller!B329","v":"Antal tidligere institutionsanbragte"},null,{"$f":"Skyggetabeller!D329","v":190},{"$f":"Skyggetabeller!E329","v":189},{"$f":"Skyggetabeller!F329","v":203},{"$f":"Skyggetabeller!G329","v":191},{"$f":"Skyggetabeller!H329","v":190},{"$f":"Skyggetabeller!I329","v":180},{"$f":"Skyggetabeller!J329","v":168},{"$f":"Skyggetabeller!K329","v":174},{"$f":"Skyggetabeller!L329","v":178},{"$f":"Skyggetabeller!M329","v":171},{"$f":"Skyggetabeller!N329","v":173},{"$f":"Skyggetabeller!O329","v":175},{"$f":"Skyggetabeller!P329","v":175},{"$f":"Skyggetabeller!Q329","v":161},{"$f":"Skyggetabeller!R329","v":174}]
[null,{"$f":"Skyggetabeller!B330","v":"Andel"},null,{"$f":"Skyggetabeller!D330","v":0.1368421052631579},{"$f":"Skyggetabeller!E330","v":0.14814814814814814},{"$f":"Skyggetabeller!F330","v":0.14778325123152711},{"$f":"Skyggetabeller!G330","v":0.18324607329842932},{"$f":"Skyggetabeller!H330","v":0.15789473684210525},{"$f":"Skyggetabeller!I330","v":0},{"$f":"Skyggetabeller!J330","v":0},{"$f":"Skyggetabeller!K330","v":0.14367816091954022},{"$f":"Skyggetabeller!L330","v":0.17415730337078653},{"$f":"Skyggetabeller!M330","v":0.24561403508771928},{"$f":"Skyggetabeller!N330","v":0.16184971098265896},{"$f":"Skyggetabeller!O330","v":0.16},{"$f":"Skyggetabeller!P330","v":0},{"$f":"Skyggetabeller!Q330","v":0.11180124223602485},{"$f":"Skyggetabeller!R330","v":0.18390804597701149}]
[null,{"$f":"Skyggetabeller!B331","v":"Hele landet"}]
[null,{"$f":"Skyggetabeller!B332","v":"Antal, der har bevæget sig"},null,{"$f":"Skyggetabeller!D332","v":563},{"$f":"Skyggetabeller!E332","v":598},{"$f":"Skyggetabeller!F332","v":558},{"$f":"Skyggetabeller!G332","v":581},{"$f":"Skyggetabeller!H332","v":617},{"$f":"Skyggetabeller!I332","v":586},{"$f":"Skyggetabeller!J332","v":598},{"$f":"Skyggetabeller!K332","v":542},{"$f":"Skyggetabeller!L332","v":578},{"$f":"Skyggetabeller!M332","v":507},{"$f":"Skyggetabeller!N332","v":526},{"$f":"Skyggetabeller!O332","v":525},{"$f":"Skyggetabeller!P332","v":602},{"$f":"Skyggetabeller!Q332","v":520},{"$f":"Skyggetabeller!R332","v":585}]
[null,{"$f":"Skyggetabeller!B333","v":"Antal tidligere institutionsanbragte"},null,{"$f":"Skyggetabeller!D333","v":3525},{"$f":"Skyggetabeller!E333","v":3438},{"$f":"Skyggetabeller!F333","v":3434},{"$f":"Skyggetabeller!G333","v":3381},{"$f":"Skyggetabeller!H333","v":3463},{"$f":"Skyggetabeller!I333","v":3375},{"$f":"Skyggetabeller!J333","v":3401},{"$f":"Skyggetabeller!K333","v":3298},{"$f":"Skyggetabeller!L333","v":3276},{"$f":"Skyggetabeller!M333","v":3268},{"$f":"Skyggetabeller!N333","v":3331},{"$f":"Skyggetabeller!O333","v":3391},{"$f":"Skyggetabeller!P333","v":3479},{"$f":"Skyggetabeller!Q333","v":3460},{"$f":"Skyggetabeller!R333","v":3624}]
[null,{"$f":"Skyggetabeller!B334","v":"Andel"},null,{"$f":"Skyggetabeller!D334","v":0.15971631205673759},{"$f":"Skyggetabeller!E334","v":0.17393833624200117},{"$f":"Skyggetabeller!F334","v":0.16249271986022132},{"$f":"Skyggetabeller!G334","v":0.17184265010351968},{"$f":"Skyggetabeller!H334","v":0.1781692174415247},{"$f":"Skyggetabeller!I334","v":0.17362962962962963},{"$f":"Skyggetabeller!J334","v":0.17583063804763305},{"$f":"Skyggetabeller!K334","v":0.16434202546998181},{"$f":"Skyggetabeller!L334","v":0.17643467643467645},{"$f":"Skyggetabeller!M334","v":0.155140758873929},{"$f":"Skyggetabeller!N334","v":0.15791053737616331},{"$f":"Skyggetabeller!O334","v":0.15482158655263933},{"$f":"Skyggetabeller!P334","v":0.17303822937625754},{"$f":"Skyggetabeller!Q334","v":0.15028901734104047},{"$f":"Skyggetabeller!R334","v":0.16142384105960264}]
[null,"Anm.: Hvis nøgletallet er angivet med * er der foretaget en diskretionering af data, da der er for få observationer. "]
[null,{"$f":"IF('Dine valg'!$G$24=\"\",\"Ingen sammenligningsgruppe valgt.\",\"Anm.: Valgte kommuner i sammenligningsgruppen: \"&'Dine valg'!$G$24&\" \"&'Dine valg'!$G$25&\" \"&'Dine valg'!$G$26&\" \"&'Dine valg'!$G$27&\" \"&'Dine valg'!$G$28&\" \"&'Dine valg'!$G$29&\" \"&'Dine valg'!$G$30)","v":"Anm.: Valgte kommuner i sammenligningsgruppen: Aarhus      "}]
[null,"Kilde: Socialstyrelsens egne beregninger baseret på registerdata fra Danmarks Statistik."]
[]
[]
[null,{"$f":"Skyggetabeller!B337","v":"Nøgletal 8: Fra hjemmebaseret foranstaltning og op ad trappen"}]
[]
[null,{"$f":"Skyggetabeller!B340","v":"Nøgletal 8: \nBørn og unge, der ved sidste opgørelse modtog en hjemmebaseret foranstaltning, og ikke var anbragt, som på opgørelsestidspunktet er anbragt uden for hjemmet"},null,"2016-01-01","2016-07-01","2017-01-01","2017-07-01","2018-01-01","2018-07-01","2019-01-01","2019-07-01","2020-01-01","2020-07-01","2021-01-01","2021-07-01","2022-01-01","2022-07-01","2023-01-01"]
[null,{"$f":"Skyggetabeller!B341","v":"København"}]
[null,{"$f":"Skyggetabeller!B342","v":"Antal, der har bevæget sig"},null,{"$f":"Skyggetabeller!D342","v":0},{"$f":"Skyggetabeller!E342","v":57},{"$f":"Skyggetabeller!F342","v":59},{"$f":"Skyggetabeller!G342","v":59},{"$f":"Skyggetabeller!H342","v":56},{"$f":"Skyggetabeller!I342","v":69},{"$f":"Skyggetabeller!J342","v":59},{"$f":"Skyggetabeller!K342","v":46},{"$f":"Skyggetabeller!L342","v":46},{"$f":"Skyggetabeller!M342","v":49},{"$f":"Skyggetabeller!N342","v":65},{"$f":"Skyggetabeller!O342","v":56},{"$f":"Skyggetabeller!P342","v":0},{"$f":"Skyggetabeller!Q342","v":72},{"$f":"Skyggetabeller!R342","v":64}]
[null,{"$f":"Skyggetabeller!B343","v":"Antal tidligere modtagere"},null,{"$f":"Skyggetabeller!D343","v":0},{"$f":"Skyggetabeller!E343","v":1942},{"$f":"Skyggetabeller!F343","v":2072},{"$f":"Skyggetabeller!G343","v":2113},{"$f":"Skyggetabeller!H343","v":2196},{"$f":"Skyggetabeller!I343","v":2288},{"$f":"Skyggetabeller!J343","v":2355},{"$f":"Skyggetabeller!K343","v":2321},{"$f":"Skyggetabeller!L343","v":2221},{"$f":"Skyggetabeller!M343","v":2130},{"$f":"Skyggetabeller!N343","v":2121},{"$f":"Skyggetabeller!O343","v":2021},{"$f":"Skyggetabeller!P343","v":0},{"$f":"Skyggetabeller!Q343","v":2281},{"$f":"Skyggetabeller!R343","v":2399}]
[null,{"$f":"Skyggetabeller!B344","v":"Andel"},null,{"$f":"Skyggetabeller!D344","v":"#I/T"},{"$f":"Skyggetabeller!E344","v":2.9351184346035016E-2},{"$f":"Skyggetabeller!F344","v":2.8474903474903474E-2},{"$f":"Skyggetabeller!G344","v":2.7922385234264078E-2},{"$f":"Skyggetabeller!H344","v":2.5500910746812388E-2},{"$f":"Skyggetabeller!I344","v":3.0157342657342656E-2},{"$f":"Skyggetabeller!J344","v":2.5053078556263271E-2},{"$f":"Skyggetabeller!K344","v":1.9819043515725981E-2},{"$f":"Skyggetabeller!L344","v":2.0711391265195857E-2},{"$f":"Skyggetabeller!M344","v":2.3004694835680753E-2},{"$f":"Skyggetabeller!N344","v":3.0645921735030647E-2},{"$f":"Skyggetabeller!O344","v":2.7709054923305294E-2},{"$f":"Skyggetabeller!P344","v":"#I/T"},{"$f":"Skyggetabeller!Q344","v":3.1565103024989043E-2},{"$f":"Skyggetabeller!R344","v":2.6677782409337224E-2}]
[null,{"$f":"Skyggetabeller!B345","v":"Sammenligningsgruppe, gns."}]
[null,{"$f":"Skyggetabeller!B346","v":"Antal, der har bevæget sig"},null,{"$f":"Skyggetabeller!D346","v":0},{"$f":"Skyggetabeller!E346","v":52},{"$f":"Skyggetabeller!F346","v":0},{"$f":"Skyggetabeller!G346","v":0},{"$f":"Skyggetabeller!H346","v":0},{"$f":"Skyggetabeller!I346","v":0},{"$f":"Skyggetabeller!J346","v":31},{"$f":"Skyggetabeller!K346","v":24},{"$f":"Skyggetabeller!L346","v":23},{"$f":"Skyggetabeller!M346","v":38},{"$f":"Skyggetabeller!N346","v":22},{"$f":"Skyggetabeller!O346","v":25},{"$f":"Skyggetabeller!P346","v":19},{"$f":"Skyggetabeller!Q346","v":34},{"$f":"Skyggetabeller!R346","v":24}]
[null,{"$f":"Skyggetabeller!B347","v":"Antal tidligere modtagere"},null,{"$f":"Skyggetabeller!D347","v":0},{"$f":"Skyggetabeller!E347","v":1119},{"$f":"Skyggetabeller!F347","v":0},{"$f":"Skyggetabeller!G347","v":0},{"$f":"Skyggetabeller!H347","v":0},{"$f":"Skyggetabeller!I347","v":0},{"$f":"Skyggetabeller!J347","v":1190},{"$f":"Skyggetabeller!K347","v":1293},{"$f":"Skyggetabeller!L347","v":1292},{"$f":"Skyggetabeller!M347","v":1296},{"$f":"Skyggetabeller!N347","v":1266},{"$f":"Skyggetabeller!O347","v":1248},{"$f":"Skyggetabeller!P347","v":1221},{"$f":"Skyggetabeller!Q347","v":1144},{"$f":"Skyggetabeller!R347","v":1108}]
[null,{"$f":"Skyggetabeller!B348","v":"Andel"},null,{"$f":"Skyggetabeller!D348","v":"-"},{"$f":"Skyggetabeller!E348","v":4.6470062555853439E-2},{"$f":"Skyggetabeller!F348","v":"-"},{"$f":"Skyggetabeller!G348","v":"-"},{"$f":"Skyggetabeller!H348","v":"-"},{"$f":"Skyggetabeller!I348","v":"-"},{"$f":"Skyggetabeller!J348","v":2.6050420168067228E-2},{"$f":"Skyggetabeller!K348","v":1.8561484918793503E-2},{"$f":"Skyggetabeller!L348","v":1.780185758513932E-2},{"$f":"Skyggetabeller!M348","v":2.9320987654320986E-2},{"$f":"Skyggetabeller!N348","v":1.7377567140600316E-2},{"$f":"Skyggetabeller!O348","v":2.0032051282051284E-2},{"$f":"Skyggetabeller!P348","v":1.5561015561015561E-2},{"$f":"Skyggetabeller!Q348","v":2.972027972027972E-2},{"$f":"Skyggetabeller!R348","v":2.1660649819494584E-2}]
[null,{"$f":"Skyggetabeller!B349","v":"Hele landet"}]
[null,{"$f":"Skyggetabeller!B350","v":"Antal, der har bevæget sig"},null,{"$f":"Skyggetabeller!D350","v":775},{"$f":"Skyggetabeller!E350","v":819},{"$f":"Skyggetabeller!F350","v":823},{"$f":"Skyggetabeller!G350","v":809},{"$f":"Skyggetabeller!H350","v":767},{"$f":"Skyggetabeller!I350","v":777},{"$f":"Skyggetabeller!J350","v":717},{"$f":"Skyggetabeller!K350","v":680},{"$f":"Skyggetabeller!L350","v":728},{"$f":"Skyggetabeller!M350","v":756},{"$f":"Skyggetabeller!N350","v":760},{"$f":"Skyggetabeller!O350","v":785},{"$f":"Skyggetabeller!P350","v":729},{"$f":"Skyggetabeller!Q350","v":800},{"$f":"Skyggetabeller!R350","v":737}]
[null,{"$f":"Skyggetabeller!B351","v":"Antal tidligere modtagere"},null,{"$f":"Skyggetabeller!D351","v":23201},{"$f":"Skyggetabeller!E351","v":23373},{"$f":"Skyggetabeller!F351","v":23437},{"$f":"Skyggetabeller!G351","v":23510},{"$f":"Skyggetabeller!H351","v":23564},{"$f":"Skyggetabeller!I351","v":23890},{"$f":"Skyggetabeller!J351","v":23501},{"$f":"Skyggetabeller!K351","v":24022},{"$f":"Skyggetabeller!L351","v":23863},{"$f":"Skyggetabeller!M351","v":24712},{"$f":"Skyggetabeller!N351","v":24805},{"$f":"Skyggetabeller!O351","v":25258},{"$f":"Skyggetabeller!P351","v":26198},{"$f":"Skyggetabeller!Q351","v":26475},{"$f":"Skyggetabeller!R351","v":26601}]
[null,{"$f":"Skyggetabeller!B352","v":"Andel"},null,{"$f":"Skyggetabeller!D352","v":3.3403732597732855E-2},{"$f":"Skyggetabeller!E352","v":3.5040431266846361E-2},{"$f":"Skyggetabeller!F352","v":3.5115415795536974E-2},{"$f":"Skyggetabeller!G352","v":3.4410888983411311E-2},{"$f":"Skyggetabeller!H352","v":3.2549652011543029E-2},{"$f":"Skyggetabeller!I352","v":3.2524068647969862E-2},{"$f":"Skyggetabeller!J352","v":3.0509340028083913E-2},{"$f":"Skyggetabeller!K352","v":2.8307384897177587E-2},{"$f":"Skyggetabeller!L352","v":3.0507480199471988E-2},{"$f":"Skyggetabeller!M352","v":3.0592424732923278E-2},{"$f":"Skyggetabeller!N352","v":3.063898407579117E-2},{"$f":"Skyggetabeller!O352","v":3.1079262015994931E-2},{"$f":"Skyggetabeller!P352","v":2.7826551645163754E-2},{"$f":"Skyggetabeller!Q352","v":3.0217186024551465E-2},{"$f":"Skyggetabeller!R352","v":2.7705725348671103E-2}]
[null,"Anm.: Hvis nøgletallet er angivet med * er der foretaget en diskretionering af data, da der er for få observationer. "]
[null,{"$f":"IF('Dine valg'!$G$24=\"\",\"Ingen sammenligningsgruppe valgt.\",\"Anm.: Valgte kommuner i sammenligningsgruppen: \"&'Dine valg'!$G$24&\" \"&'Dine valg'!$G$25&\" \"&'Dine valg'!$G$26&\" \"&'Dine valg'!$G$27&\" \"&'Dine valg'!$G$28&\" \"&'Dine valg'!$G$29&\" \"&'Dine valg'!$G$30)","v":"Anm.: Valgte kommuner i sammenligningsgruppen: Aarhus      "}]
[null,"Kilde: Socialstyrelsens egne beregninger baseret på registerdata fra Danmarks Statistik."]
[]
[]
[null,{"$f":"Skyggetabeller!B355","v":"Nøgletal 9: Fra hjemmebaseret foranstaltning og ned ad trappen"}]
[]
[null,{"$f":"Skyggetabeller!B358","v":"Nøgletal 9: Tidligere modtagere af hjemmebaserede foranstaltninger, som nu er rykket ned ad trappen"},null,"2016-01-01","2016-07-01","2017-01-01","2017-07-01","2018-01-01","2018-07-01","2019-01-01","2019-07-01","2020-01-01","2020-07-01","2021-01-01","2021-07-01","2022-01-01","2022-07-01","2023-01-01"]
[null,{"$f":"Skyggetabeller!B359","v":"København"}]
[null,{"$f":"Skyggetabeller!B360","v":"Antal, der har bevæget sig"},null,{"$f":"Skyggetabeller!D360","v":475},{"$f":"Skyggetabeller!E360","v":424},{"$f":"Skyggetabeller!F360","v":516},{"$f":"Skyggetabeller!G360","v":501},{"$f":"Skyggetabeller!H360","v":553},{"$f":"Skyggetabeller!I360","v":517},{"$f":"Skyggetabeller!J360","v":629},{"$f":"Skyggetabeller!K360","v":623},{"$f":"Skyggetabeller!L360","v":628},{"$f":"Skyggetabeller!M360","v":457},{"$f":"Skyggetabeller!N360","v":575},{"$f":"Skyggetabeller!O360","v":406},{"$f":"Skyggetabeller!P360","v":589},{"$f":"Skyggetabeller!Q360","v":572},{"$f":"Skyggetabeller!R360","v":614}]
[null,{"$f":"Skyggetabeller!B361","v":"Antal tidligere modtagere"},null,{"$f":"Skyggetabeller!D361","v":1929},{"$f":"Skyggetabeller!E361","v":1985},{"$f":"Skyggetabeller!F361","v":2101},{"$f":"Skyggetabeller!G361","v":2146},{"$f":"Skyggetabeller!H361","v":2233},{"$f":"Skyggetabeller!I361","v":2324},{"$f":"Skyggetabeller!J361","v":2384},{"$f":"Skyggetabeller!K361","v":2355},{"$f":"Skyggetabeller!L361","v":2239},{"$f":"Skyggetabeller!M361","v":2155},{"$f":"Skyggetabeller!N361","v":2139},{"$f":"Skyggetabeller!O361","v":2042},{"$f":"Skyggetabeller!P361","v":2302},{"$f":"Skyggetabeller!Q361","v":2307},{"$f":"Skyggetabeller!R361","v":2419}]
[null,{"$f":"Skyggetabeller!B362","v":"Andel"},null,{"$f":"Skyggetabeller!D362","v":0.24624157594608606},{"$f":"Skyggetabeller!E362","v":0.21360201511335011},{"$f":"Skyggetabeller!F362","v":0.24559733460257022},{"$f":"Skyggetabeller!G362","v":0.23345759552656103},{"$f":"Skyggetabeller!H362","v":0.2476489028213166},{"$f":"Skyggetabeller!I362","v":0.22246127366609295},{"$f":"Skyggetabeller!J362","v":0.26384228187919462},{"$f":"Skyggetabeller!K362","v":0.26454352441613588},{"$f":"Skyggetabeller!L362","v":0.28048235819562306},{"$f":"Skyggetabeller!M362","v":0.21206496519721577},{"$f":"Skyggetabeller!N362","v":0.26881720430107525},{"$f":"Skyggetabeller!O362","v":0.19882468168462292},{"$f":"Skyggetabeller!P362","v":0.25586446568201565},{"$f":"Skyggetabeller!Q362","v":0.24794104898136107},{"$f":"Skyggetabeller!R362","v":0.25382389417114509}]
[null,{"$f":"Skyggetabeller!B363","v":"Sammenligningsgruppe, gns."}]
[null,{"$f":"Skyggetabeller!B364","v":"Antal, der har bevæget sig"},null,{"$f":"Skyggetabeller!D364","v":293},{"$f":"Skyggetabeller!E364","v":301},{"$f":"Skyggetabeller!F364","v":314},{"$f":"Skyggetabeller!G364","v":298},{"$f":"Skyggetabeller!H364","v":269},{"$f":"Skyggetabeller!I364","v":300},{"$f":"Skyggetabeller!J364","v":310},{"$f":"Skyggetabeller!K364","v":376},{"$f":"Skyggetabeller!L364","v":374},{"$f":"Skyggetabeller!M364","v":318},{"$f":"Skyggetabeller!N364","v":355},{"$f":"Skyggetabeller!O364","v":332},{"$f":"Skyggetabeller!P364","v":366},{"$f":"Skyggetabeller!Q364","v":331},{"$f":"Skyggetabeller!R364","v":325}]
[null,{"$f":"Skyggetabeller!B365","v":"Antal tidligere modtagere"},null,{"$f":"Skyggetabeller!D365","v":1083},{"$f":"Skyggetabeller!E365","v":1152},{"$f":"Skyggetabeller!F365","v":1145},{"$f":"Skyggetabeller!G365","v":1132},{"$f":"Skyggetabeller!H365","v":1080},{"$f":"Skyggetabeller!I365","v":1164},{"$f":"Skyggetabeller!J365","v":1202},{"$f":"Skyggetabeller!K365","v":1303},{"$f":"Skyggetabeller!L365","v":1297},{"$f":"Skyggetabeller!M365","v":1303},{"$f":"Skyggetabeller!N365","v":1270},{"$f":"Skyggetabeller!O365","v":1252},{"$f":"Skyggetabeller!P365","v":1224},{"$f":"Skyggetabeller!Q365","v":1147},{"$f":"Skyggetabeller!R365","v":1112}]
[null,{"$f":"Skyggetabeller!B366","v":"Andel"},null,{"$f":"Skyggetabeller!D366","v":0.270544783010157},{"$f":"Skyggetabeller!E366","v":0.26128472222222221},{"$f":"Skyggetabeller!F366","v":0.27423580786026203},{"$f":"Skyggetabeller!G366","v":0.26325088339222613},{"$f":"Skyggetabeller!H366","v":0.24907407407407409},{"$f":"Skyggetabeller!I366","v":0.25773195876288657},{"$f":"Skyggetabeller!J366","v":0.25790349417637271},{"$f":"Skyggetabeller!K366","v":0.28856485034535689},{"$f":"Skyggetabeller!L366","v":0.28835774865073244},{"$f":"Skyggetabeller!M366","v":0.24405218726016883},{"$f":"Skyggetabeller!N366","v":0.27952755905511811},{"$f":"Skyggetabeller!O366","v":0.26517571884984026},{"$f":"Skyggetabeller!P366","v":0.29901960784313725},{"$f":"Skyggetabeller!Q366","v":0.28857890148212728},{"$f":"Skyggetabeller!R366","v":0.29226618705035973}]
[null,{"$f":"Skyggetabeller!B367","v":"Hele landet"}]
[null,{"$f":"Skyggetabeller!B368","v":"Antal, der har bevæget sig"},null,{"$f":"Skyggetabeller!D368","v":5247},{"$f":"Skyggetabeller!E368","v":5854},{"$f":"Skyggetabeller!F368","v":5403},{"$f":"Skyggetabeller!G368","v":5889},{"$f":"Skyggetabeller!H368","v":5622},{"$f":"Skyggetabeller!I368","v":6393},{"$f":"Skyggetabeller!J368","v":5767},{"$f":"Skyggetabeller!K368","v":6875},{"$f":"Skyggetabeller!L368","v":6008},{"$f":"Skyggetabeller!M368","v":5834},{"$f":"Skyggetabeller!N368","v":6194},{"$f":"Skyggetabeller!O368","v":5860},{"$f":"Skyggetabeller!P368","v":6650},{"$f":"Skyggetabeller!Q368","v":6665},{"$f":"Skyggetabeller!R368","v":6938}]
[null,{"$f":"Skyggetabeller!B369","v":"Antal tidligere modtagere"},null,{"$f":"Skyggetabeller!D369","v":23726},{"$f":"Skyggetabeller!E369","v":23861},{"$f":"Skyggetabeller!F369","v":23864},{"$f":"Skyggetabeller!G369","v":23957},{"$f":"Skyggetabeller!H369","v":23985},{"$f":"Skyggetabeller!I369","v":24277},{"$f":"Skyggetabeller!J369","v":23840},{"$f":"Skyggetabeller!K369","v":24353},{"$f":"Skyggetabeller!L369","v":24158},{"$f":"Skyggetabeller!M369","v":25052},{"$f":"Skyggetabeller!N369","v":25126},{"$f":"Skyggetabeller!O369","v":25586},{"$f":"Skyggetabeller!P369","v":26506},{"$f":"Skyggetabeller!Q369","v":26802},{"$f":"Skyggetabeller!R369","v":26911}]
[null,{"$f":"Skyggetabeller!B370","v":"Andel"},null,{"$f":"Skyggetabeller!D370","v":0.22114979347551209},{"$f":"Skyggetabeller!E370","v":0.245337580151712},{"$f":"Skyggetabeller!F370","v":0.22640797854508884},{"$f":"Skyggetabeller!G370","v":0.24581541929289977},{"$f":"Skyggetabeller!H370","v":0.23439649781113195},{"$f":"Skyggetabeller!I370","v":0.2633356675042221},{"$f":"Skyggetabeller!J370","v":0.24190436241610738},{"$f":"Skyggetabeller!K370","v":0.28230608138627683},{"$f":"Skyggetabeller!L370","v":0.24869608411292327},{"$f":"Skyggetabeller!M370","v":0.2328756187130768},{"$f":"Skyggetabeller!N370","v":0.24651755154023722},{"$f":"Skyggetabeller!O370","v":0.22903150160243885},{"$f":"Skyggetabeller!P370","v":0.25088659171508337},{"$f":"Skyggetabeller!Q370","v":0.24867547197970299},{"$f":"Skyggetabeller!R370","v":0.25781279030879567}]
[null,"Anm.: Hvis nøgletallet er angivet med * er der foretaget en diskretionering af data, da der er for få observationer. "]
[null,{"$f":"IF('Dine valg'!$G$24=\"\",\"Ingen sammenligningsgruppe valgt.\",\"Anm.: Valgte kommuner i sammenligningsgruppen: \"&'Dine valg'!$G$24&\" \"&'Dine valg'!$G$25&\" \"&'Dine valg'!$G$26&\" \"&'Dine valg'!$G$27&\" \"&'Dine valg'!$G$28&\" \"&'Dine valg'!$G$29&\" \"&'Dine valg'!$G$30)","v":"Anm.: Valgte kommuner i sammenligningsgruppen: Aarhus      "}]
[null,"Kilde: Socialstyrelsens egne beregninger baseret på registerdata fra Danmarks Statistik."]

{"sheet":"Indtastningsark","index":3,"n_rows":73,"n_cols":18,"rows_kept":73,"cut":false,"hidden":false,"merged":[[6,1,13,2],[83,1,83,2],[84,1,84,2],[85,1,85,2]]}
[]
[]
[null,{"$f":"\"Egne indtastninger for \"&Kommune&\"\"","v":"Egne indtastninger for København"}]
[]
[]
[]
[null,"Nogle af nøgletallene kan ikke baseres på nationale registerdata, men kan baseres på lokale data fra kommuner. Disse nøgletal skal du indtaste data i de blå celler neden for, hvis du gerne vil inkludere dem i din analyse.\n\nBemærk at du for disse nøgletal ikke kan sammenligne med øvrige kommuner, regionen eller hele landet.\n\nDu kan se nøgletallene over tid ved at vælge \"Nøgletalsanalyse\"."]
[]
[]
[]
[]
[]
[]
[]
[]
[]
[]
[null,"Vælg nøgletal"]
[]
[]
[]
[]
[]
[null,{"$f":"Skyggetabeller!B267","v":"Nøgletal 6: Forebyggende indsatser (§ 11, stk. 3-tilbud)"}]
[]
[null,{"$f":"Skyggetabeller!B270","v":"Nøgletal 6: \nModtagere af § 11, stk. 3-tilbud"},null,"2016-01-01","2016-07-01","2017-01-01","2017-07-01","2018-01-01","2018-07-01","2019-01-01","2019-07-01","2020-01-01","2020-07-01","2021-01-01","2021-07-01","2022-01-01","2022-07-01","2023-01-01"]
[null,{"$f":"Skyggetabeller!B271","v":"Antal modtagere"}]
[null,{"$f":"Skyggetabeller!B272","v":"Antal 0-17-årige"},null,{"$f":"IFERROR(INDEX(Data_kom2,MATCH(1,(komnavn2=Kommune)*(komaar2=D$26),0),2),\"Data ikke tilføjet\")","v":103578},{"$f":"IFERROR(INDEX(Data_kom2,MATCH(1,(komnavn2=Kommune)*(komaar2=E$26),0),2),\"Data ikke tilføjet\")","v":104797},{"$f":"IFERROR(INDEX(Data_kom2,MATCH(1,(komnavn2=Kommune)*(komaar2=F$26),0),2),\"Data ikke tilføjet\")","v":105885},{"$f":"IFERROR(INDEX(Data_kom2,MATCH(1,(komnavn2=Kommune)*(komaar2=G$26),0),2),\"Data ikke tilføjet\")","v":106913},{"$f":"IFERROR(INDEX(Data_kom2,MATCH(1,(komnavn2=Kommune)*(komaar2=H$26),0),2),\"Data ikke tilføjet\")","v":107770},{"$f":"IFERROR(INDEX(Data_kom2,MATCH(1,(komnavn2=Kommune)*(komaar2=I$26),0),2),\"Data ikke tilføjet\")","v":108734},{"$f":"IFERROR(INDEX(Data_kom2,MATCH(1,(komnavn2=Kommune)*(komaar2=J$26),0),2),\"Data ikke tilføjet\")","v":109335},{"$f":"IFERROR(INDEX(Data_kom2,MATCH(1,(komnavn2=Kommune)*(komaar2=K$26),0),2),\"Data ikke tilføjet\")","v":110138},{"$f":"IFERROR(INDEX(Data_kom2,MATCH(1,(komnavn2=Kommune)*(komaar2=L$26),0),2),\"Data ikke tilføjet\")","v":110822},{"$f":"IFERROR(INDEX(Data_kom2,MATCH(1,(komnavn2=Kommune)*(komaar2=M$26),0),2),\"Data ikke tilføjet\")","v":111068},{"$f":"IFERROR(INDEX(Data_kom2,MATCH(1,(komnavn2=Kommune)*(komaar2=N$26),0),2),\"Data ikke tilføjet\")","v":110927},{"$f":"IFERROR(INDEX(Data_kom2,MATCH(1,(komnavn2=Kommune)*(komaar2=O$26),0),2),\"Data ikke tilføjet\")","v":110614},{"$f":"IFERROR(INDEX(Data_kom2,MATCH(1,(komnavn2=Kommune)*(komaar2=P$26),0),2),\"Data ikke tilføjet\")","v":110513},{"$f":"IFERROR(INDEX(Data_kom2,MATCH(1,(komnavn2=Kommune)*(komaar2=Q$26),0),2),\"Data ikke tilføjet\")","v":110692},{"$f":"IFERROR(INDEX(Data_kom2,MATCH(1,(komnavn2=Kommune)*(komaar2=R$26),0),2),\"Data ikke tilføjet\")","v":110835}]
[null,{"$f":"Skyggetabeller!B273","v":"Andel"},null,{"$f":"IFERROR(IF(D27=\"*\",\"*\",IF(D28=0,\"Nævner er 0\",(D27/D28*1000))),\"Data ikke tilføjet\")","v":0},{"$f":"IFERROR(IF(E27=\"*\",\"*\",IF(E28=0,\"Nævner er 0\",(E27/E28*1000))),\"Data ikke tilføjet\")","v":0},0,0,0,0,0,0,0,0,{"$f":"IFERROR(IF(N27=\"*\",\"*\",IF(N28=0,\"Nævner er 0\",(N27/N28*1000))),\"Data ikke tilføjet\")","v":0},0,0,0,0]
[]
[null,{"$f":"Skyggetabeller!B277","v":"Nøgletal 6.1: \nModtagere af myndighedsbevilgede § 11, stk. 3-tilbud"},null,"2016-01-01","2016-07-01","2017-01-01","2017-07-01","2018-01-01","2018-07-01","2019-01-01","2019-07-01","2020-01-01","2020-07-01","2021-01-01","2021-07-01","2022-01-01","2022-07-01","2023-01-01"]
[null,{"$f":"Skyggetabeller!B278","v":"Antal modtagere"}]
[null,{"$f":"Skyggetabeller!B279","v":"Antal 0-17-årige"},null,{"$f":"IFERROR(INDEX(Data_kom2,MATCH(1,(komnavn2=Kommune)*(komaar2=D$31),0),2),\"Data ikke tilføjet\")","v":103578},{"$f":"IFERROR(INDEX(Data_kom2,MATCH(1,(komnavn2=Kommune)*(komaar2=E$31),0),2),\"Data ikke tilføjet\")","v":104797},{"$f":"IFERROR(INDEX(Data_kom2,MATCH(1,(komnavn2=Kommune)*(komaar2=F$31),0),2),\"Data ikke tilføjet\")","v":105885},{"$f":"IFERROR(INDEX(Data_kom2,MATCH(1,(komnavn2=Kommune)*(komaar2=G$31),0),2),\"Data ikke tilføjet\")","v":106913},{"$f":"IFERROR(INDEX(Data_kom2,MATCH(1,(komnavn2=Kommune)*(komaar2=H$31),0),2),\"Data ikke tilføjet\")","v":107770},{"$f":"IFERROR(INDEX(Data_kom2,MATCH(1,(komnavn2=Kommune)*(komaar2=I$31),0),2),\"Data ikke tilføjet\")","v":108734},{"$f":"IFERROR(INDEX(Data_kom2,MATCH(1,(komnavn2=Kommune)*(komaar2=J$31),0),2),\"Data ikke tilføjet\")","v":109335},{"$f":"IFERROR(INDEX(Data_kom2,MATCH(1,(komnavn2=Kommune)*(komaar2=K$31),0),2),\"Data ikke tilføjet\")","v":110138},{"$f":"IFERROR(INDEX(Data_kom2,MATCH(1,(komnavn2=Kommune)*(komaar2=L$31),0),2),\"Data ikke tilføjet\")","v":110822},{"$f":"IFERROR(INDEX(Data_kom2,MATCH(1,(komnavn2=Kommune)*(komaar2=M$31),0),2),\"Data ikke tilføjet\")","v":111068},{"$f":"IFERROR(INDEX(Data_kom2,MATCH(1,(komnavn2=Kommune)*(komaar2=N$31),0),2),\"Data ikke tilføjet\")","v":110927},{"$f":"IFERROR(INDEX(Data_kom2,MATCH(1,(komnavn2=Kommune)*(komaar2=O$31),0),2),\"Data ikke tilføjet\")","v":110614},{"$f":"IFERROR(INDEX(Data_kom2,MATCH(1,(komnavn2=Kommune)*(komaar2=P$31),0),2),\"Data ikke tilføjet\")","v":110513},{"$f":"IFERROR(INDEX(Data_kom2,MATCH(1,(komnavn2=Kommune)*(komaar2=Q$31),0),2),\"Data ikke tilføjet\")","v":110692},{"$f":"IFERROR(INDEX(Data_kom2,MATCH(1,(komnavn2=Kommune)*(komaar2=R$31),0),2),\"Data ikke tilføjet\")","v":110835}]
[null,{"$f":"Skyggetabeller!B280","v":"Andel"},null,{"$f":"IFERROR(IF(D32=\"*\",\"*\",IF(D33=0,\"Nævner er 0\",(D32/D33*1000))),\"Data ikke tilføjet\")","v":0},{"$f":"IFERROR(IF(E32=\"*\",\"*\",IF(E33=0,\"Nævner er 0\",(E32/E33*1000))),\"Data ikke tilføjet\")","v":0},{"$f":"IFERROR(IF(F32=\"*\",\"*\",IF(F33=0,\"Nævner er 0\",(F32/F33*1000))),\"Data ikke tilføjet\")","v":0},{"$f":"IFERROR(IF(G32=\"*\",\"*\",IF(G33=0,\"Nævner er 0\",(G32/G33*1000))),\"Data ikke tilføjet\")","v":0},{"$f":"IFERROR(IF(H32=\"*\",\"*\",IF(H33=0,\"Nævner er 0\",(H32/H33*1000))),\"Data ikke tilføjet\")","v":0},{"$f":"IFERROR(IF(I32=\"*\",\"*\",IF(I33=0,\"Nævner er 0\",(I32/I33*1000))),\"Data ikke tilføjet\")","v":0},{"$f":"IFERROR(IF(J32=\"*\",\"*\",IF(J33=0,\"Nævner er 0\",(J32/J33*1000))),\"Data ikke tilføjet\")","v":0},{"$f":"IFERROR(IF(K32=\"*\",\"*\",IF(K33=0,\"Nævner er 0\",(K32/K33*1000))),\"Data ikke tilføjet\")","v":0},{"$f":"IFERROR(IF(L32=\"*\",\"*\",IF(L33=0,\"Nævner er 0\",(L32/L33*1000))),\"Data ikke tilføjet\")","v":0},{"$f":"IFERROR(IF(M32=\"*\",\"*\",IF(M33=0,\"Nævner er 0\",(M32/M33*1000))),\"Data ikke tilføjet\")","v":0},0,0,0,0,0]
[]
[null,{"$f":"Skyggetabeller!B283","v":"Nøgletal 6.2: \nModtagere af øvrige § 11, stk. 3-tilbud"},null,"2016-01-01","2016-07-01","2017-01-01","2017-07-01","2018-01-01","2018-07-01","2019-01-01","2019-07-01","2020-01-01","2020-07-01","2021-01-01","2021-07-01","2022-01-01","2022-07-01","2023-01-01"]
[null,{"$f":"Skyggetabeller!B284","v":"Antal modtagere"}]
[null,{"$f":"Skyggetabeller!B285","v":"Antal 0-17-årige"},null,{"$f":"IFERROR(INDEX(Data_kom2,MATCH(1,(komnavn2=Kommune)*(komaar2=D$36),0),2),\"Data ikke tilføjet\")","v":103578},{"$f":"IFERROR(INDEX(Data_kom2,MATCH(1,(komnavn2=Kommune)*(komaar2=E$36),0),2),\"Data ikke tilføjet\")","v":104797},{"$f":"IFERROR(INDEX(Data_kom2,MATCH(1,(komnavn2=Kommune)*(komaar2=F$36),0),2),\"Data ikke tilføjet\")","v":105885},{"$f":"IFERROR(INDEX(Data_kom2,MATCH(1,(komnavn2=Kommune)*(komaar2=G$36),0),2),\"Data ikke tilføjet\")","v":106913},{"$f":"IFERROR(INDEX(Data_kom2,MATCH(1,(komnavn2=Kommune)*(komaar2=H$36),0),2),\"Data ikke tilføjet\")","v":107770},{"$f":"IFERROR(INDEX(Data_kom2,MATCH(1,(komnavn2=Kommune)*(komaar2=I$36),0),2),\"Data ikke tilføjet\")","v":108734},{"$f":"IFERROR(INDEX(Data_kom2,MATCH(1,(komnavn2=Kommune)*(komaar2=J$36),0),2),\"Data ikke tilføjet\")","v":109335},{"$f":"IFERROR(INDEX(Data_kom2,MATCH(1,(komnavn2=Kommune)*(komaar2=K$36),0),2),\"Data ikke tilføjet\")","v":110138},{"$f":"IFERROR(INDEX(Data_kom2,MATCH(1,(komnavn2=Kommune)*(komaar2=L$36),0),2),\"Data ikke tilføjet\")","v":110822},{"$f":"IFERROR(INDEX(Data_kom2,MATCH(1,(komnavn2=Kommune)*(komaar2=M$36),0),2),\"Data ikke tilføjet\")","v":111068},{"$f":"IFERROR(INDEX(Data_kom2,MATCH(1,(komnavn2=Kommune)*(komaar2=N$36),0),2),\"Data ikke tilføjet\")","v":110927},{"$f":"IFERROR(INDEX(Data_kom2,MATCH(1,(komnavn2=Kommune)*(komaar2=O$36),0),2),\"Data ikke tilføjet\")","v":110614},{"$f":"IFERROR(INDEX(Data_kom2,MATCH(1,(komnavn2=Kommune)*(komaar2=P$36),0),2),\"Data ikke tilføjet\")","v":110513},{"$f":"IFERROR(INDEX(Data_kom2,MATCH(1,(komnavn2=Kommune)*(komaar2=Q$36),0),2),\"Data ikke tilføjet\")","v":110692},{"$f":"IFERROR(INDEX(Data_kom2,MATCH(1,(komnavn2=Kommune)*(komaar2=R$36),0),2),\"Data ikke tilføjet\")","v":110835}]
[null,{"$f":"Skyggetabeller!B286","v":"Andel"},null,{"$f":"IFERROR(IF(D37=\"*\",\"*\",IF(D38=0,\"Nævner er 0\",(D37/D38*1000))),\"Data ikke tilføjet\")","v":0},{"$f":"IFERROR(IF(E37=\"*\",\"*\",IF(E38=0,\"Nævner er 0\",(E37/E38*1000))),\"Data ikke tilføjet\")","v":0},{"$f":"IFERROR(IF(F37=\"*\",\"*\",IF(F38=0,\"Nævner er 0\",(F37/F38*1000))),\"Data ikke tilføjet\")","v":0},{"$f":"IFERROR(IF(G37=\"*\",\"*\",IF(G38=0,\"Nævner er 0\",(G37/G38*1000))),\"Data ikke tilføjet\")","v":0},{"$f":"IFERROR(IF(H37=\"*\",\"*\",IF(H38=0,\"Nævner er 0\",(H37/H38*1000))),\"Data ikke tilføjet\")","v":0},{"$f":"IFERROR(IF(I37=\"*\",\"*\",IF(I38=0,\"Nævner er 0\",(I37/I38*1000))),\"Data ikke tilføjet\")","v":0},{"$f":"IFERROR(IF(J37=\"*\",\"*\",IF(J38=0,\"Nævner er 0\",(J37/J38*1000))),\"Data ikke tilføjet\")","v":0},{"$f":"IFERROR(IF(K37=\"*\",\"*\",IF(K38=0,\"Nævner er 0\",(K37/K38*1000))),\"Data ikke tilføjet\")","v":0},{"$f":"IFERROR(IF(L37=\"*\",\"*\",IF(L38=0,\"Nævner er 0\",(L37/L38*1000))),\"Data ikke tilføjet\")","v":0},{"$f":"IFERROR(IF(M37=\"*\",\"*\",IF(M38=0,\"Nævner er 0\",(M37/M38*1000))),\"Data ikke tilføjet\")","v":0},0,0,0,0,0]
[]
[null,{"$f":"Skyggetabeller!B373","v":"Nøgletal 10: Fra forebyggende indsatser og op ad trappen"}]
[]
[null,{"$f":"Skyggetabeller!B376","v":"Nøgletal 10: Tidligere modtagere af forebyggende indsatser, som nu er rykket ned ad trappen"},null,"2016-01-01","2016-07-01","2017-01-01","2017-07-01","2018-01-01","2018-07-01","2019-01-01","2019-07-01","2020-01-01","2020-07-01","2021-01-01","2021-07-01","2022-01-01","2022-07-01","2023-01-01"]
[null,{"$f":"Skyggetabeller!B377","v":"Antal, der har bevæget sig"}]
[null,{"$f":"Skyggetabeller!B378","v":"Antal tidligere modtagere"}]
[null,{"$f":"Skyggetabeller!B379","v":"Andel"},null,{"$f":"IFERROR(IF(D44=\"*\",\"*\",IF(D45=0,\"Nævner er 0\",(D44/D45))),\"Data ikke tilføjet\")","v":"Nævner er 0"},{"$f":"IFERROR(IF(E44=\"*\",\"*\",IF(E45=0,\"Nævner er 0\",(E44/E45))),\"Data ikke tilføjet\")","v":"Nævner er 0"},{"$f":"IFERROR(IF(F44=\"*\",\"*\",IF(F45=0,\"Nævner er 0\",(F44/F45))),\"Data ikke tilføjet\")","v":"Nævner er 0"},{"$f":"IFERROR(IF(G44=\"*\",\"*\",IF(G45=0,\"Nævner er 0\",(G44/G45))),\"Data ikke tilføjet\")","v":"Nævner er 0"},{"$f":"IFERROR(IF(H44=\"*\",\"*\",IF(H45=0,\"Nævner er 0\",(H44/H45))),\"Data ikke tilføjet\")","v":"Nævner er 0"},{"$f":"IFERROR(IF(I44=\"*\",\"*\",IF(I45=0,\"Nævner er 0\",(I44/I45))),\"Data ikke tilføjet\")","v":"Nævner er 0"},{"$f":"IFERROR(IF(J44=\"*\",\"*\",IF(J45=0,\"Nævner er 0\",(J44/J45))),\"Data ikke tilføjet\")","v":"Nævner er 0"},{"$f":"IFERROR(IF(K44=\"*\",\"*\",IF(K45=0,\"Nævner er 0\",(K44/K45))),\"Data ikke tilføjet\")","v":"Nævner er 0"},{"$f":"IFERROR(IF(L44=\"*\",\"*\",IF(L45=0,\"Nævner er 0\",(L44/L45))),\"Data ikke tilføjet\")","v":"Nævner er 0"},{"$f":"IFERROR(IF(M44=\"*\",\"*\",IF(M45=0,\"Nævner er 0\",(M44/M45))),\"Data ikke tilføjet\")","v":"Nævner er 0"},{"$f":"IFERROR(IF(N44=\"*\",\"*\",IF(N45=0,\"Nævner er 0\",(N44/N45))),\"Data ikke tilføjet\")","v":"Nævner er 0"},{"$f":"IFERROR(IF(O44=\"*\",\"*\",IF(O45=0,\"Nævner er 0\",(O44/O45))),\"Data ikke tilføjet\")","v":"Nævner er 0"},{"$f":"IFERROR(IF(P44=\"*\",\"*\",IF(P45=0,\"Nævner er 0\",(P44/P45))),\"Data ikke tilføjet\")","v":"Nævner er 0"},{"$f":"IFERROR(IF(Q44=\"*\",\"*\",IF(Q45=0,\"Nævner er 0\",(Q44/Q45))),\"Data ikke tilføjet\")","v":"Nævner er 0"},{"$f":"IFERROR(IF(R44=\"*\",\"*\",IF(R45=0,\"Nævner er 0\",(R44/R45))),\"Data ikke tilføjet\")","v":"Nævner er 0"}]
[]
[null,{"$f":"Skyggetabeller!B383","v":"Nøgletal 10.1: Tidligere modtagere af myndighedsbevilget § 11, stk. 3-indsats, som nu er rykket ned ad trappen"},null,"2016-01-01","2016-07-01","2017-01-01","2017-07-01","2018-01-01","2018-07-01","2019-01-01","2019-07-01","2020-01-01","2020-07-01","2021-01-01","2021-07-01","2022-01-01","2022-07-01","2023-01-01"]
[null,{"$f":"Skyggetabeller!B384","v":"Antal, der har bevæget sig"}]
[null,{"$f":"Skyggetabeller!B385","v":"Antal tidligere modtagere"}]
[null,{"$f":"Skyggetabeller!B386","v":"Andel"},null,{"$f":"IFERROR(IF(D49=\"*\",\"*\",IF(D50=0,\"Nævner er 0\",(D49/D50))),\"Data ikke tilføjet\")","v":"Nævner er 0"},{"$f":"IFERROR(IF(E49=\"*\",\"*\",IF(E50=0,\"Nævner er 0\",(E49/E50))),\"Data ikke tilføjet\")","v":"Nævner er 0"},{"$f":"IFERROR(IF(F49=\"*\",\"*\",IF(F50=0,\"Nævner er 0\",(F49/F50))),\"Data ikke tilføjet\")","v":"Nævner er 0"},{"$f":"IFERROR(IF(G49=\"*\",\"*\",IF(G50=0,\"Nævner er 0\",(G49/G50))),\"Data ikke tilføjet\")","v":"Nævner er 0"},{"$f":"IFERROR(IF(H49=\"*\",\"*\",IF(H50=0,\"Nævner er 0\",(H49/H50))),\"Data ikke tilføjet\")","v":"Nævner er 0"},{"$f":"IFERROR(IF(I49=\"*\",\"*\",IF(I50=0,\"Nævner er 0\",(I49/I50))),\"Data ikke tilføjet\")","v":"Nævner er 0"},{"$f":"IFERROR(IF(J49=\"*\",\"*\",IF(J50=0,\"Nævner er 0\",(J49/J50))),\"Data ikke tilføjet\")","v":"Nævner er 0"},{"$f":"IFERROR(IF(K49=\"*\",\"*\",IF(K50=0,\"Nævner er 0\",(K49/K50))),\"Data ikke tilføjet\")","v":"Nævner er 0"},{"$f":"IFERROR(IF(L49=\"*\",\"*\",IF(L50=0,\"Nævner er 0\",(L49/L50))),\"Data ikke tilføjet\")","v":"Nævner er 0"},{"$f":"IFERROR(IF(M49=\"*\",\"*\",IF(M50=0,\"Nævner er 0\",(M49/M50))),\"Data ikke tilføjet\")","v":"Nævner er 0"},{"$f":"IFERROR(IF(N49=\"*\",\"*\",IF(N50=0,\"Nævner er 0\",(N49/N50))),\"Data ikke tilføjet\")","v":"Nævner er 0"},{"$f":"IFERROR(IF(O49=\"*\",\"*\",IF(O50=0,\"Nævner er 0\",(O49/O50))),\"Data ikke tilføjet\")","v":"Nævner er 0"},{"$f":"IFERROR(IF(P49=\"*\",\"*\",IF(P50=0,\"Nævner er 0\",(P49/P50))),\"Data ikke tilføjet\")","v":"Nævner er 0"},{"$f":"IFERROR(IF(Q49=\"*\",\"*\",IF(Q50=0,\"Nævner er 0\",(Q49/Q50))),\"Data ikke tilføjet\")","v":"Nævner er 0"},{"$f":"IFERROR(IF(R49=\"*\",\"*\",IF(R50=0,\"Nævner er 0\",(R49/R50))),\"Data ikke tilføjet\")","v":"Nævner er 0"}]
[]
[null,{"$f":"Skyggetabeller!B390","v":"Nøgletal 10.2: Tidligere modtagere af ikke-myndighedsbevilget § 11, stk. 3-indsats, som nu er rykket ned ad trappen"},null,"2016-01-01","2016-07-01","2017-01-01","2017-07-01","2018-01-01","2018-07-01","2019-01-01","2019-07-01","2020-01-01","2020-07-01","2021-01-01","2021-07-01","2022-01-01","2022-07-01","2023-01-01"]
[null,{"$f":"Skyggetabeller!B391","v":"Antal, der har bevæget sig"}]
[null,{"$f":"Skyggetabeller!B392","v":"Antal tidligere modtagere"}]
[null,{"$f":"Skyggetabeller!B393","v":"Andel"},null,{"$f":"IFERROR(IF(D54=\"*\",\"*\",IF(D55=0,\"Nævner er 0\",(D54/D55))),\"Data ikke tilføjet\")","v":"Nævner er 0"},{"$f":"IFERROR(IF(E54=\"*\",\"*\",IF(E55=0,\"Nævner er 0\",(E54/E55))),\"Data ikke tilføjet\")","v":"Nævner er 0"},{"$f":"IFERROR(IF(F54=\"*\",\"*\",IF(F55=0,\"Nævner er 0\",(F54/F55))),\"Data ikke tilføjet\")","v":"Nævner er 0"},{"$f":"IFERROR(IF(G54=\"*\",\"*\",IF(G55=0,\"Nævner er 0\",(G54/G55))),\"Data ikke tilføjet\")","v":"Nævner er 0"},{"$f":"IFERROR(IF(H54=\"*\",\"*\",IF(H55=0,\"Nævner er 0\",(H54/H55))),\"Data ikke tilføjet\")","v":"Nævner er 0"},{"$f":"IFERROR(IF(I54=\"*\",\"*\",IF(I55=0,\"Nævner er 0\",(I54/I55))),\"Data ikke tilføjet\")","v":"Nævner er 0"},{"$f":"IFERROR(IF(J54=\"*\",\"*\",IF(J55=0,\"Nævner er 0\",(J54/J55))),\"Data ikke tilføjet\")","v":"Nævner er 0"},{"$f":"IFERROR(IF(K54=\"*\",\"*\",IF(K55=0,\"Nævner er 0\",(K54/K55))),\"Data ikke tilføjet\")","v":"Nævner er 0"},{"$f":"IFERROR(IF(L54=\"*\",\"*\",IF(L55=0,\"Nævner er 0\",(L54/L55))),\"Data ikke tilføjet\")","v":"Nævner er 0"},{"$f":"IFERROR(IF(M54=\"*\",\"*\",IF(M55=0,\"Nævner er 0\",(M54/M55))),\"Data ikke tilføjet\")","v":"Nævner er 0"},{"$f":"IFERROR(IF(N54=\"*\",\"*\",IF(N55=0,\"Nævner er 0\",(N54/N55))),\"Data ikke tilføjet\")","v":"Nævner er 0"},{"$f":"IFERROR(IF(O54=\"*\",\"*\",IF(O55=0,\"Nævner er 0\",(O54/O55))),\"Data ikke tilføjet\")","v":"Nævner er 0"},{"$f":"IFERROR(IF(P54=\"*\",\"*\",IF(P55=0,\"Nævner er 0\",(P54/P55))),\"Data ikke tilføjet\")","v":"Nævner er 0"},{"$f":"IFERROR(IF(Q54=\"*\",\"*\",IF(Q55=0,\"Nævner er 0\",(Q54/Q55))),\"Data ikke tilføjet\")","v":"Nævner er 0"},{"$f":"IFERROR(IF(R54=\"*\",\"*\",IF(R55=0,\"Nævner er 0\",(R54/R55))),\"Data ikke tilføjet\")","v":"Nævner er 0"}]
[]
[null,{"$f":"Skyggetabeller!B396","v":"Nøgletal 11: Frekvens af opfølgninger"}]
[]
[null,{"$f":"Skyggetabeller!B399","v":"Nøgletal 11.1: \nFrekvens i opfølgninger for institutionsanbringelser"},null,"2016-01-01","2016-07-01","2017-01-01","2017-07-01","2018-01-01","2018-07-01","2019-01-01","2019-07-01","2020-01-01","2020-07-01","2021-01-01","2021-07-01","2022-01-01","2022-07-01","2023-01-01"]
[null,{"$f":"Skyggetabeller!B400","v":"Antal dage"}]
[null,{"$f":"Skyggetabeller!B401","v":"Antal opfølgninger"}]
[null,{"$f":"Skyggetabeller!B402","v":"Varighed"},null,{"$f":"IFERROR(IF(D61=\"*\",\"*\",IF(D62=0,\"Nævner er 0\",(D61/D62))),\"Data ikke tilføjet\")","v":"Nævner er 0"},{"$f":"IFERROR(IF(E61=\"*\",\"*\",IF(E62=0,\"Nævner er 0\",(E61/E62))),\"Data ikke tilføjet\")","v":"Nævner er 0"},{"$f":"IFERROR(IF(F61=\"*\",\"*\",IF(F62=0,\"Nævner er 0\",(F61/F62))),\"Data ikke tilføjet\")","v":"Nævner er 0"},{"$f":"IFERROR(IF(G61=\"*\",\"*\",IF(G62=0,\"Nævner er 0\",(G61/G62))),\"Data ikke tilføjet\")","v":"Nævner er 0"},{"$f":"IFERROR(IF(H61=\"*\",\"*\",IF(H62=0,\"Nævner er 0\",(H61/H62))),\"Data ikke tilføjet\")","v":"Nævner er 0"},{"$f":"IFERROR(IF(I61=\"*\",\"*\",IF(I62=0,\"Nævner er 0\",(I61/I62))),\"Data ikke tilføjet\")","v":"Nævner er 0"},{"$f":"IFERROR(IF(J61=\"*\",\"*\",IF(J62=0,\"Nævner er 0\",(J61/J62))),\"Data ikke tilføjet\")","v":"Nævner er 0"},{"$f":"IFERROR(IF(K61=\"*\",\"*\",IF(K62=0,\"Nævner er 0\",(K61/K62))),\"Data ikke tilføjet\")","v":"Nævner er 0"},{"$f":"IFERROR(IF(L61=\"*\",\"*\",IF(L62=0,\"Nævner er 0\",(L61/L62))),\"Data ikke tilføjet\")","v":"Nævner er 0"},{"$f":"IFERROR(IF(M61=\"*\",\"*\",IF(M62=0,\"Nævner er 0\",(M61/M62))),\"Data ikke tilføjet\")","v":"Nævner er 0"},{"$f":"IFERROR(IF(N61=\"*\",\"*\",IF(N62=0,\"Nævner er 0\",(N61/N62))),\"Data ikke tilføjet\")","v":"Nævner er 0"},{"$f":"IFERROR(IF(O61=\"*\",\"*\",IF(O62=0,\"Nævner er 0\",(O61/O62))),\"Data ikke tilføjet\")","v":"Nævner er 0"},{"$f":"IFERROR(IF(P61=\"*\",\"*\",IF(P62=0,\"Nævner er 0\",(P61/P62))),\"Data ikke tilføjet\")","v":"Nævner er 0"},{"$f":"IFERROR(IF(Q61=\"*\",\"*\",IF(Q62=0,\"Nævner er 0\",(Q61/Q62))),\"Data ikke tilføjet\")","v":"Nævner er 0"},{"$f":"IFERROR(IF(R61=\"*\",\"*\",IF(R62=0,\"Nævner er 0\",(R61/R62))),\"Data ikke tilføjet\")","v":"Nævner er 0"}]
[]
[null,{"$f":"Skyggetabeller!B404","v":"Nøgletal 11.2: \nFrekvens i opfølgninger for plejefamilier"},null,"2016-01-01","2016-07-01","2017-01-01","2017-07-01","2018-01-01","2018-07-01","2019-01-01","2019-07-01","2020-01-01","2020-07-01","2021-01-01","2021-07-01","2022-01-01","2022-07-01","2023-01-01"]
[null,{"$f":"Skyggetabeller!B405","v":"Antal dage"}]
[null,{"$f":"Skyggetabeller!B406","v":"Antal opfølgninger"}]
[null,{"$f":"Skyggetabeller!B407","v":"Varighed"},null,{"$f":"IFERROR(IF(D66=\"*\",\"*\",IF(D67=0,\"Nævner er 0\",(D66/D67))),\"Data ikke tilføjet\")","v":"Nævner er 0"},{"$f":"IFERROR(IF(E66=\"*\",\"*\",IF(E67=0,\"Nævner er 0\",(E66/E67))),\"Data ikke tilføjet\")","v":"Nævner er 0"},{"$f":"IFERROR(IF(F66=\"*\",\"*\",IF(F67=0,\"Nævner er 0\",(F66/F67))),\"Data ikke tilføjet\")","v":"Nævner er 0"},{"$f":"IFERROR(IF(G66=\"*\",\"*\",IF(G67=0,\"Nævner er 0\",(G66/G67))),\"Data ikke tilføjet\")","v":"Nævner er 0"},{"$f":"IFERROR(IF(H66=\"*\",\"*\",IF(H67=0,\"Nævner er 0\",(H66/H67))),\"Data ikke tilføjet\")","v":"Nævner er 0"},{"$f":"IFERROR(IF(I66=\"*\",\"*\",IF(I67=0,\"Nævner er 0\",(I66/I67))),\"Data ikke tilføjet\")","v":"Nævner er 0"},{"$f":"IFERROR(IF(J66=\"*\",\"*\",IF(J67=0,\"Nævner er 0\",(J66/J67))),\"Data ikke tilføjet\")","v":"Nævner er 0"},{"$f":"IFERROR(IF(K66=\"*\",\"*\",IF(K67=0,\"Nævner er 0\",(K66/K67))),\"Data ikke tilføjet\")","v":"Nævner er 0"},{"$f":"IFERROR(IF(L66=\"*\",\"*\",IF(L67=0,\"Nævner er 0\",(L66/L67))),\"Data ikke tilføjet\")","v":"Nævner er 0"},{"$f":"IFERROR(IF(M66=\"*\",\"*\",IF(M67=0,\"Nævner er 0\",(M66/M67))),\"Data ikke tilføjet\")","v":"Nævner er 0"},{"$f":"IFERROR(IF(N66=\"*\",\"*\",IF(N67=0,\"Nævner er 0\",(N66/N67))),\"Data ikke tilføjet\")","v":"Nævner er 0"},{"$f":"IFERROR(IF(O66=\"*\",\"*\",IF(O67=0,\"Nævner er 0\",(O66/O67))),\"Data ikke tilføjet\")","v":"Nævner er 0"},{"$f":"IFERROR(IF(P66=\"*\",\"*\",IF(P67=0,\"Nævner er 0\",(P66/P67))),\"Data ikke tilføjet\")","v":"Nævner er 0"},{"$f":"IFERROR(IF(Q66=\"*\",\"*\",IF(Q67=0,\"Nævner er 0\",(Q66/Q67))),\"Data ikke tilføjet\")","v":"Nævner er 0"},{"$f":"IFERROR(IF(R66=\"*\",\"*\",IF(R67=0,\"Nævner er 0\",(R66/R67))),\"Data ikke tilføjet\")","v":"Nævner er 0"}]
[]
[null,{"$f":"Skyggetabeller!B409","v":"Nøgletal 11.3: \nFrekvens i opfølgninger for hjemmebaserede foranstaltninger"},null,"2016-01-01","2016-07-01","2017-01-01","2017-07-01","2018-01-01","2018-07-01","2019-01-01","2019-07-01","2020-01-01","2020-07-01","2021-01-01","2021-07-01","2022-01-01","2022-07-01","2023-01-01"]
[null,{"$f":"Skyggetabeller!B410","v":"Antal dage"}]
[null,{"$f":"Skyggetabeller!B411","v":"Antal opfølgninger"}]
[null,{"$f":"Skyggetabeller!B412","v":"Varighed"},null,{"$f":"IFERROR(IF(D71=\"*\",\"*\",IF(D72=0,\"Nævner er 0\",(D71/D72))),\"Data ikke tilføjet\")","v":"Nævner er 0"},{"$f":"IFERROR(IF(E71=\"*\",\"*\",IF(E72=0,\"Nævner er 0\",(E71/E72))),\"Data ikke tilføjet\")","v":"Nævner er 0"},{"$f":"IFERROR(IF(F71=\"*\",\"*\",IF(F72=0,\"Nævner er 0\",(F71/F72))),\"Data ikke tilføjet\")","v":"Nævner er 0"},{"$f":"IFERROR(IF(G71=\"*\",\"*\",IF(G72=0,\"Nævner er 0\",(G71/G72))),\"Data ikke tilføjet\")","v":"Nævner er 0"},{"$f":"IFERROR(IF(H71=\"*\",\"*\",IF(H72=0,\"Nævner er 0\",(H71/H72))),\"Data ikke tilføjet\")","v":"Nævner er 0"},{"$f":"IFERROR(IF(I71=\"*\",\"*\",IF(I72=0,\"Nævner er 0\",(I71/I72))),\"Data ikke tilføjet\")","v":"Nævner er 0"},{"$f":"IFERROR(IF(J71=\"*\",\"*\",IF(J72=0,\"Nævner er 0\",(J71/J72))),\"Data ikke tilføjet\")","v":"Nævner er 0"},{"$f":"IFERROR(IF(K71=\"*\",\"*\",IF(K72=0,\"Nævner er 0\",(K71/K72))),\"Data ikke tilføjet\")","v":"Nævner er 0"},{"$f":"IFERROR(IF(L71=\"*\",\"*\",IF(L72=0,\"Nævner er 0\",(L71/L72))),\"Data ikke tilføjet\")","v":"Nævner er 0"},{"$f":"IFERROR(IF(M71=\"*\",\"*\",IF(M72=0,\"Nævner er 0\",(M71/M72))),\"Data ikke tilføjet\")","v":"Nævner er 0"},{"$f":"IFERROR(IF(N71=\"*\",\"*\",IF(N72=0,\"Nævner er 0\",(N71/N72))),\"Data ikke tilføjet\")","v":"Nævner er 0"},{"$f":"IFERROR(IF(O71=\"*\",\"*\",IF(O72=0,\"Nævner er 0\",(O71/O72))),\"Data ikke tilføjet\")","v":"Nævner er 0"},{"$f":"IFERROR(IF(P71=\"*\",\"*\",IF(P72=0,\"Nævner er 0\",(P71/P72))),\"Data ikke tilføjet\")","v":"Nævner er 0"},{"$f":"IFERROR(IF(Q71=\"*\",\"*\",IF(Q72=0,\"Nævner er 0\",(Q71/Q72))),\"Data ikke tilføjet\")","v":"Nævner er 0"},{"$f":"IFERROR(IF(R71=\"*\",\"*\",IF(R72=0,\"Nævner er 0\",(R71/R72))),\"Data ikke tilføjet\")","v":"Nævner er 0"}]

{"sheet":"Nøgletalsanalyse","index":4,"n_rows":971,"n_cols":26,"rows_kept":971,"cut":false,"hidden":false,"merged":[[7,1,7,10],[557,1,557,4],[592,1,592,4],[657,1,657,4],[558,12,559,17],[748,12,749,17],[589,1,589,4],[589,6,589,10],[126,1,126,4],[126,6,126,10],[148,1,148,4],[148,6,148,10],[147,1,147,4],[147,6,147,10],[62,1,62,4],[62,6,62,10],[126,12,126,16],[147,12,147,15],[148,12,148,15],[601,1,601,4],[602,1,602,4],[638,1,639,10],[638,12,639,17],[682,1,683,5],[682,7,683,12],[810,1,810,4],[658,1,658,4],[748,1,749,10],[793,1,794,10],[1512,1,1512,4],[1530,1,1530,4],[1531,1,1531,4],[1510,1,1510,4],[1179,1,1179,4],[1481,7,1481,11],[1160,1,1160,4],[1141,1,1141,4],[926,12,927,17],[926,1,927,10],[881,1,882,4],[881,6,882,10],[842,1,843,10],[842,12,843,17],[793,12,794,17],[695,1,695,4],[1611,1,1611,4],[235,6,235,10],[235,12,235,16],[442,7,442,12],[442,1,442,5],[468,1,468,4],[1577,1,1577,4],[1578,1,1578,4],[1429,14,1429,15],[1430,14,1430,15],[1431,14,1431,15],[1483,7,1483,10],[1484,7,1484,10],[1579,1,1579,4],[1161,1,1161,4],[1231,1,1231,4],[1558,1,1558,4],[1532,1,1532,4],[1398,7,1398,8],[1399,7,1399,8],[1249,1,1249,4],[1091,1,1091,4],[1400,7,1400,8],[1484,1,1484,4],[2089,6,2089,8],[407,1,407,4],[408,1,408,4],[467,1,467,4],[315,1,315,4],[637,1,637,4],[694,1,694,4],[492,1,492,4],[1483,1,1483,4],[1251,1,1251,4],[1271,1,1271,4],[1180,1,1180,4],[1230,1,1230,4],[1787,1,1787,3],[405,1,405,7],[1269,1,1269,4],[1250,1,1250,4],[1092,1,1092,4],[822,1,822,4],[1612,1,1612,4],[1610,1,1610,6],[1270,1,1270,4],[1511,1,1511,4],[1481,1,1481,5],[485,1,485,7],[11,1,11,3],[463,7,463,12],[463,1,463,5],[190,12,191,17],[309,12,310,17],[355,12,356,17],[400,12,401,17],[75,1,75,4],[76,1,76,4],[243,1,243,4],[244,1,244,4],[363,1,363,4],[337,1,337,4],[220,1,220,9],[242,1,242,9],[18,12,19,17],[235,1,235,4]]}
[]
[]
[]
[null,"Nøgletalsanalyse",null,null,null,null,null,null,null,null,null,null,null,null,null,null,null,null,null,null,20181]
[]
[]
[]
[null,"På denne side kan du se nøgletallene for din valgte kommune over tid og sammenligne med din valgte gruppe af sammenligningskommuner og hele landet. Du kan vælge det nøgletal, du ønsker at se i rullemenuen nedenfor. Du kan også vælge at se alle nøgletal på én gang.\n\nSom udgangspunkt er nøgletallene illustreret som figurer, men du kan folde den tilhørende tabel ud under figuren, hvis du ønsker at se de data, der afbilledes i figuren. Du folder tabellerne ud ved at benytte de røde pile til venstre for tabeloverskriften. \n\nNøgletal 6, 10 og 11 er baseret på kommunes egne indtastninger. Så her er graferne tomme, medminde du har indtastet data under \"Egne indtastninger\".\n\nVed alle nøgletallenes grafik er der infoknapper indeholdende nøgletallets definition, datakilde og opdateringsfrekvens.\n\nTil højre for nøgletallenes første figur er en tekstboks med forudfyldt tekst. Ønsker du at lave en rapport med nøgletallene, kan du bruge tekstboksen til at skrive tekst til figuren. Den forudfyldte tekst kan anvendes eller slettes efter behov. Teksten i tekstboksen printes sammen med figuren i rapporten, hvis du vælger nøgletallet under \"Print rapport\" i den røde bjælke."]
[]
[]
[]
[null,"Vælg nøgletal"]
[null,{"$f":"VLOOKUP(NT_valg,Data!F1674:F1685,2,FALSE)","v":{"$error":"#REF!"}}]
[]
[]
[]
[null,{"$f":"Skyggetabeller!B6","v":"Nøgletal 1: Institutionsanbringelser"}]
[]
[null,"Figur 1: Institutionsanbringelser",null,null,null,null,null,null,null,null,null,null,"Benyt, slet eller erstat gerne følgende tekst til beskrivelse af udviklingen over tid for det pågældende nøgletal. Beskrivelsen vil blive indsat i rapporten (skriv maks 20 linjer):"]
[]
[]
[]
[]
[null,null,null,null,null,null,null,null,null,null,null,null,null,null,null,null,null,null,null,null,null,null,null,null,null,{"$f":"Q2110","v":0}]
[]
[]
[]
[]
[]
[]
[]
[]
[]
[]
[]
[]
[]
[]
[]
[]
[]
[]
[null,{"$f":"Registerdata!$B$30","v":"Anm.: Hvis nøgletallet er angivet med * er der foretaget en diskretionering af data, da der er for få observationer. "}]
[null,{"$f":"IF('Dine valg'!$G$24=\"\",\"Ingen sammenligningsgruppe valgt.\",\"Anm.: Valgte kommuner i sammenligningsgruppen: \"&'Dine valg'!$G$24&\" \"&'Dine valg'!$G$25&\" \"&'Dine valg'!$G$26&\" \"&'Dine valg'!$G$27&\" \"&'Dine valg'!$G$28&\" \"&'Dine valg'!$G$29&\" \"&'Dine valg'!$G$30)","v":"Anm.: Valgte kommuner i sammenligningsgruppen: Aarhus      "}]
[null,{"$f":"Registerdata!$B$32","v":"Kilde: Socialstyrelsens egne beregninger baseret på registerdata fra Danmarks Statistik."}]
[]
[null,{"$f":"Årstal","v":"Tabel 1: Institutionsanbringelser"}]
[]
[null,{"$f":"Skyggetabeller!B9","v":"Nøgletal 1: \nInstitutionsanbringelser"},null,"2016-01-01","2016-07-01","2017-01-01","2017-07-01","2018-01-01","2018-07-01","2019-01-01","2019-07-01","2020-01-01","2020-07-01"]
[null,{"$f":"Skyggetabeller!B10","v":"København"}]
[null,{"$f":"Skyggetabeller!B13","v":"Andel"},null,{"$f":"Skyggetabeller!D13","v":2.2205487651817952},{"$f":"Skyggetabeller!E13","v":2.2233460881513785},{"$f":"Skyggetabeller!F13","v":2.1155026679888556},{"$f":"Skyggetabeller!G13","v":2.1138682854283388},{"$f":"Skyggetabeller!H13","v":1.9857103089913706},{"$f":"Skyggetabeller!I13","v":1.9956959184799601},{"$f":"Skyggetabeller!J13","v":1.8658252160790232},{"$f":"Skyggetabeller!K13","v":1.7523470555121756},{"$f":"Skyggetabeller!L13","v":1.4437566548158307},{"$f":"Skyggetabeller!M13","v":1.6206288039759427}]
[null,{"$f":"Skyggetabeller!B12","v":"Antal 0-17-årige"},null,{"$f":"Skyggetabeller!D12","v":103578},{"$f":"Skyggetabeller!E12","v":104797},{"$f":"Skyggetabeller!F12","v":105885},{"$f":"Skyggetabeller!G12","v":106913},{"$f":"Skyggetabeller!H12","v":107770},{"$f":"Skyggetabeller!I12","v":108734},{"$f":"Skyggetabeller!J12","v":109335},{"$f":"Skyggetabeller!K12","v":110138},{"$f":"Skyggetabeller!L12","v":110822},{"$f":"Skyggetabeller!M12","v":111068}]
[null,{"$f":"Skyggetabeller!B14","v":"Sammenligningsgruppe, gns."}]
[null,{"$f":"Skyggetabeller!B17","v":"Andel"},null,{"$f":"Skyggetabeller!D17","v":3.0365836024485464},{"$f":"Skyggetabeller!E17","v":3.2391894048188927},{"$f":"Skyggetabeller!F17","v":3.0364211563836383},{"$f":"Skyggetabeller!G17","v":3.0121914485470138},{"$f":"Skyggetabeller!H17","v":2.8460747885208315},{"$f":"Skyggetabeller!I17","v":2.6452527161076995},{"$f":"Skyggetabeller!J17","v":2.7355479742795601},{"$f":"Skyggetabeller!K17","v":2.7941730503579052},{"$f":"Skyggetabeller!L17","v":2.6764751917357961},{"$f":"Skyggetabeller!M17","v":2.6977295409181639}]
[null,{"$f":"Skyggetabeller!B16","v":"Antal 0-17-årige"},null,{"$f":"Skyggetabeller!D16","v":62241},{"$f":"Skyggetabeller!E16","v":62670},{"$f":"Skyggetabeller!F16","v":62903},{"$f":"Skyggetabeller!G16","v":63077},{"$f":"Skyggetabeller!H16","v":63245},{"$f":"Skyggetabeller!I16","v":63510},{"$f":"Skyggetabeller!J16","v":63607},{"$f":"Skyggetabeller!K16","v":63704},{"$f":"Skyggetabeller!L16","v":63890},{"$f":"Skyggetabeller!M16","v":64128}]
[null,{"$f":"Skyggetabeller!B18","v":"Hele landet"}]
[null,{"$f":"Skyggetabeller!B21","v":"Andel"},null,{"$f":"Skyggetabeller!D21","v":2.9449404073577252},{"$f":"Skyggetabeller!E21","v":2.9425827890612015},{"$f":"Skyggetabeller!F21","v":2.8941937217995877},{"$f":"Skyggetabeller!G21","v":2.9716062720371248},{"$f":"Skyggetabeller!H21","v":2.8958150110469978},{"$f":"Skyggetabeller!I21","v":2.9263591738047401},{"$f":"Skyggetabeller!J21","v":2.8422213795718569},{"$f":"Skyggetabeller!K21","v":2.8325942014825292},{"$f":"Skyggetabeller!L21","v":2.8267059706811426},{"$f":"Skyggetabeller!M21","v":2.8889176055721157}]
[null,{"$f":"Skyggetabeller!B20","v":"Antal 0-17-årige"},null,{"$f":"Skyggetabeller!D20","v":1167426},{"$f":"Skyggetabeller!E20","v":1167002},{"$f":"Skyggetabeller!F20","v":1168201},{"$f":"Skyggetabeller!G20","v":1165363},{"$f":"Skyggetabeller!H20","v":1165475},{"$f":"Skyggetabeller!I20","v":1162195},{"$f":"Skyggetabeller!J20","v":1160360},{"$f":"Skyggetabeller!K20","v":1156537},{"$f":"Skyggetabeller!L20","v":1156116},{"$f":"Skyggetabeller!M20","v":1153027}]
[null,{"$f":"Registerdata!$B$30","v":"Anm.: Hvis nøgletallet er angivet med * er der foretaget en diskretionering af data, da der er for få observationer. "}]
[null,{"$f":"IF('Dine valg'!$G$24=\"\",\"Ingen sammenligningsgruppe valgt.\",\"Anm.: Valgte kommuner i sammenligningsgruppen: \"&'Dine valg'!$G$24&\" \"&'Dine valg'!$G$25&\" \"&'Dine valg'!$G$26&\" \"&'Dine valg'!$G$27&\" \"&'Dine valg'!$G$28&\" \"&'Dine valg'!$G$29&\" \"&'Dine valg'!$G$30)","v":"Anm.: Valgte kommuner i sammenligningsgruppen: Aarhus      "}]
[null,{"$f":"Registerdata!$B$32","v":"Kilde: Socialstyrelsens egne beregninger baseret på registerdata fra Danmarks Statistik."}]
[]
[null,"Figur 1.1: Anbragte på døgninstitutioner",null,null,null,null,"Figur 1.2 Anbringelser på sikrede døgninstitutioner",null,null,null,null,null,"Figur 1.3: Anbragte på socialpædagogiske opholdssteder"]
[]
[]
[]
[]
[]
[]
[]
[]
[]
[]
[]
[]
[]
[]
[]
[]
[]
[]
[null,"Anm.: Hvis nøgletallet har værdien 0 i grafen kan det enten betyde 0 %, eller at der er foretaget en diskretionering af data, da der er for få observationer. Se tilhørende tabel for værdien."]
[null,{"$f":"IF('Dine valg'!$G$24=\"\",\"Ingen sammenligningsgruppe valgt.\",\"Anm.: Valgte kommuner i sammenligningsgruppen: \"&'Dine valg'!$G$24&\" \"&'Dine valg'!$G$25&\" \"&'Dine valg'!$G$26&\" \"&'Dine valg'!$G$27&\" \"&'Dine valg'!$G$28&\" \"&'Dine valg'!$G$29&\" \"&'Dine valg'!$G$30)","v":"Anm.: Valgte kommuner i sammenligningsgruppen: Aarhus      "}]
[null,{"$f":"Registerdata!$B$32","v":"Kilde: Socialstyrelsens egne beregninger baseret på registerdata fra Danmarks Statistik."}]
[]
[]
[null,{"$f":"Skyggetabeller!B23","v":"Tabel 1.1: Anbragte på døgninstitutioner"}]
[]
[null,{"$f":"Skyggetabeller!B24","v":"Nøgletal 1.1\nAnbragte på døgninstitutioner"},null,"2016-01-01","2016-07-01","2017-01-01","2017-07-01","2018-01-01","2018-07-01","2019-01-01","2019-07-01","2020-01-01","2020-07-01","2021-01-01","2021-07-01","2022-01-01","2022-07-01","2023-01-01"]
[null,{"$f":"Skyggetabeller!B25","v":"København"}]
[null,{"$f":"Skyggetabeller!B28","v":"Andel"},null,{"$f":"Skyggetabeller!D28","v":0.73478260869565215},{"$f":"Skyggetabeller!E28","v":0.75107296137339052},{"$f":"Skyggetabeller!F28","v":0.7589285714285714},{"$f":"Skyggetabeller!G28","v":0.80088495575221241},{"$f":"Skyggetabeller!H28","v":0.81308411214953269},{"$f":"Skyggetabeller!I28","v":0.8018433179723502},{"$f":"Skyggetabeller!J28","v":0.78921568627450978},{"$f":"Skyggetabeller!K28","v":0.79274611398963735},{"$f":"Skyggetabeller!L28","v":0.86875000000000002},{"$f":"Skyggetabeller!M28","v":0.81666666666666665},{"$f":"Skyggetabeller!N28","v":0.79104477611940294},{"$f":"Skyggetabeller!O28","v":0.75342465753424659},{"$f":"Skyggetabeller!P28","v":0.79723502304147464},{"$f":"Skyggetabeller!Q28","v":0.80658436213991769},{"$f":"Skyggetabeller!R28","v":0.80645161290322576}]
[null,{"$f":"Skyggetabeller!B29","v":"Sammenligningsgruppe, gns."}]
[null,{"$f":"Skyggetabeller!B32","v":"Andel"},null,{"$f":"Skyggetabeller!D32","v":0.67195767195767198},{"$f":"Skyggetabeller!E32","v":0.67980295566502458},{"$f":"Skyggetabeller!F32","v":0.69633507853403143},{"$f":"Skyggetabeller!G32","v":0.7},{"$f":"Skyggetabeller!H32","v":0.66111111111111109},{"$f":"Skyggetabeller!I32","v":0.69047619047619047},{"$f":"Skyggetabeller!J32","v":0.67816091954022983},{"$f":"Skyggetabeller!K32","v":0.7134831460674157},{"$f":"Skyggetabeller!L32","v":0.70175438596491224},{"$f":"Skyggetabeller!M32","v":0.73410404624277459},{"$f":"Skyggetabeller!N32","v":0.70285714285714285},{"$f":"Skyggetabeller!O32","v":0.67428571428571427},{"$f":"Skyggetabeller!P32","v":0.67701863354037262},{"$f":"Skyggetabeller!Q32","v":0.62643678160919536},{"$f":"Skyggetabeller!R32","v":0.65476190476190477}]
[null,{"$f":"Skyggetabeller!B33","v":"Hele landet"}]
[null,{"$f":"Skyggetabeller!B36","v":"Andel"},null,{"$f":"Skyggetabeller!D36","v":0.53228621291448519},{"$f":"Skyggetabeller!E36","v":0.53669190448456605},{"$f":"Skyggetabeller!F36","v":0.53682342502218283},{"$f":"Skyggetabeller!G36","v":0.52237943979208779},{"$f":"Skyggetabeller!H36","v":0.52148148148148143},{"$f":"Skyggetabeller!I36","v":0.52072919729491329},{"$f":"Skyggetabeller!J36","v":0.51182534869617946},{"$f":"Skyggetabeller!K36","v":0.5146520146520146},{"$f":"Skyggetabeller!L36","v":0.51254589963280295},{"$f":"Skyggetabeller!M36","v":0.50015010507355151},{"$f":"Skyggetabeller!N36","v":0.50162194043055142},{"$f":"Skyggetabeller!O36","v":0.48519689565967233},{"$f":"Skyggetabeller!P36","v":0.49104046242774568},{"$f":"Skyggetabeller!Q36","v":0.48647902869757176},{"$f":"Skyggetabeller!R36","v":0.48595814977973567}]
[null,{"$f":"Registerdata!$B$30","v":"Anm.: Hvis nøgletallet er angivet med * er der foretaget en diskretionering af data, da der er for få observationer. "}]
[null,{"$f":"IF('Dine valg'!$G$24=\"\",\"Ingen sammenligningsgruppe valgt.\",\"Anm.: Valgte kommuner i sammenligningsgruppen: \"&'Dine valg'!$G$24&\" \"&'Dine valg'!$G$25&\" \"&'Dine valg'!$G$26&\" \"&'Dine valg'!$G$27&\" \"&'Dine valg'!$G$28&\" \"&'Dine valg'!$G$29&\" \"&'Dine valg'!$G$30)","v":"Anm.: Valgte kommuner i sammenligningsgruppen: Aarhus      "}]
[null,{"$f":"Registerdata!$B$32","v":"Kilde: Socialstyrelsens egne beregninger baseret på registerdata fra Danmarks Statistik."}]
[]
[null,{"$f":"Skyggetabeller!B38","v":"Tabel 1.2: Anbragte på sikrede døgninstitutioner"}]
[]
[null,{"$f":"Skyggetabeller!B39","v":"Nøgletal 1.2\nAnbragte på sikrede døgninstitutioner"},null,"2016-01-01","2016-07-01","2017-01-01","2017-07-01","2018-01-01","2018-07-01","2019-01-01","2019-07-01","2020-01-01","2020-07-01","2021-01-01","2021-07-01","2022-01-01","2022-07-01","2023-01-01"]
[null,{"$f":"Skyggetabeller!B40","v":"København"}]
[null,{"$f":"Skyggetabeller!B43","v":"Andel"},null,{"$f":"Skyggetabeller!D43","v":3.0434782608695653E-2},{"$f":"Skyggetabeller!E43","v":2.575107296137339E-2},{"$f":"Skyggetabeller!F43","v":3.125E-2},{"$f":"Skyggetabeller!G43","v":2.6548672566371681E-2},{"$f":"Skyggetabeller!H43","v":2.8037383177570093E-2},{"$f":"Skyggetabeller!I43","v":4.6082949308755762E-2},{"$f":"Skyggetabeller!J43","v":4.9019607843137254E-2},{"$f":"Skyggetabeller!K43","v":2.5906735751295335E-2},{"$f":"Skyggetabeller!L43","v":"*"},{"$f":"Skyggetabeller!M43","v":0.05},{"$f":"Skyggetabeller!N43","v":8.45771144278607E-2},{"$f":"Skyggetabeller!O43","v":0.1004566210045662},{"$f":"Skyggetabeller!P43","v":7.3732718894009217E-2},{"$f":"Skyggetabeller!Q43","v":6.1728395061728392E-2},{"$f":"Skyggetabeller!R43","v":4.0322580645161289E-2}]
[null,{"$f":"Skyggetabeller!B44","v":"Sammenligningsgruppe, gns."}]
[null,{"$f":"Skyggetabeller!B47","v":"Andel"},null,{"$f":"Skyggetabeller!D47","v":3.7037037037037035E-2},{"$f":"Skyggetabeller!E47","v":1.9704433497536946E-2},{"$f":"Skyggetabeller!F47","v":1.5706806282722512E-2},{"$f":"Skyggetabeller!G47","v":2.1052631578947368E-2},{"$f":"Skyggetabeller!H47","v":2.2222222222222223E-2},{"$f":"Skyggetabeller!I47","v":4.1666666666666664E-2},{"$f":"Skyggetabeller!J47","v":5.7471264367816091E-2},{"$f":"Skyggetabeller!K47","v":5.0561797752808987E-2},{"$f":"Skyggetabeller!L47","v":9.3567251461988299E-2},{"$f":"Skyggetabeller!M47","v":6.358381502890173E-2},{"$f":"Skyggetabeller!N47","v":8.5714285714285715E-2},{"$f":"Skyggetabeller!O47","v":0.08},{"$f":"Skyggetabeller!P47","v":8.6956521739130432E-2},{"$f":"Skyggetabeller!Q47","v":9.7701149425287362E-2},{"$f":"Skyggetabeller!R47","v":8.3333333333333329E-2}]
[null,{"$f":"Skyggetabeller!B48","v":"Hele landet"}]
[null,{"$f":"Skyggetabeller!B51","v":"Andel"},null,{"$f":"Skyggetabeller!D51","v":1.6870273414776031E-2},{"$f":"Skyggetabeller!E51","v":1.8054746651135701E-2},{"$f":"Skyggetabeller!F51","v":2.3661638568470866E-2},{"$f":"Skyggetabeller!G51","v":2.2812590239676581E-2},{"$f":"Skyggetabeller!H51","v":1.8962962962962963E-2},{"$f":"Skyggetabeller!I51","v":2.4698618053513671E-2},{"$f":"Skyggetabeller!J51","v":2.3044269254093391E-2},{"$f":"Skyggetabeller!K51","v":2.197802197802198E-2},{"$f":"Skyggetabeller!L51","v":2.4173806609547124E-2},{"$f":"Skyggetabeller!M51","v":2.5217652356649654E-2},{"$f":"Skyggetabeller!N51","v":2.8015334709525212E-2},{"$f":"Skyggetabeller!O51","v":2.8169014084507043E-2},{"$f":"Skyggetabeller!P51","v":2.4277456647398842E-2},{"$f":"Skyggetabeller!Q51","v":2.4282560706401765E-2},{"$f":"Skyggetabeller!R51","v":2.340308370044053E-2}]
[null,{"$f":"Registerdata!$B$30","v":"Anm.: Hvis nøgletallet er angivet med * er der foretaget en diskretionering af data, da der er for få observationer. "}]
[null,{"$f":"IF('Dine valg'!$G$24=\"\",\"Ingen sammenligningsgruppe valgt.\",\"Anm.: Valgte kommuner i sammenligningsgruppen: \"&'Dine valg'!$G$24&\" \"&'Dine valg'!$G$25&\" \"&'Dine valg'!$G$26&\" \"&'Dine valg'!$G$27&\" \"&'Dine valg'!$G$28&\" \"&'Dine valg'!$G$29&\" \"&'Dine valg'!$G$30)","v":"Anm.: Valgte kommuner i sammenligningsgruppen: Aarhus      "}]
[null,{"$f":"Registerdata!$B$32","v":"Kilde: Socialstyrelsens egne beregninger baseret på registerdata fra Danmarks Statistik."}]
[]
[null,{"$f":"Skyggetabeller!B54","v":"Tabel 1.3: Anbragte på socialpædagogiske opholdssteder"}]
[]
[null,{"$f":"Skyggetabeller!B55","v":"Nøgletal 1.3\nAnbragte på socialpædagogiske opholdssteder"},null,"2016-01-01","2016-07-01","2017-01-01","2017-07-01","2018-01-01","2018-07-01","2019-01-01","2019-07-01","2020-01-01","2020-07-01","2021-01-01","2021-07-01","2022-01-01","2022-07-01","2023-01-01"]
[null,{"$f":"Skyggetabeller!B56","v":"København"}]
[null,{"$f":"Skyggetabeller!B59","v":"Andel"},null,{"$f":"Skyggetabeller!D59","v":0.23478260869565218},{"$f":"Skyggetabeller!E59","v":0.22317596566523606},{"$f":"Skyggetabeller!F59","v":0.20982142857142858},{"$f":"Skyggetabeller!G59","v":0.17256637168141592},{"$f":"Skyggetabeller!H59","v":0.15887850467289719},{"$f":"Skyggetabeller!I59","v":0.15207373271889402},{"$f":"Skyggetabeller!J59","v":0.16176470588235295},{"$f":"Skyggetabeller!K59","v":0.18134715025906736},{"$f":"Skyggetabeller!L59","v":"*"},{"$f":"Skyggetabeller!M59","v":0.13333333333333333},{"$f":"Skyggetabeller!N59","v":0.12437810945273632},{"$f":"Skyggetabeller!O59","v":0.14611872146118721},{"$f":"Skyggetabeller!P59","v":0.12903225806451613},{"$f":"Skyggetabeller!Q59","v":0.13168724279835392},{"$f":"Skyggetabeller!R59","v":0.15322580645161291}]
[null,{"$f":"Skyggetabeller!B60","v":"Sammenligningsgruppe, gns."}]
[null,{"$f":"Skyggetabeller!B63","v":"Andel"},null,{"$f":"Skyggetabeller!D63","v":0.29100529100529099},{"$f":"Skyggetabeller!E63","v":0.30049261083743845},{"$f":"Skyggetabeller!F63","v":0.2879581151832461},{"$f":"Skyggetabeller!G63","v":0.27894736842105261},{"$f":"Skyggetabeller!H63","v":0.31666666666666665},{"$f":"Skyggetabeller!I63","v":0.26785714285714285},{"$f":"Skyggetabeller!J63","v":0.26436781609195403},{"$f":"Skyggetabeller!K63","v":0.23595505617977527},{"$f":"Skyggetabeller!L63","v":0.2046783625730994},{"$f":"Skyggetabeller!M63","v":0.20231213872832371},{"$f":"Skyggetabeller!N63","v":0.21142857142857144},{"$f":"Skyggetabeller!O63","v":0.24571428571428572},{"$f":"Skyggetabeller!P63","v":0.2360248447204969},{"$f":"Skyggetabeller!Q63","v":0.27586206896551724},{"$f":"Skyggetabeller!R63","v":0.26190476190476192}]
[null,{"$f":"Skyggetabeller!B64","v":"Hele landet"}]
[null,{"$f":"Skyggetabeller!B67","v":"Andel"},null,{"$f":"Skyggetabeller!D67","v":0.45084351367073883},{"$f":"Skyggetabeller!E67","v":0.44525334886429818},{"$f":"Skyggetabeller!F67","v":0.43951493640934636},{"$f":"Skyggetabeller!G67","v":0.45480796996823564},{"$f":"Skyggetabeller!H67","v":0.45955555555555555},{"$f":"Skyggetabeller!I67","v":0.45457218465157306},{"$f":"Skyggetabeller!J67","v":0.46513038204972712},{"$f":"Skyggetabeller!K67","v":0.46336996336996339},{"$f":"Skyggetabeller!L67","v":0.46328029375764995},{"$f":"Skyggetabeller!M67","v":0.47463224256979886},{"$f":"Skyggetabeller!N67","v":0.47036272485992331},{"$f":"Skyggetabeller!O67","v":0.48663409025582066},{"$f":"Skyggetabeller!P67","v":0.48468208092485549},{"$f":"Skyggetabeller!Q67","v":0.48923841059602646},{"$f":"Skyggetabeller!R67","v":0.4906387665198238}]
[null,{"$f":"Registerdata!$B$30","v":"Anm.: Hvis nøgletallet er angivet med * er der foretaget en diskretionering af data, da der er for få observationer. "}]
[null,{"$f":"IF('Dine valg'!$G$24=\"\",\"Ingen sammenligningsgruppe valgt.\",\"Anm.: Valgte kommuner i sammenligningsgruppen: \"&'Dine valg'!$G$24&\" \"&'Dine valg'!$G$25&\" \"&'Dine valg'!$G$26&\" \"&'Dine valg'!$G$27&\" \"&'Dine valg'!$G$28&\" \"&'Dine valg'!$G$29&\" \"&'Dine valg'!$G$30)","v":"Anm.: Valgte kommuner i sammenligningsgruppen: Aarhus      "}]
[null,{"$f":"Registerdata!$B$32","v":"Kilde: Socialstyrelsens egne beregninger baseret på registerdata fra Danmarks Statistik."}]
[]
[]
[null,{"$f":"\"Figur 1.4: Fordeling af institutionsanbragte for \"&Kommune","v":"Figur 1.4: Fordeling af institutionsanbragte for København"},null,null,null,null,{"$f":"\"Figur 1.5 fordeling af institutionsanbragte for \"&Skyggetabeller!B14","v":"Figur 1.5 fordeling af institutionsanbragte for Sammenligningsgruppe, gns."},null,null,null,null,null,{"$f":"\"Figur 1.6: Fordelingen af institutionsanbragte for \"&Skyggetabeller!B18","v":"Figur 1.6: Fordelingen af institutionsanbragte for Hele landet"}]
[]
[]
[]
[]
[]
[]
[]
[]
[]
[]
[]
[]
[]
[]
[]
[]
[]
[]
[]
[]
[null,"Anm.: Hvis de enkelte nedslagspunkter ikke summer til 100 %, skyldes det diskretionerede værdier. Disse udgør marginen til 100 %.",null,null,null,null,"Anm.: Hvis de enkelte nedslagspunkter ikke summer til 100 %, skyldes det diskretionerede værdier. Disse udgør marginen til 100 %.",null,null,null,null,null,"Anm.: Hvis de enkelte nedslagspunkter ikke summer til 100 %, skyldes det diskretionerede værdier. Disse udgør marginen til 100 %."]
[null,{"$f":"Registerdata!$B$30","v":"Anm.: Hvis nøgletallet er angivet med * er der foretaget en diskretionering af data, da der er for få observationer. "},null,null,null,null,{"$f":"Registerdata!$B$30","v":"Anm.: Hvis nøgletallet er angivet med * er der foretaget en diskretionering af data, da der er for få observationer. "},null,null,null,null,null,{"$f":"Registerdata!$B$30","v":"Anm.: Hvis nøgletallet er angivet med * er der foretaget en diskretionering af data, da der er for få observationer. "}]
[null,{"$f":"IF('Dine valg'!$G$24=\"\",\"Ingen sammenligningsgruppe valgt.\",\"Anm.: Valgte kommuner i sammenligningsgruppen: \"&'Dine valg'!$G$24&\" \"&'Dine valg'!$G$25&\" \"&'Dine valg'!$G$26&\" \"&'Dine valg'!$G$27&\" \"&'Dine valg'!$G$28&\" \"&'Dine valg'!$G$29&\" \"&'Dine valg'!$G$30)","v":"Anm.: Valgte kommuner i sammenligningsgruppen: Aarhus      "},null,null,null,null,{"$f":"IF('Dine valg'!$G$24=\"\",\"Ingen sammenligningsgruppe valgt.\",\"Anm.: Valgte kommuner i sammenligningsgruppen: \"&'Dine valg'!$G$24&\" \"&'Dine valg'!$G$25&\" \"&'Dine valg'!$G$26&\" \"&'Dine valg'!$G$27&\" \"&'Dine valg'!$G$28&\" \"&'Dine valg'!$G$29&\" \"&'Dine valg'!$G$30)","v":"Anm.: Valgte kommuner i sammenligningsgruppen: Aarhus      "},null,null,null,null,null,{"$f":"IF('Dine valg'!$G$24=\"\",\"Ingen sammenligningsgruppe valgt.\",\"Anm.: Valgte kommuner i sammenligningsgruppen: \"&'Dine valg'!$G$24&\" \"&'Dine valg'!$G$25&\" \"&'Dine valg'!$G$26&\" \"&'Dine valg'!$G$27&\" \"&'Dine valg'!$G$28&\" \"&'Dine valg'!$G$29&\" \"&'Dine valg'!$G$30)","v":"Anm.: Valgte kommuner i sammenligningsgruppen: Aarhus      "}]
[null,{"$f":"Registerdata!$B$32","v":"Kilde: Socialstyrelsens egne beregninger baseret på registerdata fra Danmarks Statistik."},null,null,null,null,{"$f":"Registerdata!$B$32","v":"Kilde: Socialstyrelsens egne beregninger baseret på registerdata fra Danmarks Statistik."},null,null,null,null,null,{"$f":"Registerdata!$B$32","v":"Kilde: Socialstyrelsens egne beregninger baseret på registerdata fra Danmarks Statistik."}]
[]
[]
[]
[null,{"$f":"Skyggetabeller!B71","v":"Tabel 1.4: Fordeling af institutionsanbragte for København"}]
[]
[null,{"$f":"Skyggetabeller!B72","v":"Nøgletal 1.4\nFordeling af anbragte for København"},null,"2016-01-01","2016-07-01","2017-01-01","2017-07-01","2018-01-01","2018-07-01","2019-01-01","2019-07-01","2020-01-01","2020-07-01","2021-01-01","2021-07-01","2022-01-01","2022-07-01","2023-01-01"]
[null,{"$f":"Skyggetabeller!B73","v":"Døgninstitutioner"},null,{"$f":"Skyggetabeller!D73","v":0.73478260869565215},{"$f":"Skyggetabeller!E73","v":0.75107296137339052},{"$f":"Skyggetabeller!F73","v":0.7589285714285714},{"$f":"Skyggetabeller!G73","v":0.80088495575221241},{"$f":"Skyggetabeller!H73","v":0.81308411214953269},{"$f":"Skyggetabeller!I73","v":0.8018433179723502},{"$f":"Skyggetabeller!J73","v":0.78921568627450978},{"$f":"Skyggetabeller!K73","v":0.79274611398963735},{"$f":"Skyggetabeller!L73","v":0.86875000000000002},{"$f":"Skyggetabeller!M73","v":0.81666666666666665},{"$f":"Skyggetabeller!N73","v":0.79104477611940294},{"$f":"Skyggetabeller!O73","v":0.75342465753424659},{"$f":"Skyggetabeller!P73","v":0.79723502304147464},{"$f":"Skyggetabeller!Q73","v":0.80658436213991769},{"$f":"Skyggetabeller!R73","v":0.80645161290322576}]
[null,{"$f":"Skyggetabeller!B74","v":"Sikrede døgninstitutioner"},null,{"$f":"Skyggetabeller!D74","v":3.0434782608695653E-2},{"$f":"Skyggetabeller!E74","v":2.575107296137339E-2},{"$f":"Skyggetabeller!F74","v":3.125E-2},{"$f":"Skyggetabeller!G74","v":2.6548672566371681E-2},{"$f":"Skyggetabeller!H74","v":2.8037383177570093E-2},{"$f":"Skyggetabeller!I74","v":4.6082949308755762E-2},{"$f":"Skyggetabeller!J74","v":4.9019607843137254E-2},{"$f":"Skyggetabeller!K74","v":2.5906735751295335E-2},{"$f":"Skyggetabeller!L74","v":"*"},{"$f":"Skyggetabeller!M74","v":0.05},{"$f":"Skyggetabeller!N74","v":8.45771144278607E-2},{"$f":"Skyggetabeller!O74","v":0.1004566210045662},{"$f":"Skyggetabeller!P74","v":7.3732718894009217E-2},{"$f":"Skyggetabeller!Q74","v":6.1728395061728392E-2},{"$f":"Skyggetabeller!R74","v":4.0322580645161289E-2}]
[null,{"$f":"Skyggetabeller!B75","v":"Socialpædagogiske opholdssteder"},null,{"$f":"Skyggetabeller!D75","v":0.23478260869565218},{"$f":"Skyggetabeller!E75","v":0.22317596566523606},{"$f":"Skyggetabeller!F75","v":0.20982142857142858},{"$f":"Skyggetabeller!G75","v":0.17256637168141592},{"$f":"Skyggetabeller!H75","v":0.15887850467289719},{"$f":"Skyggetabeller!I75","v":0.15207373271889402},{"$f":"Skyggetabeller!J75","v":0.16176470588235295},{"$f":"Skyggetabeller!K75","v":0.18134715025906736},{"$f":"Skyggetabeller!L75","v":"*"},{"$f":"Skyggetabeller!M75","v":0.13333333333333333},{"$f":"Skyggetabeller!N75","v":0.12437810945273632},{"$f":"Skyggetabeller!O75","v":0.14611872146118721},{"$f":"Skyggetabeller!P75","v":0.12903225806451613},{"$f":"Skyggetabeller!Q75","v":0.13168724279835392},{"$f":"Skyggetabeller!R75","v":0.15322580645161291}]
[null,"Anm.: Hvis de enkelte nedslagspunkter ikke summer til 100 %, skyldes det diskretionerede værdier. Disse udgør marginen til 100 %."]
[null,{"$f":"Registerdata!$B$30","v":"Anm.: Hvis nøgletallet er angivet med * er der foretaget en diskretionering af data, da der er for få observationer. "}]
[null,{"$f":"IF('Dine valg'!$G$24=\"\",\"Ingen sammenligningsgruppe valgt.\",\"Anm.: Valgte kommuner i sammenligningsgruppen: \"&'Dine valg'!$G$24&\" \"&'Dine valg'!$G$25&\" \"&'Dine valg'!$G$26&\" \"&'Dine valg'!$G$27&\" \"&'Dine valg'!$G$28&\" \"&'Dine valg'!$G$29&\" \"&'Dine valg'!$G$30)","v":"Anm.: Valgte kommuner i sammenligningsgruppen: Aarhus      "}]
[null,{"$f":"Registerdata!$B$32","v":"Kilde: Socialstyrelsens egne beregninger baseret på registerdata fra Danmarks Statistik."}]
[]
[null,{"$f":"Skyggetabeller!B77","v":"Tabel 1.5: Fordeling af institutionsanbragte for Sammenligningsgruppe, gns."}]
[]
[null,{"$f":"Skyggetabeller!B77","v":"Tabel 1.5: Fordeling af institutionsanbragte for Sammenligningsgruppe, gns."},null,"2016-01-01","2016-07-01","2017-01-01","2017-07-01","2018-01-01","2018-07-01","2019-01-01","2019-07-01","2020-01-01","2020-07-01","2021-01-01","2021-07-01","2022-01-01","2022-07-01","2023-01-01"]
[null,{"$f":"Skyggetabeller!B79","v":"Døgninstitutioner"},null,{"$f":"Skyggetabeller!D79","v":0.67195767195767198},{"$f":"Skyggetabeller!E79","v":0.67980295566502458},{"$f":"Skyggetabeller!F79","v":0.69633507853403143},{"$f":"Skyggetabeller!G79","v":0.7},{"$f":"Skyggetabeller!H79","v":0.66111111111111109},{"$f":"Skyggetabeller!I79","v":0.69047619047619047},{"$f":"Skyggetabeller!J79","v":0.67816091954022983},{"$f":"Skyggetabeller!K79","v":0.7134831460674157},{"$f":"Skyggetabeller!L79","v":0.70175438596491224},{"$f":"Skyggetabeller!M79","v":0.73410404624277459},{"$f":"Skyggetabeller!N79","v":0.70285714285714285},{"$f":"Skyggetabeller!O79","v":0.67428571428571427},{"$f":"Skyggetabeller!P79","v":0.67701863354037262},{"$f":"Skyggetabeller!Q79","v":0.62643678160919536},{"$f":"Skyggetabeller!R79","v":0.65476190476190477}]
[null,{"$f":"Skyggetabeller!B80","v":"Sikrede døgninstitutioner"},null,{"$f":"Skyggetabeller!D80","v":3.7037037037037035E-2},{"$f":"Skyggetabeller!E80","v":1.9704433497536946E-2},{"$f":"Skyggetabeller!F80","v":1.5706806282722512E-2},{"$f":"Skyggetabeller!G80","v":2.1052631578947368E-2},{"$f":"Skyggetabeller!H80","v":2.2222222222222223E-2},{"$f":"Skyggetabeller!I80","v":4.1666666666666664E-2},{"$f":"Skyggetabeller!J80","v":5.7471264367816091E-2},{"$f":"Skyggetabeller!K80","v":5.0561797752808987E-2},{"$f":"Skyggetabeller!L80","v":9.3567251461988299E-2},{"$f":"Skyggetabeller!M80","v":6.358381502890173E-2},{"$f":"Skyggetabeller!N80","v":8.5714285714285715E-2},{"$f":"Skyggetabeller!O80","v":0.08},{"$f":"Skyggetabeller!P80","v":8.6956521739130432E-2},{"$f":"Skyggetabeller!Q80","v":9.7701149425287362E-2},{"$f":"Skyggetabeller!R80","v":8.3333333333333329E-2}]
[null,{"$f":"Skyggetabeller!B81","v":"Socialpædagogiske opholdssteder"},null,{"$f":"Skyggetabeller!D81","v":0.29100529100529099},{"$f":"Skyggetabeller!E81","v":0.30049261083743845},{"$f":"Skyggetabeller!F81","v":0.2879581151832461},{"$f":"Skyggetabeller!G81","v":0.27894736842105261},{"$f":"Skyggetabeller!H81","v":0.31666666666666665},{"$f":"Skyggetabeller!I81","v":0.26785714285714285},{"$f":"Skyggetabeller!J81","v":0.26436781609195403},{"$f":"Skyggetabeller!K81","v":0.23595505617977527},{"$f":"Skyggetabeller!L81","v":0.2046783625730994},{"$f":"Skyggetabeller!M81","v":0.20231213872832371},{"$f":"Skyggetabeller!N81","v":0.21142857142857144},{"$f":"Skyggetabeller!O81","v":0.24571428571428572},{"$f":"Skyggetabeller!P81","v":0.2360248447204969},{"$f":"Skyggetabeller!Q81","v":0.27586206896551724},{"$f":"Skyggetabeller!R81","v":0.26190476190476192}]
[null,"Anm.: Hvis de enkelte nedslagspunkter ikke summer til 100 %, skyldes det diskretionerede værdier. Disse udgør marginen til 100 %."]
[null,{"$f":"Registerdata!$B$30","v":"Anm.: Hvis nøgletallet er angivet med * er der foretaget en diskretionering af data, da der er for få observationer. "}]
[null,{"$f":"IF('Dine valg'!$G$24=\"\",\"Ingen sammenligningsgruppe valgt.\",\"Anm.: Valgte kommuner i sammenligningsgruppen: \"&'Dine valg'!$G$24&\" \"&'Dine valg'!$G$25&\" \"&'Dine valg'!$G$26&\" \"&'Dine valg'!$G$27&\" \"&'Dine valg'!$G$28&\" \"&'Dine valg'!$G$29&\" \"&'Dine valg'!$G$30)","v":"Anm.: Valgte kommuner i sammenligningsgruppen: Aarhus      "}]
[null,{"$f":"Registerdata!$B$32","v":"Kilde: Socialstyrelsens egne beregninger baseret på registerdata fra Danmarks Statistik."}]
[]
[null,{"$f":"Skyggetabeller!B83","v":"Tabel 1.6: Fordeling af institutionsanbragte for Hele landet"}]
[]
[null,{"$f":"Skyggetabeller!B83","v":"Tabel 1.6: Fordeling af institutionsanbragte for Hele landet"},null,"2016-01-01","2016-07-01","2017-01-01","2017-07-01","2018-01-01","2018-07-01","2019-01-01","2019-07-01","2020-01-01","2020-07-01","2021-01-01","2021-07-01","2022-01-01","2022-07-01","2023-01-01"]
[null,{"$f":"Skyggetabeller!B85","v":"Døgninstitutioner"},null,{"$f":"Skyggetabeller!D85","v":0.53228621291448519},{"$f":"Skyggetabeller!E85","v":0.53669190448456605},{"$f":"Skyggetabeller!F85","v":0.53682342502218283},{"$f":"Skyggetabeller!G85","v":0.52237943979208779},{"$f":"Skyggetabeller!H85","v":0.52148148148148143},{"$f":"Skyggetabeller!I85","v":0.52072919729491329},{"$f":"Skyggetabeller!J85","v":0.51182534869617946},{"$f":"Skyggetabeller!K85","v":0.5146520146520146},{"$f":"Skyggetabeller!L85","v":0.51254589963280295},{"$f":"Skyggetabeller!M85","v":0.50015010507355151},{"$f":"Skyggetabeller!N85","v":0.50162194043055142},{"$f":"Skyggetabeller!O85","v":0.48519689565967233},{"$f":"Skyggetabeller!P85","v":0.49104046242774568},{"$f":"Skyggetabeller!Q85","v":0.48647902869757176},{"$f":"Skyggetabeller!R85","v":0.48595814977973567}]
[null,{"$f":"Skyggetabeller!B86","v":"Sikrede døgninstitutioner"},null,{"$f":"Skyggetabeller!D86","v":1.6870273414776031E-2},{"$f":"Skyggetabeller!E86","v":1.8054746651135701E-2},{"$f":"Skyggetabeller!F86","v":2.3661638568470866E-2},{"$f":"Skyggetabeller!G86","v":2.2812590239676581E-2},{"$f":"Skyggetabeller!H86","v":1.8962962962962963E-2},{"$f":"Skyggetabeller!I86","v":2.4698618053513671E-2},{"$f":"Skyggetabeller!J86","v":2.3044269254093391E-2},{"$f":"Skyggetabeller!K86","v":2.197802197802198E-2},{"$f":"Skyggetabeller!L86","v":2.4173806609547124E-2},{"$f":"Skyggetabeller!M86","v":2.5217652356649654E-2},{"$f":"Skyggetabeller!N86","v":2.8015334709525212E-2},{"$f":"Skyggetabeller!O86","v":2.8169014084507043E-2},{"$f":"Skyggetabeller!P86","v":2.4277456647398842E-2},{"$f":"Skyggetabeller!Q86","v":2.4282560706401765E-2},{"$f":"Skyggetabeller!R86","v":2.340308370044053E-2}]
[null,{"$f":"Skyggetabeller!B87","v":"Socialpædagogiske opholdssteder"},null,{"$f":"Skyggetabeller!D87","v":0.45084351367073883},{"$f":"Skyggetabeller!E87","v":0.44525334886429818},{"$f":"Skyggetabeller!F87","v":0.43951493640934636},{"$f":"Skyggetabeller!G87","v":0.45480796996823564},{"$f":"Skyggetabeller!H87","v":0.45955555555555555},{"$f":"Skyggetabeller!I87","v":0.45457218465157306},{"$f":"Skyggetabeller!J87","v":0.46513038204972712},{"$f":"Skyggetabeller!K87","v":0.46336996336996339},{"$f":"Skyggetabeller!L87","v":0.46328029375764995},{"$f":"Skyggetabeller!M87","v":0.47463224256979886},{"$f":"Skyggetabeller!N87","v":0.47036272485992331},{"$f":"Skyggetabeller!O87","v":0.48663409025582066},{"$f":"Skyggetabeller!P87","v":0.48468208092485549},{"$f":"Skyggetabeller!Q87","v":0.48923841059602646},{"$f":"Skyggetabeller!R87","v":0.4906387665198238}]
[null,"Anm.: Hvis de enkelte nedslagspunkter ikke summer til 100 %, skyldes det diskretionerede værdier. Disse udgør marginen til 100 %."]
[null,{"$f":"Registerdata!$B$30","v":"Anm.: Hvis nøgletallet er angivet med * er der foretaget en diskretionering af data, da der er for få observationer. "}]
[null,{"$f":"IF('Dine valg'!$G$24=\"\",\"Ingen sammenligningsgruppe valgt.\",\"Anm.: Valgte kommuner i sammenligningsgruppen: \"&'Dine valg'!$G$24&\" \"&'Dine valg'!$G$25&\" \"&'Dine valg'!$G$26&\" \"&'Dine valg'!$G$27&\" \"&'Dine valg'!$G$28&\" \"&'Dine valg'!$G$29&\" \"&'Dine valg'!$G$30)","v":"Anm.: Valgte kommuner i sammenligningsgruppen: Aarhus      "}]
[null,{"$f":"Registerdata!$B$32","v":"Kilde: Socialstyrelsens egne beregninger baseret på registerdata fra Danmarks Statistik."}]
[]
[" "]
[null,{"$f":"Skyggetabeller!B90","v":"Nøgletal 2: Varighed af institutionsanbringelser"}]
[]
[null,"Figur 2: Varighed af institutionsanbringelser",null,null,null,null,null,null,null,null,null,null,"Benyt, slet eller erstat gerne følgende tekst til beskrivelse af udviklingen over tid for det pågældende nøgletal. Beskrivelsen vil blive indsat i rapporten (skriv maks 20 linjer):"]
[]
[]
[]
[]
[]
[]
[]
[]
[]
[]
[]
[]
[]
[]
[]
[]
[]
[]
[]
[]
[]
[]
[]
[null,"Anm.: Hvis nøgletallet har værdien 0 i grafen kan det enten betyde 0 %, eller at der er foretaget en diskretionering af data, da der er for få observationer. Se tilhørende tabel for værdien."]
[null,{"$f":"IF('Dine valg'!$G$24=\"\",\"Ingen sammenligningsgruppe valgt.\",\"Anm.: Valgte kommuner i sammenligningsgruppen: \"&'Dine valg'!$G$24&\" \"&'Dine valg'!$G$25&\" \"&'Dine valg'!$G$26&\" \"&'Dine valg'!$G$27&\" \"&'Dine valg'!$G$28&\" \"&'Dine valg'!$G$29&\" \"&'Dine valg'!$G$30)","v":"Anm.: Valgte kommuner i sammenligningsgruppen: Aarhus      "}]
[null,{"$f":"Registerdata!$B$32","v":"Kilde: Socialstyrelsens egne beregninger baseret på registerdata fra Danmarks Statistik."}]
[]
[]
[null,{"$f":"Skyggetabeller!B92","v":"Tabel 2: Gennemsnitlig varighed af igangværende institutionsanbringelser"}]
[]
[null,{"$f":"Skyggetabeller!B93","v":"Nøgletal 2: \nGennemsnitlig varighed af igangværende institutionsanbringelser"},null,"2016-01-01","2016-07-01","2017-01-01","2017-07-01","2018-01-01","2018-07-01","2019-01-01","2019-07-01","2020-01-01","2020-07-01"]
[null,{"$f":"Skyggetabeller!B94","v":"København"}]
[null,{"$f":"Skyggetabeller!B97","v":"Gennemsnitlig varighed"},null,{"$f":"Skyggetabeller!D97","v":806.42608695652177},{"$f":"Skyggetabeller!E97","v":798.41201716738192},{"$f":"Skyggetabeller!F97","v":790.14285714285711},{"$f":"Skyggetabeller!G97","v":728.07964601769913},{"$f":"Skyggetabeller!H97","v":723.58411214953276},{"$f":"Skyggetabeller!I97","v":721.55299539170505},{"$f":"Skyggetabeller!J97","v":732.49509803921569},{"$f":"Skyggetabeller!K97","v":783.73056994818648},{"$f":"Skyggetabeller!L97","v":787.25625000000002},{"$f":"Skyggetabeller!M97","v":714.51111111111106}]
[null,{"$f":"Skyggetabeller!B95","v":"Samlet antal dage"},null,{"$f":"Skyggetabeller!D95","v":185478},{"$f":"Skyggetabeller!E95","v":186030},{"$f":"Skyggetabeller!F95","v":176992},{"$f":"Skyggetabeller!G95","v":164546},{"$f":"Skyggetabeller!H95","v":154847},{"$f":"Skyggetabeller!I95","v":156577},{"$f":"Skyggetabeller!J95","v":149429},{"$f":"Skyggetabeller!K95","v":151260},{"$f":"Skyggetabeller!L95","v":125961},{"$f":"Skyggetabeller!M95","v":128612}]
[null,{"$f":"Skyggetabeller!B98","v":"Sammenligningsgruppe, gns."}]
[null,{"$f":"Skyggetabeller!B101","v":"Gennemsnitlig varighed"},null,{"$f":"Skyggetabeller!D101","v":1061.3968253968253},{"$f":"Skyggetabeller!E101","v":1026.0935960591132},{"$f":"Skyggetabeller!F101","v":1093.3560209424083},{"$f":"Skyggetabeller!G101","v":1084.6894736842105},{"$f":"Skyggetabeller!H101","v":1078.8},{"$f":"Skyggetabeller!I101","v":1015.0535714285714},{"$f":"Skyggetabeller!J101","v":914.66666666666663},{"$f":"Skyggetabeller!K101","v":973.29213483146066},{"$f":"Skyggetabeller!L101","v":1006.1695906432749},{"$f":"Skyggetabeller!M101","v":956.01734104046238}]
[null,{"$f":"Skyggetabeller!B99","v":"Samlet antal dage"},null,{"$f":"Skyggetabeller!D99","v":200604},{"$f":"Skyggetabeller!E99","v":208297},{"$f":"Skyggetabeller!F99","v":208831},{"$f":"Skyggetabeller!G99","v":206091},{"$f":"Skyggetabeller!H99","v":194184},{"$f":"Skyggetabeller!I99","v":170529},{"$f":"Skyggetabeller!J99","v":159152},{"$f":"Skyggetabeller!K99","v":173246},{"$f":"Skyggetabeller!L99","v":172055},{"$f":"Skyggetabeller!M99","v":165391}]
[null,{"$f":"Skyggetabeller!B102","v":"Hele landet"}]
[null,{"$f":"Skyggetabeller!B105","v":"Gennemsnitlig varighed"},null,{"$f":"Skyggetabeller!D105","v":913.7283304246655},{"$f":"Skyggetabeller!E105","v":873.52213162492717},{"$f":"Skyggetabeller!F105","v":865.68500443655728},{"$f":"Skyggetabeller!G105","v":829.56944845509679},{"$f":"Skyggetabeller!H105","v":826.3623703703704},{"$f":"Skyggetabeller!I105","v":787.57806527491914},{"$f":"Skyggetabeller!J105","v":775.21103699211642},{"$f":"Skyggetabeller!K105","v":770.82844932844932},{"$f":"Skyggetabeller!L105","v":760.13616891064873},{"$f":"Skyggetabeller!M105","v":763.57880516361456}]
[null,{"$f":"Skyggetabeller!B103","v":"Samlet antal dage"},null,{"$f":"Skyggetabeller!D103","v":3141398},{"$f":"Skyggetabeller!E103","v":2999675},{"$f":"Skyggetabeller!F103","v":2926881},{"$f":"Skyggetabeller!G103","v":2872799},{"$f":"Skyggetabeller!H103","v":2788973},{"$f":"Skyggetabeller!I103","v":2678553},{"$f":"Skyggetabeller!J103","v":2556646},{"$f":"Skyggetabeller!K103","v":2525234},{"$f":"Skyggetabeller!L103","v":2484125},{"$f":"Skyggetabeller!M103","v":2543481}]
[null,"Anm.: Hvis nøgletallet er angivet med * er der foretaget en diskretionering af data, da der er for få observationer. "]
[null,{"$f":"IF('Dine valg'!$G$24=\"\",\"Ingen sammenligningsgruppe valgt.\",\"Anm.: Valgte kommuner i sammenligningsgruppen: \"&'Dine valg'!$G$24&\" \"&'Dine valg'!$G$25&\" \"&'Dine valg'!$G$26&\" \"&'Dine valg'!$G$27&\" \"&'Dine valg'!$G$28&\" \"&'Dine valg'!$G$29&\" \"&'Dine valg'!$G$30)","v":"Anm.: Valgte kommuner i sammenligningsgruppen: Aarhus      "}]
[null,"Kilde: Socialstyrelsens egne beregninger baseret på registerdata fra Danmarks Statistik."]
[]
[null,"Figur 2.1: Varighed af anbringelser på døgninstitution",null,null,null,null,"Figur 2.2: Varighed af anbringelser på sikret døgninstitution",null,null,null,null,null,"Figur 2.3: Varighed af anbringelser på socialpædagogisk opholdssted"]
[]
[]
[]
[]
[]
[]
[]
[]
[]
[]
[]
[]
[]
[]
[]
[]
[]
[null,"Anm.: Hvis nøgletallet har værdien 0 i grafen kan det enten betyde 0 %, eller at der er foretaget en diskretionering af data, da der er for få observationer. Se tilhørende tabel for værdien."]
[null,{"$f":"IF('Dine valg'!$G$24=\"\",\"Ingen sammenligningsgruppe valgt.\",\"Anm.: Valgte kommuner i sammenligningsgruppen: \"&'Dine valg'!$G$24&\" \"&'Dine valg'!$G$25&\" \"&'Dine valg'!$G$26&\" \"&'Dine valg'!$G$27&\" \"&'Dine valg'!$G$28&\" \"&'Dine valg'!$G$29&\" \"&'Dine valg'!$G$30)","v":"Anm.: Valgte kommuner i sammenligningsgruppen: Aarhus      "}]
[null,{"$f":"Registerdata!$B$32","v":"Kilde: Socialstyrelsens egne beregninger baseret på registerdata fra Danmarks Statistik."}]
[]
[]
[null,{"$f":"Skyggetabeller!B107","v":"Tabel 2.1: Gennemsnitlig varighed af igangværende anbringelser på døgninstitution"}]
[]
[null,{"$f":"Skyggetabeller!B108","v":"Nøgletal 2.1\nGennemsnitlig varighed af igangværende anbringelser på døgninstitution"},null,"2016-01-01","2016-07-01","2017-01-01","2017-07-01","2018-01-01","2018-07-01","2019-01-01","2019-07-01","2020-01-01","2020-07-01","2021-01-01","2021-07-01","2022-01-01","2022-07-01","2023-01-01"]
[null,{"$f":"Skyggetabeller!B109","v":"København"}]
[null,{"$f":"Skyggetabeller!B112","v":"Gennemsnitlig varighed"},null,{"$f":"Skyggetabeller!D112","v":779.48520710059177},{"$f":"Skyggetabeller!E112","v":764.22285714285715},{"$f":"Skyggetabeller!F112","v":746.41176470588232},{"$f":"Skyggetabeller!G112","v":656.50276243093924},{"$f":"Skyggetabeller!H112","v":627.64942528735628},{"$f":"Skyggetabeller!I112","v":630.29310344827582},{"$f":"Skyggetabeller!J112","v":638.96273291925468},{"$f":"Skyggetabeller!K112","v":662.88888888888891},{"$f":"Skyggetabeller!L112","v":682.66906474820144},{"$f":"Skyggetabeller!M112","v":638.54421768707482},{"$f":"Skyggetabeller!N112","v":600.94339622641508},{"$f":"Skyggetabeller!O112","v":579.17575757575753},{"$f":"Skyggetabeller!P112","v":562.11560693641616},{"$f":"Skyggetabeller!Q112","v":509.05612244897958},{"$f":"Skyggetabeller!R112","v":576.65}]
[null,{"$f":"Skyggetabeller!B110","v":"Samlet antal dage"},null,{"$f":"Skyggetabeller!D110","v":131733},{"$f":"Skyggetabeller!E110","v":133739},{"$f":"Skyggetabeller!F110","v":126890},{"$f":"Skyggetabeller!G110","v":118827},{"$f":"Skyggetabeller!H110","v":109211},{"$f":"Skyggetabeller!I110","v":109671},{"$f":"Skyggetabeller!J110","v":102873},{"$f":"Skyggetabeller!K110","v":101422},{"$f":"Skyggetabeller!L110","v":94891},{"$f":"Skyggetabeller!M110","v":93866},{"$f":"Skyggetabeller!N110","v":95550},{"$f":"Skyggetabeller!O110","v":95564},{"$f":"Skyggetabeller!P110","v":97246},{"$f":"Skyggetabeller!Q110","v":99775},{"$f":"Skyggetabeller!R110","v":115330}]
[null,{"$f":"Skyggetabeller!B113","v":"Sammenligningsgruppe, gns."}]
[null,{"$f":"Skyggetabeller!B116","v":"Gennemsnitlig varighed"},null,{"$f":"Skyggetabeller!D116","v":1235.9527559055118},{"$f":"Skyggetabeller!E116","v":1181.144927536232},{"$f":"Skyggetabeller!F116","v":1224.5563909774437},{"$f":"Skyggetabeller!G116","v":1228.406015037594},{"$f":"Skyggetabeller!H116","v":1249.1176470588234},{"$f":"Skyggetabeller!I116","v":1141.6206896551723},{"$f":"Skyggetabeller!J116","v":1051.4237288135594},{"$f":"Skyggetabeller!K116","v":1075.3700787401574},{"$f":"Skyggetabeller!L116","v":1154.2},{"$f":"Skyggetabeller!M116","v":1095.0314960629921},{"$f":"Skyggetabeller!N116","v":1174.5121951219512},{"$f":"Skyggetabeller!O116","v":1283.7033898305085},{"$f":"Skyggetabeller!P116","v":1406.9449541284403},{"$f":"Skyggetabeller!Q116","v":1418.1009174311926},{"$f":"Skyggetabeller!R116","v":1343.1909090909091}]
[null,{"$f":"Skyggetabeller!B114","v":"Samlet antal dage"},null,{"$f":"Skyggetabeller!D114","v":156966},{"$f":"Skyggetabeller!E114","v":162998},{"$f":"Skyggetabeller!F114","v":162866},{"$f":"Skyggetabeller!G114","v":163378},{"$f":"Skyggetabeller!H114","v":148645},{"$f":"Skyggetabeller!I114","v":132428},{"$f":"Skyggetabeller!J114","v":124068},{"$f":"Skyggetabeller!K114","v":136572},{"$f":"Skyggetabeller!L114","v":138504},{"$f":"Skyggetabeller!M114","v":139069},{"$f":"Skyggetabeller!N114","v":144465},{"$f":"Skyggetabeller!O114","v":151477},{"$f":"Skyggetabeller!P114","v":153357},{"$f":"Skyggetabeller!Q114","v":154573},{"$f":"Skyggetabeller!R114","v":147751}]
[null,{"$f":"Skyggetabeller!B117","v":"Hele landet"}]
[null,{"$f":"Skyggetabeller!B120","v":"Gennemsnitlig varighed"},null,{"$f":"Skyggetabeller!D120","v":1002.0174863387978},{"$f":"Skyggetabeller!E120","v":961.5008138903961},{"$f":"Skyggetabeller!F120","v":962.89972451790629},{"$f":"Skyggetabeller!G120","v":932.14040906578225},{"$f":"Skyggetabeller!H120","v":924.40909090909088},{"$f":"Skyggetabeller!I120","v":877.00677583286279},{"$f":"Skyggetabeller!J120","v":870.5574644549763},{"$f":"Skyggetabeller!K120","v":868.31850533807824},{"$f":"Skyggetabeller!L120","v":861.88776119402985},{"$f":"Skyggetabeller!M120","v":871.70168067226894},{"$f":"Skyggetabeller!N120","v":849.19517930629047},{"$f":"Skyggetabeller!O120","v":850.3400473933649},{"$f":"Skyggetabeller!P120","v":850.12007062978228},{"$f":"Skyggetabeller!Q120","v":833.47475893363583},{"$f":"Skyggetabeller!R120","v":855.94730878186965}]
[null,{"$f":"Skyggetabeller!B118","v":"Samlet antal dage"},null,{"$f":"Skyggetabeller!D118","v":1833692},{"$f":"Skyggetabeller!E118","v":1772046},{"$f":"Skyggetabeller!F118","v":1747663},{"$f":"Skyggetabeller!G118","v":1686242},{"$f":"Skyggetabeller!H118","v":1626960},{"$f":"Skyggetabeller!I118","v":1553179},{"$f":"Skyggetabeller!J118","v":1469501},{"$f":"Skyggetabeller!K118","v":1463985},{"$f":"Skyggetabeller!L118","v":1443662},{"$f":"Skyggetabeller!M118","v":1452255},{"$f":"Skyggetabeller!N118","v":1444481},{"$f":"Skyggetabeller!O118","v":1435374},{"$f":"Skyggetabeller!P118","v":1444354},{"$f":"Skyggetabeller!Q118","v":1469416},{"$f":"Skyggetabeller!R118","v":1510747}]
[null,"Anm.: Hvis nøgletallet er angivet med * er der foretaget en diskretionering af data, da der er for få observationer. "]
[null,{"$f":"IF('Dine valg'!$G$24=\"\",\"Ingen sammenligningsgruppe valgt.\",\"Anm.: Valgte kommuner i sammenligningsgruppen: \"&'Dine valg'!$G$24&\" \"&'Dine valg'!$G$25&\" \"&'Dine valg'!$G$26&\" \"&'Dine valg'!$G$27&\" \"&'Dine valg'!$G$28&\" \"&'Dine valg'!$G$29&\" \"&'Dine valg'!$G$30)","v":"Anm.: Valgte kommuner i sammenligningsgruppen: Aarhus      "}]
[null,"Kilde: Socialstyrelsens egne beregninger baseret på registerdata fra Danmarks Statistik."]
[]
[null,{"$f":"Skyggetabeller!B122","v":"Tabel 2.2: Gennemsnitlig varighed af igangværende anbringelser på sikret døgninstitution"}]
[]
[null,{"$f":"Skyggetabeller!B123","v":"Nøgletal 2.2: \nGennemsnitlig varighed af igangværende anbringelser på sikret døgninstitution"},null,"2016-01-01","2016-07-01","2017-01-01","2017-07-01","2018-01-01","2018-07-01","2019-01-01","2019-07-01","2020-01-01","2020-07-01","2021-01-01","2021-07-01","2022-01-01","2022-07-01","2023-01-01"]
[null,{"$f":"Skyggetabeller!B124","v":"København"}]
[null,{"$f":"Skyggetabeller!B127","v":"Gennemsnitlig varighed"},null,{"$f":"Skyggetabeller!D127","v":474.71428571428572},{"$f":"Skyggetabeller!E127","v":531.5},{"$f":"Skyggetabeller!F127","v":295.28571428571428},{"$f":"Skyggetabeller!G127","v":407.16666666666669},{"$f":"Skyggetabeller!H127","v":349.66666666666669},{"$f":"Skyggetabeller!I127","v":283},{"$f":"Skyggetabeller!J127","v":299.3},{"$f":"Skyggetabeller!K127","v":645},{"$f":"Skyggetabeller!L127","v":"*"},{"$f":"Skyggetabeller!M127","v":89},{"$f":"Skyggetabeller!N127","v":99.588235294117652},{"$f":"Skyggetabeller!O127","v":110.86363636363636},{"$f":"Skyggetabeller!P127","v":145.125},{"$f":"Skyggetabeller!Q127","v":117.6},{"$f":"Skyggetabeller!R127","v":245.5}]
[null,{"$f":"Skyggetabeller!B125","v":"Samlet antal dage"},null,{"$f":"Skyggetabeller!D125","v":3323},{"$f":"Skyggetabeller!E125","v":3189},{"$f":"Skyggetabeller!F125","v":2067},{"$f":"Skyggetabeller!G125","v":2443},{"$f":"Skyggetabeller!H125","v":2098},{"$f":"Skyggetabeller!I125","v":2830},{"$f":"Skyggetabeller!J125","v":2993},{"$f":"Skyggetabeller!K125","v":3225},{"$f":"Skyggetabeller!L125","v":"*"},{"$f":"Skyggetabeller!M125","v":801},{"$f":"Skyggetabeller!N125","v":1693},{"$f":"Skyggetabeller!O125","v":2439},{"$f":"Skyggetabeller!P125","v":2322},{"$f":"Skyggetabeller!Q125","v":1764},{"$f":"Skyggetabeller!R125","v":2455}]
[null,{"$f":"Skyggetabeller!B128","v":"Sammenligningsgruppe, gns."}]
[null,{"$f":"Skyggetabeller!B131","v":"Gennemsnitlig varighed"},null,{"$f":"Skyggetabeller!D131","v":119.85714285714286},{"$f":"Skyggetabeller!E131","v":0},{"$f":"Skyggetabeller!F131","v":0},{"$f":"Skyggetabeller!G131","v":0},{"$f":"Skyggetabeller!H131","v":0},{"$f":"Skyggetabeller!I131","v":128.85714285714286},{"$f":"Skyggetabeller!J131","v":119.5},{"$f":"Skyggetabeller!K131","v":279.33333333333331},{"$f":"Skyggetabeller!L131","v":242.875},{"$f":"Skyggetabeller!M131","v":153.45454545454547},{"$f":"Skyggetabeller!N131","v":122.06666666666666},{"$f":"Skyggetabeller!O131","v":219.07142857142858},{"$f":"Skyggetabeller!P131","v":266},{"$f":"Skyggetabeller!Q131","v":322.41176470588238},{"$f":"Skyggetabeller!R131","v":411}]
[null,{"$f":"Skyggetabeller!B129","v":"Samlet antal dage"},null,{"$f":"Skyggetabeller!D129","v":839},{"$f":"Skyggetabeller!E129","v":0},{"$f":"Skyggetabeller!F129","v":0},{"$f":"Skyggetabeller!G129","v":0},{"$f":"Skyggetabeller!H129","v":0},{"$f":"Skyggetabeller!I129","v":902},{"$f":"Skyggetabeller!J129","v":1195},{"$f":"Skyggetabeller!K129","v":2514},{"$f":"Skyggetabeller!L129","v":3886},{"$f":"Skyggetabeller!M129","v":1688},{"$f":"Skyggetabeller!N129","v":1831},{"$f":"Skyggetabeller!O129","v":3067},{"$f":"Skyggetabeller!P129","v":3724},{"$f":"Skyggetabeller!Q129","v":5481},{"$f":"Skyggetabeller!R129","v":5754}]
[null,{"$f":"Skyggetabeller!B132","v":"Hele landet"}]
[null,{"$f":"Skyggetabeller!B135","v":"Gennemsnitlig varighed"},null,{"$f":"Skyggetabeller!D135","v":336.58620689655174},{"$f":"Skyggetabeller!E135","v":320.22580645161293},{"$f":"Skyggetabeller!F135","v":298.07499999999999},{"$f":"Skyggetabeller!G135","v":327.07594936708858},{"$f":"Skyggetabeller!H135","v":285.921875},{"$f":"Skyggetabeller!I135","v":215.92857142857142},{"$f":"Skyggetabeller!J135","v":267.85526315789474},{"$f":"Skyggetabeller!K135","v":323.08333333333331},{"$f":"Skyggetabeller!L135","v":262.49367088607596},{"$f":"Skyggetabeller!M135","v":250.97619047619048},{"$f":"Skyggetabeller!N135","v":198.02105263157895},{"$f":"Skyggetabeller!O135","v":227.20408163265307},{"$f":"Skyggetabeller!P135","v":228.95238095238096},{"$f":"Skyggetabeller!Q135","v":233.92045454545453},{"$f":"Skyggetabeller!R135","v":244.6}]
[null,{"$f":"Skyggetabeller!B133","v":"Samlet antal dage"},null,{"$f":"Skyggetabeller!D133","v":19522},{"$f":"Skyggetabeller!E133","v":19854},{"$f":"Skyggetabeller!F133","v":23846},{"$f":"Skyggetabeller!G133","v":25839},{"$f":"Skyggetabeller!H133","v":18299},{"$f":"Skyggetabeller!I133","v":18138},{"$f":"Skyggetabeller!J133","v":20357},{"$f":"Skyggetabeller!K133","v":23262},{"$f":"Skyggetabeller!L133","v":20737},{"$f":"Skyggetabeller!M133","v":21082},{"$f":"Skyggetabeller!N133","v":18812},{"$f":"Skyggetabeller!O133","v":22266},{"$f":"Skyggetabeller!P133","v":19232},{"$f":"Skyggetabeller!Q133","v":20585},{"$f":"Skyggetabeller!R133","v":20791}]
[null,"Anm.: Hvis nøgletallet er angivet med * er der foretaget en diskretionering af data, da der er for få observationer. "]
[null,{"$f":"IF('Dine valg'!$G$24=\"\",\"Ingen sammenligningsgruppe valgt.\",\"Anm.: Valgte kommuner i sammenligningsgruppen: \"&'Dine valg'!$G$24&\" \"&'Dine valg'!$G$25&\" \"&'Dine valg'!$G$26&\" \"&'Dine valg'!$G$27&\" \"&'Dine valg'!$G$28&\" \"&'Dine valg'!$G$29&\" \"&'Dine valg'!$G$30)","v":"Anm.: Valgte kommuner i sammenligningsgruppen: Aarhus      "}]
[null,"Kilde: Socialstyrelsens egne beregninger baseret på registerdata fra Danmarks Statistik."]
[]
[null,{"$f":"Skyggetabeller!B137","v":"Tabel 2.3: Gennemsnitlig varighed af anbringelser på socialpædagogisk opholdssted"}]
[]
[null,{"$f":"Skyggetabeller!B138","v":"Nøgletal 2.3: \nGennemsnitlig varighed af igangværende anbringelser på socialpædagogisk opholdssted"},null,"2016-01-01","2016-07-01","2017-01-01","2017-07-01","2018-01-01","2018-07-01","2019-01-01","2019-07-01","2020-01-01","2020-07-01","2021-01-01","2021-07-01","2022-01-01","2022-07-01","2023-01-01"]
[null,{"$f":"Skyggetabeller!B139","v":"København"}]
[null,{"$f":"Skyggetabeller!B142","v":"Gennemsnitlig varighed"},null,{"$f":"Skyggetabeller!D142","v":933.74074074074076},{"$f":"Skyggetabeller!E142","v":944.26923076923072},{"$f":"Skyggetabeller!F142","v":1022.0212765957447},{"$f":"Skyggetabeller!G142","v":1109.6410256410256},{"$f":"Skyggetabeller!H142","v":1280.5294117647059},{"$f":"Skyggetabeller!I142","v":1335.6363636363637},{"$f":"Skyggetabeller!J142","v":1320.090909090909},{"$f":"Skyggetabeller!K142","v":1331.8},{"$f":"Skyggetabeller!L142","v":"*"},{"$f":"Skyggetabeller!M142","v":1414.375},{"$f":"Skyggetabeller!N142","v":1250.04},{"$f":"Skyggetabeller!O142","v":1073.625},{"$f":"Skyggetabeller!P142","v":1128.8571428571429},{"$f":"Skyggetabeller!Q142","v":1087.1875},{"$f":"Skyggetabeller!R142","v":748.9473684210526}]
[null,{"$f":"Skyggetabeller!B140","v":"Samlet antal dage"},null,{"$f":"Skyggetabeller!D140","v":50422},{"$f":"Skyggetabeller!E140","v":49102},{"$f":"Skyggetabeller!F140","v":48035},{"$f":"Skyggetabeller!G140","v":43276},{"$f":"Skyggetabeller!H140","v":43538},{"$f":"Skyggetabeller!I140","v":44076},{"$f":"Skyggetabeller!J140","v":43563},{"$f":"Skyggetabeller!K140","v":46613},{"$f":"Skyggetabeller!L140","v":"*"},{"$f":"Skyggetabeller!M140","v":33945},{"$f":"Skyggetabeller!N140","v":31251},{"$f":"Skyggetabeller!O140","v":34356},{"$f":"Skyggetabeller!P140","v":31608},{"$f":"Skyggetabeller!Q140","v":34790},{"$f":"Skyggetabeller!R140","v":28460}]
[null,{"$f":"Skyggetabeller!B143","v":"Sammenligningsgruppe, gns."}]
[null,{"$f":"Skyggetabeller!B146","v":"Gennemsnitlig varighed"},null,{"$f":"Skyggetabeller!D146","v":778.16363636363633},{"$f":"Skyggetabeller!E146","v":0},{"$f":"Skyggetabeller!F146","v":0},{"$f":"Skyggetabeller!G146","v":0},{"$f":"Skyggetabeller!H146","v":0},{"$f":"Skyggetabeller!I146","v":826.64444444444439},{"$f":"Skyggetabeller!J146","v":736.71739130434787},{"$f":"Skyggetabeller!K146","v":813.33333333333337},{"$f":"Skyggetabeller!L146","v":847.57142857142856},{"$f":"Skyggetabeller!M146","v":703.82857142857142},{"$f":"Skyggetabeller!N146","v":719.43243243243239},{"$f":"Skyggetabeller!O146","v":501.41860465116281},{"$f":"Skyggetabeller!P146","v":521.63157894736844},{"$f":"Skyggetabeller!Q146","v":502.04166666666669},{"$f":"Skyggetabeller!R146","v":473.40909090909093}]
[null,{"$f":"Skyggetabeller!B144","v":"Samlet antal dage"},null,{"$f":"Skyggetabeller!D144","v":42799},{"$f":"Skyggetabeller!E144","v":0},{"$f":"Skyggetabeller!F144","v":0},{"$f":"Skyggetabeller!G144","v":0},{"$f":"Skyggetabeller!H144","v":0},{"$f":"Skyggetabeller!I144","v":37199},{"$f":"Skyggetabeller!J144","v":33889},{"$f":"Skyggetabeller!K144","v":34160},{"$f":"Skyggetabeller!L144","v":29665},{"$f":"Skyggetabeller!M144","v":24634},{"$f":"Skyggetabeller!N144","v":26619},{"$f":"Skyggetabeller!O144","v":21561},{"$f":"Skyggetabeller!P144","v":19822},{"$f":"Skyggetabeller!Q144","v":24098},{"$f":"Skyggetabeller!R144","v":20830}]
[null,{"$f":"Skyggetabeller!B147","v":"Hele landet"}]
[null,{"$f":"Skyggetabeller!B150","v":"Gennemsnitlig varighed"},null,{"$f":"Skyggetabeller!D150","v":831.08645161290326},{"$f":"Skyggetabeller!E150","v":789.91170699803797},{"$f":"Skyggetabeller!F150","v":777.50471063257066},{"$f":"Skyggetabeller!G150","v":736.96380952380957},{"$f":"Skyggetabeller!H150","v":737.40425531914889},{"$f":"Skyggetabeller!I150","v":716.19404915912025},{"$f":"Skyggetabeller!J150","v":695.42894393741847},{"$f":"Skyggetabeller!K150","v":683.78590250329376},{"$f":"Skyggetabeller!L150","v":673.53104359313079},{"$f":"Skyggetabeller!M150","v":676.87792536369386},{"$f":"Skyggetabeller!N150","v":677.55862068965519},{"$f":"Skyggetabeller!O150","v":654.27643236857648},{"$f":"Skyggetabeller!P150","v":675.02385211687533},{"$f":"Skyggetabeller!Q150","v":646.87478849407785},{"$f":"Skyggetabeller!R150","v":649.38832772166108}]
[null,{"$f":"Skyggetabeller!B148","v":"Samlet antal dage"},null,{"$f":"Skyggetabeller!D148","v":1288184},{"$f":"Skyggetabeller!E148","v":1207775},{"$f":"Skyggetabeller!F148","v":1155372},{"$f":"Skyggetabeller!G148","v":1160718},{"$f":"Skyggetabeller!H148","v":1143714},{"$f":"Skyggetabeller!I148","v":1107236},{"$f":"Skyggetabeller!J148","v":1066788},{"$f":"Skyggetabeller!K148","v":1037987},{"$f":"Skyggetabeller!L148","v":1019726},{"$f":"Skyggetabeller!M148","v":1070144},{"$f":"Skyggetabeller!N148","v":1080706},{"$f":"Skyggetabeller!O148","v":1107690},{"$f":"Skyggetabeller!P148","v":1132015},{"$f":"Skyggetabeller!Q148","v":1146909},{"$f":"Skyggetabeller!R148","v":1157210}]
[null,"Anm.: Hvis nøgletallet er angivet med * er der foretaget en diskretionering af data, da der er for få observationer. "]
[null,{"$f":"IF('Dine valg'!$G$24=\"\",\"Ingen sammenligningsgruppe valgt.\",\"Anm.: Valgte kommuner i sammenligningsgruppen: \"&'Dine valg'!$G$24&\" \"&'Dine valg'!$G$25&\" \"&'Dine valg'!$G$26&\" \"&'Dine valg'!$G$27&\" \"&'Dine valg'!$G$28&\" \"&'Dine valg'!$G$29&\" \"&'Dine valg'!$G$30)","v":"Anm.: Valgte kommuner i sammenligningsgruppen: Aarhus      "}]
[null,"Kilde: Socialstyrelsens egne beregninger baseret på registerdata fra Danmarks Statistik."]
[]
[]
[null,{"$f":"Skyggetabeller!B153","v":"Nøgletal 3: Anbragte i plejefamilie"}]
[]
[null,"Figur 3: Anbragte i plejefamilie",null,null,null,null,null,null,null,null,null,null,"Benyt, slet eller erstat gerne følgende tekst til beskrivelse af udviklingen over tid for det pågældende nøgletal. Beskrivelsen vil blive indsat i rapporten (skriv maks 20 linjer):"]
[]
[]
[]
[]
[]
[]
[]
[]
[]
[]
[]
[]
[]
[]
[]
[]
[]
[]
[]
[]
[]
[]
[null,"Anm.: Hvis nøgletallet har værdien 0 i grafen kan det enten betyde 0 %, eller at der er foretaget en diskretionering af data, da der er for få observationer. Se tilhørende tabel for værdien."]
[null,{"$f":"IF('Dine valg'!$G$24=\"\",\"Ingen sammenligningsgruppe valgt.\",\"Anm.: Valgte kommuner i sammenligningsgruppen: \"&'Dine valg'!$G$24&\" \"&'Dine valg'!$G$25&\" \"&'Dine valg'!$G$26&\" \"&'Dine valg'!$G$27&\" \"&'Dine valg'!$G$28&\" \"&'Dine valg'!$G$29&\" \"&'Dine valg'!$G$30)","v":"Anm.: Valgte kommuner i sammenligningsgruppen: Aarhus      "}]
[null,{"$f":"Registerdata!$B$32","v":"Kilde: Socialstyrelsens egne beregninger baseret på registerdata fra Danmarks Statistik."}]
[]
[null,{"$f":"Skyggetabeller!B155","v":"Tabel 3: Anbragte i plejefamilie"}]
[]
[null,{"$f":"Skyggetabeller!B156","v":"Nøgletal 3: \nAnbragte i plejefamilie"},null,"2016-01-01","2016-07-01","2017-01-01","2017-07-01","2018-01-01","2018-07-01","2019-01-01","2019-07-01","2020-01-01","2020-07-01","2021-01-01","2021-07-01","2022-01-01","2022-07-01","2023-01-01"]
[null,{"$f":"Skyggetabeller!B157","v":"København"}]
[null,{"$f":"Skyggetabeller!B160","v":"Andel"},null,{"$f":"Skyggetabeller!D160","v":3.6880418621715036},{"$f":"Skyggetabeller!E160","v":3.5210931610637708},{"$f":"Skyggetabeller!F160","v":3.3526939604287671},{"$f":"Skyggetabeller!G160","v":3.2456296240868747},{"$f":"Skyggetabeller!H160","v":3.2290990071448453},{"$f":"Skyggetabeller!I160","v":3.2280611400297978},{"$f":"Skyggetabeller!J160","v":3.1005624914254359},{"$f":"Skyggetabeller!K160","v":2.9508434872614355},{"$f":"Skyggetabeller!L160","v":2.81532547689087},{"$f":"Skyggetabeller!M160","v":2.6560305398494619},{"$f":"Skyggetabeller!N160","v":2.596302072534189},{"$f":"Skyggetabeller!O160","v":2.5765273835138407},{"$f":"Skyggetabeller!P160","v":2.4612489028440092},{"$f":"Skyggetabeller!Q160","v":2.3849962056878549},{"$f":"Skyggetabeller!R160","v":2.4270311724635723}]
[null,{"$f":"Skyggetabeller!B159","v":"Antal 0-17-årige"},null,{"$f":"Skyggetabeller!D159","v":103578},{"$f":"Skyggetabeller!E159","v":104797},{"$f":"Skyggetabeller!F159","v":105885},{"$f":"Skyggetabeller!G159","v":106913},{"$f":"Skyggetabeller!H159","v":107770},{"$f":"Skyggetabeller!I159","v":108734},{"$f":"Skyggetabeller!J159","v":109335},{"$f":"Skyggetabeller!K159","v":110138},{"$f":"Skyggetabeller!L159","v":110822},{"$f":"Skyggetabeller!M159","v":111068},{"$f":"Skyggetabeller!N159","v":110927},{"$f":"Skyggetabeller!O159","v":110614},{"$f":"Skyggetabeller!P159","v":110513},{"$f":"Skyggetabeller!Q159","v":110692},{"$f":"Skyggetabeller!R159","v":110835}]
[null,{"$f":"Skyggetabeller!B161","v":"Sammenligningsgruppe, gns."}]
[null,{"$f":"Skyggetabeller!B164","v":"Andel"},null,{"$f":"Skyggetabeller!D164","v":3.3418486206841149},{"$f":"Skyggetabeller!E164","v":3.4306685814584332},{"$f":"Skyggetabeller!F164","v":3.5133459453444194},{"$f":"Skyggetabeller!G164","v":3.5670688206477799},{"$f":"Skyggetabeller!H164","v":3.6050280654597202},{"$f":"Skyggetabeller!I164","v":3.7789324515824281},{"$f":"Skyggetabeller!J164","v":3.7574480796138787},{"$f":"Skyggetabeller!K164","v":3.6732387291221902},{"$f":"Skyggetabeller!L164","v":3.6312411958052904},{"$f":"Skyggetabeller!M164","v":3.6333582834331337},{"$f":"Skyggetabeller!N164","v":3.4818292038424472},{"$f":"Skyggetabeller!O164","v":3.3277870216306158},{"$f":"Skyggetabeller!P164","v":3.3411918999515997},{"$f":"Skyggetabeller!Q164","v":3.371868978805395},{"$f":"Skyggetabeller!R164","v":3.1822415398944428}]
[null,{"$f":"Skyggetabeller!B163","v":"Antal 0-17-årige"},null,{"$f":"Skyggetabeller!D163","v":62241},{"$f":"Skyggetabeller!E163","v":62670},{"$f":"Skyggetabeller!F163","v":62903},{"$f":"Skyggetabeller!G163","v":63077},{"$f":"Skyggetabeller!H163","v":63245},{"$f":"Skyggetabeller!I163","v":63510},{"$f":"Skyggetabeller!J163","v":63607},{"$f":"Skyggetabeller!K163","v":63704},{"$f":"Skyggetabeller!L163","v":63890},{"$f":"Skyggetabeller!M163","v":64128},{"$f":"Skyggetabeller!N163","v":64334},{"$f":"Skyggetabeller!O163","v":64307},{"$f":"Skyggetabeller!P163","v":64049},{"$f":"Skyggetabeller!Q163","v":64356},{"$f":"Skyggetabeller!R163","v":64420}]
[null,{"$f":"Skyggetabeller!B165","v":"Hele landet"}]
[null,{"$f":"Skyggetabeller!B168","v":"Andel"},null,{"$f":"Skyggetabeller!D168","v":5.6491803334858055},{"$f":"Skyggetabeller!E168","v":5.7137862660046856},{"$f":"Skyggetabeller!F168","v":5.790955494816389},{"$f":"Skyggetabeller!G168","v":5.8350917267838431},{"$f":"Skyggetabeller!H168","v":5.8036422917694503},{"$f":"Skyggetabeller!I168","v":5.863043637255366},{"$f":"Skyggetabeller!J168","v":5.8499086490399526},{"$f":"Skyggetabeller!K168","v":5.8519528558100609},{"$f":"Skyggetabeller!L168","v":5.7494230682734262},{"$f":"Skyggetabeller!M168","v":5.7110544679352699},{"$f":"Skyggetabeller!N168","v":5.6592874761919632},{"$f":"Skyggetabeller!O168","v":5.6532456004738689},{"$f":"Skyggetabeller!P168","v":5.5656661781152108},{"$f":"Skyggetabeller!Q168","v":5.4741655678010188},{"$f":"Skyggetabeller!R168","v":5.4013881126201975}]
[null,{"$f":"Skyggetabeller!B167","v":"Antal 0-17-årige"},null,{"$f":"Skyggetabeller!D167","v":1167426},{"$f":"Skyggetabeller!E167","v":1167002},{"$f":"Skyggetabeller!F167","v":1168201},{"$f":"Skyggetabeller!G167","v":1165363},{"$f":"Skyggetabeller!H167","v":1165475},{"$f":"Skyggetabeller!I167","v":1162195},{"$f":"Skyggetabeller!J167","v":1160360},{"$f":"Skyggetabeller!K167","v":1156537},{"$f":"Skyggetabeller!L167","v":1156116},{"$f":"Skyggetabeller!M167","v":1153027},{"$f":"Skyggetabeller!N167","v":1152972},{"$f":"Skyggetabeller!O167","v":1151374},{"$f":"Skyggetabeller!P167","v":1151704},{"$f":"Skyggetabeller!Q167","v":1157254},{"$f":"Skyggetabeller!R167","v":1155814}]
[null,{"$f":"Registerdata!$B$30","v":"Anm.: Hvis nøgletallet er angivet med * er der foretaget en diskretionering af data, da der er for få observationer. "}]
[null,{"$f":"IF('Dine valg'!$G$24=\"\",\"Ingen sammenligningsgruppe valgt.\",\"Anm.: Valgte kommuner i sammenligningsgruppen: \"&'Dine valg'!$G$24&\" \"&'Dine valg'!$G$25&\" \"&'Dine valg'!$G$26&\" \"&'Dine valg'!$G$27&\" \"&'Dine valg'!$G$28&\" \"&'Dine valg'!$G$29&\" \"&'Dine valg'!$G$30)","v":"Anm.: Valgte kommuner i sammenligningsgruppen: Aarhus      "}]
[null,{"$f":"Registerdata!$B$32","v":"Kilde: Socialstyrelsens egne beregninger baseret på registerdata fra Danmarks Statistik."}]
[]
[]
[null,{"$f":"Skyggetabeller!B171","v":"Nøgletal 4: Anbragte i netværksplejefamilie"}]
[]
[null,"Figur 4: Anbragte i netværksplejefamilie",null,null,null,null,null,null,null,null,null,null,"Benyt, slet eller erstat gerne følgende tekst til beskrivelse af udviklingen over tid for det pågældende nøgletal. Beskrivelsen vil blive indsat i rapporten (skriv maks 20 linjer):"]
[]
[]
[]
[]
[]
[]
[]
[]
[]
[]
[]
[]
[]
[]
[]
[]
[]
[]
[]
[]
[]
[null,{"$f":"Registerdata!$B$30","v":"Anm.: Hvis nøgletallet er angivet med * er der foretaget en diskretionering af data, da der er for få observationer. "}]
[null,{"$f":"IF('Dine valg'!$G$24=\"\",\"Ingen sammenligningsgruppe valgt.\",\"Anm.: Valgte kommuner i sammenligningsgruppen: \"&'Dine valg'!$G$24&\" \"&'Dine valg'!$G$25&\" \"&'Dine valg'!$G$26&\" \"&'Dine valg'!$G$27&\" \"&'Dine valg'!$G$28&\" \"&'Dine valg'!$G$29&\" \"&'Dine valg'!$G$30)","v":"Anm.: Valgte kommuner i sammenligningsgruppen: Aarhus      "}]
[null,{"$f":"Registerdata!$B$32","v":"Kilde: Socialstyrelsens egne beregninger baseret på registerdata fra Danmarks Statistik."}]
[]
[null,{"$f":"Skyggetabeller!B173","v":"Tabel 4: Anbragte i netværksplejefamilie"}]
[]
[null,{"$f":"Skyggetabeller!B174","v":"Nøgletal 4: \nAnbragte i netværksplejefamilie"},null,"2016-01-01","2016-07-01","2017-01-01","2017-07-01","2018-01-01","2018-07-01","2019-01-01","2019-07-01","2020-01-01","2020-07-01","2021-01-01","2021-07-01","2022-01-01","2022-07-01","2023-01-01"]
[null,{"$f":"Skyggetabeller!B175","v":"København"}]
[null,{"$f":"Skyggetabeller!B178","v":"Andel"},null,{"$f":"Skyggetabeller!D178","v":1.0137287841047327},{"$f":"Skyggetabeller!E178","v":0.96376804679523265},{"$f":"Skyggetabeller!F178","v":0.99164187561977624},{"$f":"Skyggetabeller!G178","v":1.0475807432211237},{"$f":"Skyggetabeller!H178","v":1.0206922149021065},{"$f":"Skyggetabeller!I178","v":0.98405282616292977},{"$f":"Skyggetabeller!J178","v":1.0243746284355422},{"$f":"Skyggetabeller!K178","v":0.97150847119068806},{"$f":"Skyggetabeller!L178","v":0.97453574200068582},{"$f":"Skyggetabeller!M178","v":0.97237728238556564},{"$f":"Skyggetabeller!N178","v":1.0367178414633047},{"$f":"Skyggetabeller!O178","v":1.0215705064458387},{"$f":"Skyggetabeller!P178","v":1.0225041397844596},{"$f":"Skyggetabeller!Q178","v":1.011816572109999},{"$f":"Skyggetabeller!R178","v":1.0285559615644877}]
[null,{"$f":"Skyggetabeller!B177","v":"Antal 0-17-årige"},null,{"$f":"Skyggetabeller!D177","v":103578},{"$f":"Skyggetabeller!E177","v":104797},{"$f":"Skyggetabeller!F177","v":105885},{"$f":"Skyggetabeller!G177","v":106913},{"$f":"Skyggetabeller!H177","v":107770},{"$f":"Skyggetabeller!I177","v":108734},{"$f":"Skyggetabeller!J177","v":109335},{"$f":"Skyggetabeller!K177","v":110138},{"$f":"Skyggetabeller!L177","v":110822},{"$f":"Skyggetabeller!M177","v":111068},{"$f":"Skyggetabeller!N177","v":110927},{"$f":"Skyggetabeller!O177","v":110614},{"$f":"Skyggetabeller!P177","v":110513},{"$f":"Skyggetabeller!Q177","v":110692},{"$f":"Skyggetabeller!R177","v":110835}]
[null,{"$f":"Skyggetabeller!B179","v":"Sammenligningsgruppe, gns."}]
[null,{"$f":"Skyggetabeller!B182","v":"Andel"},null,{"$f":"Skyggetabeller!D182","v":0.59446345656400112},{"$f":"Skyggetabeller!E182","v":0.60635072602521134},{"$f":"Skyggetabeller!F182","v":0.66769470454509317},{"$f":"Skyggetabeller!G182","v":0.58658465050652375},{"$f":"Skyggetabeller!H182","v":0.52178037789548581},{"$f":"Skyggetabeller!I182","v":0.42512990080302315},{"$f":"Skyggetabeller!J182","v":0.39303850205166102},{"$f":"Skyggetabeller!K182","v":0.37674243375612204},{"$f":"Skyggetabeller!L182","v":0.34434183753326031},{"$f":"Skyggetabeller!M182","v":0.37425149700598803},{"$f":"Skyggetabeller!N182","v":0.40414088973171264},{"$f":"Skyggetabeller!O182","v":0.38876016607834296},{"$f":"Skyggetabeller!P182","v":0.34348701775203361},{"$f":"Skyggetabeller!Q182","v":0.34184846789732115},{"$f":"Skyggetabeller!R182","v":0.38807823657249302}]
[null,{"$f":"Skyggetabeller!B181","v":"Antal 0-17-årige"},null,{"$f":"Skyggetabeller!D181","v":62241},{"$f":"Skyggetabeller!E181","v":62670},{"$f":"Skyggetabeller!F181","v":62903},{"$f":"Skyggetabeller!G181","v":63077},{"$f":"Skyggetabeller!H181","v":63245},{"$f":"Skyggetabeller!I181","v":63510},{"$f":"Skyggetabeller!J181","v":63607},{"$f":"Skyggetabeller!K181","v":63704},{"$f":"Skyggetabeller!L181","v":63890},{"$f":"Skyggetabeller!M181","v":64128},{"$f":"Skyggetabeller!N181","v":64334},{"$f":"Skyggetabeller!O181","v":64307},{"$f":"Skyggetabeller!P181","v":64049},{"$f":"Skyggetabeller!Q181","v":64356},{"$f":"Skyggetabeller!R181","v":64420}]
[null,{"$f":"Skyggetabeller!B183","v":"Hele landet"}]
[null,{"$f":"Skyggetabeller!B186","v":"Andel"},null,{"$f":"Skyggetabeller!D186","v":0.80690339259190735},{"$f":"Skyggetabeller!E186","v":0.82176380160445317},{"$f":"Skyggetabeller!F186","v":0.81664028707388536},{"$f":"Skyggetabeller!G186","v":0.85724362280250876},{"$f":"Skyggetabeller!H186","v":0.82455651129367857},{"$f":"Skyggetabeller!I186","v":0.81139567800584234},{"$f":"Skyggetabeller!J186","v":0.81181702230342301},{"$f":"Skyggetabeller!K186","v":0.79288427434660547},{"$f":"Skyggetabeller!L186","v":0.77760363146950651},{"$f":"Skyggetabeller!M186","v":0.79703250661086},{"$f":"Skyggetabeller!N186","v":0.81788629732552054},{"$f":"Skyggetabeller!O186","v":0.82162702996593628},{"$f":"Skyggetabeller!P186","v":0.806630870431986},{"$f":"Skyggetabeller!Q186","v":0.81831646293726357},{"$f":"Skyggetabeller!R186","v":0.84615690759931961}]
[null,{"$f":"Skyggetabeller!B185","v":"Antal 0-17-årige"},null,{"$f":"Skyggetabeller!D185","v":1167426},{"$f":"Skyggetabeller!E185","v":1167002},{"$f":"Skyggetabeller!F185","v":1168201},{"$f":"Skyggetabeller!G185","v":1165363},{"$f":"Skyggetabeller!H185","v":1165475},{"$f":"Skyggetabeller!I185","v":1162195},{"$f":"Skyggetabeller!J185","v":1160360},{"$f":"Skyggetabeller!K185","v":1156537},{"$f":"Skyggetabeller!L185","v":1156116},{"$f":"Skyggetabeller!M185","v":1153027},{"$f":"Skyggetabeller!N185","v":1152972},{"$f":"Skyggetabeller!O185","v":1151374},{"$f":"Skyggetabeller!P185","v":1151704},{"$f":"Skyggetabeller!Q185","v":1157254},{"$f":"Skyggetabeller!R185","v":1155814}]
[null,{"$f":"Registerdata!$B$30","v":"Anm.: Hvis nøgletallet er angivet med * er der foretaget en diskretionering af data, da der er for få observationer. "}]
[null,{"$f":"IF('Dine valg'!$G$24=\"\",\"Ingen sammenligningsgruppe valgt.\",\"Anm.: Valgte kommuner i sammenligningsgruppen: \"&'Dine valg'!$G$24&\" \"&'Dine valg'!$G$25&\" \"&'Dine valg'!$G$26&\" \"&'Dine valg'!$G$27&\" \"&'Dine valg'!$G$28&\" \"&'Dine valg'!$G$29&\" \"&'Dine valg'!$G$30)","v":"Anm.: Valgte kommuner i sammenligningsgruppen: Aarhus      "}]
[null,{"$f":"Registerdata!$B$32","v":"Kilde: Socialstyrelsens egne beregninger baseret på registerdata fra Danmarks Statistik."}]
[]
[]
[null,{"$f":"Skyggetabeller!B189","v":"Nøgletal 5: Hjemmebaserede foranstaltninger"}]
[]
[null,"Figur 5: Modtagere af hjemmebaserede foranstaltninger",null,null,null,null,null,null,null,null,null,null,"Benyt, slet eller erstat gerne følgende tekst til beskrivelse af udviklingen over tid for det pågældende nøgletal. Beskrivelsen vil blive indsat i rapporten (skriv maks 20 linjer):"]
[]
[]
[]
[]
[]
[]
[]
[]
[]
[]
[]
[]
[]
[]
[]
[]
[]
[]
[]
[]
[]
[null,{"$f":"Registerdata!$B$30","v":"Anm.: Hvis nøgletallet er angivet med * er der foretaget en diskretionering af data, da der er for få observationer. "}]
[null,{"$f":"IF('Dine valg'!$G$24=\"\",\"Ingen sammenligningsgruppe valgt.\",\"Anm.: Valgte kommuner i sammenligningsgruppen: \"&'Dine valg'!$G$24&\" \"&'Dine valg'!$G$25&\" \"&'Dine valg'!$G$26&\" \"&'Dine valg'!$G$27&\" \"&'Dine valg'!$G$28&\" \"&'Dine valg'!$G$29&\" \"&'Dine valg'!$G$30)","v":"Anm.: Valgte kommuner i sammenligningsgruppen: Aarhus      "}]
[null,{"$f":"Registerdata!$B$32","v":"Kilde: Socialstyrelsens egne beregninger baseret på registerdata fra Danmarks Statistik."}]
[]
[null,{"$f":"Skyggetabeller!B191","v":"Tabel 5: Modtagere af hjemmebaserede foranstaltninger"}]
[]
[null,{"$f":"Skyggetabeller!B192","v":"Nøgletal 5: \nModtagere af hjemmebaserede foranstaltninger"},null,"2016-01-01","2016-07-01","2017-01-01","2017-07-01","2018-01-01","2018-07-01","2019-01-01","2019-07-01","2020-01-01","2020-07-01","2021-01-01","2021-07-01","2022-01-01","2022-07-01","2023-01-01"]
[null,{"$f":"Skyggetabeller!B193","v":"København"}]
[null,{"$f":"Skyggetabeller!B196","v":"Andel"},null,{"$f":"Skyggetabeller!D196","v":19.164301299503755},{"$f":"Skyggetabeller!E196","v":20.048283824918652},{"$f":"Skyggetabeller!F196","v":20.267271096000378},{"$f":"Skyggetabeller!G196","v":20.886141067971153},{"$f":"Skyggetabeller!H196","v":21.564442794840865},{"$f":"Skyggetabeller!I196","v":21.925064837125465},{"$f":"Skyggetabeller!J196","v":21.539305803265197},{"$f":"Skyggetabeller!K196","v":20.329041747625705},{"$f":"Skyggetabeller!L196","v":19.445597444550721},{"$f":"Skyggetabeller!M196","v":19.258472287247454},{"$f":"Skyggetabeller!N196","v":18.408502889287551},{"$f":"Skyggetabeller!O196","v":20.811108901224078},{"$f":"Skyggetabeller!P196","v":20.875372128165917},{"$f":"Skyggetabeller!Q196","v":21.853431142268636},{"$f":"Skyggetabeller!R196","v":21.870347814318585}]
[null,{"$f":"Skyggetabeller!B195","v":"Antal 0-17-årige"},null,{"$f":"Skyggetabeller!D195","v":103578},{"$f":"Skyggetabeller!E195","v":104797},{"$f":"Skyggetabeller!F195","v":105885},{"$f":"Skyggetabeller!G195","v":106913},{"$f":"Skyggetabeller!H195","v":107770},{"$f":"Skyggetabeller!I195","v":108734},{"$f":"Skyggetabeller!J195","v":109335},{"$f":"Skyggetabeller!K195","v":110138},{"$f":"Skyggetabeller!L195","v":110822},{"$f":"Skyggetabeller!M195","v":111068},{"$f":"Skyggetabeller!N195","v":110927},{"$f":"Skyggetabeller!O195","v":110614},{"$f":"Skyggetabeller!P195","v":110513},{"$f":"Skyggetabeller!Q195","v":110692},{"$f":"Skyggetabeller!R195","v":110835}]
[null,{"$f":"Skyggetabeller!B197","v":"Sammenligningsgruppe, gns."}]
[null,{"$f":"Skyggetabeller!B200","v":"Andel"},null,{"$f":"Skyggetabeller!D200","v":18.508700053019712},{"$f":"Skyggetabeller!E200","v":18.270304771022818},{"$f":"Skyggetabeller!F200","v":17.9959620367868},{"$f":"Skyggetabeller!G200","v":17.12193033910934},{"$f":"Skyggetabeller!H200","v":18.404616965768042},{"$f":"Skyggetabeller!I200","v":18.926153361675325},{"$f":"Skyggetabeller!J200","v":20.485166726932569},{"$f":"Skyggetabeller!K200","v":20.359789024237099},{"$f":"Skyggetabeller!L200","v":20.394427922992644},{"$f":"Skyggetabeller!M200","v":19.804141716566864},{"$f":"Skyggetabeller!N200","v":19.460938228619391},{"$f":"Skyggetabeller!O200","v":19.033697731195673},{"$f":"Skyggetabeller!P200","v":17.908164061890115},{"$f":"Skyggetabeller!Q200","v":17.278886195537321},{"$f":"Skyggetabeller!R200","v":16.858118596709097}]
[null,{"$f":"Skyggetabeller!B199","v":"Antal 0-17-årige"},null,{"$f":"Skyggetabeller!D199","v":62241},{"$f":"Skyggetabeller!E199","v":62670},{"$f":"Skyggetabeller!F199","v":62903},{"$f":"Skyggetabeller!G199","v":63077},{"$f":"Skyggetabeller!H199","v":63245},{"$f":"Skyggetabeller!I199","v":63510},{"$f":"Skyggetabeller!J199","v":63607},{"$f":"Skyggetabeller!K199","v":63704},{"$f":"Skyggetabeller!L199","v":63890},{"$f":"Skyggetabeller!M199","v":64128},{"$f":"Skyggetabeller!N199","v":64334},{"$f":"Skyggetabeller!O199","v":64307},{"$f":"Skyggetabeller!P199","v":64049},{"$f":"Skyggetabeller!Q199","v":64356},{"$f":"Skyggetabeller!R199","v":64420}]
[null,{"$f":"Skyggetabeller!B201","v":"Hele landet"}]
[null,{"$f":"Skyggetabeller!B204","v":"Andel"},null,{"$f":"Skyggetabeller!D204","v":20.438982856300957},{"$f":"Skyggetabeller!E204","v":20.448979521885995},{"$f":"Skyggetabeller!F204","v":20.507601003594417},{"$f":"Skyggetabeller!G204","v":20.581569862780952},{"$f":"Skyggetabeller!H204","v":20.83013363650014},{"$f":"Skyggetabeller!I204","v":20.512908763159366},{"$f":"Skyggetabeller!J204","v":20.987452170016201},{"$f":"Skyggetabeller!K204","v":20.888220610322023},{"$f":"Skyggetabeller!L204","v":21.669105868269273},{"$f":"Skyggetabeller!M204","v":21.79133706322575},{"$f":"Skyggetabeller!N204","v":22.19134549668162},{"$f":"Skyggetabeller!O204","v":23.021190334330985},{"$f":"Skyggetabeller!P204","v":23.271604509492022},{"$f":"Skyggetabeller!Q204","v":23.254186202856072},{"$f":"Skyggetabeller!R204","v":23.403419581351326}]
[null,{"$f":"Skyggetabeller!B203","v":"Antal 0-17-årige"},null,{"$f":"Skyggetabeller!D203","v":1167426},{"$f":"Skyggetabeller!E203","v":1167002},{"$f":"Skyggetabeller!F203","v":1168201},{"$f":"Skyggetabeller!G203","v":1165363},{"$f":"Skyggetabeller!H203","v":1165475},{"$f":"Skyggetabeller!I203","v":1162195},{"$f":"Skyggetabeller!J203","v":1160360},{"$f":"Skyggetabeller!K203","v":1156537},{"$f":"Skyggetabeller!L203","v":1156116},{"$f":"Skyggetabeller!M203","v":1153027},{"$f":"Skyggetabeller!N203","v":1152972},{"$f":"Skyggetabeller!O203","v":1151374},{"$f":"Skyggetabeller!P203","v":1151704},{"$f":"Skyggetabeller!Q203","v":1157254},{"$f":"Skyggetabeller!R203","v":1155814}]
[null,{"$f":"Registerdata!$B$30","v":"Anm.: Hvis nøgletallet er angivet med * er der foretaget en diskretionering af data, da der er for få observationer. "}]
[null,{"$f":"IF('Dine valg'!$G$24=\"\",\"Ingen sammenligningsgruppe valgt.\",\"Anm.: Valgte kommuner i sammenligningsgruppen: \"&'Dine valg'!$G$24&\" \"&'Dine valg'!$G$25&\" \"&'Dine valg'!$G$26&\" \"&'Dine valg'!$G$27&\" \"&'Dine valg'!$G$28&\" \"&'Dine valg'!$G$29&\" \"&'Dine valg'!$G$30)","v":"Anm.: Valgte kommuner i sammenligningsgruppen: Aarhus      "}]
[null,{"$f":"Registerdata!$B$32","v":"Kilde: Socialstyrelsens egne beregninger baseret på registerdata fra Danmarks Statistik."}]
[]
[null,"Figur 5.1: Modtagere af døgnophold",null,null,null,null,null,"Figur 5.2: Modtagere af hjemmebaserede anbringelser"]
[]
[]
[]
[]
[]
[]
[]
[]
[]
[]
[]
[]
[]
[]
[]
[]
[]
[]
[]
[]
[null,"Figur 5.3: Modtagere af ikke-forældrerettede forebyggende foranstaltninger",null,null,null,null,null,"Figur 5.4: Modtagere af forældrerettede indsatser"]
[]
[]
[]
[]
[]
[]
[]
[]
[]
[]
[]
[]
[]
[]
[]
[]
[]
[]
[]
[]
[]
[]
[]
[null,"Anm.: Hvis nøgletallet har værdien 0 i grafen kan det enten betyde 0 %, eller at der er foretaget en diskretionering af data, da der er for få observationer. Se tilhørende tabeller for værdien."]
[null,{"$f":"IF('Dine valg'!$G$24=\"\",\"Ingen sammenligningsgruppe valgt.\",\"Anm.: Valgte kommuner i sammenligningsgruppen: \"&'Dine valg'!$G$24&\" \"&'Dine valg'!$G$25&\" \"&'Dine valg'!$G$26&\" \"&'Dine valg'!$G$27&\" \"&'Dine valg'!$G$28&\" \"&'Dine valg'!$G$29&\" \"&'Dine valg'!$G$30)","v":"Anm.: Valgte kommuner i sammenligningsgruppen: Aarhus      "}]
[null,{"$f":"Registerdata!$B$32","v":"Kilde: Socialstyrelsens egne beregninger baseret på registerdata fra Danmarks Statistik."}]
[]
[null,"Tabel 5.1: Modtagere af døgnophold"]
[]
[null,{"$f":"Skyggetabeller!B207","v":"Nøgletal 5.1\nModtagere af døgnophold for både forældremyndigheds-indehaveren, barnet eller den unge og andre medlemmer af familien"},null,"2016-01-01","2016-07-01","2017-01-01","2017-07-01","2018-01-01","2018-07-01","2019-01-01","2019-07-01","2020-01-01","2020-07-01","2021-01-01","2021-07-01","2022-01-01","2022-07-01","2023-01-01"]
[null,{"$f":"Skyggetabeller!B208","v":"København"}]
[null,{"$f":"Skyggetabeller!B211","v":"Andel"},null,{"$f":"Skyggetabeller!D211","v":0.16412751742648055},{"$f":"Skyggetabeller!E211","v":9.5422578890617088E-2},{"$f":"Skyggetabeller!F211","v":9.4442083392359627E-2},{"$f":"Skyggetabeller!G211","v":0.13094759290264046},{"$f":"Skyggetabeller!H211","v":0.12062726176115803},{"$f":"Skyggetabeller!I211","v":0.12875457538580387},{"$f":"Skyggetabeller!J211","v":0.13719303059404583},{"$f":"Skyggetabeller!K211","v":8.1715665801085913E-2},{"$f":"Skyggetabeller!L211","v":0.13535218638898416},{"$f":"Skyggetabeller!M211","v":7.2027946843375226E-2},{"$f":"Skyggetabeller!N211","v":5.408962651112894E-2},{"$f":"Skyggetabeller!O211","v":"*"},{"$f":"Skyggetabeller!P211","v":9.9535801217956257E-2},{"$f":"Skyggetabeller!Q211","v":8.1306688830267759E-2},{"$f":"Skyggetabeller!R211","v":9.022420715477962E-2}]
[null,{"$f":"Skyggetabeller!B210","v":"Antal 0-17-årige"},null,{"$f":"Skyggetabeller!D210","v":103578},{"$f":"Skyggetabeller!E210","v":104797},{"$f":"Skyggetabeller!F210","v":105885},{"$f":"Skyggetabeller!G210","v":106913},{"$f":"Skyggetabeller!H210","v":107770},{"$f":"Skyggetabeller!I210","v":108734},{"$f":"Skyggetabeller!J210","v":109335},{"$f":"Skyggetabeller!K210","v":110138},{"$f":"Skyggetabeller!L210","v":110822},{"$f":"Skyggetabeller!M210","v":111068},{"$f":"Skyggetabeller!N210","v":110927},{"$f":"Skyggetabeller!O210","v":110614},{"$f":"Skyggetabeller!P210","v":110513},{"$f":"Skyggetabeller!Q210","v":110692},{"$f":"Skyggetabeller!R210","v":110835}]
[null,{"$f":"Skyggetabeller!B212","v":"Sammenligningsgruppe, gns."}]
[null,{"$f":"Skyggetabeller!B215","v":"Andel"},null,{"$f":"Skyggetabeller!D215","v":4.8199739721405503E-2},{"$f":"Skyggetabeller!E215","v":0},{"$f":"Skyggetabeller!F215","v":0},{"$f":"Skyggetabeller!G215","v":0},{"$f":"Skyggetabeller!H215","v":0},{"$f":"Skyggetabeller!I215","v":0},{"$f":"Skyggetabeller!J215","v":4.7164620246199315E-2},{"$f":"Skyggetabeller!K215","v":0},{"$f":"Skyggetabeller!L215","v":0},{"$f":"Skyggetabeller!M215","v":0},{"$f":"Skyggetabeller!N215","v":0},{"$f":"Skyggetabeller!O215","v":0},{"$f":"Skyggetabeller!P215","v":0},{"$f":"Skyggetabeller!Q215","v":0},{"$f":"Skyggetabeller!R215","v":0}]
[null,{"$f":"Skyggetabeller!B214","v":"Antal 0-17-årige"},null,{"$f":"Skyggetabeller!D214","v":62241},{"$f":"Skyggetabeller!E214","v":62670},{"$f":"Skyggetabeller!F214","v":62903},{"$f":"Skyggetabeller!G214","v":63077},{"$f":"Skyggetabeller!H214","v":63245},{"$f":"Skyggetabeller!I214","v":63510},{"$f":"Skyggetabeller!J214","v":63607},{"$f":"Skyggetabeller!K214","v":63704},{"$f":"Skyggetabeller!L214","v":63890},{"$f":"Skyggetabeller!M214","v":64128},{"$f":"Skyggetabeller!N214","v":64334},{"$f":"Skyggetabeller!O214","v":64307},{"$f":"Skyggetabeller!P214","v":64049},{"$f":"Skyggetabeller!Q214","v":64356},{"$f":"Skyggetabeller!R214","v":64420}]
[null,{"$f":"Skyggetabeller!B216","v":"Hele landet"}]
[null,{"$f":"Skyggetabeller!B219","v":"Andel"},null,{"$f":"Skyggetabeller!D219","v":7.7092680820882858E-2},{"$f":"Skyggetabeller!E219","v":5.3984483317080861E-2},{"$f":"Skyggetabeller!F219","v":7.4473485299190817E-2},{"$f":"Skyggetabeller!G219","v":7.2938646584798039E-2},{"$f":"Skyggetabeller!H219","v":5.8345309852206179E-2},{"$f":"Skyggetabeller!I219","v":7.2277027521199105E-2},{"$f":"Skyggetabeller!J219","v":6.8082319280223388E-2},{"$f":"Skyggetabeller!K219","v":6.2254817615000652E-2},{"$f":"Skyggetabeller!L219","v":7.6116929443066264E-2},{"$f":"Skyggetabeller!M219","v":7.4586284622996685E-2},{"$f":"Skyggetabeller!N219","v":6.6783928837820861E-2},{"$f":"Skyggetabeller!O219","v":5.4717233496674407E-2},{"$f":"Skyggetabeller!P219","v":6.251606315511625E-2},{"$f":"Skyggetabeller!Q219","v":5.271098652499797E-2},{"$f":"Skyggetabeller!R219","v":6.1428568956596825E-2}]
[null,{"$f":"Skyggetabeller!B218","v":"Antal 0-17-årige"},null,{"$f":"Skyggetabeller!D218","v":1167426},{"$f":"Skyggetabeller!E218","v":1167002},{"$f":"Skyggetabeller!F218","v":1168201},{"$f":"Skyggetabeller!G218","v":1165363},{"$f":"Skyggetabeller!H218","v":1165475},{"$f":"Skyggetabeller!I218","v":1162195},{"$f":"Skyggetabeller!J218","v":1160360},{"$f":"Skyggetabeller!K218","v":1156537},{"$f":"Skyggetabeller!L218","v":1156116},{"$f":"Skyggetabeller!M218","v":1153027},{"$f":"Skyggetabeller!N218","v":1152972},{"$f":"Skyggetabeller!O218","v":1151374},{"$f":"Skyggetabeller!P218","v":1151704},{"$f":"Skyggetabeller!Q218","v":1157254},{"$f":"Skyggetabeller!R218","v":1155814}]
[null,{"$f":"Registerdata!$B$30","v":"Anm.: Hvis nøgletallet er angivet med * er der foretaget en diskretionering af data, da der er for få observationer. "}]
[null,{"$f":"IF('Dine valg'!$G$24=\"\",\"Ingen sammenligningsgruppe valgt.\",\"Anm.: Valgte kommuner i sammenligningsgruppen: \"&'Dine valg'!$G$24&\" \"&'Dine valg'!$G$25&\" \"&'Dine valg'!$G$26&\" \"&'Dine valg'!$G$27&\" \"&'Dine valg'!$G$28&\" \"&'Dine valg'!$G$29&\" \"&'Dine valg'!$G$30)","v":"Anm.: Valgte kommuner i sammenligningsgruppen: Aarhus      "}]
[null,{"$f":"Registerdata!$B$32","v":"Kilde: Socialstyrelsens egne beregninger baseret på registerdata fra Danmarks Statistik."}]
[]
[null,{"$f":"Skyggetabeller!B221","v":"Tabel 5.2: Modtagere af hjemmebaserede anbringelser"}]
[]
[null,{"$f":"Skyggetabeller!B222","v":"Nøgletal 5.2: \nModtagere af hjemmebaserede anbringelser"},null,"2016-01-01","2016-07-01","2017-01-01","2017-07-01","2018-01-01","2018-07-01","2019-01-01","2019-07-01","2020-01-01","2020-07-01","2021-01-01","2021-07-01","2022-01-01","2022-07-01","2023-01-01"]
[null,{"$f":"Skyggetabeller!B223","v":"København"}]
[null,{"$f":"Skyggetabeller!B226","v":"Andel"},null,{"$f":"Skyggetabeller!D226","v":0.25101855606402906},{"$f":"Skyggetabeller!E226","v":0.18130289989217249},{"$f":"Skyggetabeller!F226","v":0.21721679180242717},{"$f":"Skyggetabeller!G226","v":0.21512818834005218},{"$f":"Skyggetabeller!H226","v":0.21341746311589496},{"$f":"Skyggetabeller!I226","v":0.13795133077050417},{"$f":"Skyggetabeller!J226","v":0.17377783875245806},{"$f":"Skyggetabeller!K226","v":8.1715665801085913E-2},{"$f":"Skyggetabeller!L226","v":9.0234790925989419E-2},{"$f":"Skyggetabeller!M226","v":9.0034933554219029E-2},{"$f":"Skyggetabeller!N226","v":0.13522406627782235},{"$f":"Skyggetabeller!O226","v":0.13560670439546529},{"$f":"Skyggetabeller!P226","v":0.13573063802448582},{"$f":"Skyggetabeller!Q226","v":9.937484190366061E-2},{"$f":"Skyggetabeller!R226","v":0.11729146930121352}]
[null,{"$f":"Skyggetabeller!B225","v":"Antal 0-17-årige"},null,{"$f":"Skyggetabeller!D225","v":103578},{"$f":"Skyggetabeller!E225","v":104797},{"$f":"Skyggetabeller!F225","v":105885},{"$f":"Skyggetabeller!G225","v":106913},{"$f":"Skyggetabeller!H225","v":107770},{"$f":"Skyggetabeller!I225","v":108734},{"$f":"Skyggetabeller!J225","v":109335},{"$f":"Skyggetabeller!K225","v":110138},{"$f":"Skyggetabeller!L225","v":110822},{"$f":"Skyggetabeller!M225","v":111068},{"$f":"Skyggetabeller!N225","v":110927},{"$f":"Skyggetabeller!O225","v":110614},{"$f":"Skyggetabeller!P225","v":110513},{"$f":"Skyggetabeller!Q225","v":110692},{"$f":"Skyggetabeller!R225","v":110835}]
[null,{"$f":"Skyggetabeller!B227","v":"Sammenligningsgruppe, gns."}]
[null,{"$f":"Skyggetabeller!B230","v":"Andel"},null,{"$f":"Skyggetabeller!D230","v":0.48199739721405505},{"$f":"Skyggetabeller!E230","v":0.30317536301260567},{"$f":"Skyggetabeller!F230","v":0.38153983116862472},{"$f":"Skyggetabeller!G230","v":0.39634098007197555},{"$f":"Skyggetabeller!H230","v":0.28460747885208321},{"$f":"Skyggetabeller!I230","v":0},{"$f":"Skyggetabeller!J230","v":0.11005078057446507},{"$f":"Skyggetabeller!K230","v":7.8488007032525425E-2},{"$f":"Skyggetabeller!L230","v":0},{"$f":"Skyggetabeller!M230","v":0},{"$f":"Skyggetabeller!N230","v":0},{"$f":"Skyggetabeller!O230","v":0},{"$f":"Skyggetabeller!P230","v":0},{"$f":"Skyggetabeller!Q230","v":0},{"$f":"Skyggetabeller!R230","v":0}]
[null,{"$f":"Skyggetabeller!B229","v":"Antal 0-17-årige"},null,{"$f":"Skyggetabeller!D229","v":62241},{"$f":"Skyggetabeller!E229","v":62670},{"$f":"Skyggetabeller!F229","v":62903},{"$f":"Skyggetabeller!G229","v":63077},{"$f":"Skyggetabeller!H229","v":63245},{"$f":"Skyggetabeller!I229","v":63510},{"$f":"Skyggetabeller!J229","v":63607},{"$f":"Skyggetabeller!K229","v":63704},{"$f":"Skyggetabeller!L229","v":63890},{"$f":"Skyggetabeller!M229","v":64128},{"$f":"Skyggetabeller!N229","v":64334},{"$f":"Skyggetabeller!O229","v":64307},{"$f":"Skyggetabeller!P229","v":64049},{"$f":"Skyggetabeller!Q229","v":64356},{"$f":"Skyggetabeller!R229","v":64420}]
[null,{"$f":"Skyggetabeller!B231","v":"Hele landet"}]
[null,{"$f":"Skyggetabeller!B234","v":"Andel"},null,{"$f":"Skyggetabeller!D234","v":0.34092096629679308},{"$f":"Skyggetabeller!E234","v":0.31191034805424495},{"$f":"Skyggetabeller!F234","v":0.30816614606561715},{"$f":"Skyggetabeller!G234","v":0.28832217944108407},{"$f":"Skyggetabeller!H234","v":0.2737081447478496},{"$f":"Skyggetabeller!I234","v":0.21941240497506873},{"$f":"Skyggetabeller!J234","v":0.21717398048881381},{"$f":"Skyggetabeller!K234","v":0.19281700455757145},{"$f":"Skyggetabeller!L234","v":0.21797120704150796},{"$f":"Skyggetabeller!M234","v":0.20381135914423512},{"$f":"Skyggetabeller!N234","v":0.21769826153627322},{"$f":"Skyggetabeller!O234","v":0.21278924137595601},{"$f":"Skyggetabeller!P234","v":0.22141105700770339},{"$f":"Skyggetabeller!Q234","v":0.21516451876597534},{"$f":"Skyggetabeller!R234","v":0.21110663134379754}]
[null,{"$f":"Skyggetabeller!B233","v":"Antal 0-17-årige"},null,{"$f":"Skyggetabeller!D233","v":1167426},{"$f":"Skyggetabeller!E233","v":1167002},{"$f":"Skyggetabeller!F233","v":1168201},{"$f":"Skyggetabeller!G233","v":1165363},{"$f":"Skyggetabeller!H233","v":1165475},{"$f":"Skyggetabeller!I233","v":1162195},{"$f":"Skyggetabeller!J233","v":1160360},{"$f":"Skyggetabeller!K233","v":1156537},{"$f":"Skyggetabeller!L233","v":1156116},{"$f":"Skyggetabeller!M233","v":1153027},{"$f":"Skyggetabeller!N233","v":1152972},{"$f":"Skyggetabeller!O233","v":1151374},{"$f":"Skyggetabeller!P233","v":1151704},{"$f":"Skyggetabeller!Q233","v":1157254},{"$f":"Skyggetabeller!R233","v":1155814}]
[null,{"$f":"Registerdata!$B$30","v":"Anm.: Hvis nøgletallet er angivet med * er der foretaget en diskretionering af data, da der er for få observationer. "}]
[null,{"$f":"IF('Dine valg'!$G$24=\"\",\"Ingen sammenligningsgruppe valgt.\",\"Anm.: Valgte kommuner i sammenligningsgruppen: \"&'Dine valg'!$G$24&\" \"&'Dine valg'!$G$25&\" \"&'Dine valg'!$G$26&\" \"&'Dine valg'!$G$27&\" \"&'Dine valg'!$G$28&\" \"&'Dine valg'!$G$29&\" \"&'Dine valg'!$G$30)","v":"Anm.: Valgte kommuner i sammenligningsgruppen: Aarhus      "}]
[null,{"$f":"Registerdata!$B$32","v":"Kilde: Socialstyrelsens egne beregninger baseret på registerdata fra Danmarks Statistik."}]
[]
[null,{"$f":"Skyggetabeller!B236","v":"Tabel 5.3: Modtagere af ikke-forældrerettede forebyggende foranstaltninger"}]
[]
[null,{"$f":"Skyggetabeller!B237","v":"Nøgletal 5.3: \nBørn og unge, der modtager ikke-forældrerettede forebyggende foranstaltninger"},null,"2016-01-01","2016-07-01","2017-01-01","2017-07-01","2018-01-01","2018-07-01","2019-01-01","2019-07-01","2020-01-01","2020-07-01","2021-01-01","2021-07-01","2022-01-01","2022-07-01","2023-01-01"]
[null,{"$f":"Skyggetabeller!B238","v":"København"}]
[null,{"$f":"Skyggetabeller!B241","v":"Andel"},null,{"$f":"Skyggetabeller!D241","v":18.710536986618781},{"$f":"Skyggetabeller!E241","v":19.742931572468677},{"$f":"Skyggetabeller!F241","v":19.908391179109412},{"$f":"Skyggetabeller!G241","v":20.512005088249325},{"$f":"Skyggetabeller!H241","v":21.184002969286443},{"$f":"Skyggetabeller!I241","v":21.621571909430354},{"$f":"Skyggetabeller!J241","v":21.200896327799882},{"$f":"Skyggetabeller!K241","v":20.138371860756507},{"$f":"Skyggetabeller!L241","v":19.174893071772754},{"$f":"Skyggetabeller!M241","v":18.997370979940214},{"$f":"Skyggetabeller!N241","v":18.092980067972629},{"$f":"Skyggetabeller!O241","v":20.548935939392841},{"$f":"Skyggetabeller!P241","v":20.504375050898989},{"$f":"Skyggetabeller!Q241","v":21.555306616557655},{"$f":"Skyggetabeller!R241","v":21.536518247845898}]
[null,{"$f":"Skyggetabeller!B240","v":"Antal 0-17-årige"},null,{"$f":"Skyggetabeller!D240","v":103578},{"$f":"Skyggetabeller!E240","v":104797},{"$f":"Skyggetabeller!F240","v":105885},{"$f":"Skyggetabeller!G240","v":106913},{"$f":"Skyggetabeller!H240","v":107770},{"$f":"Skyggetabeller!I240","v":108734},{"$f":"Skyggetabeller!J240","v":109335},{"$f":"Skyggetabeller!K240","v":110138},{"$f":"Skyggetabeller!L240","v":110822},{"$f":"Skyggetabeller!M240","v":111068},{"$f":"Skyggetabeller!N240","v":110927},{"$f":"Skyggetabeller!O240","v":110614},{"$f":"Skyggetabeller!P240","v":110513},{"$f":"Skyggetabeller!Q240","v":110692},{"$f":"Skyggetabeller!R240","v":110835}]
[null,{"$f":"Skyggetabeller!B242","v":"Sammenligningsgruppe, gns."}]
[null,{"$f":"Skyggetabeller!B245","v":"Andel"},null,{"$f":"Skyggetabeller!D245","v":17.721437637570091},{"$f":"Skyggetabeller!E245","v":17.711823839157493},{"$f":"Skyggetabeller!F245","v":17.45544727596458},{"$f":"Skyggetabeller!G245","v":16.535345688602821},{"$f":"Skyggetabeller!H245","v":17.914459641078349},{"$f":"Skyggetabeller!I245","v":18.48527790899071},{"$f":"Skyggetabeller!J245","v":20.12357130504504},{"$f":"Skyggetabeller!K245","v":20.0615345975135},{"$f":"Skyggetabeller!L245","v":20.034434183753326},{"$f":"Skyggetabeller!M245","v":19.507859281437128},{"$f":"Skyggetabeller!N245","v":19.165604501507755},{"$f":"Skyggetabeller!O245","v":18.769340818262396},{"$f":"Skyggetabeller!P245","v":17.627129229183907},{"$f":"Skyggetabeller!Q245","v":17.04580769469824},{"$f":"Skyggetabeller!R245","v":16.625271654765601}]
[null,{"$f":"Skyggetabeller!B244","v":"Antal 0-17-årige"},null,{"$f":"Skyggetabeller!D244","v":62241},{"$f":"Skyggetabeller!E244","v":62670},{"$f":"Skyggetabeller!F244","v":62903},{"$f":"Skyggetabeller!G244","v":63077},{"$f":"Skyggetabeller!H244","v":63245},{"$f":"Skyggetabeller!I244","v":63510},{"$f":"Skyggetabeller!J244","v":63607},{"$f":"Skyggetabeller!K244","v":63704},{"$f":"Skyggetabeller!L244","v":63890},{"$f":"Skyggetabeller!M244","v":64128},{"$f":"Skyggetabeller!N244","v":64334},{"$f":"Skyggetabeller!O244","v":64307},{"$f":"Skyggetabeller!P244","v":64049},{"$f":"Skyggetabeller!Q244","v":64356},{"$f":"Skyggetabeller!R244","v":64420}]
[null,{"$f":"Skyggetabeller!B246","v":"Hele landet"}]
[null,{"$f":"Skyggetabeller!B249","v":"Andel"},null,{"$f":"Skyggetabeller!D249","v":19.720307753981839},{"$f":"Skyggetabeller!E249","v":19.789169170232785},{"$f":"Skyggetabeller!F249","v":19.84932387491536},{"$f":"Skyggetabeller!G249","v":19.968027129744122},{"$f":"Skyggetabeller!H249","v":20.250112615028208},{"$f":"Skyggetabeller!I249","v":19.988900313630673},{"$f":"Skyggetabeller!J249","v":20.497087110896619},{"$f":"Skyggetabeller!K249","v":20.452436887017015},{"$f":"Skyggetabeller!L249","v":21.187320303498957},{"$f":"Skyggetabeller!M249","v":21.325606425521691},{"$f":"Skyggetabeller!N249","v":21.705644196042922},{"$f":"Skyggetabeller!O249","v":22.571293081136105},{"$f":"Skyggetabeller!P249","v":22.808811986413176},{"$f":"Skyggetabeller!Q249","v":22.794477271195433},{"$f":"Skyggetabeller!R249","v":22.918912558595068}]
[null,{"$f":"Skyggetabeller!B248","v":"Antal 0-17-årige"},null,{"$f":"Skyggetabeller!D248","v":1167426},{"$f":"Skyggetabeller!E248","v":1167002},{"$f":"Skyggetabeller!F248","v":1168201},{"$f":"Skyggetabeller!G248","v":1165363},{"$f":"Skyggetabeller!H248","v":1165475},{"$f":"Skyggetabeller!I248","v":1162195},{"$f":"Skyggetabeller!J248","v":1160360},{"$f":"Skyggetabeller!K248","v":1156537},{"$f":"Skyggetabeller!L248","v":1156116},{"$f":"Skyggetabeller!M248","v":1153027},{"$f":"Skyggetabeller!N248","v":1152972},{"$f":"Skyggetabeller!O248","v":1151374},{"$f":"Skyggetabeller!P248","v":1151704},{"$f":"Skyggetabeller!Q248","v":1157254},{"$f":"Skyggetabeller!R248","v":1155814}]
[null,{"$f":"Registerdata!$B$30","v":"Anm.: Hvis nøgletallet er angivet med * er der foretaget en diskretionering af data, da der er for få observationer. "}]
[null,{"$f":"IF('Dine valg'!$G$24=\"\",\"Ingen sammenligningsgruppe valgt.\",\"Anm.: Valgte kommuner i sammenligningsgruppen: \"&'Dine valg'!$G$24&\" \"&'Dine valg'!$G$25&\" \"&'Dine valg'!$G$26&\" \"&'Dine valg'!$G$27&\" \"&'Dine valg'!$G$28&\" \"&'Dine valg'!$G$29&\" \"&'Dine valg'!$G$30)","v":"Anm.: Valgte kommuner i sammenligningsgruppen: Aarhus      "}]
[null,{"$f":"Registerdata!$B$32","v":"Kilde: Socialstyrelsens egne beregninger baseret på registerdata fra Danmarks Statistik."}]
[]
[null,{"$f":"Skyggetabeller!B251","v":"Tabel 5.4: Modtagere af forældrerettede indsatser"}]
[]
[null,{"$f":"Skyggetabeller!B252","v":"Nøgletal 5.4: \nModtagere af forældrerettede indsatser"},null,"2016-01-01","2016-07-01","2017-01-01","2017-07-01","2018-01-01","2018-07-01","2019-01-01","2019-07-01","2020-01-01","2020-07-01","2021-01-01","2021-07-01","2022-01-01","2022-07-01","2023-01-01"]
[null,{"$f":"Skyggetabeller!B253","v":"København"}]
[null,{"$f":"Skyggetabeller!B256","v":"Andel"},null,{"$f":"Skyggetabeller!D256","v":3.8618239394466007E-2},{"$f":"Skyggetabeller!E256","v":2.8626773667185131E-2},{"$f":"Skyggetabeller!F256","v":4.7221041696179814E-2},{"$f":"Skyggetabeller!G256","v":2.8060198479137242E-2},{"$f":"Skyggetabeller!H256","v":4.6395100677368475E-2},{"$f":"Skyggetabeller!I256","v":3.6787021538801111E-2},{"$f":"Skyggetabeller!J256","v":2.7438606118809165E-2},{"$f":"Skyggetabeller!K256","v":2.723855526702864E-2},{"$f":"Skyggetabeller!L256","v":4.511739546299471E-2},{"$f":"Skyggetabeller!M256","v":9.9038426909640931E-2},{"$f":"Skyggetabeller!N256","v":0.12620912852596752},{"$f":"Skyggetabeller!O256","v":"*"},{"$f":"Skyggetabeller!P256","v":0.13573063802448582},{"$f":"Skyggetabeller!Q256","v":0.11744299497705345},{"$f":"Skyggetabeller!R256","v":0.12631389001669147}]
[null,{"$f":"Skyggetabeller!B255","v":"Antal 0-17-årige"},null,{"$f":"Skyggetabeller!D255","v":103578},{"$f":"Skyggetabeller!E255","v":104797},{"$f":"Skyggetabeller!F255","v":105885},{"$f":"Skyggetabeller!G255","v":106913},{"$f":"Skyggetabeller!H255","v":107770},{"$f":"Skyggetabeller!I255","v":108734},{"$f":"Skyggetabeller!J255","v":109335},{"$f":"Skyggetabeller!K255","v":110138},{"$f":"Skyggetabeller!L255","v":110822},{"$f":"Skyggetabeller!M255","v":111068},{"$f":"Skyggetabeller!N255","v":110927},{"$f":"Skyggetabeller!O255","v":110614},{"$f":"Skyggetabeller!P255","v":110513},{"$f":"Skyggetabeller!Q255","v":110692},{"$f":"Skyggetabeller!R255","v":110835}]
[null,{"$f":"Skyggetabeller!B257","v":"Sammenligningsgruppe, gns."}]
[null,{"$f":"Skyggetabeller!B260","v":"Andel"},null,{"$f":"Skyggetabeller!D260","v":0.25706527851416272},{"$f":"Skyggetabeller!E260","v":0},{"$f":"Skyggetabeller!F260","v":0},{"$f":"Skyggetabeller!G260","v":0},{"$f":"Skyggetabeller!H260","v":0},{"$f":"Skyggetabeller!I260","v":0.25192883010549522},{"$f":"Skyggetabeller!J260","v":0.2043800210668637},{"$f":"Skyggetabeller!K260","v":0.21976641969107122},{"$f":"Skyggetabeller!L260","v":0.25043042729691661},{"$f":"Skyggetabeller!M260","v":0.23390718562874252},{"$f":"Skyggetabeller!N260","v":0.23315820561444958},{"$f":"Skyggetabeller!O260","v":0.21770569300387208},{"$f":"Skyggetabeller!P260","v":0.23419569392184109},{"$f":"Skyggetabeller!Q260","v":0.17092423394866058},{"$f":"Skyggetabeller!R260","v":0.23284694194349581}]
[null,{"$f":"Skyggetabeller!B259","v":"Antal 0-17-årige"},null,{"$f":"Skyggetabeller!D259","v":62241},{"$f":"Skyggetabeller!E259","v":62670},{"$f":"Skyggetabeller!F259","v":62903},{"$f":"Skyggetabeller!G259","v":63077},{"$f":"Skyggetabeller!H259","v":63245},{"$f":"Skyggetabeller!I259","v":63510},{"$f":"Skyggetabeller!J259","v":63607},{"$f":"Skyggetabeller!K259","v":63704},{"$f":"Skyggetabeller!L259","v":63890},{"$f":"Skyggetabeller!M259","v":64128},{"$f":"Skyggetabeller!N259","v":64334},{"$f":"Skyggetabeller!O259","v":64307},{"$f":"Skyggetabeller!P259","v":64049},{"$f":"Skyggetabeller!Q259","v":64356},{"$f":"Skyggetabeller!R259","v":64420}]
[null,{"$f":"Skyggetabeller!B261","v":"Hele landet"}]
[null,{"$f":"Skyggetabeller!B264","v":"Andel"},null,{"$f":"Skyggetabeller!D264","v":0.30066145520144316},{"$f":"Skyggetabeller!E264","v":0.29391552028188467},{"$f":"Skyggetabeller!F264","v":0.27563749731424642},{"$f":"Skyggetabeller!G264","v":0.25228190701094855},{"$f":"Skyggetabeller!H264","v":0.24796756687187629},{"$f":"Skyggetabeller!I264","v":0.23231901703242572},{"$f":"Skyggetabeller!J264","v":0.20510875935054637},{"$f":"Skyggetabeller!K264","v":0.18071190113243243},{"$f":"Skyggetabeller!L264","v":0.18769742828574296},{"$f":"Skyggetabeller!M264","v":0.18733299393682887},{"$f":"Skyggetabeller!N264","v":0.20121911026460312},{"$f":"Skyggetabeller!O264","v":0.18239077832224804},{"$f":"Skyggetabeller!P264","v":0.17886540291602704},{"$f":"Skyggetabeller!Q264","v":0.19183342636966474},{"$f":"Skyggetabeller!R264","v":0.21197182245586227}]
[null,{"$f":"Skyggetabeller!B263","v":"Antal 0-17-årige"},null,{"$f":"Skyggetabeller!D263","v":1167426},{"$f":"Skyggetabeller!E263","v":1167002},{"$f":"Skyggetabeller!F263","v":1168201},{"$f":"Skyggetabeller!G263","v":1165363},{"$f":"Skyggetabeller!H263","v":1165475},{"$f":"Skyggetabeller!I263","v":1162195},{"$f":"Skyggetabeller!J263","v":1160360},{"$f":"Skyggetabeller!K263","v":1156537},{"$f":"Skyggetabeller!L263","v":1156116},{"$f":"Skyggetabeller!M263","v":1153027},{"$f":"Skyggetabeller!N263","v":1152972},{"$f":"Skyggetabeller!O263","v":1151374},{"$f":"Skyggetabeller!P263","v":1151704},{"$f":"Skyggetabeller!Q263","v":1157254},{"$f":"Skyggetabeller!R263","v":1155814}]
[null,{"$f":"Registerdata!$B$30","v":"Anm.: Hvis nøgletallet er angivet med * er der foretaget en diskretionering af data, da der er for få observationer. "}]
[null,{"$f":"IF('Dine valg'!$G$24=\"\",\"Ingen sammenligningsgruppe valgt.\",\"Anm.: Valgte kommuner i sammenligningsgruppen: \"&'Dine valg'!$G$24&\" \"&'Dine valg'!$G$25&\" \"&'Dine valg'!$G$26&\" \"&'Dine valg'!$G$27&\" \"&'Dine valg'!$G$28&\" \"&'Dine valg'!$G$29&\" \"&'Dine valg'!$G$30)","v":"Anm.: Valgte kommuner i sammenligningsgruppen: Aarhus      "}]
[null,{"$f":"Registerdata!$B$32","v":"Kilde: Socialstyrelsens egne beregninger baseret på registerdata fra Danmarks Statistik."}]
[]
[]
[null,{"$f":"Skyggetabeller!B267","v":"Nøgletal 6: Forebyggende indsatser (§ 11, stk. 3-tilbud)"}]
[]
[null,{"$f":"\"Figur 6: Modtagere af § 11, stk. 3-tilbud for \"&Kommune&\"\"","v":"Figur 6: Modtagere af § 11, stk. 3-tilbud for København"},null,null,null,null,null,null,null,null,null,null,"Benyt, slet eller erstat gerne følgende tekst til beskrivelse af udviklingen over tid for det pågældende nøgletal. Beskrivelsen vil blive indsat i rapporten (skriv maks 20 linjer):"]
[]
[]
[]
[]
[]
[]
[]
[]
[]
[]
[]
[]
[]
[]
[]
[]
[]
[null,{"$f":"Registerdata!$B$30","v":"Anm.: Hvis nøgletallet er angivet med * er der foretaget en diskretionering af data, da der er for få observationer. "}]
[null,{"$f":"IF('Dine valg'!$G$24=\"\",\"Ingen sammenligningsgruppe valgt.\",\"Anm.: Valgte kommuner i sammenligningsgruppen: \"&'Dine valg'!$G$24&\" \"&'Dine valg'!$G$25&\" \"&'Dine valg'!$G$26&\" \"&'Dine valg'!$G$27&\" \"&'Dine valg'!$G$28&\" \"&'Dine valg'!$G$29&\" \"&'Dine valg'!$G$30)","v":"Anm.: Valgte kommuner i sammenligningsgruppen: Aarhus      "}]
[null,{"$f":"Registerdata!$B$32","v":"Kilde: Socialstyrelsens egne beregninger baseret på registerdata fra Danmarks Statistik."}]
[]
[null,{"$f":"Skyggetabeller!B269","v":"Tabel 6: Samlet antal § 11, stk. 3-tilbud for København"}]
[]
[null,{"$f":"Skyggetabeller!B270","v":"Nøgletal 6: \nModtagere af § 11, stk. 3-tilbud"},null,"2016-01-01","2016-07-01","2017-01-01","2017-07-01","2018-01-01","2018-07-01","2019-01-01","2019-07-01","2020-01-01","2020-07-01","2021-01-01","2021-07-01","2022-01-01","2022-07-01","2023-01-01"]
[null,{"$f":"Skyggetabeller!B273","v":"Andel"},null,{"$f":"Skyggetabeller!D273","v":"-"},{"$f":"Skyggetabeller!E273","v":"-"},{"$f":"Skyggetabeller!F273","v":"-"},{"$f":"Skyggetabeller!G273","v":"-"},{"$f":"Skyggetabeller!H273","v":"-"},{"$f":"Skyggetabeller!I273","v":"-"},{"$f":"Skyggetabeller!J273","v":"-"},{"$f":"Skyggetabeller!K273","v":"-"},{"$f":"Skyggetabeller!L273","v":"-"},{"$f":"Skyggetabeller!M273","v":"-"},{"$f":"Skyggetabeller!N273","v":"-"},{"$f":"Skyggetabeller!O273","v":"-"},{"$f":"Skyggetabeller!P273","v":"-"},{"$f":"Skyggetabeller!Q273","v":"-"},{"$f":"Skyggetabeller!R273","v":"-"}]
[null,{"$f":"Skyggetabeller!B272","v":"Antal 0-17-årige"},null,{"$f":"Skyggetabeller!D272","v":103578},{"$f":"Skyggetabeller!E272","v":104797},{"$f":"Skyggetabeller!F272","v":105885},{"$f":"Skyggetabeller!G272","v":106913},{"$f":"Skyggetabeller!H272","v":107770},{"$f":"Skyggetabeller!I272","v":108734},{"$f":"Skyggetabeller!J272","v":109335},{"$f":"Skyggetabeller!K272","v":110138},{"$f":"Skyggetabeller!L272","v":110822},{"$f":"Skyggetabeller!M272","v":111068},{"$f":"Skyggetabeller!N272","v":110927},{"$f":"Skyggetabeller!O272","v":110614},{"$f":"Skyggetabeller!P272","v":110513},{"$f":"Skyggetabeller!Q272","v":110692},{"$f":"Skyggetabeller!R272","v":110835}]
[null,{"$f":"Registerdata!$B$30","v":"Anm.: Hvis nøgletallet er angivet med * er der foretaget en diskretionering af data, da der er for få observationer. "}]
[null,{"$f":"IF('Dine valg'!$G$24=\"\",\"Ingen sammenligningsgruppe valgt.\",\"Anm.: Valgte kommuner i sammenligningsgruppen: \"&'Dine valg'!$G$24&\" \"&'Dine valg'!$G$25&\" \"&'Dine valg'!$G$26&\" \"&'Dine valg'!$G$27&\" \"&'Dine valg'!$G$28&\" \"&'Dine valg'!$G$29&\" \"&'Dine valg'!$G$30)","v":"Anm.: Valgte kommuner i sammenligningsgruppen: Aarhus      "}]
[null,{"$f":"Registerdata!$B$32","v":"Kilde: Socialstyrelsens egne beregninger baseret på registerdata fra Danmarks Statistik."}]
[]
[null,"Figur 6.1: Myndighedsbevilgede § 11, stk. 3-tilbud (pr. 1.000 0-17-årige)",null,null,null,null,"Figur 6.2: Øvrige § 11, stk. 3-tilbud (pr. 1.000 0-17-årige)"]
[]
[]
[]
[]
[]
[]
[]
[]
[]
[]
[]
[]
[]
[]
[]
[]
[]
[]
[]
[]
[]
[]
[]
[null,"Anm.: Hvis nøgletallet har værdien 0 i grafen kan det enten betyde 0 %, eller at der er foretaget en diskretionering af data, da der er for få observationer. Se tilhørende tabeller for værdien."]
[null,{"$f":"IF('Dine valg'!$G$24=\"\",\"Ingen sammenligningsgruppe valgt.\",\"Anm.: Valgte kommuner i sammenligningsgruppen: \"&'Dine valg'!$G$24&\" \"&'Dine valg'!$G$25&\" \"&'Dine valg'!$G$26&\" \"&'Dine valg'!$G$27&\" \"&'Dine valg'!$G$28&\" \"&'Dine valg'!$G$29&\" \"&'Dine valg'!$G$30)","v":"Anm.: Valgte kommuner i sammenligningsgruppen: Aarhus      "}]
[null,{"$f":"Registerdata!$B$32","v":"Kilde: Socialstyrelsens egne beregninger baseret på registerdata fra Danmarks Statistik."}]
[]
[null,{"$f":"Skyggetabeller!B275","v":"Tabel 6.1: Myndighedsbevilgede § 11, stk. 3-tilbud (pr. 1.000 0-17-årige) for København"}]
[]
[null,{"$f":"Skyggetabeller!B277","v":"Nøgletal 6.1: \nModtagere af myndighedsbevilgede § 11, stk. 3-tilbud"},null,"2016-01-01","2016-07-01","2017-01-01","2017-07-01","2018-01-01","2018-07-01","2019-01-01","2019-07-01","2020-01-01","2020-07-01","2021-01-01","2021-07-01","2022-01-01","2022-07-01","2023-01-01"]
[null,{"$f":"Skyggetabeller!B280","v":"Andel"},null,{"$f":"Skyggetabeller!D280","v":"-"},{"$f":"Skyggetabeller!E280","v":"-"},{"$f":"Skyggetabeller!F280","v":"-"},{"$f":"Skyggetabeller!G280","v":"-"},{"$f":"Skyggetabeller!H280","v":"-"},{"$f":"Skyggetabeller!I280","v":"-"},{"$f":"Skyggetabeller!J280","v":"-"},{"$f":"Skyggetabeller!K280","v":"-"},{"$f":"Skyggetabeller!L280","v":"-"},{"$f":"Skyggetabeller!M280","v":"-"},{"$f":"Skyggetabeller!N280","v":"-"},{"$f":"Skyggetabeller!O280","v":"-"},{"$f":"Skyggetabeller!P280","v":"-"},{"$f":"Skyggetabeller!Q280","v":"-"},{"$f":"Skyggetabeller!R280","v":"-"}]
[null,{"$f":"Skyggetabeller!B279","v":"Antal 0-17-årige"},null,{"$f":"Skyggetabeller!D279","v":103578},{"$f":"Skyggetabeller!E279","v":104797},{"$f":"Skyggetabeller!F279","v":105885},{"$f":"Skyggetabeller!G279","v":106913},{"$f":"Skyggetabeller!H279","v":107770},{"$f":"Skyggetabeller!I279","v":108734},{"$f":"Skyggetabeller!J279","v":109335},{"$f":"Skyggetabeller!K279","v":110138},{"$f":"Skyggetabeller!L279","v":110822},{"$f":"Skyggetabeller!M279","v":111068},{"$f":"Skyggetabeller!N279","v":110927},{"$f":"Skyggetabeller!O279","v":110614},{"$f":"Skyggetabeller!P279","v":110513},{"$f":"Skyggetabeller!Q279","v":110692},{"$f":"Skyggetabeller!R279","v":110835}]
[null,{"$f":"Registerdata!$B$30","v":"Anm.: Hvis nøgletallet er angivet med * er der foretaget en diskretionering af data, da der er for få observationer. "}]
[null,{"$f":"IF('Dine valg'!$G$24=\"\",\"Ingen sammenligningsgruppe valgt.\",\"Anm.: Valgte kommuner i sammenligningsgruppen: \"&'Dine valg'!$G$24&\" \"&'Dine valg'!$G$25&\" \"&'Dine valg'!$G$26&\" \"&'Dine valg'!$G$27&\" \"&'Dine valg'!$G$28&\" \"&'Dine valg'!$G$29&\" \"&'Dine valg'!$G$30)","v":"Anm.: Valgte kommuner i sammenligningsgruppen: Aarhus      "}]
[null,{"$f":"Registerdata!$B$32","v":"Kilde: Socialstyrelsens egne beregninger baseret på registerdata fra Danmarks Statistik."}]
[]
[null,{"$f":"Skyggetabeller!B281","v":"Tabel 6.2: Øvrige § 11, stk. 3-tilbud (pr. 1.000 0-17-årige) for København"}]
[]
[null,{"$f":"Skyggetabeller!B283","v":"Nøgletal 6.2: \nModtagere af øvrige § 11, stk. 3-tilbud"},null,"2016-01-01","2016-07-01","2017-01-01","2017-07-01","2018-01-01","2018-07-01","2019-01-01","2019-07-01","2020-01-01","2020-07-01","2021-01-01","2021-07-01","2022-01-01","2022-07-01","2023-01-01"]
[null,{"$f":"Skyggetabeller!B286","v":"Andel"},null,{"$f":"Skyggetabeller!D286","v":"-"},{"$f":"Skyggetabeller!E286","v":"-"},{"$f":"Skyggetabeller!F286","v":"-"},{"$f":"Skyggetabeller!G286","v":"-"},{"$f":"Skyggetabeller!H286","v":"-"},{"$f":"Skyggetabeller!I286","v":"-"},{"$f":"Skyggetabeller!J286","v":"-"},{"$f":"Skyggetabeller!K286","v":"-"},{"$f":"Skyggetabeller!L286","v":"-"},{"$f":"Skyggetabeller!M286","v":"-"},{"$f":"Skyggetabeller!N286","v":"-"},{"$f":"Skyggetabeller!O286","v":"-"},{"$f":"Skyggetabeller!P286","v":"-"},{"$f":"Skyggetabeller!Q286","v":"-"},{"$f":"Skyggetabeller!R286","v":"-"}]
[null,{"$f":"Skyggetabeller!B285","v":"Antal 0-17-årige"},null,{"$f":"Skyggetabeller!D285","v":103578},{"$f":"Skyggetabeller!E285","v":104797},{"$f":"Skyggetabeller!F285","v":105885},{"$f":"Skyggetabeller!G285","v":106913},{"$f":"Skyggetabeller!H285","v":107770},{"$f":"Skyggetabeller!I285","v":108734},{"$f":"Skyggetabeller!J285","v":109335},{"$f":"Skyggetabeller!K285","v":110138},{"$f":"Skyggetabeller!L285","v":110822},{"$f":"Skyggetabeller!M285","v":111068},{"$f":"Skyggetabeller!N285","v":110927},{"$f":"Skyggetabeller!O285","v":110614},{"$f":"Skyggetabeller!P285","v":110513},{"$f":"Skyggetabeller!Q285","v":110692},{"$f":"Skyggetabeller!R285","v":110835}]
[null,{"$f":"Registerdata!$B$30","v":"Anm.: Hvis nøgletallet er angivet med * er der foretaget en diskretionering af data, da der er for få observationer. "}]
[null,{"$f":"IF('Dine valg'!$G$24=\"\",\"Ingen sammenligningsgruppe valgt.\",\"Anm.: Valgte kommuner i sammenligningsgruppen: \"&'Dine valg'!$G$24&\" \"&'Dine valg'!$G$25&\" \"&'Dine valg'!$G$26&\" \"&'Dine valg'!$G$27&\" \"&'Dine valg'!$G$28&\" \"&'Dine valg'!$G$29&\" \"&'Dine valg'!$G$30)","v":"Anm.: Valgte kommuner i sammenligningsgruppen: Aarhus      "}]
[null,{"$f":"Registerdata!$B$32","v":"Kilde: Socialstyrelsens egne beregninger baseret på registerdata fra Danmarks Statistik."}]
[]
[]
[null,{"$f":"Skyggetabeller!B289","v":"Nøgletal 7: Fra institutionsanbringelse og ned ad trappen"}]
[]
[null,"Figur 7: Børn og unge, der ved forrige opgørelse var institutionsanbragt eller anbragt på socialpædagogisk opholdssted, og som nu ikke er anbragt eller anbragt i anden form",null,null,null,null,null,null,null,null,null,null,"Benyt, slet eller erstat gerne følgende tekst til beskrivelse af udviklingen over tid for det pågældende nøgletal. Beskrivelsen vil blive indsat i rapporten (skriv maks 20 linjer):"]
[]
[]
[]
[]
[]
[]
[]
[]
[]
[]
[]
[]
[]
[]
[]
[]
[]
[]
[]
[]
[]
[]
[null,{"$f":"Registerdata!$B$30","v":"Anm.: Hvis nøgletallet er angivet med * er der foretaget en diskretionering af data, da der er for få observationer. "}]
[null,{"$f":"IF('Dine valg'!$G$24=\"\",\"Ingen sammenligningsgruppe valgt.\",\"Anm.: Valgte kommuner i sammenligningsgruppen: \"&'Dine valg'!$G$24&\" \"&'Dine valg'!$G$25&\" \"&'Dine valg'!$G$26&\" \"&'Dine valg'!$G$27&\" \"&'Dine valg'!$G$28&\" \"&'Dine valg'!$G$29&\" \"&'Dine valg'!$G$30)","v":"Anm.: Valgte kommuner i sammenligningsgruppen: Aarhus      "}]
[null,{"$f":"Registerdata!$B$32","v":"Kilde: Socialstyrelsens egne beregninger baseret på registerdata fra Danmarks Statistik."}]
[]
[null,{"$f":"Skyggetabeller!B291","v":"Tabel 7: Fra institutionsanbringelse og ned ad trappen"}]
[]
[null,{"$f":"Skyggetabeller!B292","v":"Nøgletal 7: \nBørn og unge, der ved forrige opgørelse var institutionsanbragt eller anbragt på socialpædagogisk opholdssted, og som nu ikke er anbragt eller anbragt i anden form"},null,"2016-01-01","2016-07-01","2017-01-01","2017-07-01","2018-01-01","2018-07-01","2019-01-01","2019-07-01","2020-01-01","2020-07-01","2021-01-01","2021-07-01","2022-01-01","2022-07-01","2023-01-01"]
[null,{"$f":"Skyggetabeller!B293","v":"København"}]
[null,{"$f":"Skyggetabeller!B296","v":"Andel"},null,{"$f":"Skyggetabeller!D296","v":0.25896414342629481},{"$f":"Skyggetabeller!E296","v":0.20434782608695654},{"$f":"Skyggetabeller!F296","v":0.19742489270386265},{"$f":"Skyggetabeller!G296","v":0.22321428571428573},{"$f":"Skyggetabeller!H296","v":0.26548672566371684},{"$f":"Skyggetabeller!I296","v":0.23831775700934579},{"$f":"Skyggetabeller!J296","v":0.22119815668202766},{"$f":"Skyggetabeller!K296","v":0.24509803921568626},{"$f":"Skyggetabeller!L296","v":0.37305699481865284},{"$f":"Skyggetabeller!M296","v":0.19375000000000001},{"$f":"Skyggetabeller!N296","v":0.21111111111111111},{"$f":"Skyggetabeller!O296","v":0.21393034825870647},{"$f":"Skyggetabeller!P296","v":0.25570776255707761},{"$f":"Skyggetabeller!Q296","v":0.24423963133640553},{"$f":"Skyggetabeller!R296","v":0.19753086419753085}]
[null,{"$f":"Skyggetabeller!B295","v":"Antal tidligere institutionsanbragte"},null,{"$f":"Skyggetabeller!D295","v":251},{"$f":"Skyggetabeller!E295","v":230},{"$f":"Skyggetabeller!F295","v":233},{"$f":"Skyggetabeller!G295","v":224},{"$f":"Skyggetabeller!H295","v":226},{"$f":"Skyggetabeller!I295","v":214},{"$f":"Skyggetabeller!J295","v":217},{"$f":"Skyggetabeller!K295","v":204},{"$f":"Skyggetabeller!L295","v":193},{"$f":"Skyggetabeller!M295","v":160},{"$f":"Skyggetabeller!N295","v":180},{"$f":"Skyggetabeller!O295","v":201},{"$f":"Skyggetabeller!P295","v":219},{"$f":"Skyggetabeller!Q295","v":217},{"$f":"Skyggetabeller!R295","v":243}]
[null,{"$f":"Skyggetabeller!B297","v":"Sammenligningsgruppe, gns."}]
[null,{"$f":"Skyggetabeller!B300","v":"Andel"},null,{"$f":"Skyggetabeller!D300","v":0.15789473684210525},{"$f":"Skyggetabeller!E300","v":0.16402116402116401},{"$f":"Skyggetabeller!F300","v":0.17733990147783252},{"$f":"Skyggetabeller!G300","v":0.18324607329842932},{"$f":"Skyggetabeller!H300","v":0.18421052631578946},{"$f":"Skyggetabeller!I300","v":0.20555555555555555},{"$f":"Skyggetabeller!J300","v":0.16666666666666666},{"$f":"Skyggetabeller!K300","v":0.14367816091954022},{"$f":"Skyggetabeller!L300","v":0.17415730337078653},{"$f":"Skyggetabeller!M300","v":0.26900584795321636},{"$f":"Skyggetabeller!N300","v":0.16184971098265896},{"$f":"Skyggetabeller!O300","v":0.17714285714285713},{"$f":"Skyggetabeller!P300","v":0.22285714285714286},{"$f":"Skyggetabeller!Q300","v":0.13664596273291926},{"$f":"Skyggetabeller!R300","v":0.18390804597701149}]
[null,{"$f":"Skyggetabeller!B299","v":"Antal tidligere institutionsanbragte"},null,{"$f":"Skyggetabeller!D299","v":190},{"$f":"Skyggetabeller!E299","v":189},{"$f":"Skyggetabeller!F299","v":203},{"$f":"Skyggetabeller!G299","v":191},{"$f":"Skyggetabeller!H299","v":190},{"$f":"Skyggetabeller!I299","v":180},{"$f":"Skyggetabeller!J299","v":168},{"$f":"Skyggetabeller!K299","v":174},{"$f":"Skyggetabeller!L299","v":178},{"$f":"Skyggetabeller!M299","v":171},{"$f":"Skyggetabeller!N299","v":173},{"$f":"Skyggetabeller!O299","v":175},{"$f":"Skyggetabeller!P299","v":175},{"$f":"Skyggetabeller!Q299","v":161},{"$f":"Skyggetabeller!R299","v":174}]
[null,{"$f":"Skyggetabeller!B301","v":"Hele landet"}]
[null,{"$f":"Skyggetabeller!B304","v":"Andel"},null,{"$f":"Skyggetabeller!D304","v":0.17758865248226952},{"$f":"Skyggetabeller!E304","v":0.19575334496800464},{"$f":"Skyggetabeller!F304","v":0.18462434478741993},{"$f":"Skyggetabeller!G304","v":0.19313812481514345},{"$f":"Skyggetabeller!H304","v":0.20127057464626047},{"$f":"Skyggetabeller!I304","v":0.19111111111111112},{"$f":"Skyggetabeller!J304","v":0.19847103793002058},{"$f":"Skyggetabeller!K304","v":0.18253486961795026},{"$f":"Skyggetabeller!L304","v":0.19902319902319901},{"$f":"Skyggetabeller!M304","v":0.1704406364749082},{"$f":"Skyggetabeller!N304","v":0.17832482737916541},{"$f":"Skyggetabeller!O304","v":0.17222058389855499},{"$f":"Skyggetabeller!P304","v":0.18568554182236274},{"$f":"Skyggetabeller!Q304","v":0.16242774566473989},{"$f":"Skyggetabeller!R304","v":0.17577262693156734}]
[null,{"$f":"Skyggetabeller!B303","v":"Antal tidligere institutionsanbragte"},null,{"$f":"Skyggetabeller!D303","v":3525},{"$f":"Skyggetabeller!E303","v":3438},{"$f":"Skyggetabeller!F303","v":3434},{"$f":"Skyggetabeller!G303","v":3381},{"$f":"Skyggetabeller!H303","v":3463},{"$f":"Skyggetabeller!I303","v":3375},{"$f":"Skyggetabeller!J303","v":3401},{"$f":"Skyggetabeller!K303","v":3298},{"$f":"Skyggetabeller!L303","v":3276},{"$f":"Skyggetabeller!M303","v":3268},{"$f":"Skyggetabeller!N303","v":3331},{"$f":"Skyggetabeller!O303","v":3391},{"$f":"Skyggetabeller!P303","v":3479},{"$f":"Skyggetabeller!Q303","v":3460},{"$f":"Skyggetabeller!R303","v":3624}]
[null,{"$f":"Registerdata!$B$30","v":"Anm.: Hvis nøgletallet er angivet med * er der foretaget en diskretionering af data, da der er for få observationer. "}]
[null,{"$f":"IF('Dine valg'!$G$24=\"\",\"Ingen sammenligningsgruppe valgt.\",\"Anm.: Valgte kommuner i sammenligningsgruppen: \"&'Dine valg'!$G$24&\" \"&'Dine valg'!$G$25&\" \"&'Dine valg'!$G$26&\" \"&'Dine valg'!$G$27&\" \"&'Dine valg'!$G$28&\" \"&'Dine valg'!$G$29&\" \"&'Dine valg'!$G$30)","v":"Anm.: Valgte kommuner i sammenligningsgruppen: Aarhus      "}]
[null,{"$f":"Registerdata!$B$32","v":"Kilde: Socialstyrelsens egne beregninger baseret på registerdata fra Danmarks Statistik."}]
[]
[]
[null,"Figur 7.1: Børn og unge, der ved sidste opgørelse var institutionsanbragt, men som ved denne måling er hhv. anbragt i anden form eller ikke længere er anbragt",null,null,null,null,null,"Figur 7.2: Børn og unge, der ved sidste opgørelse var anbragt på socialpædagogiske opholdssteder, men som ved denne måling er hhv. anbragt i anden form eller ikke længere er anbragt"]
[]
[]
[]
[]
[]
[]
[]
[]
[]
[]
[]
[]
[]
[]
[]
[]
[]
[]
[]
[]
[]
[]
[]
[]
[]
[null,"Anm.: Hvis nøgletallet har værdien 0 i grafen kan det enten betyde 0 %, eller at der er foretaget en diskretionering af data, da der er for få observationer. Se tilhørende tabeller for værdien."]
[null,{"$f":"IF('Dine valg'!$G$24=\"\",\"Ingen sammenligningsgruppe valgt.\",\"Anm.: Valgte kommuner i sammenligningsgruppen: \"&'Dine valg'!$G$24&\" \"&'Dine valg'!$G$25&\" \"&'Dine valg'!$G$26&\" \"&'Dine valg'!$G$27&\" \"&'Dine valg'!$G$28&\" \"&'Dine valg'!$G$29&\" \"&'Dine valg'!$G$30)","v":"Anm.: Valgte kommuner i sammenligningsgruppen: Aarhus      "}]
[null,{"$f":"Registerdata!$B$32","v":"Kilde: Socialstyrelsens egne beregninger baseret på registerdata fra Danmarks Statistik."}]
[]
[]
[null,{"$f":"Skyggetabeller!B306","v":"Tabel 7.1: Fra institutionsanbringelse til anden anbringelse"}]
[]
[null,{"$f":"Skyggetabeller!B307","v":"Nøgletal 7.1: \nTidligere institutionsanbragte, som nu er anbragt i anden form"},null,"2016-01-01","2016-07-01","2017-01-01","2017-07-01","2018-01-01","2018-07-01","2019-01-01","2019-07-01","2020-01-01","2020-07-01","2021-01-01","2021-07-01","2022-01-01","2022-07-01","2023-01-01"]
[null,{"$f":"Skyggetabeller!B308","v":"København"}]
[null,{"$f":"Skyggetabeller!B311","v":"Andel"},null,{"$f":"Skyggetabeller!D311","v":4.3824701195219126E-2},{"$f":"Skyggetabeller!E311","v":2.1739130434782608E-2},{"$f":"Skyggetabeller!F311","v":3.8626609442060089E-2},{"$f":"Skyggetabeller!G311","v":1.7857142857142856E-2},{"$f":"Skyggetabeller!H311","v":4.4247787610619468E-2},{"$f":"Skyggetabeller!I311","v":2.8037383177570093E-2},{"$f":"Skyggetabeller!J311","v":4.1474654377880185E-2},{"$f":"Skyggetabeller!K311","v":1.9607843137254902E-2},{"$f":"Skyggetabeller!L311","v":3.6269430051813469E-2},{"$f":"Skyggetabeller!M311","v":1.8749999999999999E-2},{"$f":"Skyggetabeller!N311","v":3.888888888888889E-2},{"$f":"Skyggetabeller!O311","v":2.4875621890547265E-2},{"$f":"Skyggetabeller!P311","v":4.1095890410958902E-2},{"$f":"Skyggetabeller!Q311","v":0},{"$f":"Skyggetabeller!R311","v":2.4691358024691357E-2}]
[null,{"$f":"Skyggetabeller!B310","v":"Antal tidligere institutionsanbragte"},null,{"$f":"Skyggetabeller!D310","v":251},{"$f":"Skyggetabeller!E310","v":230},{"$f":"Skyggetabeller!F310","v":233},{"$f":"Skyggetabeller!G310","v":224},{"$f":"Skyggetabeller!H310","v":226},{"$f":"Skyggetabeller!I310","v":214},{"$f":"Skyggetabeller!J310","v":217},{"$f":"Skyggetabeller!K310","v":204},{"$f":"Skyggetabeller!L310","v":193},{"$f":"Skyggetabeller!M310","v":160},{"$f":"Skyggetabeller!N310","v":180},{"$f":"Skyggetabeller!O310","v":201},{"$f":"Skyggetabeller!P310","v":219},{"$f":"Skyggetabeller!Q310","v":217},{"$f":"Skyggetabeller!R310","v":243}]
[null,{"$f":"Skyggetabeller!B312","v":"Sammenligningsgruppe, gns."}]
[null,{"$f":"Skyggetabeller!B315","v":"Andel"},null,{"$f":"Skyggetabeller!D315","v":2.1052631578947368E-2},{"$f":"Skyggetabeller!E315","v":1.5873015873015872E-2},{"$f":"Skyggetabeller!F315","v":2.9556650246305417E-2},{"$f":"Skyggetabeller!G315","v":0},{"$f":"Skyggetabeller!H315","v":2.6315789473684209E-2},{"$f":"Skyggetabeller!I315","v":0},{"$f":"Skyggetabeller!J315","v":0},{"$f":"Skyggetabeller!K315","v":0},{"$f":"Skyggetabeller!L315","v":0},{"$f":"Skyggetabeller!M315","v":2.3391812865497075E-2},{"$f":"Skyggetabeller!N315","v":0},{"$f":"Skyggetabeller!O315","v":1.7142857142857144E-2},{"$f":"Skyggetabeller!P315","v":0},{"$f":"Skyggetabeller!Q315","v":2.4844720496894408E-2},{"$f":"Skyggetabeller!R315","v":0}]
[null,{"$f":"Skyggetabeller!B314","v":"Antal tidligere institutionsanbragte"},null,{"$f":"Skyggetabeller!D314","v":190},{"$f":"Skyggetabeller!E314","v":189},{"$f":"Skyggetabeller!F314","v":203},{"$f":"Skyggetabeller!G314","v":191},{"$f":"Skyggetabeller!H314","v":190},{"$f":"Skyggetabeller!I314","v":180},{"$f":"Skyggetabeller!J314","v":168},{"$f":"Skyggetabeller!K314","v":174},{"$f":"Skyggetabeller!L314","v":178},{"$f":"Skyggetabeller!M314","v":171},{"$f":"Skyggetabeller!N314","v":173},{"$f":"Skyggetabeller!O314","v":175},{"$f":"Skyggetabeller!P314","v":175},{"$f":"Skyggetabeller!Q314","v":161},{"$f":"Skyggetabeller!R314","v":174}]
[null,{"$f":"Skyggetabeller!B316","v":"Hele landet"}]
[null,{"$f":"Skyggetabeller!B319","v":"Andel"},null,{"$f":"Skyggetabeller!D319","v":1.7872340425531916E-2},{"$f":"Skyggetabeller!E319","v":2.181500872600349E-2},{"$f":"Skyggetabeller!F319","v":2.2131624927198602E-2},{"$f":"Skyggetabeller!G319","v":2.1295474711623779E-2},{"$f":"Skyggetabeller!H319","v":2.310135720473578E-2},{"$f":"Skyggetabeller!I319","v":1.748148148148148E-2},{"$f":"Skyggetabeller!J319","v":2.2640399882387533E-2},{"$f":"Skyggetabeller!K319","v":1.8192844147968467E-2},{"$f":"Skyggetabeller!L319","v":2.2588522588522588E-2},{"$f":"Skyggetabeller!M319","v":1.5299877600979192E-2},{"$f":"Skyggetabeller!N319","v":2.04142900030021E-2},{"$f":"Skyggetabeller!O319","v":1.739899734591566E-2},{"$f":"Skyggetabeller!P319","v":1.2647312446105202E-2},{"$f":"Skyggetabeller!Q319","v":1.2138728323699421E-2},{"$f":"Skyggetabeller!R319","v":1.434878587196468E-2}]
[null,{"$f":"Skyggetabeller!B318","v":"Antal tidligere institutionsanbragte"},null,{"$f":"Skyggetabeller!D318","v":3525},{"$f":"Skyggetabeller!E318","v":3438},{"$f":"Skyggetabeller!F318","v":3434},{"$f":"Skyggetabeller!G318","v":3381},{"$f":"Skyggetabeller!H318","v":3463},{"$f":"Skyggetabeller!I318","v":3375},{"$f":"Skyggetabeller!J318","v":3401},{"$f":"Skyggetabeller!K318","v":3298},{"$f":"Skyggetabeller!L318","v":3276},{"$f":"Skyggetabeller!M318","v":3268},{"$f":"Skyggetabeller!N318","v":3331},{"$f":"Skyggetabeller!O318","v":3391},{"$f":"Skyggetabeller!P318","v":3479},{"$f":"Skyggetabeller!Q318","v":3460},{"$f":"Skyggetabeller!R318","v":3624}]
[null,{"$f":"Registerdata!$B$30","v":"Anm.: Hvis nøgletallet er angivet med * er der foretaget en diskretionering af data, da der er for få observationer. "}]
[null,{"$f":"IF('Dine valg'!$G$24=\"\",\"Ingen sammenligningsgruppe valgt.\",\"Anm.: Valgte kommuner i sammenligningsgruppen: \"&'Dine valg'!$G$24&\" \"&'Dine valg'!$G$25&\" \"&'Dine valg'!$G$26&\" \"&'Dine valg'!$G$27&\" \"&'Dine valg'!$G$28&\" \"&'Dine valg'!$G$29&\" \"&'Dine valg'!$G$30)","v":"Anm.: Valgte kommuner i sammenligningsgruppen: Aarhus      "}]
[null,{"$f":"Registerdata!$B$32","v":"Kilde: Socialstyrelsens egne beregninger baseret på registerdata fra Danmarks Statistik."}]
[]
[null,{"$f":"Skyggetabeller!B321","v":"Tabel 7.2: Fra institutionsanbringelse til ingen anbringelse"}]
[]
[null,{"$f":"Skyggetabeller!B322","v":"Nøgletal 7.2: \nTidligere institutionsanbragte, som nu ikke er anbragt "},null,"2016-01-01","2016-07-01","2017-01-01","2017-07-01","2018-01-01","2018-07-01","2019-01-01","2019-07-01","2020-01-01","2020-07-01","2021-01-01","2021-07-01","2022-01-01","2022-07-01","2023-01-01"]
[null,{"$f":"Skyggetabeller!B323","v":"København"}]
[null,{"$f":"Skyggetabeller!B326","v":"Andel"},null,{"$f":"Skyggetabeller!D326","v":0.2151394422310757},{"$f":"Skyggetabeller!E326","v":0.18260869565217391},{"$f":"Skyggetabeller!F326","v":0.15879828326180256},{"$f":"Skyggetabeller!G326","v":0.20535714285714285},{"$f":"Skyggetabeller!H326","v":0.22123893805309736},{"$f":"Skyggetabeller!I326","v":0.2102803738317757},{"$f":"Skyggetabeller!J326","v":0.17972350230414746},{"$f":"Skyggetabeller!K326","v":0.22549019607843138},{"$f":"Skyggetabeller!L326","v":0.33678756476683935},{"$f":"Skyggetabeller!M326","v":0.17499999999999999},{"$f":"Skyggetabeller!N326","v":0.17222222222222222},{"$f":"Skyggetabeller!O326","v":0.1890547263681592},{"$f":"Skyggetabeller!P326","v":0.21461187214611871},{"$f":"Skyggetabeller!Q326","v":0},{"$f":"Skyggetabeller!R326","v":0.1728395061728395}]
[null,{"$f":"Skyggetabeller!B325","v":"Antal tidligere institutionsanbragte"},null,{"$f":"Skyggetabeller!D325","v":251},{"$f":"Skyggetabeller!E325","v":230},{"$f":"Skyggetabeller!F325","v":233},{"$f":"Skyggetabeller!G325","v":224},{"$f":"Skyggetabeller!H325","v":226},{"$f":"Skyggetabeller!I325","v":214},{"$f":"Skyggetabeller!J325","v":217},{"$f":"Skyggetabeller!K325","v":204},{"$f":"Skyggetabeller!L325","v":193},{"$f":"Skyggetabeller!M325","v":160},{"$f":"Skyggetabeller!N325","v":180},{"$f":"Skyggetabeller!O325","v":201},{"$f":"Skyggetabeller!P325","v":219},{"$f":"Skyggetabeller!Q325","v":217},{"$f":"Skyggetabeller!R325","v":243}]
[null,{"$f":"Skyggetabeller!B327","v":"Sammenligningsgruppe, gns."}]
[null,{"$f":"Skyggetabeller!B330","v":"Andel"},null,{"$f":"Skyggetabeller!D330","v":0.1368421052631579},{"$f":"Skyggetabeller!E330","v":0.14814814814814814},{"$f":"Skyggetabeller!F330","v":0.14778325123152711},{"$f":"Skyggetabeller!G330","v":0.18324607329842932},{"$f":"Skyggetabeller!H330","v":0.15789473684210525},{"$f":"Skyggetabeller!I330","v":0},{"$f":"Skyggetabeller!J330","v":0},{"$f":"Skyggetabeller!K330","v":0.14367816091954022},{"$f":"Skyggetabeller!L330","v":0.17415730337078653},{"$f":"Skyggetabeller!M330","v":0.24561403508771928},{"$f":"Skyggetabeller!N330","v":0.16184971098265896},{"$f":"Skyggetabeller!O330","v":0.16},{"$f":"Skyggetabeller!P330","v":0},{"$f":"Skyggetabeller!Q330","v":0.11180124223602485},{"$f":"Skyggetabeller!R330","v":0.18390804597701149}]
[null,{"$f":"Skyggetabeller!B329","v":"Antal tidligere institutionsanbragte"},null,{"$f":"Skyggetabeller!D329","v":190},{"$f":"Skyggetabeller!E329","v":189},{"$f":"Skyggetabeller!F329","v":203},{"$f":"Skyggetabeller!G329","v":191},{"$f":"Skyggetabeller!H329","v":190},{"$f":"Skyggetabeller!I329","v":180},{"$f":"Skyggetabeller!J329","v":168},{"$f":"Skyggetabeller!K329","v":174},{"$f":"Skyggetabeller!L329","v":178},{"$f":"Skyggetabeller!M329","v":171},{"$f":"Skyggetabeller!N329","v":173},{"$f":"Skyggetabeller!O329","v":175},{"$f":"Skyggetabeller!P329","v":175},{"$f":"Skyggetabeller!Q329","v":161},{"$f":"Skyggetabeller!R329","v":174}]
[null,{"$f":"Skyggetabeller!B331","v":"Hele landet"}]
[null,{"$f":"Skyggetabeller!B334","v":"Andel"},null,{"$f":"Skyggetabeller!D334","v":0.15971631205673759},{"$f":"Skyggetabeller!E334","v":0.17393833624200117},{"$f":"Skyggetabeller!F334","v":0.16249271986022132},{"$f":"Skyggetabeller!G334","v":0.17184265010351968},{"$f":"Skyggetabeller!H334","v":0.1781692174415247},{"$f":"Skyggetabeller!I334","v":0.17362962962962963},{"$f":"Skyggetabeller!J334","v":0.17583063804763305},{"$f":"Skyggetabeller!K334","v":0.16434202546998181},{"$f":"Skyggetabeller!L334","v":0.17643467643467645},{"$f":"Skyggetabeller!M334","v":0.155140758873929},{"$f":"Skyggetabeller!N334","v":0.15791053737616331},{"$f":"Skyggetabeller!O334","v":0.15482158655263933},{"$f":"Skyggetabeller!P334","v":0.17303822937625754},{"$f":"Skyggetabeller!Q334","v":0.15028901734104047},{"$f":"Skyggetabeller!R334","v":0.16142384105960264}]
[null,{"$f":"Skyggetabeller!B333","v":"Antal tidligere institutionsanbragte"},null,{"$f":"Skyggetabeller!D333","v":3525},{"$f":"Skyggetabeller!E333","v":3438},{"$f":"Skyggetabeller!F333","v":3434},{"$f":"Skyggetabeller!G333","v":3381},{"$f":"Skyggetabeller!H333","v":3463},{"$f":"Skyggetabeller!I333","v":3375},{"$f":"Skyggetabeller!J333","v":3401},{"$f":"Skyggetabeller!K333","v":3298},{"$f":"Skyggetabeller!L333","v":3276},{"$f":"Skyggetabeller!M333","v":3268},{"$f":"Skyggetabeller!N333","v":3331},{"$f":"Skyggetabeller!O333","v":3391},{"$f":"Skyggetabeller!P333","v":3479},{"$f":"Skyggetabeller!Q333","v":3460},{"$f":"Skyggetabeller!R333","v":3624}]
[null,{"$f":"Registerdata!$B$30","v":"Anm.: Hvis nøgletallet er angivet med * er der foretaget en diskretionering af data, da der er for få observationer. "}]
[null,{"$f":"IF('Dine valg'!$G$24=\"\",\"Ingen sammenligningsgruppe valgt.\",\"Anm.: Valgte kommuner i sammenligningsgruppen: \"&'Dine valg'!$G$24&\" \"&'Dine valg'!$G$25&\" \"&'Dine valg'!$G$26&\" \"&'Dine valg'!$G$27&\" \"&'Dine valg'!$G$28&\" \"&'Dine valg'!$G$29&\" \"&'Dine valg'!$G$30)","v":"Anm.: Valgte kommuner i sammenligningsgruppen: Aarhus      "}]
[null,{"$f":"Registerdata!$B$32","v":"Kilde: Socialstyrelsens egne beregninger baseret på registerdata fra Danmarks Statistik."}]
[]
[]
[null,{"$f":"Skyggetabeller!B337","v":"Nøgletal 8: Fra hjemmebaseret foranstaltning og op ad trappen"}]
[]
[null,"Figur 8: Børn og unge, der ved sidste opgørelse modtog en hjemmebaseret foranstaltning, og ikke var anbragt, som på opgørelsestidspunktet er anbragt uden for hjemmet",null,null,null,null,null,null,null,null,null,null,"Benyt, slet eller erstat gerne følgende tekst til beskrivelse af udviklingen over tid for det pågældende nøgletal. Beskrivelsen vil blive indsat i rapporten (skriv maks 20 linjer):"]
[]
[]
[]
[]
[]
[]
[]
[]
[]
[]
[]
[]
[]
[]
[]
[]
[]
[]
[]
[]
[null,{"$f":"Registerdata!$B$30","v":"Anm.: Hvis nøgletallet er angivet med * er der foretaget en diskretionering af data, da der er for få observationer. "}]
[null,{"$f":"IF('Dine valg'!$G$24=\"\",\"Ingen sammenligningsgruppe valgt.\",\"Anm.: Valgte kommuner i sammenligningsgruppen: \"&'Dine valg'!$G$24&\" \"&'Dine valg'!$G$25&\" \"&'Dine valg'!$G$26&\" \"&'Dine valg'!$G$27&\" \"&'Dine valg'!$G$28&\" \"&'Dine valg'!$G$29&\" \"&'Dine valg'!$G$30)","v":"Anm.: Valgte kommuner i sammenligningsgruppen: Aarhus      "}]
[null,{"$f":"Registerdata!$B$32","v":"Kilde: Socialstyrelsens egne beregninger baseret på registerdata fra Danmarks Statistik."}]
[]
[]
[null,{"$f":"Skyggetabeller!B339","v":"Tabel 8: Fra hjemmebaseret foranstaltning og op ad trappen"}]
[]
[null,{"$f":"Skyggetabeller!B340","v":"Nøgletal 8: \nBørn og unge, der ved sidste opgørelse modtog en hjemmebaseret foranstaltning, og ikke var anbragt, som på opgørelsestidspunktet er anbragt uden for hjemmet"},null,"2016-01-01","2016-07-01","2017-01-01","2017-07-01","2018-01-01","2018-07-01","2019-01-01","2019-07-01","2020-01-01","2020-07-01","2021-01-01","2021-07-01","2022-01-01","2022-07-01","2023-01-01"]
[null,{"$f":"Skyggetabeller!B341","v":"København"}]
[null,{"$f":"Skyggetabeller!B344","v":"Andel"},null,{"$f":"Skyggetabeller!D344","v":"#I/T"},{"$f":"Skyggetabeller!E344","v":2.9351184346035016E-2},{"$f":"Skyggetabeller!F344","v":2.8474903474903474E-2},{"$f":"Skyggetabeller!G344","v":2.7922385234264078E-2},{"$f":"Skyggetabeller!H344","v":2.5500910746812388E-2},{"$f":"Skyggetabeller!I344","v":3.0157342657342656E-2},{"$f":"Skyggetabeller!J344","v":2.5053078556263271E-2},{"$f":"Skyggetabeller!K344","v":1.9819043515725981E-2},{"$f":"Skyggetabeller!L344","v":2.0711391265195857E-2},{"$f":"Skyggetabeller!M344","v":2.3004694835680753E-2},{"$f":"Skyggetabeller!N344","v":3.0645921735030647E-2},{"$f":"Skyggetabeller!O344","v":2.7709054923305294E-2},{"$f":"Skyggetabeller!P344","v":"#I/T"},{"$f":"Skyggetabeller!Q344","v":3.1565103024989043E-2},{"$f":"Skyggetabeller!R344","v":2.6677782409337224E-2}]
[null,{"$f":"Skyggetabeller!B343","v":"Antal tidligere modtagere"},null,{"$f":"Skyggetabeller!D343","v":0},{"$f":"Skyggetabeller!E343","v":1942},{"$f":"Skyggetabeller!F343","v":2072},{"$f":"Skyggetabeller!G343","v":2113},{"$f":"Skyggetabeller!H343","v":2196},{"$f":"Skyggetabeller!I343","v":2288},{"$f":"Skyggetabeller!J343","v":2355},{"$f":"Skyggetabeller!K343","v":2321},{"$f":"Skyggetabeller!L343","v":2221},{"$f":"Skyggetabeller!M343","v":2130},{"$f":"Skyggetabeller!N343","v":2121},{"$f":"Skyggetabeller!O343","v":2021},{"$f":"Skyggetabeller!P343","v":0},{"$f":"Skyggetabeller!Q343","v":2281},{"$f":"Skyggetabeller!R343","v":2399}]
[null,{"$f":"Skyggetabeller!B345","v":"Sammenligningsgruppe, gns."}]
[null,{"$f":"Skyggetabeller!B348","v":"Andel"},null,{"$f":"Skyggetabeller!D348","v":"-"},{"$f":"Skyggetabeller!E348","v":4.6470062555853439E-2},{"$f":"Skyggetabeller!F348","v":"-"},{"$f":"Skyggetabeller!G348","v":"-"},{"$f":"Skyggetabeller!H348","v":"-"},{"$f":"Skyggetabeller!I348","v":"-"},{"$f":"Skyggetabeller!J348","v":2.6050420168067228E-2},{"$f":"Skyggetabeller!K348","v":1.8561484918793503E-2},{"$f":"Skyggetabeller!L348","v":1.780185758513932E-2},{"$f":"Skyggetabeller!M348","v":2.9320987654320986E-2},{"$f":"Skyggetabeller!N348","v":1.7377567140600316E-2},{"$f":"Skyggetabeller!O348","v":2.0032051282051284E-2},{"$f":"Skyggetabeller!P348","v":1.5561015561015561E-2},{"$f":"Skyggetabeller!Q348","v":2.972027972027972E-2},{"$f":"Skyggetabeller!R348","v":2.1660649819494584E-2}]
[null,{"$f":"Skyggetabeller!B347","v":"Antal tidligere modtagere"},null,{"$f":"Skyggetabeller!D347","v":0},{"$f":"Skyggetabeller!E347","v":1119},{"$f":"Skyggetabeller!F347","v":0},{"$f":"Skyggetabeller!G347","v":0},{"$f":"Skyggetabeller!H347","v":0},{"$f":"Skyggetabeller!I347","v":0},{"$f":"Skyggetabeller!J347","v":1190},{"$f":"Skyggetabeller!K347","v":1293},{"$f":"Skyggetabeller!L347","v":1292},{"$f":"Skyggetabeller!M347","v":1296},{"$f":"Skyggetabeller!N347","v":1266},{"$f":"Skyggetabeller!O347","v":1248},{"$f":"Skyggetabeller!P347","v":1221},{"$f":"Skyggetabeller!Q347","v":1144},{"$f":"Skyggetabeller!R347","v":1108}]
[null,{"$f":"Skyggetabeller!B349","v":"Hele landet"}]
[null,{"$f":"Skyggetabeller!B352","v":"Andel"},null,{"$f":"Skyggetabeller!D352","v":3.3403732597732855E-2},{"$f":"Skyggetabeller!E352","v":3.5040431266846361E-2},{"$f":"Skyggetabeller!F352","v":3.5115415795536974E-2},{"$f":"Skyggetabeller!G352","v":3.4410888983411311E-2},{"$f":"Skyggetabeller!H352","v":3.2549652011543029E-2},{"$f":"Skyggetabeller!I352","v":3.2524068647969862E-2},{"$f":"Skyggetabeller!J352","v":3.0509340028083913E-2},{"$f":"Skyggetabeller!K352","v":2.8307384897177587E-2},{"$f":"Skyggetabeller!L352","v":3.0507480199471988E-2},{"$f":"Skyggetabeller!M352","v":3.0592424732923278E-2},{"$f":"Skyggetabeller!N352","v":3.063898407579117E-2},{"$f":"Skyggetabeller!O352","v":3.1079262015994931E-2},{"$f":"Skyggetabeller!P352","v":2.7826551645163754E-2},{"$f":"Skyggetabeller!Q352","v":3.0217186024551465E-2},{"$f":"Skyggetabeller!R352","v":2.7705725348671103E-2}]
[null,{"$f":"Skyggetabeller!B351","v":"Antal tidligere modtagere"},null,{"$f":"Skyggetabeller!D351","v":23201},{"$f":"Skyggetabeller!E351","v":23373},{"$f":"Skyggetabeller!F351","v":23437},{"$f":"Skyggetabeller!G351","v":23510},{"$f":"Skyggetabeller!H351","v":23564},{"$f":"Skyggetabeller!I351","v":23890},{"$f":"Skyggetabeller!J351","v":23501},{"$f":"Skyggetabeller!K351","v":24022},{"$f":"Skyggetabeller!L351","v":23863},{"$f":"Skyggetabeller!M351","v":24712},{"$f":"Skyggetabeller!N351","v":24805},{"$f":"Skyggetabeller!O351","v":25258},{"$f":"Skyggetabeller!P351","v":26198},{"$f":"Skyggetabeller!Q351","v":26475},{"$f":"Skyggetabeller!R351","v":26601}]
[null,{"$f":"Registerdata!$B$30","v":"Anm.: Hvis nøgletallet er angivet med * er der foretaget en diskretionering af data, da der er for få observationer. "}]
[null,{"$f":"IF('Dine valg'!$G$24=\"\",\"Ingen sammenligningsgruppe valgt.\",\"Anm.: Valgte kommuner i sammenligningsgruppen: \"&'Dine valg'!$G$24&\" \"&'Dine valg'!$G$25&\" \"&'Dine valg'!$G$26&\" \"&'Dine valg'!$G$27&\" \"&'Dine valg'!$G$28&\" \"&'Dine valg'!$G$29&\" \"&'Dine valg'!$G$30)","v":"Anm.: Valgte kommuner i sammenligningsgruppen: Aarhus      "}]
[null,{"$f":"Registerdata!$B$32","v":"Kilde: Socialstyrelsens egne beregninger baseret på registerdata fra Danmarks Statistik."}]
[]
[]
[null,{"$f":"Skyggetabeller!B355","v":"Nøgletal 9: Fra hjemmebaseret foranstaltning og ned ad trappen"}]
[]
[null,"Figur 9: Børn og unge, der ved sidste opgørelse modtog en hjemmebaseret foranstaltning, som på opgørelsestidspunktet hverken modtager en hjemmebaseret foranstaltning eller er anbragt udenfor hjemmet",null,null,null,null,null,null,null,null,null,null,"Benyt, slet eller erstat gerne følgende tekst til beskrivelse af udviklingen over tid for det pågældende nøgletal. Beskrivelsen vil blive indsat i rapporten (skriv maks 20 linjer):"]
[]
[]
[]
[]
[]
[]
[]
[]
[]
[]
[]
[]
[]
[]
[]
[]
[]
[]
[]
[]
[]
[]
[]
[]
[null,{"$f":"Registerdata!$B$30","v":"Anm.: Hvis nøgletallet er angivet med * er der foretaget en diskretionering af data, da der er for få observationer. "}]
[null,{"$f":"IF('Dine valg'!$G$24=\"\",\"Ingen sammenligningsgruppe valgt.\",\"Anm.: Valgte kommuner i sammenligningsgruppen: \"&'Dine valg'!$G$24&\" \"&'Dine valg'!$G$25&\" \"&'Dine valg'!$G$26&\" \"&'Dine valg'!$G$27&\" \"&'Dine valg'!$G$28&\" \"&'Dine valg'!$G$29&\" \"&'Dine valg'!$G$30)","v":"Anm.: Valgte kommuner i sammenligningsgruppen: Aarhus      "}]
[null,{"$f":"Registerdata!$B$32","v":"Kilde: Socialstyrelsens egne beregninger baseret på registerdata fra Danmarks Statistik."}]
[]
[]
[null,{"$f":"Skyggetabeller!B357","v":"Tabel 9: Fra hjemmebaseret foranstaltning og ned ad trappen"}]
[]
[null,{"$f":"Skyggetabeller!B358","v":"Nøgletal 9: Tidligere modtagere af hjemmebaserede foranstaltninger, som nu er rykket ned ad trappen"},null,"2016-01-01","2016-07-01","2017-01-01","2017-07-01","2018-01-01","2018-07-01","2019-01-01","2019-07-01","2020-01-01","2020-07-01","2021-01-01","2021-07-01","2022-01-01","2022-07-01","2023-01-01"]
[null,{"$f":"Skyggetabeller!B359","v":"København"}]
[null,{"$f":"Skyggetabeller!B362","v":"Andel"},null,{"$f":"Skyggetabeller!D362","v":0.24624157594608606},{"$f":"Skyggetabeller!E362","v":0.21360201511335011},{"$f":"Skyggetabeller!F362","v":0.24559733460257022},{"$f":"Skyggetabeller!G362","v":0.23345759552656103},{"$f":"Skyggetabeller!H362","v":0.2476489028213166},{"$f":"Skyggetabeller!I362","v":0.22246127366609295},{"$f":"Skyggetabeller!J362","v":0.26384228187919462},{"$f":"Skyggetabeller!K362","v":0.26454352441613588},{"$f":"Skyggetabeller!L362","v":0.28048235819562306},{"$f":"Skyggetabeller!M362","v":0.21206496519721577},{"$f":"Skyggetabeller!N362","v":0.26881720430107525},{"$f":"Skyggetabeller!O362","v":0.19882468168462292},{"$f":"Skyggetabeller!P362","v":0.25586446568201565},{"$f":"Skyggetabeller!Q362","v":0.24794104898136107},{"$f":"Skyggetabeller!R362","v":0.25382389417114509}]
[null,{"$f":"Skyggetabeller!B361","v":"Antal tidligere modtagere"},null,{"$f":"Skyggetabeller!D361","v":1929},{"$f":"Skyggetabeller!E361","v":1985},{"$f":"Skyggetabeller!F361","v":2101},{"$f":"Skyggetabeller!G361","v":2146},{"$f":"Skyggetabeller!H361","v":2233},{"$f":"Skyggetabeller!I361","v":2324},{"$f":"Skyggetabeller!J361","v":2384},{"$f":"Skyggetabeller!K361","v":2355},{"$f":"Skyggetabeller!L361","v":2239},{"$f":"Skyggetabeller!M361","v":2155},{"$f":"Skyggetabeller!N361","v":2139},{"$f":"Skyggetabeller!O361","v":2042},{"$f":"Skyggetabeller!P361","v":2302},{"$f":"Skyggetabeller!Q361","v":2307},{"$f":"Skyggetabeller!R361","v":2419}]
[null,{"$f":"Skyggetabeller!B363","v":"Sammenligningsgruppe, gns."}]
[null,{"$f":"Skyggetabeller!B366","v":"Andel"},null,{"$f":"Skyggetabeller!D366","v":0.270544783010157},{"$f":"Skyggetabeller!E366","v":0.26128472222222221},{"$f":"Skyggetabeller!F366","v":0.27423580786026203},{"$f":"Skyggetabeller!G366","v":0.26325088339222613},{"$f":"Skyggetabeller!H366","v":0.24907407407407409},{"$f":"Skyggetabeller!I366","v":0.25773195876288657},{"$f":"Skyggetabeller!J366","v":0.25790349417637271},{"$f":"Skyggetabeller!K366","v":0.28856485034535689},{"$f":"Skyggetabeller!L366","v":0.28835774865073244},{"$f":"Skyggetabeller!M366","v":0.24405218726016883},{"$f":"Skyggetabeller!N366","v":0.27952755905511811},{"$f":"Skyggetabeller!O366","v":0.26517571884984026},{"$f":"Skyggetabeller!P366","v":0.29901960784313725},{"$f":"Skyggetabeller!Q366","v":0.28857890148212728},{"$f":"Skyggetabeller!R366","v":0.29226618705035973}]
[null,{"$f":"Skyggetabeller!B365","v":"Antal tidligere modtagere"},null,{"$f":"Skyggetabeller!D365","v":1083},{"$f":"Skyggetabeller!E365","v":1152},{"$f":"Skyggetabeller!F365","v":1145},{"$f":"Skyggetabeller!G365","v":1132},{"$f":"Skyggetabeller!H365","v":1080},{"$f":"Skyggetabeller!I365","v":1164},{"$f":"Skyggetabeller!J365","v":1202},{"$f":"Skyggetabeller!K365","v":1303},{"$f":"Skyggetabeller!L365","v":1297},{"$f":"Skyggetabeller!M365","v":1303},{"$f":"Skyggetabeller!N365","v":1270},{"$f":"Skyggetabeller!O365","v":1252},{"$f":"Skyggetabeller!P365","v":1224},{"$f":"Skyggetabeller!Q365","v":1147},{"$f":"Skyggetabeller!R365","v":1112}]
[null,{"$f":"Skyggetabeller!B367","v":"Hele landet"}]
[null,{"$f":"Skyggetabeller!B370","v":"Andel"},null,{"$f":"Skyggetabeller!D370","v":0.22114979347551209},{"$f":"Skyggetabeller!E370","v":0.245337580151712},{"$f":"Skyggetabeller!F370","v":0.22640797854508884},{"$f":"Skyggetabeller!G370","v":0.24581541929289977},{"$f":"Skyggetabeller!H370","v":0.23439649781113195},{"$f":"Skyggetabeller!I370","v":0.2633356675042221},{"$f":"Skyggetabeller!J370","v":0.24190436241610738},{"$f":"Skyggetabeller!K370","v":0.28230608138627683},{"$f":"Skyggetabeller!L370","v":0.24869608411292327},{"$f":"Skyggetabeller!M370","v":0.2328756187130768},{"$f":"Skyggetabeller!N370","v":0.24651755154023722},{"$f":"Skyggetabeller!O370","v":0.22903150160243885},{"$f":"Skyggetabeller!P370","v":0.25088659171508337},{"$f":"Skyggetabeller!Q370","v":0.24867547197970299},{"$f":"Skyggetabeller!R370","v":0.25781279030879567}]
[null,{"$f":"Skyggetabeller!B369","v":"Antal tidligere modtagere"},null,{"$f":"Skyggetabeller!D369","v":23726},{"$f":"Skyggetabeller!E369","v":23861},{"$f":"Skyggetabeller!F369","v":23864},{"$f":"Skyggetabeller!G369","v":23957},{"$f":"Skyggetabeller!H369","v":23985},{"$f":"Skyggetabeller!I369","v":24277},{"$f":"Skyggetabeller!J369","v":23840},{"$f":"Skyggetabeller!K369","v":24353},{"$f":"Skyggetabeller!L369","v":24158},{"$f":"Skyggetabeller!M369","v":25052},{"$f":"Skyggetabeller!N369","v":25126},{"$f":"Skyggetabeller!O369","v":25586},{"$f":"Skyggetabeller!P369","v":26506},{"$f":"Skyggetabeller!Q369","v":26802},{"$f":"Skyggetabeller!R369","v":26911}]
[null,{"$f":"Registerdata!$B$30","v":"Anm.: Hvis nøgletallet er angivet med * er der foretaget en diskretionering af data, da der er for få observationer. "}]
[null,{"$f":"IF('Dine valg'!$G$24=\"\",\"Ingen sammenligningsgruppe valgt.\",\"Anm.: Valgte kommuner i sammenligningsgruppen: \"&'Dine valg'!$G$24&\" \"&'Dine valg'!$G$25&\" \"&'Dine valg'!$G$26&\" \"&'Dine valg'!$G$27&\" \"&'Dine valg'!$G$28&\" \"&'Dine valg'!$G$29&\" \"&'Dine valg'!$G$30)","v":"Anm.: Valgte kommuner i sammenligningsgruppen: Aarhus      "}]
[null,{"$f":"Registerdata!$B$32","v":"Kilde: Socialstyrelsens egne beregninger baseret på registerdata fra Danmarks Statistik."}]
[]
[]
[null,{"$f":"Skyggetabeller!B373","v":"Nøgletal 10: Fra forebyggende indsatser og op ad trappen"}]
[]
[null,{"$f":"\"Figur 10: Andel modtagere af § 11, stk. 3-indsats, der efterfølgende får en afgørelse om § 50 undersøgelse for \"&Kommune&\"\"","v":"Figur 10: Andel modtagere af § 11, stk. 3-indsats, der efterfølgende får en afgørelse om § 50 undersøgelse for København"},null,null,null,null,null,null,null,null,null,null,"Benyt, slet eller erstat gerne følgende tekst til beskrivelse af udviklingen over tid for det pågældende nøgletal. Beskrivelsen vil blive indsat i rapporten (skriv maks 20 linjer):"]
[]
[]
[]
[]
[]
[]
[]
[]
[]
[]
[]
[]
[]
[]
[]
[]
[]
[]
[]
[]
[]
[]
[null,{"$f":"Registerdata!$B$30","v":"Anm.: Hvis nøgletallet er angivet med * er der foretaget en diskretionering af data, da der er for få observationer. "}]
[null,{"$f":"IF('Dine valg'!$G$24=\"\",\"Ingen sammenligningsgruppe valgt.\",\"Anm.: Valgte kommuner i sammenligningsgruppen: \"&'Dine valg'!$G$24&\" \"&'Dine valg'!$G$25&\" \"&'Dine valg'!$G$26&\" \"&'Dine valg'!$G$27&\" \"&'Dine valg'!$G$28&\" \"&'Dine valg'!$G$29&\" \"&'Dine valg'!$G$30)","v":"Anm.: Valgte kommuner i sammenligningsgruppen: Aarhus      "}]
[null,{"$f":"Registerdata!$B$32","v":"Kilde: Socialstyrelsens egne beregninger baseret på registerdata fra Danmarks Statistik."}]
[]
[]
[null,{"$f":"Skyggetabeller!B375","v":"Tabel 10: Fra forebyggende indsatser og op ad trappen for København"}]
[]
[null,{"$f":"Skyggetabeller!B376","v":"Nøgletal 10: Tidligere modtagere af forebyggende indsatser, som nu er rykket ned ad trappen"},null,"2016-01-01","2016-07-01","2017-01-01","2017-07-01","2018-01-01","2018-07-01","2019-01-01","2019-07-01","2020-01-01","2020-07-01","2021-01-01","2021-07-01","2022-01-01","2022-07-01","2023-01-01"]
[null,{"$f":"Skyggetabeller!B386","v":"Andel"},null,{"$f":"Skyggetabeller!D379","v":"-"},{"$f":"Skyggetabeller!E379","v":"-"},{"$f":"Skyggetabeller!F379","v":"-"},{"$f":"Skyggetabeller!G379","v":"-"},{"$f":"Skyggetabeller!H379","v":"-"},{"$f":"Skyggetabeller!I379","v":"-"},{"$f":"Skyggetabeller!J379","v":"-"},{"$f":"Skyggetabeller!K379","v":"-"},{"$f":"Skyggetabeller!L379","v":"-"},{"$f":"Skyggetabeller!M379","v":"-"},{"$f":"Skyggetabeller!N379","v":"-"},{"$f":"Skyggetabeller!O379","v":"-"},{"$f":"Skyggetabeller!P379","v":"-"},{"$f":"Skyggetabeller!Q379","v":"-"},{"$f":"Skyggetabeller!R379","v":"-"}]
[null,{"$f":"Skyggetabeller!B385","v":"Antal tidligere modtagere"},null,{"$f":"Skyggetabeller!D378","v":0},{"$f":"Skyggetabeller!E378","v":0},{"$f":"Skyggetabeller!F378","v":0},{"$f":"Skyggetabeller!G378","v":0},{"$f":"Skyggetabeller!H378","v":0},{"$f":"Skyggetabeller!I378","v":0},{"$f":"Skyggetabeller!J378","v":0},{"$f":"Skyggetabeller!K378","v":0},{"$f":"Skyggetabeller!L378","v":0},{"$f":"Skyggetabeller!M378","v":0},{"$f":"Skyggetabeller!N378","v":0},{"$f":"Skyggetabeller!O378","v":0},{"$f":"Skyggetabeller!P378","v":0},{"$f":"Skyggetabeller!Q378","v":0},{"$f":"Skyggetabeller!R378","v":0}]
[]
[null,{"$f":"Registerdata!$B$30","v":"Anm.: Hvis nøgletallet er angivet med * er der foretaget en diskretionering af data, da der er for få observationer. "}]
[null,{"$f":"IF('Dine valg'!$G$24=\"\",\"Ingen sammenligningsgruppe valgt.\",\"Anm.: Valgte kommuner i sammenligningsgruppen: \"&'Dine valg'!$G$24&\" \"&'Dine valg'!$G$25&\" \"&'Dine valg'!$G$26&\" \"&'Dine valg'!$G$27&\" \"&'Dine valg'!$G$28&\" \"&'Dine valg'!$G$29&\" \"&'Dine valg'!$G$30)","v":"Anm.: Valgte kommuner i sammenligningsgruppen: Aarhus      "}]
[null,{"$f":"Registerdata!$B$32","v":"Kilde: Socialstyrelsens egne beregninger baseret på registerdata fra Danmarks Statistik."}]
[]
[]
[null,"Figur 10.1: Andel børn der har modtaget en myndighedsbevilget § 11, stk. 3-indsats og efterfølgende får en afgørelse om en § 50 undersøgelse",null,null,null,null,"Figur 10.2: Andel børn der har modtaget en ikke-myndighedsbevilget § 11, stk. 3-indsats og efterfølgende får en afgørelse om en § 50 undersøgelse"]
[]
[]
[]
[]
[]
[]
[]
[]
[]
[]
[]
[]
[]
[]
[]
[]
[]
[null,{"$f":"Registerdata!$B$30","v":"Anm.: Hvis nøgletallet er angivet med * er der foretaget en diskretionering af data, da der er for få observationer. "}]
[null,{"$f":"IF('Dine valg'!$G$24=\"\",\"Ingen sammenligningsgruppe valgt.\",\"Anm.: Valgte kommuner i sammenligningsgruppen: \"&'Dine valg'!$G$24&\" \"&'Dine valg'!$G$25&\" \"&'Dine valg'!$G$26&\" \"&'Dine valg'!$G$27&\" \"&'Dine valg'!$G$28&\" \"&'Dine valg'!$G$29&\" \"&'Dine valg'!$G$30)","v":"Anm.: Valgte kommuner i sammenligningsgruppen: Aarhus      "}]
[null,{"$f":"Registerdata!$B$32","v":"Kilde: Socialstyrelsens egne beregninger baseret på registerdata fra Danmarks Statistik."}]
[]
[]
[null,{"$f":"Skyggetabeller!B381","v":"Tabel 10.1: Fra myndighedsbevilget § 11, stk. 3-indsats og op ad trappen"}]
[]
[null,{"$f":"Skyggetabeller!B383","v":"Nøgletal 10.1: Tidligere modtagere af myndighedsbevilget § 11, stk. 3-indsats, som nu er rykket ned ad trappen"},null,"2016-01-01","2016-07-01","2017-01-01","2017-07-01","2018-01-01","2018-07-01","2019-01-01","2019-07-01","2020-01-01","2020-07-01","2021-01-01","2021-07-01","2022-01-01","2022-07-01","2023-01-01"]
[null,{"$f":"Skyggetabeller!B386","v":"Andel"},null,{"$f":"Skyggetabeller!D386","v":"-"},{"$f":"Skyggetabeller!E386","v":"-"},{"$f":"Skyggetabeller!F386","v":"-"},{"$f":"Skyggetabeller!G386","v":"-"},{"$f":"Skyggetabeller!H386","v":"-"},{"$f":"Skyggetabeller!I386","v":"-"},{"$f":"Skyggetabeller!J386","v":"-"},{"$f":"Skyggetabeller!K386","v":"-"},{"$f":"Skyggetabeller!L386","v":"-"},{"$f":"Skyggetabeller!M386","v":"-"},{"$f":"Skyggetabeller!N386","v":"-"},{"$f":"Skyggetabeller!O386","v":"-"},{"$f":"Skyggetabeller!P386","v":"-"},{"$f":"Skyggetabeller!Q386","v":"-"},{"$f":"Skyggetabeller!R386","v":"-"}]
[null,{"$f":"Skyggetabeller!B385","v":"Antal tidligere modtagere"},null,{"$f":"Skyggetabeller!D385","v":0},{"$f":"Skyggetabeller!E385","v":0},{"$f":"Skyggetabeller!F385","v":0},{"$f":"Skyggetabeller!G385","v":0},{"$f":"Skyggetabeller!H385","v":0},{"$f":"Skyggetabeller!I385","v":0},{"$f":"Skyggetabeller!J385","v":0},{"$f":"Skyggetabeller!K385","v":0},{"$f":"Skyggetabeller!L385","v":0},{"$f":"Skyggetabeller!M385","v":0},{"$f":"Skyggetabeller!N385","v":0},{"$f":"Skyggetabeller!O385","v":0},{"$f":"Skyggetabeller!P385","v":0},{"$f":"Skyggetabeller!Q385","v":0},{"$f":"Skyggetabeller!R385","v":0}]
[null,{"$f":"Registerdata!$B$30","v":"Anm.: Hvis nøgletallet er angivet med * er der foretaget en diskretionering af data, da der er for få observationer. "}]
[null,{"$f":"IF('Dine valg'!$G$24=\"\",\"Ingen sammenligningsgruppe valgt.\",\"Anm.: Valgte kommuner i sammenligningsgruppen: \"&'Dine valg'!$G$24&\" \"&'Dine valg'!$G$25&\" \"&'Dine valg'!$G$26&\" \"&'Dine valg'!$G$27&\" \"&'Dine valg'!$G$28&\" \"&'Dine valg'!$G$29&\" \"&'Dine valg'!$G$30)","v":"Anm.: Valgte kommuner i sammenligningsgruppen: Aarhus      "}]
[null,{"$f":"Registerdata!$B$32","v":"Kilde: Socialstyrelsens egne beregninger baseret på registerdata fra Danmarks Statistik."}]
[]
[null,{"$f":"Skyggetabeller!B388","v":"Tabel 10.2: Fra ikke-myndighedsbevilget § 11, stk. 3-indsats og op ad trappen"}]
[]
[null,{"$f":"Skyggetabeller!B390","v":"Nøgletal 10.2: Tidligere modtagere af ikke-myndighedsbevilget § 11, stk. 3-indsats, som nu er rykket ned ad trappen"},null,"2016-01-01","2016-07-01","2017-01-01","2017-07-01","2018-01-01","2018-07-01","2019-01-01","2019-07-01","2020-01-01","2020-07-01","2021-01-01","2021-07-01","2022-01-01","2022-07-01","2023-01-01"]
[null,{"$f":"Skyggetabeller!B393","v":"Andel"},null,{"$f":"Skyggetabeller!D393","v":"-"},{"$f":"Skyggetabeller!E393","v":"-"},{"$f":"Skyggetabeller!F393","v":"-"},{"$f":"Skyggetabeller!G393","v":"-"},{"$f":"Skyggetabeller!H393","v":"-"},{"$f":"Skyggetabeller!I393","v":"-"},{"$f":"Skyggetabeller!J393","v":"-"},{"$f":"Skyggetabeller!K393","v":"-"},{"$f":"Skyggetabeller!L393","v":"-"},{"$f":"Skyggetabeller!M393","v":"-"},{"$f":"Skyggetabeller!N393","v":"-"},{"$f":"Skyggetabeller!O393","v":"-"},{"$f":"Skyggetabeller!P393","v":"-"},{"$f":"Skyggetabeller!Q393","v":"-"},{"$f":"Skyggetabeller!R393","v":"-"}]
[null,{"$f":"Skyggetabeller!B392","v":"Antal tidligere modtagere"},null,{"$f":"Skyggetabeller!D392","v":0},{"$f":"Skyggetabeller!E392","v":0},{"$f":"Skyggetabeller!F392","v":0},{"$f":"Skyggetabeller!G392","v":0},{"$f":"Skyggetabeller!H392","v":0},{"$f":"Skyggetabeller!I392","v":0},{"$f":"Skyggetabeller!J392","v":0},{"$f":"Skyggetabeller!K392","v":0},{"$f":"Skyggetabeller!L392","v":0},{"$f":"Skyggetabeller!M392","v":0},{"$f":"Skyggetabeller!N392","v":0},{"$f":"Skyggetabeller!O392","v":0},{"$f":"Skyggetabeller!P392","v":0},{"$f":"Skyggetabeller!Q392","v":0},{"$f":"Skyggetabeller!R392","v":0}]
[]
[null,{"$f":"Registerdata!$B$30","v":"Anm.: Hvis nøgletallet er angivet med * er der foretaget en diskretionering af data, da der er for få observationer. "}]
[null,{"$f":"IF('Dine valg'!$G$24=\"\",\"Ingen sammenligningsgruppe valgt.\",\"Anm.: Valgte kommuner i sammenligningsgruppen: \"&'Dine valg'!$G$24&\" \"&'Dine valg'!$G$25&\" \"&'Dine valg'!$G$26&\" \"&'Dine valg'!$G$27&\" \"&'Dine valg'!$G$28&\" \"&'Dine valg'!$G$29&\" \"&'Dine valg'!$G$30)","v":"Anm.: Valgte kommuner i sammenligningsgruppen: Aarhus      "}]
[null,{"$f":"Registerdata!$B$32","v":"Kilde: Socialstyrelsens egne beregninger baseret på registerdata fra Danmarks Statistik."}]
[]
[]
[null,{"$f":"Skyggetabeller!B396","v":"Nøgletal 11: Frekvens af opfølgninger"}]
[]
[null,{"$f":"\"Figur 11: Gennemsnitlig frekvens i opfølgninger for institutionsanbringelser, anbringelser i plejefamilier og hjemmebaserede foranstaltninger for \"&Kommune&\"\"","v":"Figur 11: Gennemsnitlig frekvens i opfølgninger for institutionsanbringelser, anbringelser i plejefamilier og hjemmebaserede foranstaltninger for København"},null,null,null,null,null,null,null,null,null,null,"Benyt, slet eller erstat gerne følgende tekst til beskrivelse af udviklingen over tid for det pågældende nøgletal. Beskrivelsen vil blive indsat i rapporten (skriv maks 20 linjer):"]
[]
[]
[]
[]
[]
[]
[]
[]
[]
[]
[]
[]
[]
[]
[]
[]
[]
[]
[]
[]
[null,{"$f":"Registerdata!$B$30","v":"Anm.: Hvis nøgletallet er angivet med * er der foretaget en diskretionering af data, da der er for få observationer. "}]
[null,{"$f":"IF('Dine valg'!$G$24=\"\",\"Ingen sammenligningsgruppe valgt.\",\"Anm.: Valgte kommuner i sammenligningsgruppen: \"&'Dine valg'!$G$24&\" \"&'Dine valg'!$G$25&\" \"&'Dine valg'!$G$26&\" \"&'Dine valg'!$G$27&\" \"&'Dine valg'!$G$28&\" \"&'Dine valg'!$G$29&\" \"&'Dine valg'!$G$30)","v":"Anm.: Valgte kommuner i sammenligningsgruppen: Aarhus      "}]
[null,{"$f":"Registerdata!$B$32","v":"Kilde: Socialstyrelsens egne beregninger baseret på registerdata fra Danmarks Statistik."}]
[]
[]
[null,{"$f":"Skyggetabeller!B398","v":"Tabel 11: Frekvens af opfølgninger for København"}]
[]
[null,{"$f":"Skyggetabeller!B399","v":"Nøgletal 11.1: \nFrekvens i opfølgninger for institutionsanbringelser"},null,"2016-01-01","2016-07-01","2017-01-01","2017-07-01","2018-01-01","2018-07-01","2019-01-01","2019-07-01","2020-01-01","2020-07-01","2021-01-01","2021-07-01","2022-01-01","2022-07-01","2023-01-01"]
[null,{"$f":"Skyggetabeller!B400","v":"Antal dage"},null,{"$f":"Skyggetabeller!D400","v":0},{"$f":"Skyggetabeller!E400","v":0},{"$f":"Skyggetabeller!F400","v":0},{"$f":"Skyggetabeller!G400","v":0},{"$f":"Skyggetabeller!H400","v":0},{"$f":"Skyggetabeller!I400","v":0},{"$f":"Skyggetabeller!J400","v":0},{"$f":"Skyggetabeller!K400","v":0},{"$f":"Skyggetabeller!L400","v":0},{"$f":"Skyggetabeller!M400","v":0},{"$f":"Skyggetabeller!N400","v":0},{"$f":"Skyggetabeller!O400","v":0},{"$f":"Skyggetabeller!P400","v":0},{"$f":"Skyggetabeller!Q400","v":0},{"$f":"Skyggetabeller!R400","v":0}]
[null,{"$f":"Skyggetabeller!B401","v":"Antal opfølgninger"},null,{"$f":"Skyggetabeller!D401","v":0},{"$f":"Skyggetabeller!E401","v":0},{"$f":"Skyggetabeller!F401","v":0},{"$f":"Skyggetabeller!G401","v":0},{"$f":"Skyggetabeller!H401","v":0},{"$f":"Skyggetabeller!I401","v":0},{"$f":"Skyggetabeller!J401","v":0},{"$f":"Skyggetabeller!K401","v":0},{"$f":"Skyggetabeller!L401","v":0},{"$f":"Skyggetabeller!M401","v":0},{"$f":"Skyggetabeller!N401","v":0},{"$f":"Skyggetabeller!O401","v":0},{"$f":"Skyggetabeller!P401","v":0},{"$f":"Skyggetabeller!Q401","v":0},{"$f":"Skyggetabeller!R401","v":0}]
[null,{"$f":"Skyggetabeller!B402","v":"Varighed"},null,{"$f":"Skyggetabeller!D402","v":"-"},{"$f":"Skyggetabeller!E402","v":"-"},{"$f":"Skyggetabeller!F402","v":"-"},{"$f":"Skyggetabeller!G402","v":"-"},{"$f":"Skyggetabeller!H402","v":"-"},{"$f":"Skyggetabeller!I402","v":"-"},{"$f":"Skyggetabeller!J402","v":"-"},{"$f":"Skyggetabeller!K402","v":"-"},{"$f":"Skyggetabeller!L402","v":"-"},{"$f":"Skyggetabeller!M402","v":"-"},{"$f":"Skyggetabeller!N402","v":"-"},{"$f":"Skyggetabeller!O402","v":"-"},{"$f":"Skyggetabeller!P402","v":"-"},{"$f":"Skyggetabeller!Q402","v":"-"},{"$f":"Skyggetabeller!R402","v":"-"}]
[]
[null,{"$f":"Skyggetabeller!B404","v":"Nøgletal 11.2: \nFrekvens i opfølgninger for plejefamilier"},null,"2016-01-01","2016-07-01","2017-01-01","2017-07-01","2018-01-01","2018-07-01","2019-01-01","2019-07-01","2020-01-01","2020-07-01","2021-01-01","2021-07-01","2022-01-01","2022-07-01","2023-01-01"]
[null,{"$f":"Skyggetabeller!B405","v":"Antal dage"},null,{"$f":"Skyggetabeller!D405","v":0},{"$f":"Skyggetabeller!E405","v":0},{"$f":"Skyggetabeller!F405","v":0},{"$f":"Skyggetabeller!G405","v":0},{"$f":"Skyggetabeller!H405","v":0},{"$f":"Skyggetabeller!I405","v":0},{"$f":"Skyggetabeller!J405","v":0},{"$f":"Skyggetabeller!K405","v":0},{"$f":"Skyggetabeller!L405","v":0},{"$f":"Skyggetabeller!M405","v":0},{"$f":"Skyggetabeller!N405","v":0},{"$f":"Skyggetabeller!O405","v":0},{"$f":"Skyggetabeller!P405","v":0},{"$f":"Skyggetabeller!Q405","v":0},{"$f":"Skyggetabeller!R405","v":0}]
[null,{"$f":"Skyggetabeller!B406","v":"Antal opfølgninger"},null,{"$f":"Skyggetabeller!D406","v":0},{"$f":"Skyggetabeller!E406","v":0},{"$f":"Skyggetabeller!F406","v":0},{"$f":"Skyggetabeller!G406","v":0},{"$f":"Skyggetabeller!H406","v":0},{"$f":"Skyggetabeller!I406","v":0},{"$f":"Skyggetabeller!J406","v":0},{"$f":"Skyggetabeller!K406","v":0},{"$f":"Skyggetabeller!L406","v":0},{"$f":"Skyggetabeller!M406","v":0},{"$f":"Skyggetabeller!N406","v":0},{"$f":"Skyggetabeller!O406","v":0},{"$f":"Skyggetabeller!P406","v":0},{"$f":"Skyggetabeller!Q406","v":0},{"$f":"Skyggetabeller!R406","v":0}]
[null,{"$f":"Skyggetabeller!B407","v":"Varighed"},null,{"$f":"Skyggetabeller!D407","v":"-"},{"$f":"Skyggetabeller!E407","v":"-"},{"$f":"Skyggetabeller!F407","v":"-"},{"$f":"Skyggetabeller!G407","v":"-"},{"$f":"Skyggetabeller!H407","v":"-"},{"$f":"Skyggetabeller!I407","v":"-"},{"$f":"Skyggetabeller!J407","v":"-"},{"$f":"Skyggetabeller!K407","v":"-"},{"$f":"Skyggetabeller!L407","v":"-"},{"$f":"Skyggetabeller!M407","v":"-"},{"$f":"Skyggetabeller!N407","v":"-"},{"$f":"Skyggetabeller!O407","v":"-"},{"$f":"Skyggetabeller!P407","v":"-"},{"$f":"Skyggetabeller!Q407","v":"-"},{"$f":"Skyggetabeller!R407","v":"-"}]
[]
[null,{"$f":"Skyggetabeller!B409","v":"Nøgletal 11.3: \nFrekvens i opfølgninger for hjemmebaserede foranstaltninger"},null,"2016-01-01","2016-07-01","2017-01-01","2017-07-01","2018-01-01","2018-07-01","2019-01-01","2019-07-01","2020-01-01","2020-07-01","2021-01-01","2021-07-01","2022-01-01","2022-07-01","2023-01-01"]
[null,{"$f":"Skyggetabeller!B410","v":"Antal dage"},null,{"$f":"Skyggetabeller!D410","v":0},{"$f":"Skyggetabeller!E410","v":0},{"$f":"Skyggetabeller!F410","v":0},{"$f":"Skyggetabeller!G410","v":0},{"$f":"Skyggetabeller!H410","v":0},{"$f":"Skyggetabeller!I410","v":0},{"$f":"Skyggetabeller!J410","v":0},{"$f":"Skyggetabeller!K410","v":0},{"$f":"Skyggetabeller!L410","v":0},{"$f":"Skyggetabeller!M410","v":0},{"$f":"Skyggetabeller!N410","v":0},{"$f":"Skyggetabeller!O410","v":0},{"$f":"Skyggetabeller!P410","v":0},{"$f":"Skyggetabeller!Q410","v":0},{"$f":"Skyggetabeller!R410","v":0}]
[null,{"$f":"Skyggetabeller!B411","v":"Antal opfølgninger"},null,{"$f":"Skyggetabeller!D411","v":0},{"$f":"Skyggetabeller!E411","v":0},{"$f":"Skyggetabeller!F411","v":0},{"$f":"Skyggetabeller!G411","v":0},{"$f":"Skyggetabeller!H411","v":0},{"$f":"Skyggetabeller!I411","v":0},{"$f":"Skyggetabeller!J411","v":0},{"$f":"Skyggetabeller!K411","v":0},{"$f":"Skyggetabeller!L411","v":0},{"$f":"Skyggetabeller!M411","v":0},{"$f":"Skyggetabeller!N411","v":0},{"$f":"Skyggetabeller!O411","v":0},{"$f":"Skyggetabeller!P411","v":0},{"$f":"Skyggetabeller!Q411","v":0},{"$f":"Skyggetabeller!R411","v":0}]
[null,{"$f":"Skyggetabeller!B412","v":"Varighed"},null,{"$f":"Skyggetabeller!D412","v":"-"},{"$f":"Skyggetabeller!E412","v":"-"},{"$f":"Skyggetabeller!F412","v":"-"},{"$f":"Skyggetabeller!G412","v":"-"},{"$f":"Skyggetabeller!H412","v":"-"},{"$f":"Skyggetabeller!I412","v":"-"},{"$f":"Skyggetabeller!J412","v":"-"},{"$f":"Skyggetabeller!K412","v":"-"},{"$f":"Skyggetabeller!L412","v":"-"},{"$f":"Skyggetabeller!M412","v":"-"},{"$f":"Skyggetabeller!N412","v":"-"},{"$f":"Skyggetabeller!O412","v":"-"},{"$f":"Skyggetabeller!P412","v":"-"},{"$f":"Skyggetabeller!Q412","v":"-"},{"$f":"Skyggetabeller!R412","v":"-"}]
[null,{"$f":"Registerdata!$B$30","v":"Anm.: Hvis nøgletallet er angivet med * er der foretaget en diskretionering af data, da der er for få observationer. "}]
[null,{"$f":"IF('Dine valg'!$G$24=\"\",\"Ingen sammenligningsgruppe valgt.\",\"Anm.: Valgte kommuner i sammenligningsgruppen: \"&'Dine valg'!$G$24&\" \"&'Dine valg'!$G$25&\" \"&'Dine valg'!$G$26&\" \"&'Dine valg'!$G$27&\" \"&'Dine valg'!$G$28&\" \"&'Dine valg'!$G$29&\" \"&'Dine valg'!$G$30)","v":"Anm.: Valgte kommuner i sammenligningsgruppen: Aarhus      "}]
[null,{"$f":"Registerdata!$B$32","v":"Kilde: Socialstyrelsens egne beregninger baseret på registerdata fra Danmarks Statistik."}]

{"sheet":"Skyggetabeller","index":5,"n_rows":412,"n_cols":18,"rows_kept":412,"cut":false,"hidden":true,"merged":[[205,1,205,4],[380,1,381,12],[387,1,388,12]]}
[]
[]
[null,"Skyggetabeller"]
[]
[]
[null,"Nøgletal 1: Institutionsanbringelser"]
[]
[null,"Tabel 1: Institutionsanbringelser"]
[null,"Nøgletal 1: \nInstitutionsanbringelser",null,"2016-01-01","2016-07-01","2017-01-01","2017-07-01","2018-01-01","2018-07-01","2019-01-01","2019-07-01","2020-01-01","2020-07-01","2021-01-01","2021-07-01","2022-01-01","2022-07-01","2023-01-01"]
[null,{"$f":"IF(Kommune=\"\",\"Kommune\",Kommune)","v":"København"}]
[null,"Antal anbragte",null,{"$f":"IFERROR(INDEX(Data_kom2,MATCH(1,(komnavn2=Kommune)*(komaar2=D9),0),4),\"Data ikke tilføjet\")","v":230},{"$f":"IFERROR(INDEX(Data_kom2,MATCH(1,(komnavn2=Kommune)*(komaar2=E9),0),4),\"Data ikke tilføjet\")","v":233},{"$f":"IFERROR(INDEX(Data_kom2,MATCH(1,(komnavn2=Kommune)*(komaar2=F9),0),4),\"Data ikke tilføjet\")","v":224},{"$f":"IFERROR(INDEX(Data_kom2,MATCH(1,(komnavn2=Kommune)*(komaar2=G9),0),4),\"Data ikke tilføjet\")","v":226},{"$f":"IFERROR(INDEX(Data_kom2,MATCH(1,(komnavn2=Kommune)*(komaar2=H9),0),4),\"Data ikke tilføjet\")","v":214},{"$f":"IFERROR(INDEX(Data_kom2,MATCH(1,(komnavn2=Kommune)*(komaar2=I9),0),4),\"Data ikke tilføjet\")","v":217},{"$f":"IFERROR(INDEX(Data_kom2,MATCH(1,(komnavn2=Kommune)*(komaar2=J9),0),4),\"Data ikke tilføjet\")","v":204},{"$f":"IFERROR(INDEX(Data_kom2,MATCH(1,(komnavn2=Kommune)*(komaar2=K9),0),4),\"Data ikke tilføjet\")","v":193},{"$f":"IFERROR(INDEX(Data_kom2,MATCH(1,(komnavn2=Kommune)*(komaar2=L9),0),4),\"Data ikke tilføjet\")","v":160},{"$f":"IFERROR(INDEX(Data_kom2,MATCH(1,(komnavn2=Kommune)*(komaar2=M9),0),4),\"Data ikke tilføjet\")","v":180},{"$f":"IFERROR(INDEX(Data_kom2,MATCH(1,(komnavn2=Kommune)*(komaar2=N9),0),4),\"Data ikke tilføjet\")","v":201},{"$f":"IFERROR(INDEX(Data_kom2,MATCH(1,(komnavn2=Kommune)*(komaar2=O9),0),4),\"Data ikke tilføjet\")","v":219},{"$f":"IFERROR(INDEX(Data_kom2,MATCH(1,(komnavn2=Kommune)*(komaar2=P9),0),4),\"Data ikke tilføjet\")","v":217},{"$f":"IFERROR(INDEX(Data_kom2,MATCH(1,(komnavn2=Kommune)*(komaar2=Q9),0),4),\"Data ikke tilføjet\")","v":243},{"$f":"IFERROR(INDEX(Data_kom2,MATCH(1,(komnavn2=Kommune)*(komaar2=R9),0),4),\"Data ikke tilføjet\")","v":248}]
[null,"Antal 0-17-årige",null,{"$f":"IFERROR(INDEX(Data_kom2,MATCH(1,(komnavn2=Kommune)*(komaar2=D9),0),2),\"Data ikke tilføjet\")","v":103578},{"$f":"IFERROR(INDEX(Data_kom2,MATCH(1,(komnavn2=Kommune)*(komaar2=E9),0),2),\"Data ikke tilføjet\")","v":104797},{"$f":"IFERROR(INDEX(Data_kom2,MATCH(1,(komnavn2=Kommune)*(komaar2=F9),0),2),\"Data ikke tilføjet\")","v":105885},{"$f":"IFERROR(INDEX(Data_kom2,MATCH(1,(komnavn2=Kommune)*(komaar2=G9),0),2),\"Data ikke tilføjet\")","v":106913},{"$f":"IFERROR(INDEX(Data_kom2,MATCH(1,(komnavn2=Kommune)*(komaar2=H9),0),2),\"Data ikke tilføjet\")","v":107770},{"$f":"IFERROR(INDEX(Data_kom2,MATCH(1,(komnavn2=Kommune)*(komaar2=I9),0),2),\"Data ikke tilføjet\")","v":108734},{"$f":"IFERROR(INDEX(Data_kom2,MATCH(1,(komnavn2=Kommune)*(komaar2=J9),0),2),\"Data ikke tilføjet\")","v":109335},{"$f":"IFERROR(INDEX(Data_kom2,MATCH(1,(komnavn2=Kommune)*(komaar2=K9),0),2),\"Data ikke tilføjet\")","v":110138},{"$f":"IFERROR(INDEX(Data_kom2,MATCH(1,(komnavn2=Kommune)*(komaar2=L9),0),2),\"Data ikke tilføjet\")","v":110822},{"$f":"IFERROR(INDEX(Data_kom2,MATCH(1,(komnavn2=Kommune)*(komaar2=M9),0),2),\"Data ikke tilføjet\")","v":111068},{"$f":"IFERROR(INDEX(Data_kom2,MATCH(1,(komnavn2=Kommune)*(komaar2=N9),0),2),\"Data ikke tilføjet\")","v":110927},{"$f":"IFERROR(INDEX(Data_kom2,MATCH(1,(komnavn2=Kommune)*(komaar2=O9),0),2),\"Data ikke tilføjet\")","v":110614},{"$f":"IFERROR(INDEX(Data_kom2,MATCH(1,(komnavn2=Kommune)*(komaar2=P9),0),2),\"Data ikke tilføjet\")","v":110513},{"$f":"IFERROR(INDEX(Data_kom2,MATCH(1,(komnavn2=Kommune)*(komaar2=Q9),0),2),\"Data ikke tilføjet\")","v":110692},{"$f":"IFERROR(INDEX(Data_kom2,MATCH(1,(komnavn2=Kommune)*(komaar2=R9),0),2),\"Data ikke tilføjet\")","v":110835}]
[null,"Andel",null,{"$f":"IFERROR(IF(D11=\"*\",\"*\",IF(D12=0,\"#I/T\",(D11/D12*1000))),\"Data ikke tilføjet\")","v":2.2205487651817952},2.2233460881513785,2.1155026679888556,2.1138682854283388,1.9857103089913706,1.9956959184799601,1.8658252160790232,1.7523470555121756,1.4437566548158307,{"$f":"IFERROR(IF(M11=\"*\",\"*\",IF(M12=0,\"#I/T\",(M11/M12*1000))),\"Data ikke tilføjet\")","v":1.6206288039759427},1.8120024881228196,1.9798578841737935,1.9635698967542279,2.1952805984172299,2.2375603374385347]
[null,"Sammenligningsgruppe, gns."]
[null,"Antal anbragte",null,{"$f":"IF('Dine valg'!$G$24=\"\",\"-\",SUMIF(Hjælpefane!$D$7:$D$111,\"=\"&D$9,Hjælpefane!$E$7:$E$111))","v":189},{"$f":"IF('Dine valg'!$G$24=\"\",\"-\",SUMIF(Hjælpefane!$D$7:$D$111,\"=\"&E$9,Hjælpefane!$E$7:$E$111))","v":203},{"$f":"IF('Dine valg'!$G$24=\"\",\"-\",SUMIF(Hjælpefane!$D$7:$D$111,\"=\"&F$9,Hjælpefane!$E$7:$E$111))","v":191},{"$f":"IF('Dine valg'!$G$24=\"\",\"-\",SUMIF(Hjælpefane!$D$7:$D$111,\"=\"&G$9,Hjælpefane!$E$7:$E$111))","v":190},{"$f":"IF('Dine valg'!$G$24=\"\",\"-\",SUMIF(Hjælpefane!$D$7:$D$111,\"=\"&H$9,Hjælpefane!$E$7:$E$111))","v":180},{"$f":"IF('Dine valg'!$G$24=\"\",\"-\",SUMIF(Hjælpefane!$D$7:$D$111,\"=\"&I$9,Hjælpefane!$E$7:$E$111))","v":168},{"$f":"IF('Dine valg'!$G$24=\"\",\"-\",SUMIF(Hjælpefane!$D$7:$D$111,\"=\"&J$9,Hjælpefane!$E$7:$E$111))","v":174},{"$f":"IF('Dine valg'!$G$24=\"\",\"-\",SUMIF(Hjælpefane!$D$7:$D$111,\"=\"&K$9,Hjælpefane!$E$7:$E$111))","v":178},{"$f":"IF('Dine valg'!$G$24=\"\",\"-\",SUMIF(Hjælpefane!$D$7:$D$111,\"=\"&L$9,Hjælpefane!$E$7:$E$111))","v":171},{"$f":"IF('Dine valg'!$G$24=\"\",\"-\",SUMIF(Hjælpefane!$D$7:$D$111,\"=\"&M$9,Hjælpefane!$E$7:$E$111))","v":173},{"$f":"IF('Dine valg'!$G$24=\"\",\"-\",SUMIF(Hjælpefane!$D$7:$D$111,\"=\"&N$9,Hjælpefane!$E$7:$E$111))","v":175},{"$f":"IF('Dine valg'!$G$24=\"\",\"-\",SUMIF(Hjælpefane!$D$7:$D$111,\"=\"&O$9,Hjælpefane!$E$7:$E$111))","v":175},{"$f":"IF('Dine valg'!$G$24=\"\",\"-\",SUMIF(Hjælpefane!$D$7:$D$111,\"=\"&P$9,Hjælpefane!$E$7:$E$111))","v":161},{"$f":"IF('Dine valg'!$G$24=\"\",\"-\",SUMIF(Hjælpefane!$D$7:$D$111,\"=\"&Q$9,Hjælpefane!$E$7:$E$111))","v":174},{"$f":"IF('Dine valg'!$G$24=\"\",\"-\",SUMIF(Hjælpefane!$D$7:$D$111,\"=\"&R$9,Hjælpefane!$E$7:$E$111))","v":168}]
[null,"Antal 0-17-årige",null,{"$f":"IF('Dine valg'!$G$24=\"\",\"-\",SUMIF(Hjælpefane!$D$7:$D$111,\"=\"&D$9,Hjælpefane!$C$7:$C$111))","v":62241},{"$f":"IF('Dine valg'!$G$24=\"\",\"-\",SUMIF(Hjælpefane!$D$7:$D$111,\"=\"&E$9,Hjælpefane!$C$7:$C$111))","v":62670},{"$f":"IF('Dine valg'!$G$24=\"\",\"-\",SUMIF(Hjælpefane!$D$7:$D$111,\"=\"&F$9,Hjælpefane!$C$7:$C$111))","v":62903},{"$f":"IF('Dine valg'!$G$24=\"\",\"-\",SUMIF(Hjælpefane!$D$7:$D$111,\"=\"&G$9,Hjælpefane!$C$7:$C$111))","v":63077},{"$f":"IF('Dine valg'!$G$24=\"\",\"-\",SUMIF(Hjælpefane!$D$7:$D$111,\"=\"&H$9,Hjælpefane!$C$7:$C$111))","v":63245},{"$f":"IF('Dine valg'!$G$24=\"\",\"-\",SUMIF(Hjælpefane!$D$7:$D$111,\"=\"&I$9,Hjælpefane!$C$7:$C$111))","v":63510},{"$f":"IF('Dine valg'!$G$24=\"\",\"-\",SUMIF(Hjælpefane!$D$7:$D$111,\"=\"&J$9,Hjælpefane!$C$7:$C$111))","v":63607},{"$f":"IF('Dine valg'!$G$24=\"\",\"-\",SUMIF(Hjælpefane!$D$7:$D$111,\"=\"&K$9,Hjælpefane!$C$7:$C$111))","v":63704},{"$f":"IF('Dine valg'!$G$24=\"\",\"-\",SUMIF(Hjælpefane!$D$7:$D$111,\"=\"&L$9,Hjælpefane!$C$7:$C$111))","v":63890},{"$f":"IF('Dine valg'!$G$24=\"\",\"-\",SUMIF(Hjælpefane!$D$7:$D$111,\"=\"&M$9,Hjælpefane!$C$7:$C$111))","v":64128},{"$f":"IF('Dine valg'!$G$24=\"\",\"-\",SUMIF(Hjælpefane!$D$7:$D$111,\"=\"&N$9,Hjælpefane!$C$7:$C$111))","v":64334},{"$f":"IF('Dine valg'!$G$24=\"\",\"-\",SUMIF(Hjælpefane!$D$7:$D$111,\"=\"&O$9,Hjælpefane!$C$7:$C$111))","v":64307},{"$f":"IF('Dine valg'!$G$24=\"\",\"-\",SUMIF(Hjælpefane!$D$7:$D$111,\"=\"&P$9,Hjælpefane!$C$7:$C$111))","v":64049},{"$f":"IF('Dine valg'!$G$24=\"\",\"-\",SUMIF(Hjælpefane!$D$7:$D$111,\"=\"&Q$9,Hjælpefane!$C$7:$C$111))","v":64356},{"$f":"IF('Dine valg'!$G$24=\"\",\"-\",SUMIF(Hjælpefane!$D$7:$D$111,\"=\"&R$9,Hjælpefane!$C$7:$C$111))","v":64420}]
[null,"Andel",null,{"$f":"IFERROR(IF(D15=\"*\",\"*\",IF(D16=\"\",\"Indtast data\",(D15/D16*1000))),\"-\")","v":3.0365836024485464},{"$f":"IFERROR(IF(E15=\"*\",\"*\",IF(E16=\"\",\"Indtast data\",(E15/E16*1000))),\"-\")","v":3.2391894048188927},3.0364211563836383,3.0121914485470138,2.8460747885208315,2.6452527161076995,2.7355479742795601,2.7941730503579052,2.6764751917357961,{"$f":"IFERROR(IF(M15=\"*\",\"*\",IF(M16=\"\",\"Indtast data\",(M15/M16*1000))),\"-\")","v":2.6977295409181639},2.7201790655019118,2.7213211625484006,2.5137004480944278,2.7037106097333581,2.6078857497671533]
[null,"Hele landet"]
[null,"Antal anbragte",null,{"$f":"INDEX(Data_land,MATCH(Skyggetabeller!D9,Data!landaar,0),4)","v":3438},{"$f":"INDEX(Data_land,MATCH(Skyggetabeller!E9,Data!landaar,0),4)","v":3434},{"$f":"INDEX(Data_land,MATCH(Skyggetabeller!F9,Data!landaar,0),4)","v":3381},{"$f":"INDEX(Data_land,MATCH(Skyggetabeller!G9,Data!landaar,0),4)","v":3463},{"$f":"INDEX(Data_land,MATCH(Skyggetabeller!H9,Data!landaar,0),4)","v":3375},{"$f":"INDEX(Data_land,MATCH(Skyggetabeller!I9,Data!landaar,0),4)","v":3401},{"$f":"INDEX(Data_land,MATCH(Skyggetabeller!J9,Data!landaar,0),4)","v":3298},{"$f":"INDEX(Data_land,MATCH(Skyggetabeller!K9,Data!landaar,0),4)","v":3276},{"$f":"INDEX(Data_land,MATCH(Skyggetabeller!L9,Data!landaar,0),4)","v":3268},{"$f":"INDEX(Data_land,MATCH(Skyggetabeller!M9,Data!landaar,0),4)","v":3331},{"$f":"INDEX(Data_land,MATCH(Skyggetabeller!N9,Data!landaar,0),4)","v":3391},{"$f":"INDEX(Data_land,MATCH(Skyggetabeller!O9,Data!landaar,0),4)","v":3479},{"$f":"INDEX(Data_land,MATCH(Skyggetabeller!P9,Data!landaar,0),4)","v":3460},{"$f":"INDEX(Data_land,MATCH(Skyggetabeller!Q9,Data!landaar,0),4)","v":3624},{"$f":"INDEX(Data_land,MATCH(Skyggetabeller!R9,Data!landaar,0),4)","v":3632}]
[null,"Antal 0-17-årige",null,{"$f":"INDEX(Data_land,MATCH(Skyggetabeller!D9,Data!landaar,0),2)","v":1167426},{"$f":"INDEX(Data_land,MATCH(Skyggetabeller!E9,Data!landaar,0),2)","v":1167002},{"$f":"INDEX(Data_land,MATCH(Skyggetabeller!F9,Data!landaar,0),2)","v":1168201},{"$f":"INDEX(Data_land,MATCH(Skyggetabeller!G9,Data!landaar,0),2)","v":1165363},{"$f":"INDEX(Data_land,MATCH(Skyggetabeller!H9,Data!landaar,0),2)","v":1165475},{"$f":"INDEX(Data_land,MATCH(Skyggetabeller!I9,Data!landaar,0),2)","v":1162195},{"$f":"INDEX(Data_land,MATCH(Skyggetabeller!J9,Data!landaar,0),2)","v":1160360},{"$f":"INDEX(Data_land,MATCH(Skyggetabeller!K9,Data!landaar,0),2)","v":1156537},{"$f":"INDEX(Data_land,MATCH(Skyggetabeller!L9,Data!landaar,0),2)","v":1156116},{"$f":"INDEX(Data_land,MATCH(Skyggetabeller!M9,Data!landaar,0),2)","v":1153027},{"$f":"INDEX(Data_land,MATCH(Skyggetabeller!N9,Data!landaar,0),2)","v":1152972},{"$f":"INDEX(Data_land,MATCH(Skyggetabeller!O9,Data!landaar,0),2)","v":1151374},{"$f":"INDEX(Data_land,MATCH(Skyggetabeller!P9,Data!landaar,0),2)","v":1151704},{"$f":"INDEX(Data_land,MATCH(Skyggetabeller!Q9,Data!landaar,0),2)","v":1157254},{"$f":"INDEX(Data_land,MATCH(Skyggetabeller!R9,Data!landaar,0),2)","v":1155814}]
[null,"Andel",null,{"$f":"IFERROR(IF(D19=\"*\",\"*\",IF(D20=0,\"#I/T\",(D19/D20*1000))),\"Data ikke tilføjet\")","v":2.9449404073577252},2.9425827890612015,2.8941937217995877,2.9716062720371248,2.8958150110469978,2.9263591738047401,2.8422213795718569,2.8325942014825292,2.8267059706811426,{"$f":"IFERROR(IF(M19=\"*\",\"*\",IF(M20=0,\"#I/T\",(M19/M20*1000))),\"Data ikke tilføjet\")","v":2.8889176055721157},2.9410948401175396,3.0216072275385755,3.0042441460653082,3.1315510683047973,3.1423741190191503]
[]
[null,"Tabel 1.1: Anbragte på døgninstitutioner"]
[null,"Nøgletal 1.1\nAnbragte på døgninstitutioner",null,"2016-01-01","2016-07-01","2017-01-01","2017-07-01","2018-01-01","2018-07-01","2019-01-01","2019-07-01","2020-01-01","2020-07-01","2021-01-01","2021-07-01","2022-01-01","2022-07-01","2023-01-01"]
[null,{"$f":"IF(Kommune=\"\",\"Kommune\",Kommune)","v":"København"}]
[null,"Antal anbragte",null,{"$f":"IFERROR(IF(INDEX(Data_kom2,MATCH(1,(komnavn2=Kommune)*(komaar2=D24),0),5)=\"*\",\"*\",INDEX(Data_kom2,MATCH(1,(komnavn2=Kommune)*(komaar2=D24),0),5)),\"Data ikke tilføjet\")","v":169},{"$f":"IFERROR(IF(INDEX(Data_kom2,MATCH(1,(komnavn2=Kommune)*(komaar2=E24),0),5)=\"*\",\"*\",INDEX(Data_kom2,MATCH(1,(komnavn2=Kommune)*(komaar2=E24),0),5)),\"Data ikke tilføjet\")","v":175},{"$f":"IFERROR(IF(INDEX(Data_kom2,MATCH(1,(komnavn2=Kommune)*(komaar2=F24),0),5)=\"*\",\"*\",INDEX(Data_kom2,MATCH(1,(komnavn2=Kommune)*(komaar2=F24),0),5)),\"Data ikke tilføjet\")","v":170},{"$f":"IFERROR(IF(INDEX(Data_kom2,MATCH(1,(komnavn2=Kommune)*(komaar2=G24),0),5)=\"*\",\"*\",INDEX(Data_kom2,MATCH(1,(komnavn2=Kommune)*(komaar2=G24),0),5)),\"Data ikke tilføjet\")","v":181},{"$f":"IFERROR(IF(INDEX(Data_kom2,MATCH(1,(komnavn2=Kommune)*(komaar2=H24),0),5)=\"*\",\"*\",INDEX(Data_kom2,MATCH(1,(komnavn2=Kommune)*(komaar2=H24),0),5)),\"Data ikke tilføjet\")","v":174},{"$f":"IFERROR(IF(INDEX(Data_kom2,MATCH(1,(komnavn2=Kommune)*(komaar2=I24),0),5)=\"*\",\"*\",INDEX(Data_kom2,MATCH(1,(komnavn2=Kommune)*(komaar2=I24),0),5)),\"Data ikke tilføjet\")","v":174},{"$f":"IFERROR(IF(INDEX(Data_kom2,MATCH(1,(komnavn2=Kommune)*(komaar2=J24),0),5)=\"*\",\"*\",INDEX(Data_kom2,MATCH(1,(komnavn2=Kommune)*(komaar2=J24),0),5)),\"Data ikke tilføjet\")","v":161},{"$f":"IFERROR(IF(INDEX(Data_kom2,MATCH(1,(komnavn2=Kommune)*(komaar2=K24),0),5)=\"*\",\"*\",INDEX(Data_kom2,MATCH(1,(komnavn2=Kommune)*(komaar2=K24),0),5)),\"Data ikke tilføjet\")","v":153},{"$f":"IFERROR(IF(INDEX(Data_kom2,MATCH(1,(komnavn2=Kommune)*(komaar2=L24),0),5)=\"*\",\"*\",INDEX(Data_kom2,MATCH(1,(komnavn2=Kommune)*(komaar2=L24),0),5)),\"Data ikke tilføjet\")","v":139},{"$f":"IFERROR(IF(INDEX(Data_kom2,MATCH(1,(komnavn2=Kommune)*(komaar2=M24),0),5)=\"*\",\"*\",INDEX(Data_kom2,MATCH(1,(komnavn2=Kommune)*(komaar2=M24),0),5)),\"Data ikke tilføjet\")","v":147},{"$f":"IFERROR(IF(INDEX(Data_kom2,MATCH(1,(komnavn2=Kommune)*(komaar2=N24),0),5)=\"*\",\"*\",INDEX(Data_kom2,MATCH(1,(komnavn2=Kommune)*(komaar2=N24),0),5)),\"Data ikke tilføjet\")","v":159},{"$f":"IFERROR(IF(INDEX(Data_kom2,MATCH(1,(komnavn2=Kommune)*(komaar2=O24),0),5)=\"*\",\"*\",INDEX(Data_kom2,MATCH(1,(komnavn2=Kommune)*(komaar2=O24),0),5)),\"Data ikke tilføjet\")","v":165},{"$f":"IFERROR(IF(INDEX(Data_kom2,MATCH(1,(komnavn2=Kommune)*(komaar2=P24),0),5)=\"*\",\"*\",INDEX(Data_kom2,MATCH(1,(komnavn2=Kommune)*(komaar2=P24),0),5)),\"Data ikke tilføjet\")","v":173},{"$f":"IFERROR(IF(INDEX(Data_kom2,MATCH(1,(komnavn2=Kommune)*(komaar2=Q24),0),5)=\"*\",\"*\",INDEX(Data_kom2,MATCH(1,(komnavn2=Kommune)*(komaar2=Q24),0),5)),\"Data ikke tilføjet\")","v":196},{"$f":"IFERROR(IF(INDEX(Data_kom2,MATCH(1,(komnavn2=Kommune)*(komaar2=R24),0),5)=\"*\",\"*\",INDEX(Data_kom2,MATCH(1,(komnavn2=Kommune)*(komaar2=R24),0),5)),\"Data ikke tilføjet\")","v":200}]
[null,"Antal 0-17-årige",null,{"$f":"D$11","v":230},{"$f":"E$11","v":233},224,226,214,217,204,193,160,180,201,219,217,243,248]
[null,"Andel",null,{"$f":"IFERROR(IF(D26=\"*\",\"*\",IF(D27=0,\"#I/T\",(D26/D27))),\"Data ikke tilføjet\")","v":0.73478260869565215},{"$f":"IFERROR(IF(E26=\"*\",\"*\",IF(E27=0,\"#I/T\",(E26/E27))),\"Data ikke tilføjet\")","v":0.75107296137339052},{"$f":"IFERROR(IF(F26=\"*\",\"*\",IF(F27=0,\"#I/T\",(F26/F27))),\"Data ikke tilføjet\")","v":0.7589285714285714},{"$f":"IFERROR(IF(G26=\"*\",\"*\",IF(G27=0,\"#I/T\",(G26/G27))),\"Data ikke tilføjet\")","v":0.80088495575221241},{"$f":"IFERROR(IF(H26=\"*\",\"*\",IF(H27=0,\"#I/T\",(H26/H27))),\"Data ikke tilføjet\")","v":0.81308411214953269},{"$f":"IFERROR(IF(I26=\"*\",\"*\",IF(I27=0,\"#I/T\",(I26/I27))),\"Data ikke tilføjet\")","v":0.8018433179723502},{"$f":"IFERROR(IF(J26=\"*\",\"*\",IF(J27=0,\"#I/T\",(J26/J27))),\"Data ikke tilføjet\")","v":0.78921568627450978},{"$f":"IFERROR(IF(K26=\"*\",\"*\",IF(K27=0,\"#I/T\",(K26/K27))),\"Data ikke tilføjet\")","v":0.79274611398963735},{"$f":"IFERROR(IF(L26=\"*\",\"*\",IF(L27=0,\"#I/T\",(L26/L27))),\"Data ikke tilføjet\")","v":0.86875000000000002},{"$f":"IFERROR(IF(M26=\"*\",\"*\",IF(M27=0,\"#I/T\",(M26/M27))),\"Data ikke tilføjet\")","v":0.81666666666666665},{"$f":"IFERROR(IF(N26=\"*\",\"*\",IF(N27=0,\"#I/T\",(N26/N27))),\"Data ikke tilføjet\")","v":0.79104477611940294},{"$f":"IFERROR(IF(O26=\"*\",\"*\",IF(O27=0,\"#I/T\",(O26/O27))),\"Data ikke tilføjet\")","v":0.75342465753424659},{"$f":"IFERROR(IF(P26=\"*\",\"*\",IF(P27=0,\"#I/T\",(P26/P27))),\"Data ikke tilføjet\")","v":0.79723502304147464},{"$f":"IFERROR(IF(Q26=\"*\",\"*\",IF(Q27=0,\"#I/T\",(Q26/Q27))),\"Data ikke tilføjet\")","v":0.80658436213991769},{"$f":"IFERROR(IF(R26=\"*\",\"*\",IF(R27=0,\"#I/T\",(R26/R27))),\"Data ikke tilføjet\")","v":0.80645161290322576}]
[null,"Sammenligningsgruppe, gns."]
[null,"Antal anbragte",null,{"$f":"IF('Dine valg'!$G$24=\"\",\"-\",SUMIF(Hjælpefane!$D$7:$D$111,\"=\"&D$9,Hjælpefane!$F$7:$F$111))","v":127},{"$f":"IF('Dine valg'!$G$24=\"\",\"-\",SUMIF(Hjælpefane!$D$7:$D$111,\"=\"&E$9,Hjælpefane!$F$7:$F$111))","v":138},{"$f":"IF('Dine valg'!$G$24=\"\",\"-\",SUMIF(Hjælpefane!$D$7:$D$111,\"=\"&F$9,Hjælpefane!$F$7:$F$111))","v":133},{"$f":"IF('Dine valg'!$G$24=\"\",\"-\",SUMIF(Hjælpefane!$D$7:$D$111,\"=\"&G$9,Hjælpefane!$F$7:$F$111))","v":133},{"$f":"IF('Dine valg'!$G$24=\"\",\"-\",SUMIF(Hjælpefane!$D$7:$D$111,\"=\"&H$9,Hjælpefane!$F$7:$F$111))","v":119},{"$f":"IF('Dine valg'!$G$24=\"\",\"-\",SUMIF(Hjælpefane!$D$7:$D$111,\"=\"&I$9,Hjælpefane!$F$7:$F$111))","v":116},{"$f":"IF('Dine valg'!$G$24=\"\",\"-\",SUMIF(Hjælpefane!$D$7:$D$111,\"=\"&J$9,Hjælpefane!$F$7:$F$111))","v":118},{"$f":"IF('Dine valg'!$G$24=\"\",\"-\",SUMIF(Hjælpefane!$D$7:$D$111,\"=\"&K$9,Hjælpefane!$F$7:$F$111))","v":127},{"$f":"IF('Dine valg'!$G$24=\"\",\"-\",SUMIF(Hjælpefane!$D$7:$D$111,\"=\"&L$9,Hjælpefane!$F$7:$F$111))","v":120},{"$f":"IF('Dine valg'!$G$24=\"\",\"-\",SUMIF(Hjælpefane!$D$7:$D$111,\"=\"&M$9,Hjælpefane!$F$7:$F$111))","v":127},{"$f":"IF('Dine valg'!$G$24=\"\",\"-\",SUMIF(Hjælpefane!$D$7:$D$111,\"=\"&N$9,Hjælpefane!$F$7:$F$111))","v":123},{"$f":"IF('Dine valg'!$G$24=\"\",\"-\",SUMIF(Hjælpefane!$D$7:$D$111,\"=\"&O$9,Hjælpefane!$F$7:$F$111))","v":118},{"$f":"IF('Dine valg'!$G$24=\"\",\"-\",SUMIF(Hjælpefane!$D$7:$D$111,\"=\"&P$9,Hjælpefane!$F$7:$F$111))","v":109},{"$f":"IF('Dine valg'!$G$24=\"\",\"-\",SUMIF(Hjælpefane!$D$7:$D$111,\"=\"&Q$9,Hjælpefane!$F$7:$F$111))","v":109},{"$f":"IF('Dine valg'!$G$24=\"\",\"-\",SUMIF(Hjælpefane!$D$7:$D$111,\"=\"&R$9,Hjælpefane!$F$7:$F$111))","v":110}]
[null,"Antal 0-17-årige",null,{"$f":"D$15","v":189},{"$f":"E$15","v":203},191,190,180,168,174,178,171,173,175,175,161,174,168]
[null,"Andel",null,{"$f":"IFERROR(IF(D30=\"*\",\"*\",IF(D31=\"\",\"Indtast data\",(D30/D31))),\"-\")","v":0.67195767195767198},{"$f":"IFERROR(IF(E30=\"*\",\"*\",IF(E31=\"\",\"Indtast data\",(E30/E31))),\"-\")","v":0.67980295566502458},0.69633507853403143,0.7,0.66111111111111109,0.69047619047619047,0.67816091954022983,0.7134831460674157,0.70175438596491224,{"$f":"IFERROR(IF(M30=\"*\",\"*\",IF(M31=\"\",\"Indtast data\",(M30/M31))),\"-\")","v":0.73410404624277459},0.70285714285714285,0.67428571428571427,0.67701863354037262,0.62643678160919536,0.65476190476190477]
[null,"Hele landet"]
[null,"Antal anbragte",null,{"$f":"INDEX(Data_land,MATCH(Skyggetabeller!D24,Data!landaar,0),5)","v":1830},{"$f":"INDEX(Data_land,MATCH(Skyggetabeller!E24,Data!landaar,0),5)","v":1843},{"$f":"INDEX(Data_land,MATCH(Skyggetabeller!F24,Data!landaar,0),5)","v":1815},{"$f":"INDEX(Data_land,MATCH(Skyggetabeller!G24,Data!landaar,0),5)","v":1809},{"$f":"INDEX(Data_land,MATCH(Skyggetabeller!H24,Data!landaar,0),5)","v":1760},{"$f":"INDEX(Data_land,MATCH(Skyggetabeller!I24,Data!landaar,0),5)","v":1771},{"$f":"INDEX(Data_land,MATCH(Skyggetabeller!J24,Data!landaar,0),5)","v":1688},{"$f":"INDEX(Data_land,MATCH(Skyggetabeller!K24,Data!landaar,0),5)","v":1686},{"$f":"INDEX(Data_land,MATCH(Skyggetabeller!L24,Data!landaar,0),5)","v":1675},{"$f":"INDEX(Data_land,MATCH(Skyggetabeller!M24,Data!landaar,0),5)","v":1666},{"$f":"INDEX(Data_land,MATCH(Skyggetabeller!N24,Data!landaar,0),5)","v":1701},{"$f":"INDEX(Data_land,MATCH(Skyggetabeller!O24,Data!landaar,0),5)","v":1688},{"$f":"INDEX(Data_land,MATCH(Skyggetabeller!P24,Data!landaar,0),5)","v":1699},{"$f":"INDEX(Data_land,MATCH(Skyggetabeller!Q24,Data!landaar,0),5)","v":1763},{"$f":"INDEX(Data_land,MATCH(Skyggetabeller!R24,Data!landaar,0),5)","v":1765}]
[null,"Antal 0-17-årige",null,{"$f":"INDEX(Data_land,MATCH(Skyggetabeller!D24,Data!landaar,0),4)","v":3438},{"$f":"INDEX(Data_land,MATCH(Skyggetabeller!E24,Data!landaar,0),4)","v":3434},{"$f":"INDEX(Data_land,MATCH(Skyggetabeller!F24,Data!landaar,0),4)","v":3381},{"$f":"INDEX(Data_land,MATCH(Skyggetabeller!G24,Data!landaar,0),4)","v":3463},{"$f":"INDEX(Data_land,MATCH(Skyggetabeller!H24,Data!landaar,0),4)","v":3375},{"$f":"INDEX(Data_land,MATCH(Skyggetabeller!I24,Data!landaar,0),4)","v":3401},{"$f":"INDEX(Data_land,MATCH(Skyggetabeller!J24,Data!landaar,0),4)","v":3298},{"$f":"INDEX(Data_land,MATCH(Skyggetabeller!K24,Data!landaar,0),4)","v":3276},{"$f":"INDEX(Data_land,MATCH(Skyggetabeller!L24,Data!landaar,0),4)","v":3268},{"$f":"INDEX(Data_land,MATCH(Skyggetabeller!M24,Data!landaar,0),4)","v":3331},{"$f":"INDEX(Data_land,MATCH(Skyggetabeller!N24,Data!landaar,0),4)","v":3391},{"$f":"INDEX(Data_land,MATCH(Skyggetabeller!O24,Data!landaar,0),4)","v":3479},{"$f":"INDEX(Data_land,MATCH(Skyggetabeller!P24,Data!landaar,0),4)","v":3460},{"$f":"INDEX(Data_land,MATCH(Skyggetabeller!Q24,Data!landaar,0),4)","v":3624},{"$f":"INDEX(Data_land,MATCH(Skyggetabeller!R24,Data!landaar,0),4)","v":3632}]
[null,"Andel",null,{"$f":"IFERROR(IF(D34=\"*\",\"*\",IF(D35=0,\"#I/T\",(D34/D35))),\"Data ikke tilføjet\")","v":0.53228621291448519},{"$f":"IFERROR(IF(E34=\"*\",\"*\",IF(E35=0,\"#I/T\",(E34/E35))),\"Data ikke tilføjet\")","v":0.53669190448456605},{"$f":"IFERROR(IF(F34=\"*\",\"*\",IF(F35=0,\"#I/T\",(F34/F35))),\"Data ikke tilføjet\")","v":0.53682342502218283},{"$f":"IFERROR(IF(G34=\"*\",\"*\",IF(G35=0,\"#I/T\",(G34/G35))),\"Data ikke tilføjet\")","v":0.52237943979208779},{"$f":"IFERROR(IF(H34=\"*\",\"*\",IF(H35=0,\"#I/T\",(H34/H35))),\"Data ikke tilføjet\")","v":0.52148148148148143},{"$f":"IFERROR(IF(I34=\"*\",\"*\",IF(I35=0,\"#I/T\",(I34/I35))),\"Data ikke tilføjet\")","v":0.52072919729491329},{"$f":"IFERROR(IF(J34=\"*\",\"*\",IF(J35=0,\"#I/T\",(J34/J35))),\"Data ikke tilføjet\")","v":0.51182534869617946},{"$f":"IFERROR(IF(K34=\"*\",\"*\",IF(K35=0,\"#I/T\",(K34/K35))),\"Data ikke tilføjet\")","v":0.5146520146520146},{"$f":"IFERROR(IF(L34=\"*\",\"*\",IF(L35=0,\"#I/T\",(L34/L35))),\"Data ikke tilføjet\")","v":0.51254589963280295},{"$f":"IFERROR(IF(M34=\"*\",\"*\",IF(M35=0,\"#I/T\",(M34/M35))),\"Data ikke tilføjet\")","v":0.50015010507355151},{"$f":"IFERROR(IF(N34=\"*\",\"*\",IF(N35=0,\"#I/T\",(N34/N35))),\"Data ikke tilføjet\")","v":0.50162194043055142},{"$f":"IFERROR(IF(O34=\"*\",\"*\",IF(O35=0,\"#I/T\",(O34/O35))),\"Data ikke tilføjet\")","v":0.48519689565967233},{"$f":"IFERROR(IF(P34=\"*\",\"*\",IF(P35=0,\"#I/T\",(P34/P35))),\"Data ikke tilføjet\")","v":0.49104046242774568},{"$f":"IFERROR(IF(Q34=\"*\",\"*\",IF(Q35=0,\"#I/T\",(Q34/Q35))),\"Data ikke tilføjet\")","v":0.48647902869757176},{"$f":"IFERROR(IF(R34=\"*\",\"*\",IF(R35=0,\"#I/T\",(R34/R35))),\"Data ikke tilføjet\")","v":0.48595814977973567}]
[]
[null,"Tabel 1.2: Anbragte på sikrede døgninstitutioner"]
[null,"Nøgletal 1.2\nAnbragte på sikrede døgninstitutioner",null,"2016-01-01","2016-07-01","2017-01-01","2017-07-01","2018-01-01","2018-07-01","2019-01-01","2019-07-01","2020-01-01","2020-07-01","2021-01-01","2021-07-01","2022-01-01","2022-07-01","2023-01-01"]
[null,{"$f":"IF(Kommune=\"\",\"Kommune\",Kommune)","v":"København"}]
[null,"Antal anbragte",null,{"$f":"IFERROR(IF(INDEX(Data_kom2,MATCH(1,(komnavn2=Kommune)*(komaar2=D39),0),6)=\"*\",\"*\",INDEX(Data_kom2,MATCH(1,(komnavn2=Kommune)*(komaar2=D39),0),6)),\"Data ikke tilføjet\")","v":7},{"$f":"IFERROR(IF(INDEX(Data_kom2,MATCH(1,(komnavn2=Kommune)*(komaar2=E39),0),6)=\"*\",\"*\",INDEX(Data_kom2,MATCH(1,(komnavn2=Kommune)*(komaar2=E39),0),6)),\"Data ikke tilføjet\")","v":6},{"$f":"IFERROR(IF(INDEX(Data_kom2,MATCH(1,(komnavn2=Kommune)*(komaar2=F39),0),6)=\"*\",\"*\",INDEX(Data_kom2,MATCH(1,(komnavn2=Kommune)*(komaar2=F39),0),6)),\"Data ikke tilføjet\")","v":7},{"$f":"IFERROR(IF(INDEX(Data_kom2,MATCH(1,(komnavn2=Kommune)*(komaar2=G39),0),6)=\"*\",\"*\",INDEX(Data_kom2,MATCH(1,(komnavn2=Kommune)*(komaar2=G39),0),6)),\"Data ikke tilføjet\")","v":6},{"$f":"IFERROR(IF(INDEX(Data_kom2,MATCH(1,(komnavn2=Kommune)*(komaar2=H39),0),6)=\"*\",\"*\",INDEX(Data_kom2,MATCH(1,(komnavn2=Kommune)*(komaar2=H39),0),6)),\"Data ikke tilføjet\")","v":6},{"$f":"IFERROR(IF(INDEX(Data_kom2,MATCH(1,(komnavn2=Kommune)*(komaar2=I39),0),6)=\"*\",\"*\",INDEX(Data_kom2,MATCH(1,(komnavn2=Kommune)*(komaar2=I39),0),6)),\"Data ikke tilføjet\")","v":10},{"$f":"IFERROR(IF(INDEX(Data_kom2,MATCH(1,(komnavn2=Kommune)*(komaar2=J39),0),6)=\"*\",\"*\",INDEX(Data_kom2,MATCH(1,(komnavn2=Kommune)*(komaar2=J39),0),6)),\"Data ikke tilføjet\")","v":10},{"$f":"IFERROR(IF(INDEX(Data_kom2,MATCH(1,(komnavn2=Kommune)*(komaar2=K39),0),6)=\"*\",\"*\",INDEX(Data_kom2,MATCH(1,(komnavn2=Kommune)*(komaar2=K39),0),6)),\"Data ikke tilføjet\")","v":5},{"$f":"IFERROR(IF(INDEX(Data_kom2,MATCH(1,(komnavn2=Kommune)*(komaar2=L39),0),6)=\"*\",\"*\",INDEX(Data_kom2,MATCH(1,(komnavn2=Kommune)*(komaar2=L39),0),6)),\"Data ikke tilføjet\")","v":"*"},{"$f":"IFERROR(IF(INDEX(Data_kom2,MATCH(1,(komnavn2=Kommune)*(komaar2=M39),0),6)=\"*\",\"*\",INDEX(Data_kom2,MATCH(1,(komnavn2=Kommune)*(komaar2=M39),0),6)),\"Data ikke tilføjet\")","v":9},{"$f":"IFERROR(IF(INDEX(Data_kom2,MATCH(1,(komnavn2=Kommune)*(komaar2=N39),0),6)=\"*\",\"*\",INDEX(Data_kom2,MATCH(1,(komnavn2=Kommune)*(komaar2=N39),0),6)),\"Data ikke tilføjet\")","v":17},{"$f":"IFERROR(IF(INDEX(Data_kom2,MATCH(1,(komnavn2=Kommune)*(komaar2=O39),0),6)=\"*\",\"*\",INDEX(Data_kom2,MATCH(1,(komnavn2=Kommune)*(komaar2=O39),0),6)),\"Data ikke tilføjet\")","v":22},{"$f":"IFERROR(IF(INDEX(Data_kom2,MATCH(1,(komnavn2=Kommune)*(komaar2=P39),0),6)=\"*\",\"*\",INDEX(Data_kom2,MATCH(1,(komnavn2=Kommune)*(komaar2=P39),0),6)),\"Data ikke tilføjet\")","v":16},{"$f":"IFERROR(IF(INDEX(Data_kom2,MATCH(1,(komnavn2=Kommune)*(komaar2=Q39),0),6)=\"*\",\"*\",INDEX(Data_kom2,MATCH(1,(komnavn2=Kommune)*(komaar2=Q39),0),6)),\"Data ikke tilføjet\")","v":15},{"$f":"IFERROR(IF(INDEX(Data_kom2,MATCH(1,(komnavn2=Kommune)*(komaar2=R39),0),6)=\"*\",\"*\",INDEX(Data_kom2,MATCH(1,(komnavn2=Kommune)*(komaar2=R39),0),6)),\"Data ikke tilføjet\")","v":10}]
[null,"Antal 0-17-årige",null,{"$f":"D$11","v":230},{"$f":"E$11","v":233},224,226,214,217,204,193,160,180,201,219,217,243,248]
[null,"Andel",null,{"$f":"IFERROR(IF(D41=\"*\",\"*\",IF(D42=0,\"#I/T\",(D41/D42))),\"Data ikke tilføjet\")","v":3.0434782608695653E-2},{"$f":"IFERROR(IF(E41=\"*\",\"*\",IF(E42=0,\"#I/T\",(E41/E42))),\"Data ikke tilføjet\")","v":2.575107296137339E-2},{"$f":"IFERROR(IF(F41=\"*\",\"*\",IF(F42=0,\"#I/T\",(F41/F42))),\"Data ikke tilføjet\")","v":3.125E-2},{"$f":"IFERROR(IF(G41=\"*\",\"*\",IF(G42=0,\"#I/T\",(G41/G42))),\"Data ikke tilføjet\")","v":2.6548672566371681E-2},{"$f":"IFERROR(IF(H41=\"*\",\"*\",IF(H42=0,\"#I/T\",(H41/H42))),\"Data ikke tilføjet\")","v":2.8037383177570093E-2},{"$f":"IFERROR(IF(I41=\"*\",\"*\",IF(I42=0,\"#I/T\",(I41/I42))),\"Data ikke tilføjet\")","v":4.6082949308755762E-2},{"$f":"IFERROR(IF(J41=\"*\",\"*\",IF(J42=0,\"#I/T\",(J41/J42))),\"Data ikke tilføjet\")","v":4.9019607843137254E-2},{"$f":"IFERROR(IF(K41=\"*\",\"*\",IF(K42=0,\"#I/T\",(K41/K42))),\"Data ikke tilføjet\")","v":2.5906735751295335E-2},{"$f":"IFERROR(IF(L41=\"*\",\"*\",IF(L42=0,\"#I/T\",(L41/L42))),\"Data ikke tilføjet\")","v":"*"},{"$f":"IFERROR(IF(M41=\"*\",\"*\",IF(M42=0,\"#I/T\",(M41/M42))),\"Data ikke tilføjet\")","v":0.05},{"$f":"IFERROR(IF(N41=\"*\",\"*\",IF(N42=0,\"#I/T\",(N41/N42))),\"Data ikke tilføjet\")","v":8.45771144278607E-2},{"$f":"IFERROR(IF(O41=\"*\",\"*\",IF(O42=0,\"#I/T\",(O41/O42))),\"Data ikke tilføjet\")","v":0.1004566210045662},{"$f":"IFERROR(IF(P41=\"*\",\"*\",IF(P42=0,\"#I/T\",(P41/P42))),\"Data ikke tilføjet\")","v":7.3732718894009217E-2},{"$f":"IFERROR(IF(Q41=\"*\",\"*\",IF(Q42=0,\"#I/T\",(Q41/Q42))),\"Data ikke tilføjet\")","v":6.1728395061728392E-2},{"$f":"IFERROR(IF(R41=\"*\",\"*\",IF(R42=0,\"#I/T\",(R41/R42))),\"Data ikke tilføjet\")","v":4.0322580645161289E-2}]
[null,"Sammenligningsgruppe, gns."]
[null,"Antal anbragte",null,{"$f":"IF('Dine valg'!$G$24=\"\",\"-\",SUMIF(Hjælpefane!$D$7:$D$111,\"=\"&D$9,Hjælpefane!$G$7:$G$111))","v":7},{"$f":"IF('Dine valg'!$G$24=\"\",\"-\",SUMIF(Hjælpefane!$D$7:$D$111,\"=\"&E$9,Hjælpefane!$G$7:$G$111))","v":4},{"$f":"IF('Dine valg'!$G$24=\"\",\"-\",SUMIF(Hjælpefane!$D$7:$D$111,\"=\"&F$9,Hjælpefane!$G$7:$G$111))","v":3},{"$f":"IF('Dine valg'!$G$24=\"\",\"-\",SUMIF(Hjælpefane!$D$7:$D$111,\"=\"&G$9,Hjælpefane!$G$7:$G$111))","v":4},{"$f":"IF('Dine valg'!$G$24=\"\",\"-\",SUMIF(Hjælpefane!$D$7:$D$111,\"=\"&H$9,Hjælpefane!$G$7:$G$111))","v":4},{"$f":"IF('Dine valg'!$G$24=\"\",\"-\",SUMIF(Hjælpefane!$D$7:$D$111,\"=\"&I$9,Hjælpefane!$G$7:$G$111))","v":7},{"$f":"IF('Dine valg'!$G$24=\"\",\"-\",SUMIF(Hjælpefane!$D$7:$D$111,\"=\"&J$9,Hjælpefane!$G$7:$G$111))","v":10},{"$f":"IF('Dine valg'!$G$24=\"\",\"-\",SUMIF(Hjælpefane!$D$7:$D$111,\"=\"&K$9,Hjælpefane!$G$7:$G$111))","v":9},{"$f":"IF('Dine valg'!$G$24=\"\",\"-\",SUMIF(Hjælpefane!$D$7:$D$111,\"=\"&L$9,Hjælpefane!$G$7:$G$111))","v":16},{"$f":"IF('Dine valg'!$G$24=\"\",\"-\",SUMIF(Hjælpefane!$D$7:$D$111,\"=\"&M$9,Hjælpefane!$G$7:$G$111))","v":11},{"$f":"IF('Dine valg'!$G$24=\"\",\"-\",SUMIF(Hjælpefane!$D$7:$D$111,\"=\"&N$9,Hjælpefane!$G$7:$G$111))","v":15},{"$f":"IF('Dine valg'!$G$24=\"\",\"-\",SUMIF(Hjælpefane!$D$7:$D$111,\"=\"&O$9,Hjælpefane!$G$7:$G$111))","v":14},{"$f":"IF('Dine valg'!$G$24=\"\",\"-\",SUMIF(Hjælpefane!$D$7:$D$111,\"=\"&P$9,Hjælpefane!$G$7:$G$111))","v":14},{"$f":"IF('Dine valg'!$G$24=\"\",\"-\",SUMIF(Hjælpefane!$D$7:$D$111,\"=\"&Q$9,Hjælpefane!$G$7:$G$111))","v":17},{"$f":"IF('Dine valg'!$G$24=\"\",\"-\",SUMIF(Hjælpefane!$D$7:$D$111,\"=\"&R$9,Hjælpefane!$G$7:$G$111))","v":14}]
[null,"Antal 0-17-årige",null,{"$f":"D$15","v":189},{"$f":"E$15","v":203},191,190,180,168,174,178,171,173,175,175,161,174,168]
[null,"Andel",null,{"$f":"IFERROR(IF(D45=\"*\",\"*\",IF(D46=\"\",\"Indtast data\",(D45/D46))),\"-\")","v":3.7037037037037035E-2},{"$f":"IFERROR(IF(E45=\"*\",\"*\",IF(E46=\"\",\"Indtast data\",(E45/E46))),\"-\")","v":1.9704433497536946E-2},1.5706806282722512E-2,2.1052631578947368E-2,2.2222222222222223E-2,4.1666666666666664E-2,5.7471264367816091E-2,5.0561797752808987E-2,9.3567251461988299E-2,{"$f":"IFERROR(IF(M45=\"*\",\"*\",IF(M46=\"\",\"Indtast data\",(M45/M46))),\"-\")","v":6.358381502890173E-2},8.5714285714285715E-2,0.08,8.6956521739130432E-2,9.7701149425287362E-2,8.3333333333333329E-2]
[null,"Hele landet"]
[null,"Antal anbragte",null,{"$f":"INDEX(Data_land,MATCH(Skyggetabeller!D39,Data!landaar,0),6)","v":58},{"$f":"INDEX(Data_land,MATCH(Skyggetabeller!E39,Data!landaar,0),6)","v":62},{"$f":"INDEX(Data_land,MATCH(Skyggetabeller!F39,Data!landaar,0),6)","v":80},{"$f":"INDEX(Data_land,MATCH(Skyggetabeller!G39,Data!landaar,0),6)","v":79},{"$f":"INDEX(Data_land,MATCH(Skyggetabeller!H39,Data!landaar,0),6)","v":64},{"$f":"INDEX(Data_land,MATCH(Skyggetabeller!I39,Data!landaar,0),6)","v":84},{"$f":"INDEX(Data_land,MATCH(Skyggetabeller!J39,Data!landaar,0),6)","v":76},{"$f":"INDEX(Data_land,MATCH(Skyggetabeller!K39,Data!landaar,0),6)","v":72},{"$f":"INDEX(Data_land,MATCH(Skyggetabeller!L39,Data!landaar,0),6)","v":79},{"$f":"INDEX(Data_land,MATCH(Skyggetabeller!M39,Data!landaar,0),6)","v":84},{"$f":"INDEX(Data_land,MATCH(Skyggetabeller!N39,Data!landaar,0),6)","v":95},{"$f":"INDEX(Data_land,MATCH(Skyggetabeller!O39,Data!landaar,0),6)","v":98},{"$f":"INDEX(Data_land,MATCH(Skyggetabeller!P39,Data!landaar,0),6)","v":84},{"$f":"INDEX(Data_land,MATCH(Skyggetabeller!Q39,Data!landaar,0),6)","v":88},{"$f":"INDEX(Data_land,MATCH(Skyggetabeller!R39,Data!landaar,0),6)","v":85}]
[null,"Antal 0-17-årige",null,{"$f":"INDEX(Data_land,MATCH(Skyggetabeller!D39,Data!landaar,0),4)","v":3438},{"$f":"INDEX(Data_land,MATCH(Skyggetabeller!E39,Data!landaar,0),4)","v":3434},{"$f":"INDEX(Data_land,MATCH(Skyggetabeller!F39,Data!landaar,0),4)","v":3381},{"$f":"INDEX(Data_land,MATCH(Skyggetabeller!G39,Data!landaar,0),4)","v":3463},{"$f":"INDEX(Data_land,MATCH(Skyggetabeller!H39,Data!landaar,0),4)","v":3375},{"$f":"INDEX(Data_land,MATCH(Skyggetabeller!I39,Data!landaar,0),4)","v":3401},{"$f":"INDEX(Data_land,MATCH(Skyggetabeller!J39,Data!landaar,0),4)","v":3298},{"$f":"INDEX(Data_land,MATCH(Skyggetabeller!K39,Data!landaar,0),4)","v":3276},{"$f":"INDEX(Data_land,MATCH(Skyggetabeller!L39,Data!landaar,0),4)","v":3268},{"$f":"INDEX(Data_land,MATCH(Skyggetabeller!M39,Data!landaar,0),4)","v":3331},{"$f":"INDEX(Data_land,MATCH(Skyggetabeller!N39,Data!landaar,0),4)","v":3391},{"$f":"INDEX(Data_land,MATCH(Skyggetabeller!O39,Data!landaar,0),4)","v":3479},{"$f":"INDEX(Data_land,MATCH(Skyggetabeller!P39,Data!landaar,0),4)","v":3460},{"$f":"INDEX(Data_land,MATCH(Skyggetabeller!Q39,Data!landaar,0),4)","v":3624},{"$f":"INDEX(Data_land,MATCH(Skyggetabeller!R39,Data!landaar,0),4)","v":3632}]
[null,"Andel",null,{"$f":"IFERROR(IF(D49=\"*\",\"*\",IF(D50=0,\"#I/T\",(D49/D50))),\"Data ikke tilføjet\")","v":1.6870273414776031E-2},{"$f":"IFERROR(IF(E49=\"*\",\"*\",IF(E50=0,\"#I/T\",(E49/E50))),\"Data ikke tilføjet\")","v":1.8054746651135701E-2},{"$f":"IFERROR(IF(F49=\"*\",\"*\",IF(F50=0,\"#I/T\",(F49/F50))),\"Data ikke tilføjet\")","v":2.3661638568470866E-2},{"$f":"IFERROR(IF(G49=\"*\",\"*\",IF(G50=0,\"#I/T\",(G49/G50))),\"Data ikke tilføjet\")","v":2.2812590239676581E-2},{"$f":"IFERROR(IF(H49=\"*\",\"*\",IF(H50=0,\"#I/T\",(H49/H50))),\"Data ikke tilføjet\")","v":1.8962962962962963E-2},{"$f":"IFERROR(IF(I49=\"*\",\"*\",IF(I50=0,\"#I/T\",(I49/I50))),\"Data ikke tilføjet\")","v":2.4698618053513671E-2},{"$f":"IFERROR(IF(J49=\"*\",\"*\",IF(J50=0,\"#I/T\",(J49/J50))),\"Data ikke tilføjet\")","v":2.3044269254093391E-2},{"$f":"IFERROR(IF(K49=\"*\",\"*\",IF(K50=0,\"#I/T\",(K49/K50))),\"Data ikke tilføjet\")","v":2.197802197802198E-2},{"$f":"IFERROR(IF(L49=\"*\",\"*\",IF(L50=0,\"#I/T\",(L49/L50))),\"Data ikke tilføjet\")","v":2.4173806609547124E-2},{"$f":"IFERROR(IF(M49=\"*\",\"*\",IF(M50=0,\"#I/T\",(M49/M50))),\"Data ikke tilføjet\")","v":2.5217652356649654E-2},{"$f":"IFERROR(IF(N49=\"*\",\"*\",IF(N50=0,\"#I/T\",(N49/N50))),\"Data ikke tilføjet\")","v":2.8015334709525212E-2},{"$f":"IFERROR(IF(O49=\"*\",\"*\",IF(O50=0,\"#I/T\",(O49/O50))),\"Data ikke tilføjet\")","v":2.8169014084507043E-2},{"$f":"IFERROR(IF(P49=\"*\",\"*\",IF(P50=0,\"#I/T\",(P49/P50))),\"Data ikke tilføjet\")","v":2.4277456647398842E-2},{"$f":"IFERROR(IF(Q49=\"*\",\"*\",IF(Q50=0,\"#I/T\",(Q49/Q50))),\"Data ikke tilføjet\")","v":2.4282560706401765E-2},{"$f":"IFERROR(IF(R49=\"*\",\"*\",IF(R50=0,\"#I/T\",(R49/R50))),\"Data ikke tilføjet\")","v":2.340308370044053E-2}]
[]
[]
[null,"Tabel 1.3: Anbragte på socialpædagogiske opholdssteder"]
[null,"Nøgletal 1.3\nAnbragte på socialpædagogiske opholdssteder",null,"2016-01-01","2016-07-01","2017-01-01","2017-07-01","2018-01-01","2018-07-01","2019-01-01","2019-07-01","2020-01-01","2020-07-01","2021-01-01","2021-07-01","2022-01-01","2022-07-01","2023-01-01"]
[null,{"$f":"IF(Kommune=\"\",\"Kommune\",Kommune)","v":"København"}]
[null,"Antal anbragte",null,{"$f":"IFERROR(IF(INDEX(Data_kom2,MATCH(1,(komnavn2=Kommune)*(komaar2=D55),0),7)=\"*\",\"*\",INDEX(Data_kom2,MATCH(1,(komnavn2=Kommune)*(komaar2=D55),0),7)),\"Data ikke tilføjet\")","v":54},{"$f":"IFERROR(IF(INDEX(Data_kom2,MATCH(1,(komnavn2=Kommune)*(komaar2=E55),0),7)=\"*\",\"*\",INDEX(Data_kom2,MATCH(1,(komnavn2=Kommune)*(komaar2=E55),0),7)),\"Data ikke tilføjet\")","v":52},{"$f":"IFERROR(IF(INDEX(Data_kom2,MATCH(1,(komnavn2=Kommune)*(komaar2=F55),0),7)=\"*\",\"*\",INDEX(Data_kom2,MATCH(1,(komnavn2=Kommune)*(komaar2=F55),0),7)),\"Data ikke tilføjet\")","v":47},{"$f":"IFERROR(IF(INDEX(Data_kom2,MATCH(1,(komnavn2=Kommune)*(komaar2=G55),0),7)=\"*\",\"*\",INDEX(Data_kom2,MATCH(1,(komnavn2=Kommune)*(komaar2=G55),0),7)),\"Data ikke tilføjet\")","v":39},{"$f":"IFERROR(IF(INDEX(Data_kom2,MATCH(1,(komnavn2=Kommune)*(komaar2=H55),0),7)=\"*\",\"*\",INDEX(Data_kom2,MATCH(1,(komnavn2=Kommune)*(komaar2=H55),0),7)),\"Data ikke tilføjet\")","v":34},{"$f":"IFERROR(IF(INDEX(Data_kom2,MATCH(1,(komnavn2=Kommune)*(komaar2=I55),0),7)=\"*\",\"*\",INDEX(Data_kom2,MATCH(1,(komnavn2=Kommune)*(komaar2=I55),0),7)),\"Data ikke tilføjet\")","v":33},{"$f":"IFERROR(IF(INDEX(Data_kom2,MATCH(1,(komnavn2=Kommune)*(komaar2=J55),0),7)=\"*\",\"*\",INDEX(Data_kom2,MATCH(1,(komnavn2=Kommune)*(komaar2=J55),0),7)),\"Data ikke tilføjet\")","v":33},{"$f":"IFERROR(IF(INDEX(Data_kom2,MATCH(1,(komnavn2=Kommune)*(komaar2=K55),0),7)=\"*\",\"*\",INDEX(Data_kom2,MATCH(1,(komnavn2=Kommune)*(komaar2=K55),0),7)),\"Data ikke tilføjet\")","v":35},{"$f":"IFERROR(IF(INDEX(Data_kom2,MATCH(1,(komnavn2=Kommune)*(komaar2=L55),0),7)=\"*\",\"*\",INDEX(Data_kom2,MATCH(1,(komnavn2=Kommune)*(komaar2=L55),0),7)),\"Data ikke tilføjet\")","v":"*"},{"$f":"IFERROR(IF(INDEX(Data_kom2,MATCH(1,(komnavn2=Kommune)*(komaar2=M55),0),7)=\"*\",\"*\",INDEX(Data_kom2,MATCH(1,(komnavn2=Kommune)*(komaar2=M55),0),7)),\"Data ikke tilføjet\")","v":24},{"$f":"IFERROR(IF(INDEX(Data_kom2,MATCH(1,(komnavn2=Kommune)*(komaar2=N55),0),7)=\"*\",\"*\",INDEX(Data_kom2,MATCH(1,(komnavn2=Kommune)*(komaar2=N55),0),7)),\"Data ikke tilføjet\")","v":25},{"$f":"IFERROR(IF(INDEX(Data_kom2,MATCH(1,(komnavn2=Kommune)*(komaar2=O55),0),7)=\"*\",\"*\",INDEX(Data_kom2,MATCH(1,(komnavn2=Kommune)*(komaar2=O55),0),7)),\"Data ikke tilføjet\")","v":32},{"$f":"IFERROR(IF(INDEX(Data_kom2,MATCH(1,(komnavn2=Kommune)*(komaar2=P55),0),7)=\"*\",\"*\",INDEX(Data_kom2,MATCH(1,(komnavn2=Kommune)*(komaar2=P55),0),7)),\"Data ikke tilføjet\")","v":28},{"$f":"IFERROR(IF(INDEX(Data_kom2,MATCH(1,(komnavn2=Kommune)*(komaar2=Q55),0),7)=\"*\",\"*\",INDEX(Data_kom2,MATCH(1,(komnavn2=Kommune)*(komaar2=Q55),0),7)),\"Data ikke tilføjet\")","v":32},{"$f":"IFERROR(IF(INDEX(Data_kom2,MATCH(1,(komnavn2=Kommune)*(komaar2=R55),0),7)=\"*\",\"*\",INDEX(Data_kom2,MATCH(1,(komnavn2=Kommune)*(komaar2=R55),0),7)),\"Data ikke tilføjet\")","v":38}]
[null,"Antal 0-17-årige",null,{"$f":"D$11","v":230},{"$f":"E$11","v":233},224,226,214,217,204,193,160,180,201,219,217,243,248]
[null,"Andel",null,{"$f":"IFERROR(IF(D57=\"*\",\"*\",IF(D58=0,\"#I/T\",(D57/D58))),\"Data ikke tilføjet\")","v":0.23478260869565218},{"$f":"IFERROR(IF(E57=\"*\",\"*\",IF(E58=0,\"#I/T\",(E57/E58))),\"Data ikke tilføjet\")","v":0.22317596566523606},{"$f":"IFERROR(IF(F57=\"*\",\"*\",IF(F58=0,\"#I/T\",(F57/F58))),\"Data ikke tilføjet\")","v":0.20982142857142858},{"$f":"IFERROR(IF(G57=\"*\",\"*\",IF(G58=0,\"#I/T\",(G57/G58))),\"Data ikke tilføjet\")","v":0.17256637168141592},{"$f":"IFERROR(IF(H57=\"*\",\"*\",IF(H58=0,\"#I/T\",(H57/H58))),\"Data ikke tilføjet\")","v":0.15887850467289719},{"$f":"IFERROR(IF(I57=\"*\",\"*\",IF(I58=0,\"#I/T\",(I57/I58))),\"Data ikke tilføjet\")","v":0.15207373271889402},{"$f":"IFERROR(IF(J57=\"*\",\"*\",IF(J58=0,\"#I/T\",(J57/J58))),\"Data ikke tilføjet\")","v":0.16176470588235295},{"$f":"IFERROR(IF(K57=\"*\",\"*\",IF(K58=0,\"#I/T\",(K57/K58))),\"Data ikke tilføjet\")","v":0.18134715025906736},{"$f":"IFERROR(IF(L57=\"*\",\"*\",IF(L58=0,\"#I/T\",(L57/L58))),\"Data ikke tilføjet\")","v":"*"},{"$f":"IFERROR(IF(M57=\"*\",\"*\",IF(M58=0,\"#I/T\",(M57/M58))),\"Data ikke tilføjet\")","v":0.13333333333333333},{"$f":"IFERROR(IF(N57=\"*\",\"*\",IF(N58=0,\"#I/T\",(N57/N58))),\"Data ikke tilføjet\")","v":0.12437810945273632},{"$f":"IFERROR(IF(O57=\"*\",\"*\",IF(O58=0,\"#I/T\",(O57/O58))),\"Data ikke tilføjet\")","v":0.14611872146118721},{"$f":"IFERROR(IF(P57=\"*\",\"*\",IF(P58=0,\"#I/T\",(P57/P58))),\"Data ikke tilføjet\")","v":0.12903225806451613},{"$f":"IFERROR(IF(Q57=\"*\",\"*\",IF(Q58=0,\"#I/T\",(Q57/Q58))),\"Data ikke tilføjet\")","v":0.13168724279835392},{"$f":"IFERROR(IF(R57=\"*\",\"*\",IF(R58=0,\"#I/T\",(R57/R58))),\"Data ikke tilføjet\")","v":0.15322580645161291}]
[null,"Sammenligningsgruppe, gns."]
[null,"Antal anbragte",null,{"$f":"IF('Dine valg'!$G$24=\"\",\"-\",SUMIF(Hjælpefane!$D$7:$D$111,\"=\"&D$9,Hjælpefane!$H$7:$H$111))","v":55},{"$f":"IF('Dine valg'!$G$24=\"\",\"-\",SUMIF(Hjælpefane!$D$7:$D$111,\"=\"&E$9,Hjælpefane!$H$7:$H$111))","v":61},{"$f":"IF('Dine valg'!$G$24=\"\",\"-\",SUMIF(Hjælpefane!$D$7:$D$111,\"=\"&F$9,Hjælpefane!$H$7:$H$111))","v":55},{"$f":"IF('Dine valg'!$G$24=\"\",\"-\",SUMIF(Hjælpefane!$D$7:$D$111,\"=\"&G$9,Hjælpefane!$H$7:$H$111))","v":53},{"$f":"IF('Dine valg'!$G$24=\"\",\"-\",SUMIF(Hjælpefane!$D$7:$D$111,\"=\"&H$9,Hjælpefane!$H$7:$H$111))","v":57},{"$f":"IF('Dine valg'!$G$24=\"\",\"-\",SUMIF(Hjælpefane!$D$7:$D$111,\"=\"&I$9,Hjælpefane!$H$7:$H$111))","v":45},{"$f":"IF('Dine valg'!$G$24=\"\",\"-\",SUMIF(Hjælpefane!$D$7:$D$111,\"=\"&J$9,Hjælpefane!$H$7:$H$111))","v":46},{"$f":"IF('Dine valg'!$G$24=\"\",\"-\",SUMIF(Hjælpefane!$D$7:$D$111,\"=\"&K$9,Hjælpefane!$H$7:$H$111))","v":42},{"$f":"IF('Dine valg'!$G$24=\"\",\"-\",SUMIF(Hjælpefane!$D$7:$D$111,\"=\"&L$9,Hjælpefane!$H$7:$H$111))","v":35},{"$f":"IF('Dine valg'!$G$24=\"\",\"-\",SUMIF(Hjælpefane!$D$7:$D$111,\"=\"&M$9,Hjælpefane!$H$7:$H$111))","v":35},{"$f":"IF('Dine valg'!$G$24=\"\",\"-\",SUMIF(Hjælpefane!$D$7:$D$111,\"=\"&N$9,Hjælpefane!$H$7:$H$111))","v":37},{"$f":"IF('Dine valg'!$G$24=\"\",\"-\",SUMIF(Hjælpefane!$D$7:$D$111,\"=\"&O$9,Hjælpefane!$H$7:$H$111))","v":43},{"$f":"IF('Dine valg'!$G$24=\"\",\"-\",SUMIF(Hjælpefane!$D$7:$D$111,\"=\"&P$9,Hjælpefane!$H$7:$H$111))","v":38},{"$f":"IF('Dine valg'!$G$24=\"\",\"-\",SUMIF(Hjælpefane!$D$7:$D$111,\"=\"&Q$9,Hjælpefane!$H$7:$H$111))","v":48},{"$f":"IF('Dine valg'!$G$24=\"\",\"-\",SUMIF(Hjælpefane!$D$7:$D$111,\"=\"&R$9,Hjælpefane!$H$7:$H$111))","v":44}]
[null,"Antal 0-17-årige",null,{"$f":"D$15","v":189},{"$f":"E$15","v":203},191,190,180,168,174,178,171,173,175,175,161,174,168]
[null,"Andel",null,{"$f":"IFERROR(IF(D61=\"*\",\"*\",IF(D62=\"\",\"Indtast data\",(D61/D62))),\"-\")","v":0.29100529100529099},{"$f":"IFERROR(IF(E61=\"*\",\"*\",IF(E62=\"\",\"Indtast data\",(E61/E62))),\"-\")","v":0.30049261083743845},{"$f":"IFERROR(IF(F61=\"*\",\"*\",IF(F62=\"\",\"Indtast data\",(F61/F62))),\"-\")","v":0.2879581151832461},{"$f":"IFERROR(IF(G61=\"*\",\"*\",IF(G62=\"\",\"Indtast data\",(G61/G62))),\"-\")","v":0.27894736842105261},{"$f":"IFERROR(IF(H61=\"*\",\"*\",IF(H62=\"\",\"Indtast data\",(H61/H62))),\"-\")","v":0.31666666666666665},{"$f":"IFERROR(IF(I61=\"*\",\"*\",IF(I62=\"\",\"Indtast data\",(I61/I62))),\"-\")","v":0.26785714285714285},{"$f":"IFERROR(IF(J61=\"*\",\"*\",IF(J62=\"\",\"Indtast data\",(J61/J62))),\"-\")","v":0.26436781609195403},{"$f":"IFERROR(IF(K61=\"*\",\"*\",IF(K62=\"\",\"Indtast data\",(K61/K62))),\"-\")","v":0.23595505617977527},{"$f":"IFERROR(IF(L61=\"*\",\"*\",IF(L62=\"\",\"Indtast data\",(L61/L62))),\"-\")","v":0.2046783625730994},0.20231213872832371,0.21142857142857144,0.24571428571428572,0.2360248447204969,0.27586206896551724,0.26190476190476192]
[null,"Hele landet"]
[null,"Antal anbragte",null,{"$f":"INDEX(Data_land,MATCH(Skyggetabeller!D55,Data!landaar,0),7)","v":1550},{"$f":"INDEX(Data_land,MATCH(Skyggetabeller!E55,Data!landaar,0),7)","v":1529},{"$f":"INDEX(Data_land,MATCH(Skyggetabeller!F55,Data!landaar,0),7)","v":1486},{"$f":"INDEX(Data_land,MATCH(Skyggetabeller!G55,Data!landaar,0),7)","v":1575},{"$f":"INDEX(Data_land,MATCH(Skyggetabeller!H55,Data!landaar,0),7)","v":1551},{"$f":"INDEX(Data_land,MATCH(Skyggetabeller!I55,Data!landaar,0),7)","v":1546},{"$f":"INDEX(Data_land,MATCH(Skyggetabeller!J55,Data!landaar,0),7)","v":1534},{"$f":"INDEX(Data_land,MATCH(Skyggetabeller!K55,Data!landaar,0),7)","v":1518},{"$f":"INDEX(Data_land,MATCH(Skyggetabeller!L55,Data!landaar,0),7)","v":1514},{"$f":"INDEX(Data_land,MATCH(Skyggetabeller!M55,Data!landaar,0),7)","v":1581},{"$f":"INDEX(Data_land,MATCH(Skyggetabeller!N55,Data!landaar,0),7)","v":1595},{"$f":"INDEX(Data_land,MATCH(Skyggetabeller!O55,Data!landaar,0),7)","v":1693},{"$f":"INDEX(Data_land,MATCH(Skyggetabeller!P55,Data!landaar,0),7)","v":1677},{"$f":"INDEX(Data_land,MATCH(Skyggetabeller!Q55,Data!landaar,0),7)","v":1773},{"$f":"INDEX(Data_land,MATCH(Skyggetabeller!R55,Data!landaar,0),7)","v":1782}]
[null,"Antal 0-17-årige",null,{"$f":"INDEX(Data_land,MATCH(Skyggetabeller!D55,Data!landaar,0),4)","v":3438},{"$f":"INDEX(Data_land,MATCH(Skyggetabeller!E55,Data!landaar,0),4)","v":3434},{"$f":"INDEX(Data_land,MATCH(Skyggetabeller!F55,Data!landaar,0),4)","v":3381},{"$f":"INDEX(Data_land,MATCH(Skyggetabeller!G55,Data!landaar,0),4)","v":3463},{"$f":"INDEX(Data_land,MATCH(Skyggetabeller!H55,Data!landaar,0),4)","v":3375},{"$f":"INDEX(Data_land,MATCH(Skyggetabeller!I55,Data!landaar,0),4)","v":3401},{"$f":"INDEX(Data_land,MATCH(Skyggetabeller!J55,Data!landaar,0),4)","v":3298},{"$f":"INDEX(Data_land,MATCH(Skyggetabeller!K55,Data!landaar,0),4)","v":3276},{"$f":"INDEX(Data_land,MATCH(Skyggetabeller!L55,Data!landaar,0),4)","v":3268},{"$f":"INDEX(Data_land,MATCH(Skyggetabeller!M55,Data!landaar,0),4)","v":3331},{"$f":"INDEX(Data_land,MATCH(Skyggetabeller!N55,Data!landaar,0),4)","v":3391},{"$f":"INDEX(Data_land,MATCH(Skyggetabeller!O55,Data!landaar,0),4)","v":3479},{"$f":"INDEX(Data_land,MATCH(Skyggetabeller!P55,Data!landaar,0),4)","v":3460},{"$f":"INDEX(Data_land,MATCH(Skyggetabeller!Q55,Data!landaar,0),4)","v":3624},{"$f":"INDEX(Data_land,MATCH(Skyggetabeller!R55,Data!landaar,0),4)","v":3632}]
[null,"Andel",null,{"$f":"IFERROR(IF(D65=\"*\",\"*\",IF(D66=0,\"#I/T\",(D65/D66))),\"Data ikke tilføjet\")","v":0.45084351367073883},{"$f":"IFERROR(IF(E65=\"*\",\"*\",IF(E66=0,\"#I/T\",(E65/E66))),\"Data ikke tilføjet\")","v":0.44525334886429818},{"$f":"IFERROR(IF(F65=\"*\",\"*\",IF(F66=0,\"#I/T\",(F65/F66))),\"Data ikke tilføjet\")","v":0.43951493640934636},{"$f":"IFERROR(IF(G65=\"*\",\"*\",IF(G66=0,\"#I/T\",(G65/G66))),\"Data ikke tilføjet\")","v":0.45480796996823564},{"$f":"IFERROR(IF(H65=\"*\",\"*\",IF(H66=0,\"#I/T\",(H65/H66))),\"Data ikke tilføjet\")","v":0.45955555555555555},{"$f":"IFERROR(IF(I65=\"*\",\"*\",IF(I66=0,\"#I/T\",(I65/I66))),\"Data ikke tilføjet\")","v":0.45457218465157306},{"$f":"IFERROR(IF(J65=\"*\",\"*\",IF(J66=0,\"#I/T\",(J65/J66))),\"Data ikke tilføjet\")","v":0.46513038204972712},{"$f":"IFERROR(IF(K65=\"*\",\"*\",IF(K66=0,\"#I/T\",(K65/K66))),\"Data ikke tilføjet\")","v":0.46336996336996339},{"$f":"IFERROR(IF(L65=\"*\",\"*\",IF(L66=0,\"#I/T\",(L65/L66))),\"Data ikke tilføjet\")","v":0.46328029375764995},{"$f":"IFERROR(IF(M65=\"*\",\"*\",IF(M66=0,\"#I/T\",(M65/M66))),\"Data ikke tilføjet\")","v":0.47463224256979886},{"$f":"IFERROR(IF(N65=\"*\",\"*\",IF(N66=0,\"#I/T\",(N65/N66))),\"Data ikke tilføjet\")","v":0.47036272485992331},{"$f":"IFERROR(IF(O65=\"*\",\"*\",IF(O66=0,\"#I/T\",(O65/O66))),\"Data ikke tilføjet\")","v":0.48663409025582066},{"$f":"IFERROR(IF(P65=\"*\",\"*\",IF(P66=0,\"#I/T\",(P65/P66))),\"Data ikke tilføjet\")","v":0.48468208092485549},{"$f":"IFERROR(IF(Q65=\"*\",\"*\",IF(Q66=0,\"#I/T\",(Q65/Q66))),\"Data ikke tilføjet\")","v":0.48923841059602646},{"$f":"IFERROR(IF(R65=\"*\",\"*\",IF(R66=0,\"#I/T\",(R65/R66))),\"Data ikke tilføjet\")","v":0.4906387665198238}]
[]
[null,"Tabel 1.4 - 1.6: Fordeling af institutionsanbragte for hver aktør"]
[]
[null,{"$f":"\"Tabel 1.4: Fordeling af institutionsanbragte for \"&Kommune","v":"Tabel 1.4: Fordeling af institutionsanbragte for København"}]
[null,{"$f":"\"Nøgletal 1.4\nFordeling af anbragte for \"&Kommune","v":"Nøgletal 1.4\nFordeling af anbragte for København"},null,"2016-01-01","2016-07-01","2017-01-01","2017-07-01","2018-01-01","2018-07-01","2019-01-01","2019-07-01","2020-01-01","2020-07-01","2021-01-01","2021-07-01","2022-01-01","2022-07-01","2023-01-01"]
[null,"Døgninstitutioner",null,{"$f":"D28","v":0.73478260869565215},0.75107296137339052,0.7589285714285714,0.80088495575221241,0.81308411214953269,0.8018433179723502,0.78921568627450978,0.79274611398963735,0.86875000000000002,0.81666666666666665,{"$f":"N28","v":0.79104477611940294},0.75342465753424659,0.79723502304147464,{"$f":"Q28","v":0.80658436213991769},0.80645161290322576]
[null,"Sikrede døgninstitutioner",null,{"$f":"D43","v":3.0434782608695653E-2},2.575107296137339E-2,3.125E-2,2.6548672566371681E-2,2.8037383177570093E-2,4.6082949308755762E-2,4.9019607843137254E-2,2.5906735751295335E-2,"*",0.05,{"$f":"N43","v":8.45771144278607E-2},0.1004566210045662,7.3732718894009217E-2,{"$f":"Q43","v":6.1728395061728392E-2},4.0322580645161289E-2]
[null,"Socialpædagogiske opholdssteder",null,{"$f":"D59","v":0.23478260869565218},0.22317596566523606,0.20982142857142858,0.17256637168141592,0.15887850467289719,0.15207373271889402,0.16176470588235295,0.18134715025906736,"*",0.13333333333333333,{"$f":"N59","v":0.12437810945273632},0.14611872146118721,0.12903225806451613,{"$f":"Q59","v":0.13168724279835392},0.15322580645161291]
[]
[null,{"$f":"\"Tabel 1.5: Fordeling af institutionsanbragte for \"&B60","v":"Tabel 1.5: Fordeling af institutionsanbragte for Sammenligningsgruppe, gns."}]
[null,{"$f":"\"Nøgletal 1.5\nFordeling af anbragte for \"&B60","v":"Nøgletal 1.5\nFordeling af anbragte for Sammenligningsgruppe, gns."},null,"2016-01-01","2016-07-01","2017-01-01","2017-07-01","2018-01-01","2018-07-01","2019-01-01","2019-07-01","2020-01-01","2020-07-01","2021-01-01","2021-07-01","2022-01-01","2022-07-01","2023-01-01"]
[null,"Døgninstitutioner",null,{"$f":"D32","v":0.67195767195767198},{"$f":"E32","v":0.67980295566502458},0.69633507853403143,0.7,0.66111111111111109,0.69047619047619047,0.67816091954022983,0.7134831460674157,0.70175438596491224,0.73410404624277459,{"$f":"N32","v":0.70285714285714285},0.67428571428571427,0.67701863354037262,{"$f":"Q32","v":0.62643678160919536},0.65476190476190477]
[null,"Sikrede døgninstitutioner",null,{"$f":"D47","v":3.7037037037037035E-2},1.9704433497536946E-2,1.5706806282722512E-2,2.1052631578947368E-2,2.2222222222222223E-2,4.1666666666666664E-2,5.7471264367816091E-2,5.0561797752808987E-2,9.3567251461988299E-2,6.358381502890173E-2,{"$f":"N47","v":8.5714285714285715E-2},0.08,8.6956521739130432E-2,{"$f":"Q47","v":9.7701149425287362E-2},8.3333333333333329E-2]
[null,"Socialpædagogiske opholdssteder",null,{"$f":"D63","v":0.29100529100529099},0.30049261083743845,0.2879581151832461,0.27894736842105261,0.31666666666666665,0.26785714285714285,0.26436781609195403,0.23595505617977527,0.2046783625730994,0.20231213872832371,{"$f":"N63","v":0.21142857142857144},0.24571428571428572,0.2360248447204969,{"$f":"Q63","v":0.27586206896551724},0.26190476190476192]
[]
[null,{"$f":"\"Tabel 1.6: Fordeling af institutionsanbragte for \"&B64","v":"Tabel 1.6: Fordeling af institutionsanbragte for Hele landet"}]
[null,{"$f":"\"Nøgletal 1.6\nFordeling af anbragte for \"&B64&\"en\"","v":"Nøgletal 1.6\nFordeling af anbragte for Hele landeten"},null,"2016-01-01","2016-07-01","2017-01-01","2017-07-01","2018-01-01","2018-07-01","2019-01-01","2019-07-01","2020-01-01","2020-07-01","2021-01-01","2021-07-01","2022-01-01","2022-07-01","2023-01-01"]
[null,"Døgninstitutioner",null,{"$f":"D36","v":0.53228621291448519},0.53669190448456605,0.53682342502218283,0.52237943979208779,0.52148148148148143,0.52072919729491329,0.51182534869617946,0.5146520146520146,0.51254589963280295,0.50015010507355151,{"$f":"N36","v":0.50162194043055142},0.48519689565967233,0.49104046242774568,0.48647902869757176,0.48595814977973567]
[null,"Sikrede døgninstitutioner",null,{"$f":"D51","v":1.6870273414776031E-2},1.8054746651135701E-2,2.3661638568470866E-2,2.2812590239676581E-2,1.8962962962962963E-2,2.4698618053513671E-2,2.3044269254093391E-2,2.197802197802198E-2,2.4173806609547124E-2,2.5217652356649654E-2,{"$f":"N51","v":2.8015334709525212E-2},2.8169014084507043E-2,2.4277456647398842E-2,2.4282560706401765E-2,2.340308370044053E-2]
[null,"Socialpædagogiske opholdssteder",null,{"$f":"D67","v":0.45084351367073883},0.44525334886429818,0.43951493640934636,0.45480796996823564,0.45955555555555555,0.45457218465157306,0.46513038204972712,0.46336996336996339,0.46328029375764995,0.47463224256979886,{"$f":"N67","v":0.47036272485992331},0.48663409025582066,0.48468208092485549,0.48923841059602646,0.4906387665198238]
[]
[]
[null,"Nøgletal 2: Varighed af institutionsanbringelser"]
[]
[null,"Tabel 2: Gennemsnitlig varighed af igangværende institutionsanbringelser"]
[null,"Nøgletal 2: \nGennemsnitlig varighed af igangværende institutionsanbringelser",null,"2016-01-01","2016-07-01","2017-01-01","2017-07-01","2018-01-01","2018-07-01","2019-01-01","2019-07-01","2020-01-01","2020-07-01","2021-01-01","2021-07-01","2022-01-01","2022-07-01","2023-01-01"]
[null,{"$f":"IF(Kommune=\"\",\"Kommune\",Kommune)","v":"København"}]
[null,"Samlet antal dage",null,{"$f":"IFERROR(IF(INDEX(Data_kom2,MATCH(1,(komnavn2=Kommune)*(komaar2=D93),0),8)=\"*\",\"*\",INDEX(Data_kom2,MATCH(1,(komnavn2=Kommune)*(komaar2=D93),0),8)),\"Data ikke tilføjet\")","v":185478},{"$f":"IFERROR(IF(INDEX(Data_kom2,MATCH(1,(komnavn2=Kommune)*(komaar2=E93),0),8)=\"*\",\"*\",INDEX(Data_kom2,MATCH(1,(komnavn2=Kommune)*(komaar2=E93),0),8)),\"Data ikke tilføjet\")","v":186030},{"$f":"IFERROR(IF(INDEX(Data_kom2,MATCH(1,(komnavn2=Kommune)*(komaar2=F93),0),8)=\"*\",\"*\",INDEX(Data_kom2,MATCH(1,(komnavn2=Kommune)*(komaar2=F93),0),8)),\"Data ikke tilføjet\")","v":176992},{"$f":"IFERROR(IF(INDEX(Data_kom2,MATCH(1,(komnavn2=Kommune)*(komaar2=G93),0),8)=\"*\",\"*\",INDEX(Data_kom2,MATCH(1,(komnavn2=Kommune)*(komaar2=G93),0),8)),\"Data ikke tilføjet\")","v":164546},{"$f":"IFERROR(IF(INDEX(Data_kom2,MATCH(1,(komnavn2=Kommune)*(komaar2=H93),0),8)=\"*\",\"*\",INDEX(Data_kom2,MATCH(1,(komnavn2=Kommune)*(komaar2=H93),0),8)),\"Data ikke tilføjet\")","v":154847},{"$f":"IFERROR(IF(INDEX(Data_kom2,MATCH(1,(komnavn2=Kommune)*(komaar2=I93),0),8)=\"*\",\"*\",INDEX(Data_kom2,MATCH(1,(komnavn2=Kommune)*(komaar2=I93),0),8)),\"Data ikke tilføjet\")","v":156577},{"$f":"IFERROR(IF(INDEX(Data_kom2,MATCH(1,(komnavn2=Kommune)*(komaar2=J93),0),8)=\"*\",\"*\",INDEX(Data_kom2,MATCH(1,(komnavn2=Kommune)*(komaar2=J93),0),8)),\"Data ikke tilføjet\")","v":149429},{"$f":"IFERROR(IF(INDEX(Data_kom2,MATCH(1,(komnavn2=Kommune)*(komaar2=K93),0),8)=\"*\",\"*\",INDEX(Data_kom2,MATCH(1,(komnavn2=Kommune)*(komaar2=K93),0),8)),\"Data ikke tilføjet\")","v":151260},{"$f":"IFERROR(IF(INDEX(Data_kom2,MATCH(1,(komnavn2=Kommune)*(komaar2=L93),0),8)=\"*\",\"*\",INDEX(Data_kom2,MATCH(1,(komnavn2=Kommune)*(komaar2=L93),0),8)),\"Data ikke tilføjet\")","v":125961},{"$f":"IFERROR(IF(INDEX(Data_kom2,MATCH(1,(komnavn2=Kommune)*(komaar2=M93),0),8)=\"*\",\"*\",INDEX(Data_kom2,MATCH(1,(komnavn2=Kommune)*(komaar2=M93),0),8)),\"Data ikke tilføjet\")","v":128612},{"$f":"IFERROR(IF(INDEX(Data_kom2,MATCH(1,(komnavn2=Kommune)*(komaar2=N93),0),8)=\"*\",\"*\",INDEX(Data_kom2,MATCH(1,(komnavn2=Kommune)*(komaar2=N93),0),8)),\"Data ikke tilføjet\")","v":128494},{"$f":"IFERROR(IF(INDEX(Data_kom2,MATCH(1,(komnavn2=Kommune)*(komaar2=O93),0),8)=\"*\",\"*\",INDEX(Data_kom2,MATCH(1,(komnavn2=Kommune)*(komaar2=O93),0),8)),\"Data ikke tilføjet\")","v":132359},{"$f":"IFERROR(IF(INDEX(Data_kom2,MATCH(1,(komnavn2=Kommune)*(komaar2=P93),0),8)=\"*\",\"*\",INDEX(Data_kom2,MATCH(1,(komnavn2=Kommune)*(komaar2=P93),0),8)),\"Data ikke tilføjet\")","v":131176},{"$f":"IFERROR(IF(INDEX(Data_kom2,MATCH(1,(komnavn2=Kommune)*(komaar2=Q93),0),8)=\"*\",\"*\",INDEX(Data_kom2,MATCH(1,(komnavn2=Kommune)*(komaar2=Q93),0),8)),\"Data ikke tilføjet\")","v":136329},{"$f":"IFERROR(IF(INDEX(Data_kom2,MATCH(1,(komnavn2=Kommune)*(komaar2=R93),0),8)=\"*\",\"*\",INDEX(Data_kom2,MATCH(1,(komnavn2=Kommune)*(komaar2=R93),0),8)),\"Data ikke tilføjet\")","v":146245}]
[null,"Antal anbragte",null,{"$f":"IFERROR(INDEX(Data_kom2,MATCH(1,(komnavn2=Kommune)*(komaar2=D$93),0),4),\"Data ikke tilføjet\")","v":230},{"$f":"IFERROR(INDEX(Data_kom2,MATCH(1,(komnavn2=Kommune)*(komaar2=E$93),0),4),\"Data ikke tilføjet\")","v":233},{"$f":"IFERROR(INDEX(Data_kom2,MATCH(1,(komnavn2=Kommune)*(komaar2=F$93),0),4),\"Data ikke tilføjet\")","v":224},{"$f":"IFERROR(INDEX(Data_kom2,MATCH(1,(komnavn2=Kommune)*(komaar2=G$93),0),4),\"Data ikke tilføjet\")","v":226},{"$f":"IFERROR(INDEX(Data_kom2,MATCH(1,(komnavn2=Kommune)*(komaar2=H$93),0),4),\"Data ikke tilføjet\")","v":214},{"$f":"IFERROR(INDEX(Data_kom2,MATCH(1,(komnavn2=Kommune)*(komaar2=I$93),0),4),\"Data ikke tilføjet\")","v":217},{"$f":"IFERROR(INDEX(Data_kom2,MATCH(1,(komnavn2=Kommune)*(komaar2=J$93),0),4),\"Data ikke tilføjet\")","v":204},{"$f":"IFERROR(INDEX(Data_kom2,MATCH(1,(komnavn2=Kommune)*(komaar2=K$93),0),4),\"Data ikke tilføjet\")","v":193},{"$f":"IFERROR(INDEX(Data_kom2,MATCH(1,(komnavn2=Kommune)*(komaar2=L$93),0),4),\"Data ikke tilføjet\")","v":160},{"$f":"IFERROR(INDEX(Data_kom2,MATCH(1,(komnavn2=Kommune)*(komaar2=M$93),0),4),\"Data ikke tilføjet\")","v":180},{"$f":"IFERROR(INDEX(Data_kom2,MATCH(1,(komnavn2=Kommune)*(komaar2=N$93),0),4),\"Data ikke tilføjet\")","v":201},{"$f":"IFERROR(INDEX(Data_kom2,MATCH(1,(komnavn2=Kommune)*(komaar2=O$93),0),4),\"Data ikke tilføjet\")","v":219},{"$f":"IFERROR(INDEX(Data_kom2,MATCH(1,(komnavn2=Kommune)*(komaar2=P$93),0),4),\"Data ikke tilføjet\")","v":217},{"$f":"IFERROR(INDEX(Data_kom2,MATCH(1,(komnavn2=Kommune)*(komaar2=Q$93),0),4),\"Data ikke tilføjet\")","v":243},{"$f":"IFERROR(INDEX(Data_kom2,MATCH(1,(komnavn2=Kommune)*(komaar2=R$93),0),4),\"Data ikke tilføjet\")","v":248}]
[null,"Gennemsnitlig varighed",null,{"$f":"IFERROR(IF(D95=\"*\",\"*\",IF(D96=0,\"#I/T\",(D95/D96))),\"Data ikke tilføjet\")","v":806.42608695652177},{"$f":"IFERROR(IF(E95=\"*\",\"*\",IF(E96=0,\"#I/T\",(E95/E96))),\"Data ikke tilføjet\")","v":798.41201716738192},{"$f":"IFERROR(IF(F95=\"*\",\"*\",IF(F96=0,\"#I/T\",(F95/F96))),\"Data ikke tilføjet\")","v":790.14285714285711},{"$f":"IFERROR(IF(G95=\"*\",\"*\",IF(G96=0,\"#I/T\",(G95/G96))),\"Data ikke tilføjet\")","v":728.07964601769913},{"$f":"IFERROR(IF(H95=\"*\",\"*\",IF(H96=0,\"#I/T\",(H95/H96))),\"Data ikke tilføjet\")","v":723.58411214953276},{"$f":"IFERROR(IF(I95=\"*\",\"*\",IF(I96=0,\"#I/T\",(I95/I96))),\"Data ikke tilføjet\")","v":721.55299539170505},{"$f":"IFERROR(IF(J95=\"*\",\"*\",IF(J96=0,\"#I/T\",(J95/J96))),\"Data ikke tilføjet\")","v":732.49509803921569},{"$f":"IFERROR(IF(K95=\"*\",\"*\",IF(K96=0,\"#I/T\",(K95/K96))),\"Data ikke tilføjet\")","v":783.73056994818648},{"$f":"IFERROR(IF(L95=\"*\",\"*\",IF(L96=0,\"#I/T\",(L95/L96))),\"Data ikke tilføjet\")","v":787.25625000000002},{"$f":"IFERROR(IF(M95=\"*\",\"*\",IF(M96=0,\"#I/T\",(M95/M96))),\"Data ikke tilføjet\")","v":714.51111111111106},{"$f":"IFERROR(IF(N95=\"*\",\"*\",IF(N96=0,\"#I/T\",(N95/N96))),\"Data ikke tilføjet\")","v":639.27363184079604},{"$f":"IFERROR(IF(O95=\"*\",\"*\",IF(O96=0,\"#I/T\",(O95/O96))),\"Data ikke tilføjet\")","v":604.37899543379001},{"$f":"IFERROR(IF(P95=\"*\",\"*\",IF(P96=0,\"#I/T\",(P95/P96))),\"Data ikke tilføjet\")","v":604.49769585253455},{"$f":"IFERROR(IF(Q95=\"*\",\"*\",IF(Q96=0,\"#I/T\",(Q95/Q96))),\"Data ikke tilføjet\")","v":561.02469135802471},{"$f":"IFERROR(IF(R95=\"*\",\"*\",IF(R96=0,\"#I/T\",(R95/R96))),\"Data ikke tilføjet\")","v":589.69758064516134}]
[null,"Sammenligningsgruppe, gns."]
[null,"Samlet antal dage",null,{"$f":"IF('Dine valg'!$G$24=\"\",\"-\",SUMIF(Hjælpefane!$D$7:$D$111,\"=\"&D$9,Hjælpefane!$I$7:$I$111))","v":200604},{"$f":"IF('Dine valg'!$G$24=\"\",\"-\",SUMIF(Hjælpefane!$D$7:$D$111,\"=\"&E$9,Hjælpefane!$I$7:$I$111))","v":208297},{"$f":"IF('Dine valg'!$G$24=\"\",\"-\",SUMIF(Hjælpefane!$D$7:$D$111,\"=\"&F$9,Hjælpefane!$I$7:$I$111))","v":208831},{"$f":"IF('Dine valg'!$G$24=\"\",\"-\",SUMIF(Hjælpefane!$D$7:$D$111,\"=\"&G$9,Hjælpefane!$I$7:$I$111))","v":206091},{"$f":"IF('Dine valg'!$G$24=\"\",\"-\",SUMIF(Hjælpefane!$D$7:$D$111,\"=\"&H$9,Hjælpefane!$I$7:$I$111))","v":194184},{"$f":"IF('Dine valg'!$G$24=\"\",\"-\",SUMIF(Hjælpefane!$D$7:$D$111,\"=\"&I$9,Hjælpefane!$I$7:$I$111))","v":170529},{"$f":"IF('Dine valg'!$G$24=\"\",\"-\",SUMIF(Hjælpefane!$D$7:$D$111,\"=\"&J$9,Hjælpefane!$I$7:$I$111))","v":159152},{"$f":"IF('Dine valg'!$G$24=\"\",\"-\",SUMIF(Hjælpefane!$D$7:$D$111,\"=\"&K$9,Hjælpefane!$I$7:$I$111))","v":173246},{"$f":"IF('Dine valg'!$G$24=\"\",\"-\",SUMIF(Hjælpefane!$D$7:$D$111,\"=\"&L$9,Hjælpefane!$I$7:$I$111))","v":172055},{"$f":"IF('Dine valg'!$G$24=\"\",\"-\",SUMIF(Hjælpefane!$D$7:$D$111,\"=\"&M$9,Hjælpefane!$I$7:$I$111))","v":165391},{"$f":"IF('Dine valg'!$G$24=\"\",\"-\",SUMIF(Hjælpefane!$D$7:$D$111,\"=\"&N$9,Hjælpefane!$I$7:$I$111))","v":172915},{"$f":"IF('Dine valg'!$G$24=\"\",\"-\",SUMIF(Hjælpefane!$D$7:$D$111,\"=\"&O$9,Hjælpefane!$I$7:$I$111))","v":176105},{"$f":"IF('Dine valg'!$G$24=\"\",\"-\",SUMIF(Hjælpefane!$D$7:$D$111,\"=\"&P$9,Hjælpefane!$I$7:$I$111))","v":176903},{"$f":"IF('Dine valg'!$G$24=\"\",\"-\",SUMIF(Hjælpefane!$D$7:$D$111,\"=\"&Q$9,Hjælpefane!$I$7:$I$111))","v":184152},{"$f":"IF('Dine valg'!$G$24=\"\",\"-\",SUMIF(Hjælpefane!$D$7:$D$111,\"=\"&R$9,Hjælpefane!$I$7:$I$111))","v":174335}]
[null,"Antal anbragte",null,{"$f":"IF('Dine valg'!$G$24=\"\",\"-\",SUMIF(Hjælpefane!$D$7:$D$111,\"=\"&D$9,Hjælpefane!$E$7:$E$111))","v":189},{"$f":"IF('Dine valg'!$G$24=\"\",\"-\",SUMIF(Hjælpefane!$D$7:$D$111,\"=\"&E$9,Hjælpefane!$E$7:$E$111))","v":203},{"$f":"IF('Dine valg'!$G$24=\"\",\"-\",SUMIF(Hjælpefane!$D$7:$D$111,\"=\"&F$9,Hjælpefane!$E$7:$E$111))","v":191},{"$f":"IF('Dine valg'!$G$24=\"\",\"-\",SUMIF(Hjælpefane!$D$7:$D$111,\"=\"&G$9,Hjælpefane!$E$7:$E$111))","v":190},{"$f":"IF('Dine valg'!$G$24=\"\",\"-\",SUMIF(Hjælpefane!$D$7:$D$111,\"=\"&H$9,Hjælpefane!$E$7:$E$111))","v":180},{"$f":"IF('Dine valg'!$G$24=\"\",\"-\",SUMIF(Hjælpefane!$D$7:$D$111,\"=\"&I$9,Hjælpefane!$E$7:$E$111))","v":168},{"$f":"IF('Dine valg'!$G$24=\"\",\"-\",SUMIF(Hjælpefane!$D$7:$D$111,\"=\"&J$9,Hjælpefane!$E$7:$E$111))","v":174},{"$f":"IF('Dine valg'!$G$24=\"\",\"-\",SUMIF(Hjælpefane!$D$7:$D$111,\"=\"&K$9,Hjælpefane!$E$7:$E$111))","v":178},{"$f":"IF('Dine valg'!$G$24=\"\",\"-\",SUMIF(Hjælpefane!$D$7:$D$111,\"=\"&L$9,Hjælpefane!$E$7:$E$111))","v":171},{"$f":"IF('Dine valg'!$G$24=\"\",\"-\",SUMIF(Hjælpefane!$D$7:$D$111,\"=\"&M$9,Hjælpefane!$E$7:$E$111))","v":173},{"$f":"IF('Dine valg'!$G$24=\"\",\"-\",SUMIF(Hjælpefane!$D$7:$D$111,\"=\"&N$9,Hjælpefane!$E$7:$E$111))","v":175},{"$f":"IF('Dine valg'!$G$24=\"\",\"-\",SUMIF(Hjælpefane!$D$7:$D$111,\"=\"&O$9,Hjælpefane!$E$7:$E$111))","v":175},{"$f":"IF('Dine valg'!$G$24=\"\",\"-\",SUMIF(Hjælpefane!$D$7:$D$111,\"=\"&P$9,Hjælpefane!$E$7:$E$111))","v":161},{"$f":"IF('Dine valg'!$G$24=\"\",\"-\",SUMIF(Hjælpefane!$D$7:$D$111,\"=\"&Q$9,Hjælpefane!$E$7:$E$111))","v":174},{"$f":"IF('Dine valg'!$G$24=\"\",\"-\",SUMIF(Hjælpefane!$D$7:$D$111,\"=\"&R$9,Hjælpefane!$E$7:$E$111))","v":168}]
[null,"Gennemsnitlig varighed",null,{"$f":"IFERROR(IF(D99=\"*\",\"*\",IF(D100=\"\",\"Indtast data\",(D99/D100))),\"-\")","v":1061.3968253968253},{"$f":"IFERROR(IF(E99=\"*\",\"*\",IF(E100=\"\",\"Indtast data\",(E99/E100))),\"-\")","v":1026.0935960591132},{"$f":"IFERROR(IF(F99=\"*\",\"*\",IF(F100=\"\",\"Indtast data\",(F99/F100))),\"-\")","v":1093.3560209424083},{"$f":"IFERROR(IF(G99=\"*\",\"*\",IF(G100=\"\",\"Indtast data\",(G99/G100))),\"-\")","v":1084.6894736842105},{"$f":"IFERROR(IF(H99=\"*\",\"*\",IF(H100=\"\",\"Indtast data\",(H99/H100))),\"-\")","v":1078.8},{"$f":"IFERROR(IF(I99=\"*\",\"*\",IF(I100=\"\",\"Indtast data\",(I99/I100))),\"-\")","v":1015.0535714285714},{"$f":"IFERROR(IF(J99=\"*\",\"*\",IF(J100=\"\",\"Indtast data\",(J99/J100))),\"-\")","v":914.66666666666663},{"$f":"IFERROR(IF(K99=\"*\",\"*\",IF(K100=\"\",\"Indtast data\",(K99/K100))),\"-\")","v":973.29213483146066},{"$f":"IFERROR(IF(L99=\"*\",\"*\",IF(L100=\"\",\"Indtast data\",(L99/L100))),\"-\")","v":1006.1695906432749},956.01734104046238,988.08571428571429,1006.3142857142857,1098.7763975155281,1058.344827586207,1037.7083333333333]
[null,"Hele landet"]
[null,"Samlet antal dage",null,{"$f":"INDEX(Data_land,MATCH(Skyggetabeller!D93,Data!landaar,0),8)","v":3141398},{"$f":"INDEX(Data_land,MATCH(Skyggetabeller!E93,Data!landaar,0),8)","v":2999675},{"$f":"INDEX(Data_land,MATCH(Skyggetabeller!F93,Data!landaar,0),8)","v":2926881},{"$f":"INDEX(Data_land,MATCH(Skyggetabeller!G93,Data!landaar,0),8)","v":2872799},{"$f":"INDEX(Data_land,MATCH(Skyggetabeller!H93,Data!landaar,0),8)","v":2788973},{"$f":"INDEX(Data_land,MATCH(Skyggetabeller!I93,Data!landaar,0),8)","v":2678553},{"$f":"INDEX(Data_land,MATCH(Skyggetabeller!J93,Data!landaar,0),8)","v":2556646},{"$f":"INDEX(Data_land,MATCH(Skyggetabeller!K93,Data!landaar,0),8)","v":2525234},{"$f":"INDEX(Data_land,MATCH(Skyggetabeller!L93,Data!landaar,0),8)","v":2484125},{"$f":"INDEX(Data_land,MATCH(Skyggetabeller!M93,Data!landaar,0),8)","v":2543481},{"$f":"INDEX(Data_land,MATCH(Skyggetabeller!N93,Data!landaar,0),8)","v":2543999},{"$f":"INDEX(Data_land,MATCH(Skyggetabeller!O93,Data!landaar,0),8)","v":2565330},{"$f":"INDEX(Data_land,MATCH(Skyggetabeller!P93,Data!landaar,0),8)","v":2595601},{"$f":"INDEX(Data_land,MATCH(Skyggetabeller!Q93,Data!landaar,0),8)","v":2636910},{"$f":"INDEX(Data_land,MATCH(Skyggetabeller!R93,Data!landaar,0),8)","v":2688748}]
[null,"Antal anbragte",null,{"$f":"INDEX(Data_land,MATCH(Skyggetabeller!D93,Data!landaar,0),4)","v":3438},{"$f":"INDEX(Data_land,MATCH(Skyggetabeller!E93,Data!landaar,0),4)","v":3434},{"$f":"INDEX(Data_land,MATCH(Skyggetabeller!F93,Data!landaar,0),4)","v":3381},{"$f":"INDEX(Data_land,MATCH(Skyggetabeller!G93,Data!landaar,0),4)","v":3463},{"$f":"INDEX(Data_land,MATCH(Skyggetabeller!H93,Data!landaar,0),4)","v":3375},{"$f":"INDEX(Data_land,MATCH(Skyggetabeller!I93,Data!landaar,0),4)","v":3401},{"$f":"INDEX(Data_land,MATCH(Skyggetabeller!J93,Data!landaar,0),4)","v":3298},{"$f":"INDEX(Data_land,MATCH(Skyggetabeller!K93,Data!landaar,0),4)","v":3276},{"$f":"INDEX(Data_land,MATCH(Skyggetabeller!L93,Data!landaar,0),4)","v":3268},{"$f":"INDEX(Data_land,MATCH(Skyggetabeller!M93,Data!landaar,0),4)","v":3331},{"$f":"INDEX(Data_land,MATCH(Skyggetabeller!N93,Data!landaar,0),4)","v":3391},{"$f":"INDEX(Data_land,MATCH(Skyggetabeller!O93,Data!landaar,0),4)","v":3479},{"$f":"INDEX(Data_land,MATCH(Skyggetabeller!P93,Data!landaar,0),4)","v":3460},{"$f":"INDEX(Data_land,MATCH(Skyggetabeller!Q93,Data!landaar,0),4)","v":3624},{"$f":"INDEX(Data_land,MATCH(Skyggetabeller!R93,Data!landaar,0),4)","v":3632}]
[null,"Gennemsnitlig varighed",null,{"$f":"IFERROR(IF(D103=\"*\",\"*\",IF(D104=0,\"#I/T\",(D103/D104))),\"Data ikke tilføjet\")","v":913.7283304246655},{"$f":"IFERROR(IF(E103=\"*\",\"*\",IF(E104=0,\"#I/T\",(E103/E104))),\"Data ikke tilføjet\")","v":873.52213162492717},{"$f":"IFERROR(IF(F103=\"*\",\"*\",IF(F104=0,\"#I/T\",(F103/F104))),\"Data ikke tilføjet\")","v":865.68500443655728},{"$f":"IFERROR(IF(G103=\"*\",\"*\",IF(G104=0,\"#I/T\",(G103/G104))),\"Data ikke tilføjet\")","v":829.56944845509679},{"$f":"IFERROR(IF(H103=\"*\",\"*\",IF(H104=0,\"#I/T\",(H103/H104))),\"Data ikke tilføjet\")","v":826.3623703703704},{"$f":"IFERROR(IF(I103=\"*\",\"*\",IF(I104=0,\"#I/T\",(I103/I104))),\"Data ikke tilføjet\")","v":787.57806527491914},{"$f":"IFERROR(IF(J103=\"*\",\"*\",IF(J104=0,\"#I/T\",(J103/J104))),\"Data ikke tilføjet\")","v":775.21103699211642},{"$f":"IFERROR(IF(K103=\"*\",\"*\",IF(K104=0,\"#I/T\",(K103/K104))),\"Data ikke tilføjet\")","v":770.82844932844932},{"$f":"IFERROR(IF(L103=\"*\",\"*\",IF(L104=0,\"#I/T\",(L103/L104))),\"Data ikke tilføjet\")","v":760.13616891064873},{"$f":"IFERROR(IF(M103=\"*\",\"*\",IF(M104=0,\"#I/T\",(M103/M104))),\"Data ikke tilføjet\")","v":763.57880516361456},{"$f":"IFERROR(IF(N103=\"*\",\"*\",IF(N104=0,\"#I/T\",(N103/N104))),\"Data ikke tilføjet\")","v":750.2208787968151},{"$f":"IFERROR(IF(O103=\"*\",\"*\",IF(O104=0,\"#I/T\",(O103/O104))),\"Data ikke tilføjet\")","v":737.37568266743313},{"$f":"IFERROR(IF(P103=\"*\",\"*\",IF(P104=0,\"#I/T\",(P103/P104))),\"Data ikke tilføjet\")","v":750.17369942196535},{"$f":"IFERROR(IF(Q103=\"*\",\"*\",IF(Q104=0,\"#I/T\",(Q103/Q104))),\"Data ikke tilføjet\")","v":727.62417218543044},{"$f":"IFERROR(IF(R103=\"*\",\"*\",IF(R104=0,\"#I/T\",(R103/R104))),\"Data ikke tilføjet\")","v":740.29405286343615}]
[]
[null,"Tabel 2.1: Gennemsnitlig varighed af igangværende anbringelser på døgninstitution"]
[null,"Nøgletal 2.1\nGennemsnitlig varighed af igangværende anbringelser på døgninstitution",null,"2016-01-01","2016-07-01","2017-01-01","2017-07-01","2018-01-01","2018-07-01","2019-01-01","2019-07-01","2020-01-01","2020-07-01","2021-01-01","2021-07-01","2022-01-01","2022-07-01","2023-01-01"]
[null,{"$f":"IF(Kommune=\"\",\"Kommune\",Kommune)","v":"København"}]
[null,"Samlet antal dage",null,{"$f":"IFERROR(IF(INDEX(Data_kom2,MATCH(1,(komnavn2=Kommune)*(komaar2=D108),0),9)=\"*\",\"*\",INDEX(Data_kom2,MATCH(1,(komnavn2=Kommune)*(komaar2=D108),0),9)),\"Data ikke tilføjet\")","v":131733},{"$f":"IFERROR(IF(INDEX(Data_kom2,MATCH(1,(komnavn2=Kommune)*(komaar2=E108),0),9)=\"*\",\"*\",INDEX(Data_kom2,MATCH(1,(komnavn2=Kommune)*(komaar2=E108),0),9)),\"Data ikke tilføjet\")","v":133739},{"$f":"IFERROR(IF(INDEX(Data_kom2,MATCH(1,(komnavn2=Kommune)*(komaar2=F108),0),9)=\"*\",\"*\",INDEX(Data_kom2,MATCH(1,(komnavn2=Kommune)*(komaar2=F108),0),9)),\"Data ikke tilføjet\")","v":126890},{"$f":"IFERROR(IF(INDEX(Data_kom2,MATCH(1,(komnavn2=Kommune)*(komaar2=G108),0),9)=\"*\",\"*\",INDEX(Data_kom2,MATCH(1,(komnavn2=Kommune)*(komaar2=G108),0),9)),\"Data ikke tilføjet\")","v":118827},{"$f":"IFERROR(IF(INDEX(Data_kom2,MATCH(1,(komnavn2=Kommune)*(komaar2=H108),0),9)=\"*\",\"*\",INDEX(Data_kom2,MATCH(1,(komnavn2=Kommune)*(komaar2=H108),0),9)),\"Data ikke tilføjet\")","v":109211},{"$f":"IFERROR(IF(INDEX(Data_kom2,MATCH(1,(komnavn2=Kommune)*(komaar2=I108),0),9)=\"*\",\"*\",INDEX(Data_kom2,MATCH(1,(komnavn2=Kommune)*(komaar2=I108),0),9)),\"Data ikke tilføjet\")","v":109671},{"$f":"IFERROR(IF(INDEX(Data_kom2,MATCH(1,(komnavn2=Kommune)*(komaar2=J108),0),9)=\"*\",\"*\",INDEX(Data_kom2,MATCH(1,(komnavn2=Kommune)*(komaar2=J108),0),9)),\"Data ikke tilføjet\")","v":102873},{"$f":"IFERROR(IF(INDEX(Data_kom2,MATCH(1,(komnavn2=Kommune)*(komaar2=K108),0),9)=\"*\",\"*\",INDEX(Data_kom2,MATCH(1,(komnavn2=Kommune)*(komaar2=K108),0),9)),\"Data ikke tilføjet\")","v":101422},{"$f":"IFERROR(IF(INDEX(Data_kom2,MATCH(1,(komnavn2=Kommune)*(komaar2=L108),0),9)=\"*\",\"*\",INDEX(Data_kom2,MATCH(1,(komnavn2=Kommune)*(komaar2=L108),0),9)),\"Data ikke tilføjet\")","v":94891},{"$f":"IFERROR(IF(INDEX(Data_kom2,MATCH(1,(komnavn2=Kommune)*(komaar2=M108),0),9)=\"*\",\"*\",INDEX(Data_kom2,MATCH(1,(komnavn2=Kommune)*(komaar2=M108),0),9)),\"Data ikke tilføjet\")","v":93866},{"$f":"IFERROR(IF(INDEX(Data_kom2,MATCH(1,(komnavn2=Kommune)*(komaar2=N108),0),9)=\"*\",\"*\",INDEX(Data_kom2,MATCH(1,(komnavn2=Kommune)*(komaar2=N108),0),9)),\"Data ikke tilføjet\")","v":95550},{"$f":"IFERROR(IF(INDEX(Data_kom2,MATCH(1,(komnavn2=Kommune)*(komaar2=O108),0),9)=\"*\",\"*\",INDEX(Data_kom2,MATCH(1,(komnavn2=Kommune)*(komaar2=O108),0),9)),\"Data ikke tilføjet\")","v":95564},{"$f":"IFERROR(IF(INDEX(Data_kom2,MATCH(1,(komnavn2=Kommune)*(komaar2=P108),0),9)=\"*\",\"*\",INDEX(Data_kom2,MATCH(1,(komnavn2=Kommune)*(komaar2=P108),0),9)),\"Data ikke tilføjet\")","v":97246},{"$f":"IFERROR(IF(INDEX(Data_kom2,MATCH(1,(komnavn2=Kommune)*(komaar2=Q108),0),9)=\"*\",\"*\",INDEX(Data_kom2,MATCH(1,(komnavn2=Kommune)*(komaar2=Q108),0),9)),\"Data ikke tilføjet\")","v":99775},{"$f":"IFERROR(IF(INDEX(Data_kom2,MATCH(1,(komnavn2=Kommune)*(komaar2=R108),0),9)=\"*\",\"*\",INDEX(Data_kom2,MATCH(1,(komnavn2=Kommune)*(komaar2=R108),0),9)),\"Data ikke tilføjet\")","v":115330}]
[null,"Antal anbragte",null,{"$f":"D26","v":169},175,170,181,174,174,161,153,139,{"$f":"M26","v":147},159,165,173,196,200]
[null,"Gennemsnitlig varighed",null,{"$f":"IFERROR(IF(D110=\"*\",\"*\",IF(D111=0,\"#I/T\",(D110/D111))),\"Data ikke tilføjet\")","v":779.48520710059177},{"$f":"IFERROR(IF(E110=\"*\",\"*\",IF(E111=0,\"#I/T\",(E110/E111))),\"Data ikke tilføjet\")","v":764.22285714285715},{"$f":"IFERROR(IF(F110=\"*\",\"*\",IF(F111=0,\"#I/T\",(F110/F111))),\"Data ikke tilføjet\")","v":746.41176470588232},{"$f":"IFERROR(IF(G110=\"*\",\"*\",IF(G111=0,\"#I/T\",(G110/G111))),\"Data ikke tilføjet\")","v":656.50276243093924},{"$f":"IFERROR(IF(H110=\"*\",\"*\",IF(H111=0,\"#I/T\",(H110/H111))),\"Data ikke tilføjet\")","v":627.64942528735628},{"$f":"IFERROR(IF(I110=\"*\",\"*\",IF(I111=0,\"#I/T\",(I110/I111))),\"Data ikke tilføjet\")","v":630.29310344827582},{"$f":"IFERROR(IF(J110=\"*\",\"*\",IF(J111=0,\"#I/T\",(J110/J111))),\"Data ikke tilføjet\")","v":638.96273291925468},{"$f":"IFERROR(IF(K110=\"*\",\"*\",IF(K111=0,\"#I/T\",(K110/K111))),\"Data ikke tilføjet\")","v":662.88888888888891},{"$f":"IFERROR(IF(L110=\"*\",\"*\",IF(L111=0,\"#I/T\",(L110/L111))),\"Data ikke tilføjet\")","v":682.66906474820144},{"$f":"IFERROR(IF(M110=\"*\",\"*\",IF(M111=0,\"#I/T\",(M110/M111))),\"Data ikke tilføjet\")","v":638.54421768707482},{"$f":"IFERROR(IF(N110=\"*\",\"*\",IF(N111=0,\"#I/T\",(N110/N111))),\"Data ikke tilføjet\")","v":600.94339622641508},{"$f":"IFERROR(IF(O110=\"*\",\"*\",IF(O111=0,\"#I/T\",(O110/O111))),\"Data ikke tilføjet\")","v":579.17575757575753},{"$f":"IFERROR(IF(P110=\"*\",\"*\",IF(P111=0,\"#I/T\",(P110/P111))),\"Data ikke tilføjet\")","v":562.11560693641616},{"$f":"IFERROR(IF(Q110=\"*\",\"*\",IF(Q111=0,\"#I/T\",(Q110/Q111))),\"Data ikke tilføjet\")","v":509.05612244897958},{"$f":"IFERROR(IF(R110=\"*\",\"*\",IF(R111=0,\"#I/T\",(R110/R111))),\"Data ikke tilføjet\")","v":576.65}]
[null,"Sammenligningsgruppe, gns."]
[null,"Samlet antal dage",null,{"$f":"IF('Dine valg'!$G$24=\"\",\"-\",SUMIF(Hjælpefane!$D$7:$D$111,\"=\"&D$9,Hjælpefane!$J$7:$J$111))","v":156966},{"$f":"IF('Dine valg'!$G$24=\"\",\"-\",SUMIF(Hjælpefane!$D$7:$D$111,\"=\"&E$9,Hjælpefane!$J$7:$J$111))","v":162998},{"$f":"IF('Dine valg'!$G$24=\"\",\"-\",SUMIF(Hjælpefane!$D$7:$D$111,\"=\"&F$9,Hjælpefane!$J$7:$J$111))","v":162866},{"$f":"IF('Dine valg'!$G$24=\"\",\"-\",SUMIF(Hjælpefane!$D$7:$D$111,\"=\"&G$9,Hjælpefane!$J$7:$J$111))","v":163378},{"$f":"IF('Dine valg'!$G$24=\"\",\"-\",SUMIF(Hjælpefane!$D$7:$D$111,\"=\"&H$9,Hjælpefane!$J$7:$J$111))","v":148645},{"$f":"IF('Dine valg'!$G$24=\"\",\"-\",SUMIF(Hjælpefane!$D$7:$D$111,\"=\"&I$9,Hjælpefane!$J$7:$J$111))","v":132428},{"$f":"IF('Dine valg'!$G$24=\"\",\"-\",SUMIF(Hjælpefane!$D$7:$D$111,\"=\"&J$9,Hjælpefane!$J$7:$J$111))","v":124068},{"$f":"IF('Dine valg'!$G$24=\"\",\"-\",SUMIF(Hjælpefane!$D$7:$D$111,\"=\"&K$9,Hjælpefane!$J$7:$J$111))","v":136572},{"$f":"IF('Dine valg'!$G$24=\"\",\"-\",SUMIF(Hjælpefane!$D$7:$D$111,\"=\"&L$9,Hjælpefane!$J$7:$J$111))","v":138504},{"$f":"IF('Dine valg'!$G$24=\"\",\"-\",SUMIF(Hjælpefane!$D$7:$D$111,\"=\"&M$9,Hjælpefane!$J$7:$J$111))","v":139069},{"$f":"IF('Dine valg'!$G$24=\"\",\"-\",SUMIF(Hjælpefane!$D$7:$D$111,\"=\"&N$9,Hjælpefane!$J$7:$J$111))","v":144465},{"$f":"IF('Dine valg'!$G$24=\"\",\"-\",SUMIF(Hjælpefane!$D$7:$D$111,\"=\"&O$9,Hjælpefane!$J$7:$J$111))","v":151477},{"$f":"IF('Dine valg'!$G$24=\"\",\"-\",SUMIF(Hjælpefane!$D$7:$D$111,\"=\"&P$9,Hjælpefane!$J$7:$J$111))","v":153357},{"$f":"IF('Dine valg'!$G$24=\"\",\"-\",SUMIF(Hjælpefane!$D$7:$D$111,\"=\"&Q$9,Hjælpefane!$J$7:$J$111))","v":154573},{"$f":"IF('Dine valg'!$G$24=\"\",\"-\",SUMIF(Hjælpefane!$D$7:$D$111,\"=\"&R$9,Hjælpefane!$J$7:$J$111))","v":147751}]
[null,"Antal anbragte",null,{"$f":"IF('Dine valg'!$G$24=\"\",\"-\",SUMIF(Hjælpefane!$D$7:$D$111,\"=\"&D$9,Hjælpefane!$F$7:$F$111))","v":127},{"$f":"IF('Dine valg'!$G$24=\"\",\"-\",SUMIF(Hjælpefane!$D$7:$D$111,\"=\"&E$9,Hjælpefane!$F$7:$F$111))","v":138},{"$f":"IF('Dine valg'!$G$24=\"\",\"-\",SUMIF(Hjælpefane!$D$7:$D$111,\"=\"&F$9,Hjælpefane!$F$7:$F$111))","v":133},{"$f":"IF('Dine valg'!$G$24=\"\",\"-\",SUMIF(Hjælpefane!$D$7:$D$111,\"=\"&G$9,Hjælpefane!$F$7:$F$111))","v":133},{"$f":"IF('Dine valg'!$G$24=\"\",\"-\",SUMIF(Hjælpefane!$D$7:$D$111,\"=\"&H$9,Hjælpefane!$F$7:$F$111))","v":119},{"$f":"IF('Dine valg'!$G$24=\"\",\"-\",SUMIF(Hjælpefane!$D$7:$D$111,\"=\"&I$9,Hjælpefane!$F$7:$F$111))","v":116},{"$f":"IF('Dine valg'!$G$24=\"\",\"-\",SUMIF(Hjælpefane!$D$7:$D$111,\"=\"&J$9,Hjælpefane!$F$7:$F$111))","v":118},{"$f":"IF('Dine valg'!$G$24=\"\",\"-\",SUMIF(Hjælpefane!$D$7:$D$111,\"=\"&K$9,Hjælpefane!$F$7:$F$111))","v":127},{"$f":"IF('Dine valg'!$G$24=\"\",\"-\",SUMIF(Hjælpefane!$D$7:$D$111,\"=\"&L$9,Hjælpefane!$F$7:$F$111))","v":120},{"$f":"IF('Dine valg'!$G$24=\"\",\"-\",SUMIF(Hjælpefane!$D$7:$D$111,\"=\"&M$9,Hjælpefane!$F$7:$F$111))","v":127},{"$f":"IF('Dine valg'!$G$24=\"\",\"-\",SUMIF(Hjælpefane!$D$7:$D$111,\"=\"&N$9,Hjælpefane!$F$7:$F$111))","v":123},{"$f":"IF('Dine valg'!$G$24=\"\",\"-\",SUMIF(Hjælpefane!$D$7:$D$111,\"=\"&O$9,Hjælpefane!$F$7:$F$111))","v":118},{"$f":"IF('Dine valg'!$G$24=\"\",\"-\",SUMIF(Hjælpefane!$D$7:$D$111,\"=\"&P$9,Hjælpefane!$F$7:$F$111))","v":109},{"$f":"IF('Dine valg'!$G$24=\"\",\"-\",SUMIF(Hjælpefane!$D$7:$D$111,\"=\"&Q$9,Hjælpefane!$F$7:$F$111))","v":109},{"$f":"IF('Dine valg'!$G$24=\"\",\"-\",SUMIF(Hjælpefane!$D$7:$D$111,\"=\"&R$9,Hjælpefane!$F$7:$F$111))","v":110}]
[null,"Gennemsnitlig varighed",null,{"$f":"IFERROR(IF(D114=\"*\",\"*\",IF(D115=\"\",\"Indtast data\",(D114/D115))),\"-\")","v":1235.9527559055118},{"$f":"IFERROR(IF(E114=\"*\",\"*\",IF(E115=\"\",\"Indtast data\",(E114/E115))),\"-\")","v":1181.144927536232},{"$f":"IFERROR(IF(F114=\"*\",\"*\",IF(F115=\"\",\"Indtast data\",(F114/F115))),\"-\")","v":1224.5563909774437},{"$f":"IFERROR(IF(G114=\"*\",\"*\",IF(G115=\"\",\"Indtast data\",(G114/G115))),\"-\")","v":1228.406015037594},{"$f":"IFERROR(IF(H114=\"*\",\"*\",IF(H115=\"\",\"Indtast data\",(H114/H115))),\"-\")","v":1249.1176470588234},{"$f":"IFERROR(IF(I114=\"*\",\"*\",IF(I115=\"\",\"Indtast data\",(I114/I115))),\"-\")","v":1141.6206896551723},{"$f":"IFERROR(IF(J114=\"*\",\"*\",IF(J115=\"\",\"Indtast data\",(J114/J115))),\"-\")","v":1051.4237288135594},{"$f":"IFERROR(IF(K114=\"*\",\"*\",IF(K115=\"\",\"Indtast data\",(K114/K115))),\"-\")","v":1075.3700787401574},{"$f":"IFERROR(IF(L114=\"*\",\"*\",IF(L115=\"\",\"Indtast data\",(L114/L115))),\"-\")","v":1154.2},1095.0314960629921,1174.5121951219512,1283.7033898305085,1406.9449541284403,1418.1009174311926,1343.1909090909091]
[null,"Hele landet"]
[null,"Samlet antal dage",null,{"$f":"INDEX(Data_land,MATCH(Skyggetabeller!D108,Data!landaar,0),9)","v":1833692},{"$f":"INDEX(Data_land,MATCH(Skyggetabeller!E108,Data!landaar,0),9)","v":1772046},{"$f":"INDEX(Data_land,MATCH(Skyggetabeller!F108,Data!landaar,0),9)","v":1747663},{"$f":"INDEX(Data_land,MATCH(Skyggetabeller!G108,Data!landaar,0),9)","v":1686242},{"$f":"INDEX(Data_land,MATCH(Skyggetabeller!H108,Data!landaar,0),9)","v":1626960},{"$f":"INDEX(Data_land,MATCH(Skyggetabeller!I108,Data!landaar,0),9)","v":1553179},{"$f":"INDEX(Data_land,MATCH(Skyggetabeller!J108,Data!landaar,0),9)","v":1469501},{"$f":"INDEX(Data_land,MATCH(Skyggetabeller!K108,Data!landaar,0),9)","v":1463985},{"$f":"INDEX(Data_land,MATCH(Skyggetabeller!L108,Data!landaar,0),9)","v":1443662},{"$f":"INDEX(Data_land,MATCH(Skyggetabeller!M108,Data!landaar,0),9)","v":1452255},{"$f":"INDEX(Data_land,MATCH(Skyggetabeller!N108,Data!landaar,0),9)","v":1444481},{"$f":"INDEX(Data_land,MATCH(Skyggetabeller!O108,Data!landaar,0),9)","v":1435374},{"$f":"INDEX(Data_land,MATCH(Skyggetabeller!P108,Data!landaar,0),9)","v":1444354},{"$f":"INDEX(Data_land,MATCH(Skyggetabeller!Q108,Data!landaar,0),9)","v":1469416},{"$f":"INDEX(Data_land,MATCH(Skyggetabeller!R108,Data!landaar,0),9)","v":1510747}]
[null,"Antal anbragte",null,{"$f":"INDEX(Data_land,MATCH(Skyggetabeller!D108,Data!landaar,0),5)","v":1830},{"$f":"INDEX(Data_land,MATCH(Skyggetabeller!E108,Data!landaar,0),5)","v":1843},{"$f":"INDEX(Data_land,MATCH(Skyggetabeller!F108,Data!landaar,0),5)","v":1815},{"$f":"INDEX(Data_land,MATCH(Skyggetabeller!G108,Data!landaar,0),5)","v":1809},{"$f":"INDEX(Data_land,MATCH(Skyggetabeller!H108,Data!landaar,0),5)","v":1760},{"$f":"INDEX(Data_land,MATCH(Skyggetabeller!I108,Data!landaar,0),5)","v":1771},{"$f":"INDEX(Data_land,MATCH(Skyggetabeller!J108,Data!landaar,0),5)","v":1688},{"$f":"INDEX(Data_land,MATCH(Skyggetabeller!K108,Data!landaar,0),5)","v":1686},{"$f":"INDEX(Data_land,MATCH(Skyggetabeller!L108,Data!landaar,0),5)","v":1675},{"$f":"INDEX(Data_land,MATCH(Skyggetabeller!M108,Data!landaar,0),5)","v":1666},{"$f":"INDEX(Data_land,MATCH(Skyggetabeller!N108,Data!landaar,0),5)","v":1701},{"$f":"INDEX(Data_land,MATCH(Skyggetabeller!O108,Data!landaar,0),5)","v":1688},{"$f":"INDEX(Data_land,MATCH(Skyggetabeller!P108,Data!landaar,0),5)","v":1699},{"$f":"INDEX(Data_land,MATCH(Skyggetabeller!Q108,Data!landaar,0),5)","v":1763},{"$f":"INDEX(Data_land,MATCH(Skyggetabeller!R108,Data!landaar,0),5)","v":1765}]
[null,"Gennemsnitlig varighed",null,{"$f":"IFERROR(IF(D118=\"*\",\"*\",IF(D119=0,\"#I/T\",(D118/D119))),\"Data ikke tilføjet\")","v":1002.0174863387978},{"$f":"IFERROR(IF(E118=\"*\",\"*\",IF(E119=0,\"#I/T\",(E118/E119))),\"Data ikke tilføjet\")","v":961.5008138903961},{"$f":"IFERROR(IF(F118=\"*\",\"*\",IF(F119=0,\"#I/T\",(F118/F119))),\"Data ikke tilføjet\")","v":962.89972451790629},{"$f":"IFERROR(IF(G118=\"*\",\"*\",IF(G119=0,\"#I/T\",(G118/G119))),\"Data ikke tilføjet\")","v":932.14040906578225},{"$f":"IFERROR(IF(H118=\"*\",\"*\",IF(H119=0,\"#I/T\",(H118/H119))),\"Data ikke tilføjet\")","v":924.40909090909088},{"$f":"IFERROR(IF(I118=\"*\",\"*\",IF(I119=0,\"#I/T\",(I118/I119))),\"Data ikke tilføjet\")","v":877.00677583286279},{"$f":"IFERROR(IF(J118=\"*\",\"*\",IF(J119=0,\"#I/T\",(J118/J119))),\"Data ikke tilføjet\")","v":870.5574644549763},{"$f":"IFERROR(IF(K118=\"*\",\"*\",IF(K119=0,\"#I/T\",(K118/K119))),\"Data ikke tilføjet\")","v":868.31850533807824},{"$f":"IFERROR(IF(L118=\"*\",\"*\",IF(L119=0,\"#I/T\",(L118/L119))),\"Data ikke tilføjet\")","v":861.88776119402985},{"$f":"IFERROR(IF(M118=\"*\",\"*\",IF(M119=0,\"#I/T\",(M118/M119))),\"Data ikke tilføjet\")","v":871.70168067226894},{"$f":"IFERROR(IF(N118=\"*\",\"*\",IF(N119=0,\"#I/T\",(N118/N119))),\"Data ikke tilføjet\")","v":849.19517930629047},{"$f":"IFERROR(IF(O118=\"*\",\"*\",IF(O119=0,\"#I/T\",(O118/O119))),\"Data ikke tilføjet\")","v":850.3400473933649},{"$f":"IFERROR(IF(P118=\"*\",\"*\",IF(P119=0,\"#I/T\",(P118/P119))),\"Data ikke tilføjet\")","v":850.12007062978228},{"$f":"IFERROR(IF(Q118=\"*\",\"*\",IF(Q119=0,\"#I/T\",(Q118/Q119))),\"Data ikke tilføjet\")","v":833.47475893363583},{"$f":"IFERROR(IF(R118=\"*\",\"*\",IF(R119=0,\"#I/T\",(R118/R119))),\"Data ikke tilføjet\")","v":855.94730878186965}]
[]
[null,"Tabel 2.2: Gennemsnitlig varighed af igangværende anbringelser på sikret døgninstitution"]
[null,"Nøgletal 2.2: \nGennemsnitlig varighed af igangværende anbringelser på sikret døgninstitution",null,"2016-01-01","2016-07-01","2017-01-01","2017-07-01","2018-01-01","2018-07-01","2019-01-01","2019-07-01","2020-01-01","2020-07-01","2021-01-01","2021-07-01","2022-01-01","2022-07-01","2023-01-01"]
[null,{"$f":"IF(Kommune=\"\",\"Kommune\",Kommune)","v":"København"}]
[null,"Samlet antal dage",null,{"$f":"IFERROR(IF(INDEX(Data_kom2,MATCH(1,(komnavn2=Kommune)*(komaar2=D123),0),10)=\"*\",\"*\",INDEX(Data_kom2,MATCH(1,(komnavn2=Kommune)*(komaar2=D123),0),10)),\"Data ikke tilføjet\")","v":3323},{"$f":"IFERROR(IF(INDEX(Data_kom2,MATCH(1,(komnavn2=Kommune)*(komaar2=E123),0),10)=\"*\",\"*\",INDEX(Data_kom2,MATCH(1,(komnavn2=Kommune)*(komaar2=E123),0),10)),\"Data ikke tilføjet\")","v":3189},{"$f":"IFERROR(IF(INDEX(Data_kom2,MATCH(1,(komnavn2=Kommune)*(komaar2=F123),0),10)=\"*\",\"*\",INDEX(Data_kom2,MATCH(1,(komnavn2=Kommune)*(komaar2=F123),0),10)),\"Data ikke tilføjet\")","v":2067},{"$f":"IFERROR(IF(INDEX(Data_kom2,MATCH(1,(komnavn2=Kommune)*(komaar2=G123),0),10)=\"*\",\"*\",INDEX(Data_kom2,MATCH(1,(komnavn2=Kommune)*(komaar2=G123),0),10)),\"Data ikke tilføjet\")","v":2443},{"$f":"IFERROR(IF(INDEX(Data_kom2,MATCH(1,(komnavn2=Kommune)*(komaar2=H123),0),10)=\"*\",\"*\",INDEX(Data_kom2,MATCH(1,(komnavn2=Kommune)*(komaar2=H123),0),10)),\"Data ikke tilføjet\")","v":2098},{"$f":"IFERROR(IF(INDEX(Data_kom2,MATCH(1,(komnavn2=Kommune)*(komaar2=I123),0),10)=\"*\",\"*\",INDEX(Data_kom2,MATCH(1,(komnavn2=Kommune)*(komaar2=I123),0),10)),\"Data ikke tilføjet\")","v":2830},{"$f":"IFERROR(IF(INDEX(Data_kom2,MATCH(1,(komnavn2=Kommune)*(komaar2=J123),0),10)=\"*\",\"*\",INDEX(Data_kom2,MATCH(1,(komnavn2=Kommune)*(komaar2=J123),0),10)),\"Data ikke tilføjet\")","v":2993},{"$f":"IFERROR(IF(INDEX(Data_kom2,MATCH(1,(komnavn2=Kommune)*(komaar2=K123),0),10)=\"*\",\"*\",INDEX(Data_kom2,MATCH(1,(komnavn2=Kommune)*(komaar2=K123),0),10)),\"Data ikke tilføjet\")","v":3225},{"$f":"IFERROR(IF(INDEX(Data_kom2,MATCH(1,(komnavn2=Kommune)*(komaar2=L123),0),10)=\"*\",\"*\",INDEX(Data_kom2,MATCH(1,(komnavn2=Kommune)*(komaar2=L123),0),10)),\"Data ikke tilføjet\")","v":"*"},{"$f":"IFERROR(IF(INDEX(Data_kom2,MATCH(1,(komnavn2=Kommune)*(komaar2=M123),0),10)=\"*\",\"*\",INDEX(Data_kom2,MATCH(1,(komnavn2=Kommune)*(komaar2=M123),0),10)),\"Data ikke tilføjet\")","v":801},{"$f":"IFERROR(IF(INDEX(Data_kom2,MATCH(1,(komnavn2=Kommune)*(komaar2=N123),0),10)=\"*\",\"*\",INDEX(Data_kom2,MATCH(1,(komnavn2=Kommune)*(komaar2=N123),0),10)),\"Data ikke tilføjet\")","v":1693},{"$f":"IFERROR(IF(INDEX(Data_kom2,MATCH(1,(komnavn2=Kommune)*(komaar2=O123),0),10)=\"*\",\"*\",INDEX(Data_kom2,MATCH(1,(komnavn2=Kommune)*(komaar2=O123),0),10)),\"Data ikke tilføjet\")","v":2439},{"$f":"IFERROR(IF(INDEX(Data_kom2,MATCH(1,(komnavn2=Kommune)*(komaar2=P123),0),10)=\"*\",\"*\",INDEX(Data_kom2,MATCH(1,(komnavn2=Kommune)*(komaar2=P123),0),10)),\"Data ikke tilføjet\")","v":2322},{"$f":"IFERROR(IF(INDEX(Data_kom2,MATCH(1,(komnavn2=Kommune)*(komaar2=Q123),0),10)=\"*\",\"*\",INDEX(Data_kom2,MATCH(1,(komnavn2=Kommune)*(komaar2=Q123),0),10)),\"Data ikke tilføjet\")","v":1764},{"$f":"IFERROR(IF(INDEX(Data_kom2,MATCH(1,(komnavn2=Kommune)*(komaar2=R123),0),10)=\"*\",\"*\",INDEX(Data_kom2,MATCH(1,(komnavn2=Kommune)*(komaar2=R123),0),10)),\"Data ikke tilføjet\")","v":2455}]
[null,"Antal anbragte",null,{"$f":"D41","v":7},6,7,6,6,10,10,5,"*",{"$f":"M41","v":9},17,22,16,15,10]
[null,"Gennemsnitlig varighed",null,{"$f":"IFERROR(IF(D125=\"*\",\"*\",IF(D126=0,\"#I/T\",(D125/D126))),\"Data ikke tilføjet\")","v":474.71428571428572},{"$f":"IFERROR(IF(E125=\"*\",\"*\",IF(E126=0,\"#I/T\",(E125/E126))),\"Data ikke tilføjet\")","v":531.5},{"$f":"IFERROR(IF(F125=\"*\",\"*\",IF(F126=0,\"#I/T\",(F125/F126))),\"Data ikke tilføjet\")","v":295.28571428571428},{"$f":"IFERROR(IF(G125=\"*\",\"*\",IF(G126=0,\"#I/T\",(G125/G126))),\"Data ikke tilføjet\")","v":407.16666666666669},{"$f":"IFERROR(IF(H125=\"*\",\"*\",IF(H126=0,\"#I/T\",(H125/H126))),\"Data ikke tilføjet\")","v":349.66666666666669},{"$f":"IFERROR(IF(I125=\"*\",\"*\",IF(I126=0,\"#I/T\",(I125/I126))),\"Data ikke tilføjet\")","v":283},{"$f":"IFERROR(IF(J125=\"*\",\"*\",IF(J126=0,\"#I/T\",(J125/J126))),\"Data ikke tilføjet\")","v":299.3},{"$f":"IFERROR(IF(K125=\"*\",\"*\",IF(K126=0,\"#I/T\",(K125/K126))),\"Data ikke tilføjet\")","v":645},{"$f":"IFERROR(IF(L125=\"*\",\"*\",IF(L126=0,\"#I/T\",(L125/L126))),\"Data ikke tilføjet\")","v":"*"},{"$f":"IFERROR(IF(M125=\"*\",\"*\",IF(M126=0,\"#I/T\",(M125/M126))),\"Data ikke tilføjet\")","v":89},{"$f":"IFERROR(IF(N125=\"*\",\"*\",IF(N126=0,\"#I/T\",(N125/N126))),\"Data ikke tilføjet\")","v":99.588235294117652},{"$f":"IFERROR(IF(O125=\"*\",\"*\",IF(O126=0,\"#I/T\",(O125/O126))),\"Data ikke tilføjet\")","v":110.86363636363636},{"$f":"IFERROR(IF(P125=\"*\",\"*\",IF(P126=0,\"#I/T\",(P125/P126))),\"Data ikke tilføjet\")","v":145.125},{"$f":"IFERROR(IF(Q125=\"*\",\"*\",IF(Q126=0,\"#I/T\",(Q125/Q126))),\"Data ikke tilføjet\")","v":117.6},{"$f":"IFERROR(IF(R125=\"*\",\"*\",IF(R126=0,\"#I/T\",(R125/R126))),\"Data ikke tilføjet\")","v":245.5}]
[null,"Sammenligningsgruppe, gns."]
[null,"Samlet antal dage",null,{"$f":"IF('Dine valg'!$G$24=\"\",\"-\",SUMIF(Hjælpefane!$D$7:$D$111,\"=\"&D$9,Hjælpefane!$K$7:$K$111))","v":839},{"$f":"IF('Dine valg'!$G$24=\"\",\"-\",SUMIF(Hjælpefane!$D$7:$D$111,\"=\"&E$9,Hjælpefane!$K$7:$K$111))","v":0},{"$f":"IF('Dine valg'!$G$24=\"\",\"-\",SUMIF(Hjælpefane!$D$7:$D$111,\"=\"&F$9,Hjælpefane!$K$7:$K$111))","v":0},{"$f":"IF('Dine valg'!$G$24=\"\",\"-\",SUMIF(Hjælpefane!$D$7:$D$111,\"=\"&G$9,Hjælpefane!$K$7:$K$111))","v":0},{"$f":"IF('Dine valg'!$G$24=\"\",\"-\",SUMIF(Hjælpefane!$D$7:$D$111,\"=\"&H$9,Hjælpefane!$K$7:$K$111))","v":0},{"$f":"IF('Dine valg'!$G$24=\"\",\"-\",SUMIF(Hjælpefane!$D$7:$D$111,\"=\"&I$9,Hjælpefane!$K$7:$K$111))","v":902},{"$f":"IF('Dine valg'!$G$24=\"\",\"-\",SUMIF(Hjælpefane!$D$7:$D$111,\"=\"&J$9,Hjælpefane!$K$7:$K$111))","v":1195},{"$f":"IF('Dine valg'!$G$24=\"\",\"-\",SUMIF(Hjælpefane!$D$7:$D$111,\"=\"&K$9,Hjælpefane!$K$7:$K$111))","v":2514},{"$f":"IF('Dine valg'!$G$24=\"\",\"-\",SUMIF(Hjælpefane!$D$7:$D$111,\"=\"&L$9,Hjælpefane!$K$7:$K$111))","v":3886},{"$f":"IF('Dine valg'!$G$24=\"\",\"-\",SUMIF(Hjælpefane!$D$7:$D$111,\"=\"&M$9,Hjælpefane!$K$7:$K$111))","v":1688},{"$f":"IF('Dine valg'!$G$24=\"\",\"-\",SUMIF(Hjælpefane!$D$7:$D$111,\"=\"&N$9,Hjælpefane!$K$7:$K$111))","v":1831},{"$f":"IF('Dine valg'!$G$24=\"\",\"-\",SUMIF(Hjælpefane!$D$7:$D$111,\"=\"&O$9,Hjælpefane!$K$7:$K$111))","v":3067},{"$f":"IF('Dine valg'!$G$24=\"\",\"-\",SUMIF(Hjælpefane!$D$7:$D$111,\"=\"&P$9,Hjælpefane!$K$7:$K$111))","v":3724},{"$f":"IF('Dine valg'!$G$24=\"\",\"-\",SUMIF(Hjælpefane!$D$7:$D$111,\"=\"&Q$9,Hjælpefane!$K$7:$K$111))","v":5481},{"$f":"IF('Dine valg'!$G$24=\"\",\"-\",SUMIF(Hjælpefane!$D$7:$D$111,\"=\"&R$9,Hjælpefane!$K$7:$K$111))","v":5754}]
[null,"Antal anbragte",null,{"$f":"IF('Dine valg'!$G$24=\"\",\"-\",SUMIF(Hjælpefane!$D$7:$D$111,\"=\"&D$9,Hjælpefane!$G$7:$G$111))","v":7},{"$f":"IF('Dine valg'!$G$24=\"\",\"-\",SUMIF(Hjælpefane!$D$7:$D$111,\"=\"&E$9,Hjælpefane!$G$7:$G$111))","v":4},{"$f":"IF('Dine valg'!$G$24=\"\",\"-\",SUMIF(Hjælpefane!$D$7:$D$111,\"=\"&F$9,Hjælpefane!$G$7:$G$111))","v":3},{"$f":"IF('Dine valg'!$G$24=\"\",\"-\",SUMIF(Hjælpefane!$D$7:$D$111,\"=\"&G$9,Hjælpefane!$G$7:$G$111))","v":4},{"$f":"IF('Dine valg'!$G$24=\"\",\"-\",SUMIF(Hjælpefane!$D$7:$D$111,\"=\"&H$9,Hjælpefane!$G$7:$G$111))","v":4},{"$f":"IF('Dine valg'!$G$24=\"\",\"-\",SUMIF(Hjælpefane!$D$7:$D$111,\"=\"&I$9,Hjælpefane!$G$7:$G$111))","v":7},{"$f":"IF('Dine valg'!$G$24=\"\",\"-\",SUMIF(Hjælpefane!$D$7:$D$111,\"=\"&J$9,Hjælpefane!$G$7:$G$111))","v":10},{"$f":"IF('Dine valg'!$G$24=\"\",\"-\",SUMIF(Hjælpefane!$D$7:$D$111,\"=\"&K$9,Hjælpefane!$G$7:$G$111))","v":9},{"$f":"IF('Dine valg'!$G$24=\"\",\"-\",SUMIF(Hjælpefane!$D$7:$D$111,\"=\"&L$9,Hjælpefane!$G$7:$G$111))","v":16},{"$f":"IF('Dine valg'!$G$24=\"\",\"-\",SUMIF(Hjælpefane!$D$7:$D$111,\"=\"&M$9,Hjælpefane!$G$7:$G$111))","v":11},{"$f":"IF('Dine valg'!$G$24=\"\",\"-\",SUMIF(Hjælpefane!$D$7:$D$111,\"=\"&N$9,Hjælpefane!$G$7:$G$111))","v":15},{"$f":"IF('Dine valg'!$G$24=\"\",\"-\",SUMIF(Hjælpefane!$D$7:$D$111,\"=\"&O$9,Hjælpefane!$G$7:$G$111))","v":14},{"$f":"IF('Dine valg'!$G$24=\"\",\"-\",SUMIF(Hjælpefane!$D$7:$D$111,\"=\"&P$9,Hjælpefane!$G$7:$G$111))","v":14},{"$f":"IF('Dine valg'!$G$24=\"\",\"-\",SUMIF(Hjælpefane!$D$7:$D$111,\"=\"&Q$9,Hjælpefane!$G$7:$G$111))","v":17},{"$f":"IF('Dine valg'!$G$24=\"\",\"-\",SUMIF(Hjælpefane!$D$7:$D$111,\"=\"&R$9,Hjælpefane!$G$7:$G$111))","v":14}]
[null,"Gennemsnitlig varighed",null,{"$f":"IFERROR(IF(D129=\"*\",\"*\",IF(D130=\"\",\"Indtast data\",(D129/D130))),\"-\")","v":119.85714285714286},{"$f":"IFERROR(IF(E129=\"*\",\"*\",IF(E130=\"\",\"Indtast data\",(E129/E130))),\"-\")","v":0},{"$f":"IFERROR(IF(F129=\"*\",\"*\",IF(F130=\"\",\"Indtast data\",(F129/F130))),\"-\")","v":0},{"$f":"IFERROR(IF(G129=\"*\",\"*\",IF(G130=\"\",\"Indtast data\",(G129/G130))),\"-\")","v":0},{"$f":"IFERROR(IF(H129=\"*\",\"*\",IF(H130=\"\",\"Indtast data\",(H129/H130))),\"-\")","v":0},{"$f":"IFERROR(IF(I129=\"*\",\"*\",IF(I130=\"\",\"Indtast data\",(I129/I130))),\"-\")","v":128.85714285714286},{"$f":"IFERROR(IF(J129=\"*\",\"*\",IF(J130=\"\",\"Indtast data\",(J129/J130))),\"-\")","v":119.5},{"$f":"IFERROR(IF(K129=\"*\",\"*\",IF(K130=\"\",\"Indtast data\",(K129/K130))),\"-\")","v":279.33333333333331},{"$f":"IFERROR(IF(L129=\"*\",\"*\",IF(L130=\"\",\"Indtast data\",(L129/L130))),\"-\")","v":242.875},153.45454545454547,122.06666666666666,219.07142857142858,266,322.41176470588238,411]
[null,"Hele landet"]
[null,"Samlet antal dage",null,{"$f":"INDEX(Data_land,MATCH(Skyggetabeller!D123,Data!landaar,0),10)","v":19522},{"$f":"INDEX(Data_land,MATCH(Skyggetabeller!E123,Data!landaar,0),10)","v":19854},{"$f":"INDEX(Data_land,MATCH(Skyggetabeller!F123,Data!landaar,0),10)","v":23846},{"$f":"INDEX(Data_land,MATCH(Skyggetabeller!G123,Data!landaar,0),10)","v":25839},{"$f":"INDEX(Data_land,MATCH(Skyggetabeller!H123,Data!landaar,0),10)","v":18299},{"$f":"INDEX(Data_land,MATCH(Skyggetabeller!I123,Data!landaar,0),10)","v":18138},{"$f":"INDEX(Data_land,MATCH(Skyggetabeller!J123,Data!landaar,0),10)","v":20357},{"$f":"INDEX(Data_land,MATCH(Skyggetabeller!K123,Data!landaar,0),10)","v":23262},{"$f":"INDEX(Data_land,MATCH(Skyggetabeller!L123,Data!landaar,0),10)","v":20737},{"$f":"INDEX(Data_land,MATCH(Skyggetabeller!M123,Data!landaar,0),10)","v":21082},{"$f":"INDEX(Data_land,MATCH(Skyggetabeller!N123,Data!landaar,0),10)","v":18812},{"$f":"INDEX(Data_land,MATCH(Skyggetabeller!O123,Data!landaar,0),10)","v":22266},{"$f":"INDEX(Data_land,MATCH(Skyggetabeller!P123,Data!landaar,0),10)","v":19232},{"$f":"INDEX(Data_land,MATCH(Skyggetabeller!Q123,Data!landaar,0),10)","v":20585},{"$f":"INDEX(Data_land,MATCH(Skyggetabeller!R123,Data!landaar,0),10)","v":20791}]
[null,"Antal anbragte",null,{"$f":"INDEX(Data_land,MATCH(Skyggetabeller!D123,Data!landaar,0),6)","v":58},{"$f":"INDEX(Data_land,MATCH(Skyggetabeller!E123,Data!landaar,0),6)","v":62},{"$f":"INDEX(Data_land,MATCH(Skyggetabeller!F123,Data!landaar,0),6)","v":80},{"$f":"INDEX(Data_land,MATCH(Skyggetabeller!G123,Data!landaar,0),6)","v":79},{"$f":"INDEX(Data_land,MATCH(Skyggetabeller!H123,Data!landaar,0),6)","v":64},{"$f":"INDEX(Data_land,MATCH(Skyggetabeller!I123,Data!landaar,0),6)","v":84},{"$f":"INDEX(Data_land,MATCH(Skyggetabeller!J123,Data!landaar,0),6)","v":76},{"$f":"INDEX(Data_land,MATCH(Skyggetabeller!K123,Data!landaar,0),6)","v":72},{"$f":"INDEX(Data_land,MATCH(Skyggetabeller!L123,Data!landaar,0),6)","v":79},{"$f":"INDEX(Data_land,MATCH(Skyggetabeller!M123,Data!landaar,0),6)","v":84},{"$f":"INDEX(Data_land,MATCH(Skyggetabeller!N123,Data!landaar,0),6)","v":95},{"$f":"INDEX(Data_land,MATCH(Skyggetabeller!O123,Data!landaar,0),6)","v":98},{"$f":"INDEX(Data_land,MATCH(Skyggetabeller!P123,Data!landaar,0),6)","v":84},{"$f":"INDEX(Data_land,MATCH(Skyggetabeller!Q123,Data!landaar,0),6)","v":88},{"$f":"INDEX(Data_land,MATCH(Skyggetabeller!R123,Data!landaar,0),6)","v":85}]
[null,"Gennemsnitlig varighed",null,{"$f":"IFERROR(IF(D133=\"*\",\"*\",IF(D134=0,\"#I/T\",(D133/D134))),\"Data ikke tilføjet\")","v":336.58620689655174},{"$f":"IFERROR(IF(E133=\"*\",\"*\",IF(E134=0,\"#I/T\",(E133/E134))),\"Data ikke tilføjet\")","v":320.22580645161293},{"$f":"IFERROR(IF(F133=\"*\",\"*\",IF(F134=0,\"#I/T\",(F133/F134))),\"Data ikke tilføjet\")","v":298.07499999999999},{"$f":"IFERROR(IF(G133=\"*\",\"*\",IF(G134=0,\"#I/T\",(G133/G134))),\"Data ikke tilføjet\")","v":327.07594936708858},{"$f":"IFERROR(IF(H133=\"*\",\"*\",IF(H134=0,\"#I/T\",(H133/H134))),\"Data ikke tilføjet\")","v":285.921875},{"$f":"IFERROR(IF(I133=\"*\",\"*\",IF(I134=0,\"#I/T\",(I133/I134))),\"Data ikke tilføjet\")","v":215.92857142857142},{"$f":"IFERROR(IF(J133=\"*\",\"*\",IF(J134=0,\"#I/T\",(J133/J134))),\"Data ikke tilføjet\")","v":267.85526315789474},{"$f":"IFERROR(IF(K133=\"*\",\"*\",IF(K134=0,\"#I/T\",(K133/K134))),\"Data ikke tilføjet\")","v":323.08333333333331},{"$f":"IFERROR(IF(L133=\"*\",\"*\",IF(L134=0,\"#I/T\",(L133/L134))),\"Data ikke tilføjet\")","v":262.49367088607596},{"$f":"IFERROR(IF(M133=\"*\",\"*\",IF(M134=0,\"#I/T\",(M133/M134))),\"Data ikke tilføjet\")","v":250.97619047619048},{"$f":"IFERROR(IF(N133=\"*\",\"*\",IF(N134=0,\"#I/T\",(N133/N134))),\"Data ikke tilføjet\")","v":198.02105263157895},{"$f":"IFERROR(IF(O133=\"*\",\"*\",IF(O134=0,\"#I/T\",(O133/O134))),\"Data ikke tilføjet\")","v":227.20408163265307},{"$f":"IFERROR(IF(P133=\"*\",\"*\",IF(P134=0,\"#I/T\",(P133/P134))),\"Data ikke tilføjet\")","v":228.95238095238096},{"$f":"IFERROR(IF(Q133=\"*\",\"*\",IF(Q134=0,\"#I/T\",(Q133/Q134))),\"Data ikke tilføjet\")","v":233.92045454545453},{"$f":"IFERROR(IF(R133=\"*\",\"*\",IF(R134=0,\"#I/T\",(R133/R134))),\"Data ikke tilføjet\")","v":244.6}]
[]
[null,"Tabel 2.3: Gennemsnitlig varighed af anbringelser på socialpædagogisk opholdssted"]
[null,"Nøgletal 2.3: \nGennemsnitlig varighed af igangværende anbringelser på socialpædagogisk opholdssted",null,"2016-01-01","2016-07-01","2017-01-01","2017-07-01","2018-01-01","2018-07-01","2019-01-01","2019-07-01","2020-01-01","2020-07-01","2021-01-01","2021-07-01","2022-01-01","2022-07-01","2023-01-01"]
[null,{"$f":"IF(Kommune=\"\",\"Kommune\",Kommune)","v":"København"}]
[null,"Samlet antal dage",null,{"$f":"IFERROR(IF(INDEX(Data_kom2,MATCH(1,(komnavn2=Kommune)*(komaar2=D138),0),11)=\"*\",\"*\",INDEX(Data_kom2,MATCH(1,(komnavn2=Kommune)*(komaar2=D138),0),11)),\"Data ikke tilføjet\")","v":50422},{"$f":"IFERROR(IF(INDEX(Data_kom2,MATCH(1,(komnavn2=Kommune)*(komaar2=E138),0),11)=\"*\",\"*\",INDEX(Data_kom2,MATCH(1,(komnavn2=Kommune)*(komaar2=E138),0),11)),\"Data ikke tilføjet\")","v":49102},{"$f":"IFERROR(IF(INDEX(Data_kom2,MATCH(1,(komnavn2=Kommune)*(komaar2=F138),0),11)=\"*\",\"*\",INDEX(Data_kom2,MATCH(1,(komnavn2=Kommune)*(komaar2=F138),0),11)),\"Data ikke tilføjet\")","v":48035},{"$f":"IFERROR(IF(INDEX(Data_kom2,MATCH(1,(komnavn2=Kommune)*(komaar2=G138),0),11)=\"*\",\"*\",INDEX(Data_kom2,MATCH(1,(komnavn2=Kommune)*(komaar2=G138),0),11)),\"Data ikke tilføjet\")","v":43276},{"$f":"IFERROR(IF(INDEX(Data_kom2,MATCH(1,(komnavn2=Kommune)*(komaar2=H138),0),11)=\"*\",\"*\",INDEX(Data_kom2,MATCH(1,(komnavn2=Kommune)*(komaar2=H138),0),11)),\"Data ikke tilføjet\")","v":43538},{"$f":"IFERROR(IF(INDEX(Data_kom2,MATCH(1,(komnavn2=Kommune)*(komaar2=I138),0),11)=\"*\",\"*\",INDEX(Data_kom2,MATCH(1,(komnavn2=Kommune)*(komaar2=I138),0),11)),\"Data ikke tilføjet\")","v":44076},{"$f":"IFERROR(IF(INDEX(Data_kom2,MATCH(1,(komnavn2=Kommune)*(komaar2=J138),0),11)=\"*\",\"*\",INDEX(Data_kom2,MATCH(1,(komnavn2=Kommune)*(komaar2=J138),0),11)),\"Data ikke tilføjet\")","v":43563},{"$f":"IFERROR(IF(INDEX(Data_kom2,MATCH(1,(komnavn2=Kommune)*(komaar2=K138),0),11)=\"*\",\"*\",INDEX(Data_kom2,MATCH(1,(komnavn2=Kommune)*(komaar2=K138),0),11)),\"Data ikke tilføjet\")","v":46613},{"$f":"IFERROR(IF(INDEX(Data_kom2,MATCH(1,(komnavn2=Kommune)*(komaar2=L138),0),11)=\"*\",\"*\",INDEX(Data_kom2,MATCH(1,(komnavn2=Kommune)*(komaar2=L138),0),11)),\"Data ikke tilføjet\")","v":"*"},{"$f":"IFERROR(IF(INDEX(Data_kom2,MATCH(1,(komnavn2=Kommune)*(komaar2=M138),0),11)=\"*\",\"*\",INDEX(Data_kom2,MATCH(1,(komnavn2=Kommune)*(komaar2=M138),0),11)),\"Data ikke tilføjet\")","v":33945},{"$f":"IFERROR(IF(INDEX(Data_kom2,MATCH(1,(komnavn2=Kommune)*(komaar2=N138),0),11)=\"*\",\"*\",INDEX(Data_kom2,MATCH(1,(komnavn2=Kommune)*(komaar2=N138),0),11)),\"Data ikke tilføjet\")","v":31251},{"$f":"IFERROR(IF(INDEX(Data_kom2,MATCH(1,(komnavn2=Kommune)*(komaar2=O138),0),11)=\"*\",\"*\",INDEX(Data_kom2,MATCH(1,(komnavn2=Kommune)*(komaar2=O138),0),11)),\"Data ikke tilføjet\")","v":34356},{"$f":"IFERROR(IF(INDEX(Data_kom2,MATCH(1,(komnavn2=Kommune)*(komaar2=P138),0),11)=\"*\",\"*\",INDEX(Data_kom2,MATCH(1,(komnavn2=Kommune)*(komaar2=P138),0),11)),\"Data ikke tilføjet\")","v":31608},{"$f":"IFERROR(IF(INDEX(Data_kom2,MATCH(1,(komnavn2=Kommune)*(komaar2=Q138),0),11)=\"*\",\"*\",INDEX(Data_kom2,MATCH(1,(komnavn2=Kommune)*(komaar2=Q138),0),11)),\"Data ikke tilføjet\")","v":34790},{"$f":"IFERROR(IF(INDEX(Data_kom2,MATCH(1,(komnavn2=Kommune)*(komaar2=R138),0),11)=\"*\",\"*\",INDEX(Data_kom2,MATCH(1,(komnavn2=Kommune)*(komaar2=R138),0),11)),\"Data ikke tilføjet\")","v":28460}]
[null,"Antal anbragte",null,{"$f":"D57","v":54},52,47,39,34,33,33,35,"*",{"$f":"M57","v":24},25,32,28,32,38]
[null,"Gennemsnitlig varighed",null,{"$f":"IFERROR(IF(D140=\"*\",\"*\",IF(D141=0,\"#I/T\",(D140/D141))),\"Data ikke tilføjet\")","v":933.74074074074076},{"$f":"IFERROR(IF(E140=\"*\",\"*\",IF(E141=0,\"#I/T\",(E140/E141))),\"Data ikke tilføjet\")","v":944.26923076923072},{"$f":"IFERROR(IF(F140=\"*\",\"*\",IF(F141=0,\"#I/T\",(F140/F141))),\"Data ikke tilføjet\")","v":1022.0212765957447},{"$f":"IFERROR(IF(G140=\"*\",\"*\",IF(G141=0,\"#I/T\",(G140/G141))),\"Data ikke tilføjet\")","v":1109.6410256410256},{"$f":"IFERROR(IF(H140=\"*\",\"*\",IF(H141=0,\"#I/T\",(H140/H141))),\"Data ikke tilføjet\")","v":1280.5294117647059},{"$f":"IFERROR(IF(I140=\"*\",\"*\",IF(I141=0,\"#I/T\",(I140/I141))),\"Data ikke tilføjet\")","v":1335.6363636363637},{"$f":"IFERROR(IF(J140=\"*\",\"*\",IF(J141=0,\"#I/T\",(J140/J141))),\"Data ikke tilføjet\")","v":1320.090909090909},{"$f":"IFERROR(IF(K140=\"*\",\"*\",IF(K141=0,\"#I/T\",(K140/K141))),\"Data ikke tilføjet\")","v":1331.8},{"$f":"IFERROR(IF(L140=\"*\",\"*\",IF(L141=0,\"#I/T\",(L140/L141))),\"Data ikke tilføjet\")","v":"*"},{"$f":"IFERROR(IF(M140=\"*\",\"*\",IF(M141=0,\"#I/T\",(M140/M141))),\"Data ikke tilføjet\")","v":1414.375},{"$f":"IFERROR(IF(N140=\"*\",\"*\",IF(N141=0,\"#I/T\",(N140/N141))),\"Data ikke tilføjet\")","v":1250.04},{"$f":"IFERROR(IF(O140=\"*\",\"*\",IF(O141=0,\"#I/T\",(O140/O141))),\"Data ikke tilføjet\")","v":1073.625},{"$f":"IFERROR(IF(P140=\"*\",\"*\",IF(P141=0,\"#I/T\",(P140/P141))),\"Data ikke tilføjet\")","v":1128.8571428571429},{"$f":"IFERROR(IF(Q140=\"*\",\"*\",IF(Q141=0,\"#I/T\",(Q140/Q141))),\"Data ikke tilføjet\")","v":1087.1875},{"$f":"IFERROR(IF(R140=\"*\",\"*\",IF(R141=0,\"#I/T\",(R140/R141))),\"Data ikke tilføjet\")","v":748.9473684210526}]
[null,"Sammenligningsgruppe, gns."]
[null,"Samlet antal dage",null,{"$f":"IF('Dine valg'!$G$24=\"\",\"-\",SUMIF(Hjælpefane!$D$7:$D$111,\"=\"&D$9,Hjælpefane!$L$7:$L$111))","v":42799},{"$f":"IF('Dine valg'!$G$24=\"\",\"-\",SUMIF(Hjælpefane!$D$7:$D$111,\"=\"&E$9,Hjælpefane!$L$7:$L$111))","v":0},{"$f":"IF('Dine valg'!$G$24=\"\",\"-\",SUMIF(Hjælpefane!$D$7:$D$111,\"=\"&F$9,Hjælpefane!$L$7:$L$111))","v":0},{"$f":"IF('Dine valg'!$G$24=\"\",\"-\",SUMIF(Hjælpefane!$D$7:$D$111,\"=\"&G$9,Hjælpefane!$L$7:$L$111))","v":0},{"$f":"IF('Dine valg'!$G$24=\"\",\"-\",SUMIF(Hjælpefane!$D$7:$D$111,\"=\"&H$9,Hjælpefane!$L$7:$L$111))","v":0},{"$f":"IF('Dine valg'!$G$24=\"\",\"-\",SUMIF(Hjælpefane!$D$7:$D$111,\"=\"&I$9,Hjælpefane!$L$7:$L$111))","v":37199},{"$f":"IF('Dine valg'!$G$24=\"\",\"-\",SUMIF(Hjælpefane!$D$7:$D$111,\"=\"&J$9,Hjælpefane!$L$7:$L$111))","v":33889},{"$f":"IF('Dine valg'!$G$24=\"\",\"-\",SUMIF(Hjælpefane!$D$7:$D$111,\"=\"&K$9,Hjælpefane!$L$7:$L$111))","v":34160},{"$f":"IF('Dine valg'!$G$24=\"\",\"-\",SUMIF(Hjælpefane!$D$7:$D$111,\"=\"&L$9,Hjælpefane!$L$7:$L$111))","v":29665},{"$f":"IF('Dine valg'!$G$24=\"\",\"-\",SUMIF(Hjælpefane!$D$7:$D$111,\"=\"&M$9,Hjælpefane!$L$7:$L$111))","v":24634},{"$f":"IF('Dine valg'!$G$24=\"\",\"-\",SUMIF(Hjælpefane!$D$7:$D$111,\"=\"&N$9,Hjælpefane!$L$7:$L$111))","v":26619},{"$f":"IF('Dine valg'!$G$24=\"\",\"-\",SUMIF(Hjælpefane!$D$7:$D$111,\"=\"&O$9,Hjælpefane!$L$7:$L$111))","v":21561},{"$f":"IF('Dine valg'!$G$24=\"\",\"-\",SUMIF(Hjælpefane!$D$7:$D$111,\"=\"&P$9,Hjælpefane!$L$7:$L$111))","v":19822},{"$f":"IF('Dine valg'!$G$24=\"\",\"-\",SUMIF(Hjælpefane!$D$7:$D$111,\"=\"&Q$9,Hjælpefane!$L$7:$L$111))","v":24098},{"$f":"IF('Dine valg'!$G$24=\"\",\"-\",SUMIF(Hjælpefane!$D$7:$D$111,\"=\"&R$9,Hjælpefane!$L$7:$L$111))","v":20830}]
[null,"Antal anbragte",null,{"$f":"IF('Dine valg'!$G$24=\"\",\"-\",SUMIF(Hjælpefane!$D$7:$D$111,\"=\"&D$9,Hjælpefane!$H$7:$H$111))","v":55},{"$f":"IF('Dine valg'!$G$24=\"\",\"-\",SUMIF(Hjælpefane!$D$7:$D$111,\"=\"&E$9,Hjælpefane!$H$7:$H$111))","v":61},{"$f":"IF('Dine valg'!$G$24=\"\",\"-\",SUMIF(Hjælpefane!$D$7:$D$111,\"=\"&F$9,Hjælpefane!$H$7:$H$111))","v":55},{"$f":"IF('Dine valg'!$G$24=\"\",\"-\",SUMIF(Hjælpefane!$D$7:$D$111,\"=\"&G$9,Hjælpefane!$H$7:$H$111))","v":53},{"$f":"IF('Dine valg'!$G$24=\"\",\"-\",SUMIF(Hjælpefane!$D$7:$D$111,\"=\"&H$9,Hjælpefane!$H$7:$H$111))","v":57},{"$f":"IF('Dine valg'!$G$24=\"\",\"-\",SUMIF(Hjælpefane!$D$7:$D$111,\"=\"&I$9,Hjælpefane!$H$7:$H$111))","v":45},{"$f":"IF('Dine valg'!$G$24=\"\",\"-\",SUMIF(Hjælpefane!$D$7:$D$111,\"=\"&J$9,Hjælpefane!$H$7:$H$111))","v":46},{"$f":"IF('Dine valg'!$G$24=\"\",\"-\",SUMIF(Hjælpefane!$D$7:$D$111,\"=\"&K$9,Hjælpefane!$H$7:$H$111))","v":42},{"$f":"IF('Dine valg'!$G$24=\"\",\"-\",SUMIF(Hjælpefane!$D$7:$D$111,\"=\"&L$9,Hjælpefane!$H$7:$H$111))","v":35},{"$f":"IF('Dine valg'!$G$24=\"\",\"-\",SUMIF(Hjælpefane!$D$7:$D$111,\"=\"&M$9,Hjælpefane!$H$7:$H$111))","v":35},{"$f":"IF('Dine valg'!$G$24=\"\",\"-\",SUMIF(Hjælpefane!$D$7:$D$111,\"=\"&N$9,Hjælpefane!$H$7:$H$111))","v":37},{"$f":"IF('Dine valg'!$G$24=\"\",\"-\",SUMIF(Hjælpefane!$D$7:$D$111,\"=\"&O$9,Hjælpefane!$H$7:$H$111))","v":43},{"$f":"IF('Dine valg'!$G$24=\"\",\"-\",SUMIF(Hjælpefane!$D$7:$D$111,\"=\"&P$9,Hjælpefane!$H$7:$H$111))","v":38},{"$f":"IF('Dine valg'!$G$24=\"\",\"-\",SUMIF(Hjælpefane!$D$7:$D$111,\"=\"&Q$9,Hjælpefane!$H$7:$H$111))","v":48},{"$f":"IF('Dine valg'!$G$24=\"\",\"-\",SUMIF(Hjælpefane!$D$7:$D$111,\"=\"&R$9,Hjælpefane!$H$7:$H$111))","v":44}]
[null,"Gennemsnitlig varighed",null,{"$f":"IFERROR(IF(D144=\"*\",\"*\",IF(D145=\"\",\"Indtast data\",(D144/D145))),\"-\")","v":778.16363636363633},{"$f":"IFERROR(IF(E144=\"*\",\"*\",IF(E145=\"\",\"Indtast data\",(E144/E145))),\"-\")","v":0},{"$f":"IFERROR(IF(F144=\"*\",\"*\",IF(F145=\"\",\"Indtast data\",(F144/F145))),\"-\")","v":0},{"$f":"IFERROR(IF(G144=\"*\",\"*\",IF(G145=\"\",\"Indtast data\",(G144/G145))),\"-\")","v":0},{"$f":"IFERROR(IF(H144=\"*\",\"*\",IF(H145=\"\",\"Indtast data\",(H144/H145))),\"-\")","v":0},{"$f":"IFERROR(IF(I144=\"*\",\"*\",IF(I145=\"\",\"Indtast data\",(I144/I145))),\"-\")","v":826.64444444444439},{"$f":"IFERROR(IF(J144=\"*\",\"*\",IF(J145=\"\",\"Indtast data\",(J144/J145))),\"-\")","v":736.71739130434787},{"$f":"IFERROR(IF(K144=\"*\",\"*\",IF(K145=\"\",\"Indtast data\",(K144/K145))),\"-\")","v":813.33333333333337},{"$f":"IFERROR(IF(L144=\"*\",\"*\",IF(L145=\"\",\"Indtast data\",(L144/L145))),\"-\")","v":847.57142857142856},703.82857142857142,719.43243243243239,501.41860465116281,521.63157894736844,502.04166666666669,473.40909090909093]
[null,"Hele landet"]
[null,"Samlet antal dage",null,{"$f":"INDEX(Data_land,MATCH(Skyggetabeller!D138,Data!landaar,0),11)","v":1288184},{"$f":"INDEX(Data_land,MATCH(Skyggetabeller!E138,Data!landaar,0),11)","v":1207775},{"$f":"INDEX(Data_land,MATCH(Skyggetabeller!F138,Data!landaar,0),11)","v":1155372},{"$f":"INDEX(Data_land,MATCH(Skyggetabeller!G138,Data!landaar,0),11)","v":1160718},{"$f":"INDEX(Data_land,MATCH(Skyggetabeller!H138,Data!landaar,0),11)","v":1143714},{"$f":"INDEX(Data_land,MATCH(Skyggetabeller!I138,Data!landaar,0),11)","v":1107236},{"$f":"INDEX(Data_land,MATCH(Skyggetabeller!J138,Data!landaar,0),11)","v":1066788},{"$f":"INDEX(Data_land,MATCH(Skyggetabeller!K138,Data!landaar,0),11)","v":1037987},{"$f":"INDEX(Data_land,MATCH(Skyggetabeller!L138,Data!landaar,0),11)","v":1019726},{"$f":"INDEX(Data_land,MATCH(Skyggetabeller!M138,Data!landaar,0),11)","v":1070144},{"$f":"INDEX(Data_land,MATCH(Skyggetabeller!N138,Data!landaar,0),11)","v":1080706},{"$f":"INDEX(Data_land,MATCH(Skyggetabeller!O138,Data!landaar,0),11)","v":1107690},{"$f":"INDEX(Data_land,MATCH(Skyggetabeller!P138,Data!landaar,0),11)","v":1132015},{"$f":"INDEX(Data_land,MATCH(Skyggetabeller!Q138,Data!landaar,0),11)","v":1146909},{"$f":"INDEX(Data_land,MATCH(Skyggetabeller!R138,Data!landaar,0),11)","v":1157210}]
[null,"Antal anbragte",null,{"$f":"INDEX(Data_land,MATCH(Skyggetabeller!D138,Data!landaar,0),7)","v":1550},{"$f":"INDEX(Data_land,MATCH(Skyggetabeller!E138,Data!landaar,0),7)","v":1529},{"$f":"INDEX(Data_land,MATCH(Skyggetabeller!F138,Data!landaar,0),7)","v":1486},{"$f":"INDEX(Data_land,MATCH(Skyggetabeller!G138,Data!landaar,0),7)","v":1575},{"$f":"INDEX(Data_land,MATCH(Skyggetabeller!H138,Data!landaar,0),7)","v":1551},{"$f":"INDEX(Data_land,MATCH(Skyggetabeller!I138,Data!landaar,0),7)","v":1546},{"$f":"INDEX(Data_land,MATCH(Skyggetabeller!J138,Data!landaar,0),7)","v":1534},{"$f":"INDEX(Data_land,MATCH(Skyggetabeller!K138,Data!landaar,0),7)","v":1518},{"$f":"INDEX(Data_land,MATCH(Skyggetabeller!L138,Data!landaar,0),7)","v":1514},{"$f":"INDEX(Data_land,MATCH(Skyggetabeller!M138,Data!landaar,0),7)","v":1581},{"$f":"INDEX(Data_land,MATCH(Skyggetabeller!N138,Data!landaar,0),7)","v":1595},{"$f":"INDEX(Data_land,MATCH(Skyggetabeller!O138,Data!landaar,0),7)","v":1693},{"$f":"INDEX(Data_land,MATCH(Skyggetabeller!P138,Data!landaar,0),7)","v":1677},{"$f":"INDEX(Data_land,MATCH(Skyggetabeller!Q138,Data!landaar,0),7)","v":1773},{"$f":"INDEX(Data_land,MATCH(Skyggetabeller!R138,Data!landaar,0),7)","v":1782}]
[null,"Gennemsnitlig varighed",null,{"$f":"IFERROR(IF(D148=\"*\",\"*\",IF(D149=0,\"#I/T\",(D148/D149))),\"Data ikke tilføjet\")","v":831.08645161290326},{"$f":"IFERROR(IF(E148=\"*\",\"*\",IF(E149=0,\"#I/T\",(E148/E149))),\"Data ikke tilføjet\")","v":789.91170699803797},{"$f":"IFERROR(IF(F148=\"*\",\"*\",IF(F149=0,\"#I/T\",(F148/F149))),\"Data ikke tilføjet\")","v":777.50471063257066},{"$f":"IFERROR(IF(G148=\"*\",\"*\",IF(G149=0,\"#I/T\",(G148/G149))),\"Data ikke tilføjet\")","v":736.96380952380957},{"$f":"IFERROR(IF(H148=\"*\",\"*\",IF(H149=0,\"#I/T\",(H148/H149))),\"Data ikke tilføjet\")","v":737.40425531914889},{"$f":"IFERROR(IF(I148=\"*\",\"*\",IF(I149=0,\"#I/T\",(I148/I149))),\"Data ikke tilføjet\")","v":716.19404915912025},{"$f":"IFERROR(IF(J148=\"*\",\"*\",IF(J149=0,\"#I/T\",(J148/J149))),\"Data ikke tilføjet\")","v":695.42894393741847},{"$f":"IFERROR(IF(K148=\"*\",\"*\",IF(K149=0,\"#I/T\",(K148/K149))),\"Data ikke tilføjet\")","v":683.78590250329376},{"$f":"IFERROR(IF(L148=\"*\",\"*\",IF(L149=0,\"#I/T\",(L148/L149))),\"Data ikke tilføjet\")","v":673.53104359313079},{"$f":"IFERROR(IF(M148=\"*\",\"*\",IF(M149=0,\"#I/T\",(M148/M149))),\"Data ikke tilføjet\")","v":676.87792536369386},{"$f":"IFERROR(IF(N148=\"*\",\"*\",IF(N149=0,\"#I/T\",(N148/N149))),\"Data ikke tilføjet\")","v":677.55862068965519},{"$f":"IFERROR(IF(O148=\"*\",\"*\",IF(O149=0,\"#I/T\",(O148/O149))),\"Data ikke tilføjet\")","v":654.27643236857648},{"$f":"IFERROR(IF(P148=\"*\",\"*\",IF(P149=0,\"#I/T\",(P148/P149))),\"Data ikke tilføjet\")","v":675.02385211687533},{"$f":"IFERROR(IF(Q148=\"*\",\"*\",IF(Q149=0,\"#I/T\",(Q148/Q149))),\"Data ikke tilføjet\")","v":646.87478849407785},{"$f":"IFERROR(IF(R148=\"*\",\"*\",IF(R149=0,\"#I/T\",(R148/R149))),\"Data ikke tilføjet\")","v":649.38832772166108}]
[]
[]
[null,"Nøgletal 3: Anbragte i plejefamilie"]
[]
[null,"Tabel 3: Anbragte i plejefamilie"]
[null,"Nøgletal 3: \nAnbragte i plejefamilie",null,"2016-01-01","2016-07-01","2017-01-01","2017-07-01","2018-01-01","2018-07-01","2019-01-01","2019-07-01","2020-01-01","2020-07-01","2021-01-01","2021-07-01","2022-01-01","2022-07-01","2023-01-01"]
[null,{"$f":"IF(Kommune=\"\",\"Kommune\",Kommune)","v":"København"}]
[null,"Antal anbragte",null,{"$f":"IFERROR(IF(INDEX(Data_kom2,MATCH(1,(komnavn2=Kommune)*(komaar2=D156),0),12)=\"*\",\"*\",INDEX(Data_kom2,MATCH(1,(komnavn2=Kommune)*(komaar2=D156),0),12)),\"Data ikke tilføjet\")","v":382},{"$f":"IFERROR(IF(INDEX(Data_kom2,MATCH(1,(komnavn2=Kommune)*(komaar2=E156),0),12)=\"*\",\"*\",INDEX(Data_kom2,MATCH(1,(komnavn2=Kommune)*(komaar2=E156),0),12)),\"Data ikke tilføjet\")","v":369},{"$f":"IFERROR(IF(INDEX(Data_kom2,MATCH(1,(komnavn2=Kommune)*(komaar2=F156),0),12)=\"*\",\"*\",INDEX(Data_kom2,MATCH(1,(komnavn2=Kommune)*(komaar2=F156),0),12)),\"Data ikke tilføjet\")","v":355},{"$f":"IFERROR(IF(INDEX(Data_kom2,MATCH(1,(komnavn2=Kommune)*(komaar2=G156),0),12)=\"*\",\"*\",INDEX(Data_kom2,MATCH(1,(komnavn2=Kommune)*(komaar2=G156),0),12)),\"Data ikke tilføjet\")","v":347},{"$f":"IFERROR(IF(INDEX(Data_kom2,MATCH(1,(komnavn2=Kommune)*(komaar2=H156),0),12)=\"*\",\"*\",INDEX(Data_kom2,MATCH(1,(komnavn2=Kommune)*(komaar2=H156),0),12)),\"Data ikke tilføjet\")","v":348},{"$f":"IFERROR(IF(INDEX(Data_kom2,MATCH(1,(komnavn2=Kommune)*(komaar2=I156),0),12)=\"*\",\"*\",INDEX(Data_kom2,MATCH(1,(komnavn2=Kommune)*(komaar2=I156),0),12)),\"Data ikke tilføjet\")","v":351},{"$f":"IFERROR(IF(INDEX(Data_kom2,MATCH(1,(komnavn2=Kommune)*(komaar2=J156),0),12)=\"*\",\"*\",INDEX(Data_kom2,MATCH(1,(komnavn2=Kommune)*(komaar2=J156),0),12)),\"Data ikke tilføjet\")","v":339},{"$f":"IFERROR(IF(INDEX(Data_kom2,MATCH(1,(komnavn2=Kommune)*(komaar2=K156),0),12)=\"*\",\"*\",INDEX(Data_kom2,MATCH(1,(komnavn2=Kommune)*(komaar2=K156),0),12)),\"Data ikke tilføjet\")","v":325},{"$f":"IFERROR(IF(INDEX(Data_kom2,MATCH(1,(komnavn2=Kommune)*(komaar2=L156),0),12)=\"*\",\"*\",INDEX(Data_kom2,MATCH(1,(komnavn2=Kommune)*(komaar2=L156),0),12)),\"Data ikke tilføjet\")","v":312},{"$f":"IFERROR(IF(INDEX(Data_kom2,MATCH(1,(komnavn2=Kommune)*(komaar2=M156),0),12)=\"*\",\"*\",INDEX(Data_kom2,MATCH(1,(komnavn2=Kommune)*(komaar2=M156),0),12)),\"Data ikke tilføjet\")","v":295},{"$f":"IFERROR(IF(INDEX(Data_kom2,MATCH(1,(komnavn2=Kommune)*(komaar2=N156),0),12)=\"*\",\"*\",INDEX(Data_kom2,MATCH(1,(komnavn2=Kommune)*(komaar2=N156),0),12)),\"Data ikke tilføjet\")","v":288},{"$f":"IFERROR(IF(INDEX(Data_kom2,MATCH(1,(komnavn2=Kommune)*(komaar2=O156),0),12)=\"*\",\"*\",INDEX(Data_kom2,MATCH(1,(komnavn2=Kommune)*(komaar2=O156),0),12)),\"Data ikke tilføjet\")","v":285},{"$f":"IFERROR(IF(INDEX(Data_kom2,MATCH(1,(komnavn2=Kommune)*(komaar2=P156),0),12)=\"*\",\"*\",INDEX(Data_kom2,MATCH(1,(komnavn2=Kommune)*(komaar2=P156),0),12)),\"Data ikke tilføjet\")","v":272},{"$f":"IFERROR(IF(INDEX(Data_kom2,MATCH(1,(komnavn2=Kommune)*(komaar2=Q156),0),12)=\"*\",\"*\",INDEX(Data_kom2,MATCH(1,(komnavn2=Kommune)*(komaar2=Q156),0),12)),\"Data ikke tilføjet\")","v":264},{"$f":"IFERROR(IF(INDEX(Data_kom2,MATCH(1,(komnavn2=Kommune)*(komaar2=R156),0),12)=\"*\",\"*\",INDEX(Data_kom2,MATCH(1,(komnavn2=Kommune)*(komaar2=R156),0),12)),\"Data ikke tilføjet\")","v":269}]
[null,"Antal 0-17-årige",null,{"$f":"IFERROR(INDEX(Data_kom2,MATCH(1,(komnavn2=Kommune)*(komaar2=D156),0),2),\"Data ikke tilføjet\")","v":103578},{"$f":"IFERROR(INDEX(Data_kom2,MATCH(1,(komnavn2=Kommune)*(komaar2=E156),0),2),\"Data ikke tilføjet\")","v":104797},{"$f":"IFERROR(INDEX(Data_kom2,MATCH(1,(komnavn2=Kommune)*(komaar2=F156),0),2),\"Data ikke tilføjet\")","v":105885},{"$f":"IFERROR(INDEX(Data_kom2,MATCH(1,(komnavn2=Kommune)*(komaar2=G156),0),2),\"Data ikke tilføjet\")","v":106913},{"$f":"IFERROR(INDEX(Data_kom2,MATCH(1,(komnavn2=Kommune)*(komaar2=H156),0),2),\"Data ikke tilføjet\")","v":107770},{"$f":"IFERROR(INDEX(Data_kom2,MATCH(1,(komnavn2=Kommune)*(komaar2=I156),0),2),\"Data ikke tilføjet\")","v":108734},{"$f":"IFERROR(INDEX(Data_kom2,MATCH(1,(komnavn2=Kommune)*(komaar2=J156),0),2),\"Data ikke tilføjet\")","v":109335},{"$f":"IFERROR(INDEX(Data_kom2,MATCH(1,(komnavn2=Kommune)*(komaar2=K156),0),2),\"Data ikke tilføjet\")","v":110138},{"$f":"IFERROR(INDEX(Data_kom2,MATCH(1,(komnavn2=Kommune)*(komaar2=L156),0),2),\"Data ikke tilføjet\")","v":110822},{"$f":"IFERROR(INDEX(Data_kom2,MATCH(1,(komnavn2=Kommune)*(komaar2=M156),0),2),\"Data ikke tilføjet\")","v":111068},{"$f":"IFERROR(INDEX(Data_kom2,MATCH(1,(komnavn2=Kommune)*(komaar2=N156),0),2),\"Data ikke tilføjet\")","v":110927},{"$f":"IFERROR(INDEX(Data_kom2,MATCH(1,(komnavn2=Kommune)*(komaar2=O156),0),2),\"Data ikke tilføjet\")","v":110614},{"$f":"IFERROR(INDEX(Data_kom2,MATCH(1,(komnavn2=Kommune)*(komaar2=P156),0),2),\"Data ikke tilføjet\")","v":110513},{"$f":"IFERROR(INDEX(Data_kom2,MATCH(1,(komnavn2=Kommune)*(komaar2=Q156),0),2),\"Data ikke tilføjet\")","v":110692},{"$f":"IFERROR(INDEX(Data_kom2,MATCH(1,(komnavn2=Kommune)*(komaar2=R156),0),2),\"Data ikke tilføjet\")","v":110835}]
[null,"Andel",null,{"$f":"IFERROR(IF(D158=\"*\",\"*\",IF(D159=0,\"#I/T\",(D158/D159*1000))),\"Data ikke tilføjet\")","v":3.6880418621715036},3.5210931610637708,3.3526939604287671,3.2456296240868747,3.2290990071448453,3.2280611400297978,3.1005624914254359,2.9508434872614355,2.81532547689087,{"$f":"IFERROR(IF(M158=\"*\",\"*\",IF(M159=0,\"#I/T\",(M158/M159*1000))),\"Data ikke tilføjet\")","v":2.6560305398494619},2.596302072534189,2.5765273835138407,2.4612489028440092,2.3849962056878549,2.4270311724635723]
[null,"Sammenligningsgruppe, gns."]
[null,"Antal anbragte",null,{"$f":"IF('Dine valg'!$G$24=\"\",\"-\",SUMIF(Hjælpefane!$D$7:$D$111,\"=\"&D$9,Hjælpefane!$M$7:$M$111))","v":208},{"$f":"IF('Dine valg'!$G$24=\"\",\"-\",SUMIF(Hjælpefane!$D$7:$D$111,\"=\"&E$9,Hjælpefane!$M$7:$M$111))","v":215},{"$f":"IF('Dine valg'!$G$24=\"\",\"-\",SUMIF(Hjælpefane!$D$7:$D$111,\"=\"&F$9,Hjælpefane!$M$7:$M$111))","v":221},{"$f":"IF('Dine valg'!$G$24=\"\",\"-\",SUMIF(Hjælpefane!$D$7:$D$111,\"=\"&G$9,Hjælpefane!$M$7:$M$111))","v":225},{"$f":"IF('Dine valg'!$G$24=\"\",\"-\",SUMIF(Hjælpefane!$D$7:$D$111,\"=\"&H$9,Hjælpefane!$M$7:$M$111))","v":228},{"$f":"IF('Dine valg'!$G$24=\"\",\"-\",SUMIF(Hjælpefane!$D$7:$D$111,\"=\"&I$9,Hjælpefane!$M$7:$M$111))","v":240},{"$f":"IF('Dine valg'!$G$24=\"\",\"-\",SUMIF(Hjælpefane!$D$7:$D$111,\"=\"&J$9,Hjælpefane!$M$7:$M$111))","v":239},{"$f":"IF('Dine valg'!$G$24=\"\",\"-\",SUMIF(Hjælpefane!$D$7:$D$111,\"=\"&K$9,Hjælpefane!$M$7:$M$111))","v":234},{"$f":"IF('Dine valg'!$G$24=\"\",\"-\",SUMIF(Hjælpefane!$D$7:$D$111,\"=\"&L$9,Hjælpefane!$M$7:$M$111))","v":232},{"$f":"IF('Dine valg'!$G$24=\"\",\"-\",SUMIF(Hjælpefane!$D$7:$D$111,\"=\"&M$9,Hjælpefane!$M$7:$M$111))","v":233},{"$f":"IF('Dine valg'!$G$24=\"\",\"-\",SUMIF(Hjælpefane!$D$7:$D$111,\"=\"&N$9,Hjælpefane!$M$7:$M$111))","v":224},{"$f":"IF('Dine valg'!$G$24=\"\",\"-\",SUMIF(Hjælpefane!$D$7:$D$111,\"=\"&O$9,Hjælpefane!$M$7:$M$111))","v":214},{"$f":"IF('Dine valg'!$G$24=\"\",\"-\",SUMIF(Hjælpefane!$D$7:$D$111,\"=\"&P$9,Hjælpefane!$M$7:$M$111))","v":214},{"$f":"IF('Dine valg'!$G$24=\"\",\"-\",SUMIF(Hjælpefane!$D$7:$D$111,\"=\"&Q$9,Hjælpefane!$M$7:$M$111))","v":217},{"$f":"IF('Dine valg'!$G$24=\"\",\"-\",SUMIF(Hjælpefane!$D$7:$D$111,\"=\"&R$9,Hjælpefane!$M$7:$M$111))","v":205}]
[null,"Antal 0-17-årige",null,{"$f":"IF('Dine valg'!$G$24=\"\",\"-\",SUMIF(Hjælpefane!$D$7:$D$111,\"=\"&D$9,Hjælpefane!$C$7:$C$111))","v":62241},{"$f":"IF('Dine valg'!$G$24=\"\",\"-\",SUMIF(Hjælpefane!$D$7:$D$111,\"=\"&E$9,Hjælpefane!$C$7:$C$111))","v":62670},{"$f":"IF('Dine valg'!$G$24=\"\",\"-\",SUMIF(Hjælpefane!$D$7:$D$111,\"=\"&F$9,Hjælpefane!$C$7:$C$111))","v":62903},{"$f":"IF('Dine valg'!$G$24=\"\",\"-\",SUMIF(Hjælpefane!$D$7:$D$111,\"=\"&G$9,Hjælpefane!$C$7:$C$111))","v":63077},{"$f":"IF('Dine valg'!$G$24=\"\",\"-\",SUMIF(Hjælpefane!$D$7:$D$111,\"=\"&H$9,Hjælpefane!$C$7:$C$111))","v":63245},{"$f":"IF('Dine valg'!$G$24=\"\",\"-\",SUMIF(Hjælpefane!$D$7:$D$111,\"=\"&I$9,Hjælpefane!$C$7:$C$111))","v":63510},{"$f":"IF('Dine valg'!$G$24=\"\",\"-\",SUMIF(Hjælpefane!$D$7:$D$111,\"=\"&J$9,Hjælpefane!$C$7:$C$111))","v":63607},{"$f":"IF('Dine valg'!$G$24=\"\",\"-\",SUMIF(Hjælpefane!$D$7:$D$111,\"=\"&K$9,Hjælpefane!$C$7:$C$111))","v":63704},{"$f":"IF('Dine valg'!$G$24=\"\",\"-\",SUMIF(Hjælpefane!$D$7:$D$111,\"=\"&L$9,Hjælpefane!$C$7:$C$111))","v":63890},{"$f":"IF('Dine valg'!$G$24=\"\",\"-\",SUMIF(Hjælpefane!$D$7:$D$111,\"=\"&M$9,Hjælpefane!$C$7:$C$111))","v":64128},{"$f":"IF('Dine valg'!$G$24=\"\",\"-\",SUMIF(Hjælpefane!$D$7:$D$111,\"=\"&N$9,Hjælpefane!$C$7:$C$111))","v":64334},{"$f":"IF('Dine valg'!$G$24=\"\",\"-\",SUMIF(Hjælpefane!$D$7:$D$111,\"=\"&O$9,Hjælpefane!$C$7:$C$111))","v":64307},{"$f":"IF('Dine valg'!$G$24=\"\",\"-\",SUMIF(Hjælpefane!$D$7:$D$111,\"=\"&P$9,Hjælpefane!$C$7:$C$111))","v":64049},{"$f":"IF('Dine valg'!$G$24=\"\",\"-\",SUMIF(Hjælpefane!$D$7:$D$111,\"=\"&Q$9,Hjælpefane!$C$7:$C$111))","v":64356},{"$f":"IF('Dine valg'!$G$24=\"\",\"-\",SUMIF(Hjælpefane!$D$7:$D$111,\"=\"&R$9,Hjælpefane!$C$7:$C$111))","v":64420}]
[null,"Andel",null,{"$f":"IFERROR(IF(D162=\"*\",\"*\",IF(D163=\"\",\"Indtast data\",(D162/D163*1000))),\"-\")","v":3.3418486206841149},{"$f":"IFERROR(IF(E162=\"*\",\"*\",IF(E163=\"\",\"Indtast data\",(E162/E163*1000))),\"-\")","v":3.4306685814584332},3.5133459453444194,3.5670688206477799,3.6050280654597202,3.7789324515824281,3.7574480796138787,3.6732387291221902,3.6312411958052904,{"$f":"IFERROR(IF(M162=\"*\",\"*\",IF(M163=\"\",\"Indtast data\",(M162/M163*1000))),\"-\")","v":3.6333582834331337},3.4818292038424472,3.3277870216306158,3.3411918999515997,3.371868978805395,3.1822415398944428]
[null,"Hele landet"]
[null,"Antal anbragte",null,{"$f":"INDEX(Data_land,MATCH(Skyggetabeller!D156,Data!landaar,0),12)","v":6595},{"$f":"INDEX(Data_land,MATCH(Skyggetabeller!E156,Data!landaar,0),12)","v":6668},{"$f":"INDEX(Data_land,MATCH(Skyggetabeller!F156,Data!landaar,0),12)","v":6765},{"$f":"INDEX(Data_land,MATCH(Skyggetabeller!G156,Data!landaar,0),12)","v":6800},{"$f":"INDEX(Data_land,MATCH(Skyggetabeller!H156,Data!landaar,0),12)","v":6764},{"$f":"INDEX(Data_land,MATCH(Skyggetabeller!I156,Data!landaar,0),12)","v":6814},{"$f":"INDEX(Data_land,MATCH(Skyggetabeller!J156,Data!landaar,0),12)","v":6788},{"$f":"INDEX(Data_land,MATCH(Skyggetabeller!K156,Data!landaar,0),12)","v":6768},{"$f":"INDEX(Data_land,MATCH(Skyggetabeller!L156,Data!landaar,0),12)","v":6647},{"$f":"INDEX(Data_land,MATCH(Skyggetabeller!M156,Data!landaar,0),12)","v":6585},{"$f":"INDEX(Data_land,MATCH(Skyggetabeller!N156,Data!landaar,0),12)","v":6525},{"$f":"INDEX(Data_land,MATCH(Skyggetabeller!O156,Data!landaar,0),12)","v":6509},{"$f":"INDEX(Data_land,MATCH(Skyggetabeller!P156,Data!landaar,0),12)","v":6410},{"$f":"INDEX(Data_land,MATCH(Skyggetabeller!Q156,Data!landaar,0),12)","v":6335},{"$f":"INDEX(Data_land,MATCH(Skyggetabeller!R156,Data!landaar,0),12)","v":6243}]
[null,"Antal 0-17-årige",null,{"$f":"INDEX(Data_land,MATCH(Skyggetabeller!D156,Data!landaar,0),2)","v":1167426},{"$f":"INDEX(Data_land,MATCH(Skyggetabeller!E156,Data!landaar,0),2)","v":1167002},{"$f":"INDEX(Data_land,MATCH(Skyggetabeller!F156,Data!landaar,0),2)","v":1168201},{"$f":"INDEX(Data_land,MATCH(Skyggetabeller!G156,Data!landaar,0),2)","v":1165363},{"$f":"INDEX(Data_land,MATCH(Skyggetabeller!H156,Data!landaar,0),2)","v":1165475},{"$f":"INDEX(Data_land,MATCH(Skyggetabeller!I156,Data!landaar,0),2)","v":1162195},{"$f":"INDEX(Data_land,MATCH(Skyggetabeller!J156,Data!landaar,0),2)","v":1160360},{"$f":"INDEX(Data_land,MATCH(Skyggetabeller!K156,Data!landaar,0),2)","v":1156537},{"$f":"INDEX(Data_land,MATCH(Skyggetabeller!L156,Data!landaar,0),2)","v":1156116},{"$f":"INDEX(Data_land,MATCH(Skyggetabeller!M156,Data!landaar,0),2)","v":1153027},{"$f":"INDEX(Data_land,MATCH(Skyggetabeller!N156,Data!landaar,0),2)","v":1152972},{"$f":"INDEX(Data_land,MATCH(Skyggetabeller!O156,Data!landaar,0),2)","v":1151374},{"$f":"INDEX(Data_land,MATCH(Skyggetabeller!P156,Data!landaar,0),2)","v":1151704},{"$f":"INDEX(Data_land,MATCH(Skyggetabeller!Q156,Data!landaar,0),2)","v":1157254},{"$f":"INDEX(Data_land,MATCH(Skyggetabeller!R156,Data!landaar,0),2)","v":1155814}]
[null,"Andel",null,{"$f":"IFERROR(IF(D166=\"*\",\"*\",IF(D167=0,\"#I/T\",(D166/D167*1000))),\"Data ikke tilføjet\")","v":5.6491803334858055},5.7137862660046856,5.790955494816389,5.8350917267838431,5.8036422917694503,5.863043637255366,5.8499086490399526,5.8519528558100609,5.7494230682734262,{"$f":"IFERROR(IF(M166=\"*\",\"*\",IF(M167=0,\"#I/T\",(M166/M167*1000))),\"Data ikke tilføjet\")","v":5.7110544679352699},5.6592874761919632,5.6532456004738689,5.5656661781152108,5.4741655678010188,5.4013881126201975]
[]
[]
[null,"Nøgletal 4: Anbragte i netværksplejefamilie"]
[]
[null,"Tabel 4: Anbragte i netværksplejefamilie"]
[null,"Nøgletal 4: \nAnbragte i netværksplejefamilie",null,"2016-01-01","2016-07-01","2017-01-01","2017-07-01","2018-01-01","2018-07-01","2019-01-01","2019-07-01","2020-01-01","2020-07-01","2021-01-01","2021-07-01","2022-01-01","2022-07-01","2023-01-01"]
[null,{"$f":"IF(Kommune=\"\",\"Kommune\",Kommune)","v":"København"}]
[null,"Antal anbragte",null,{"$f":"IFERROR(IF(INDEX(Data_kom2,MATCH(1,(komnavn2=Kommune)*(komaar2=D174),0),13)=\"*\",\"*\",INDEX(Data_kom2,MATCH(1,(komnavn2=Kommune)*(komaar2=D174),0),13)),\"Data ikke tilføjet\")","v":105},{"$f":"IFERROR(IF(INDEX(Data_kom2,MATCH(1,(komnavn2=Kommune)*(komaar2=E174),0),13)=\"*\",\"*\",INDEX(Data_kom2,MATCH(1,(komnavn2=Kommune)*(komaar2=E174),0),13)),\"Data ikke tilføjet\")","v":101},{"$f":"IFERROR(IF(INDEX(Data_kom2,MATCH(1,(komnavn2=Kommune)*(komaar2=F174),0),13)=\"*\",\"*\",INDEX(Data_kom2,MATCH(1,(komnavn2=Kommune)*(komaar2=F174),0),13)),\"Data ikke tilføjet\")","v":105},{"$f":"IFERROR(IF(INDEX(Data_kom2,MATCH(1,(komnavn2=Kommune)*(komaar2=G174),0),13)=\"*\",\"*\",INDEX(Data_kom2,MATCH(1,(komnavn2=Kommune)*(komaar2=G174),0),13)),\"Data ikke tilføjet\")","v":112},{"$f":"IFERROR(IF(INDEX(Data_kom2,MATCH(1,(komnavn2=Kommune)*(komaar2=H174),0),13)=\"*\",\"*\",INDEX(Data_kom2,MATCH(1,(komnavn2=Kommune)*(komaar2=H174),0),13)),\"Data ikke tilføjet\")","v":110},{"$f":"IFERROR(IF(INDEX(Data_kom2,MATCH(1,(komnavn2=Kommune)*(komaar2=I174),0),13)=\"*\",\"*\",INDEX(Data_kom2,MATCH(1,(komnavn2=Kommune)*(komaar2=I174),0),13)),\"Data ikke tilføjet\")","v":107},{"$f":"IFERROR(IF(INDEX(Data_kom2,MATCH(1,(komnavn2=Kommune)*(komaar2=J174),0),13)=\"*\",\"*\",INDEX(Data_kom2,MATCH(1,(komnavn2=Kommune)*(komaar2=J174),0),13)),\"Data ikke tilføjet\")","v":112},{"$f":"IFERROR(IF(INDEX(Data_kom2,MATCH(1,(komnavn2=Kommune)*(komaar2=K174),0),13)=\"*\",\"*\",INDEX(Data_kom2,MATCH(1,(komnavn2=Kommune)*(komaar2=K174),0),13)),\"Data ikke tilføjet\")","v":107},{"$f":"IFERROR(IF(INDEX(Data_kom2,MATCH(1,(komnavn2=Kommune)*(komaar2=L174),0),13)=\"*\",\"*\",INDEX(Data_kom2,MATCH(1,(komnavn2=Kommune)*(komaar2=L174),0),13)),\"Data ikke tilføjet\")","v":108},{"$f":"IFERROR(IF(INDEX(Data_kom2,MATCH(1,(komnavn2=Kommune)*(komaar2=M174),0),13)=\"*\",\"*\",INDEX(Data_kom2,MATCH(1,(komnavn2=Kommune)*(komaar2=M174),0),13)),\"Data ikke tilføjet\")","v":108},{"$f":"IFERROR(IF(INDEX(Data_kom2,MATCH(1,(komnavn2=Kommune)*(komaar2=N174),0),13)=\"*\",\"*\",INDEX(Data_kom2,MATCH(1,(komnavn2=Kommune)*(komaar2=N174),0),13)),\"Data ikke tilføjet\")","v":115},{"$f":"IFERROR(IF(INDEX(Data_kom2,MATCH(1,(komnavn2=Kommune)*(komaar2=O174),0),13)=\"*\",\"*\",INDEX(Data_kom2,MATCH(1,(komnavn2=Kommune)*(komaar2=O174),0),13)),\"Data ikke tilføjet\")","v":113},{"$f":"IFERROR(IF(INDEX(Data_kom2,MATCH(1,(komnavn2=Kommune)*(komaar2=P174),0),13)=\"*\",\"*\",INDEX(Data_kom2,MATCH(1,(komnavn2=Kommune)*(komaar2=P174),0),13)),\"Data ikke tilføjet\")","v":113},{"$f":"IFERROR(IF(INDEX(Data_kom2,MATCH(1,(komnavn2=Kommune)*(komaar2=Q174),0),13)=\"*\",\"*\",INDEX(Data_kom2,MATCH(1,(komnavn2=Kommune)*(komaar2=Q174),0),13)),\"Data ikke tilføjet\")","v":112},{"$f":"IFERROR(IF(INDEX(Data_kom2,MATCH(1,(komnavn2=Kommune)*(komaar2=R174),0),13)=\"*\",\"*\",INDEX(Data_kom2,MATCH(1,(komnavn2=Kommune)*(komaar2=R174),0),13)),\"Data ikke tilføjet\")","v":114}]
[null,"Antal 0-17-årige",null,{"$f":"IFERROR(INDEX(Data_kom2,MATCH(1,(komnavn2=Kommune)*(komaar2=D174),0),2),\"Data ikke tilføjet\")","v":103578},{"$f":"IFERROR(INDEX(Data_kom2,MATCH(1,(komnavn2=Kommune)*(komaar2=E174),0),2),\"Data ikke tilføjet\")","v":104797},{"$f":"IFERROR(INDEX(Data_kom2,MATCH(1,(komnavn2=Kommune)*(komaar2=F174),0),2),\"Data ikke tilføjet\")","v":105885},{"$f":"IFERROR(INDEX(Data_kom2,MATCH(1,(komnavn2=Kommune)*(komaar2=G174),0),2),\"Data ikke tilføjet\")","v":106913},{"$f":"IFERROR(INDEX(Data_kom2,MATCH(1,(komnavn2=Kommune)*(komaar2=H174),0),2),\"Data ikke tilføjet\")","v":107770},{"$f":"IFERROR(INDEX(Data_kom2,MATCH(1,(komnavn2=Kommune)*(komaar2=I174),0),2),\"Data ikke tilføjet\")","v":108734},{"$f":"IFERROR(INDEX(Data_kom2,MATCH(1,(komnavn2=Kommune)*(komaar2=J174),0),2),\"Data ikke tilføjet\")","v":109335},{"$f":"IFERROR(INDEX(Data_kom2,MATCH(1,(komnavn2=Kommune)*(komaar2=K174),0),2),\"Data ikke tilføjet\")","v":110138},{"$f":"IFERROR(INDEX(Data_kom2,MATCH(1,(komnavn2=Kommune)*(komaar2=L174),0),2),\"Data ikke tilføjet\")","v":110822},{"$f":"IFERROR(INDEX(Data_kom2,MATCH(1,(komnavn2=Kommune)*(komaar2=M174),0),2),\"Data ikke tilføjet\")","v":111068},{"$f":"IFERROR(INDEX(Data_kom2,MATCH(1,(komnavn2=Kommune)*(komaar2=N174),0),2),\"Data ikke tilføjet\")","v":110927},{"$f":"IFERROR(INDEX(Data_kom2,MATCH(1,(komnavn2=Kommune)*(komaar2=O174),0),2),\"Data ikke tilføjet\")","v":110614},{"$f":"IFERROR(INDEX(Data_kom2,MATCH(1,(komnavn2=Kommune)*(komaar2=P174),0),2),\"Data ikke tilføjet\")","v":110513},{"$f":"IFERROR(INDEX(Data_kom2,MATCH(1,(komnavn2=Kommune)*(komaar2=Q174),0),2),\"Data ikke tilføjet\")","v":110692},{"$f":"IFERROR(INDEX(Data_kom2,MATCH(1,(komnavn2=Kommune)*(komaar2=R174),0),2),\"Data ikke tilføjet\")","v":110835}]
[null,"Andel",null,{"$f":"IFERROR(IF(D176=\"*\",\"*\",IF(D177=0,\"#I/T\",(D176/D177*1000))),\"Data ikke tilføjet\")","v":1.0137287841047327},0.96376804679523265,0.99164187561977624,1.0475807432211237,1.0206922149021065,0.98405282616292977,1.0243746284355422,0.97150847119068806,0.97453574200068582,{"$f":"IFERROR(IF(M176=\"*\",\"*\",IF(M177=0,\"#I/T\",(M176/M177*1000))),\"Data ikke tilføjet\")","v":0.97237728238556564},1.0367178414633047,1.0215705064458387,1.0225041397844596,1.011816572109999,1.0285559615644877]
[null,"Sammenligningsgruppe, gns."]
[null,"Antal anbragte",null,{"$f":"IF('Dine valg'!$G$24=\"\",\"-\",SUMIF(Hjælpefane!$D$7:$D$111,\"=\"&D$9,Hjælpefane!$N$7:$N$111))","v":37},{"$f":"IF('Dine valg'!$G$24=\"\",\"-\",SUMIF(Hjælpefane!$D$7:$D$111,\"=\"&E$9,Hjælpefane!$N$7:$N$111))","v":38},{"$f":"IF('Dine valg'!$G$24=\"\",\"-\",SUMIF(Hjælpefane!$D$7:$D$111,\"=\"&F$9,Hjælpefane!$N$7:$N$111))","v":42},{"$f":"IF('Dine valg'!$G$24=\"\",\"-\",SUMIF(Hjælpefane!$D$7:$D$111,\"=\"&G$9,Hjælpefane!$N$7:$N$111))","v":37},{"$f":"IF('Dine valg'!$G$24=\"\",\"-\",SUMIF(Hjælpefane!$D$7:$D$111,\"=\"&H$9,Hjælpefane!$N$7:$N$111))","v":33},{"$f":"IF('Dine valg'!$G$24=\"\",\"-\",SUMIF(Hjælpefane!$D$7:$D$111,\"=\"&I$9,Hjælpefane!$N$7:$N$111))","v":27},{"$f":"IF('Dine valg'!$G$24=\"\",\"-\",SUMIF(Hjælpefane!$D$7:$D$111,\"=\"&J$9,Hjælpefane!$N$7:$N$111))","v":25},{"$f":"IF('Dine valg'!$G$24=\"\",\"-\",SUMIF(Hjælpefane!$D$7:$D$111,\"=\"&K$9,Hjælpefane!$N$7:$N$111))","v":24},{"$f":"IF('Dine valg'!$G$24=\"\",\"-\",SUMIF(Hjælpefane!$D$7:$D$111,\"=\"&L$9,Hjælpefane!$N$7:$N$111))","v":22},{"$f":"IF('Dine valg'!$G$24=\"\",\"-\",SUMIF(Hjælpefane!$D$7:$D$111,\"=\"&M$9,Hjælpefane!$N$7:$N$111))","v":24},{"$f":"IF('Dine valg'!$G$24=\"\",\"-\",SUMIF(Hjælpefane!$D$7:$D$111,\"=\"&N$9,Hjælpefane!$N$7:$N$111))","v":26},{"$f":"IF('Dine valg'!$G$24=\"\",\"-\",SUMIF(Hjælpefane!$D$7:$D$111,\"=\"&O$9,Hjælpefane!$N$7:$N$111))","v":25},{"$f":"IF('Dine valg'!$G$24=\"\",\"-\",SUMIF(Hjælpefane!$D$7:$D$111,\"=\"&P$9,Hjælpefane!$N$7:$N$111))","v":22},{"$f":"IF('Dine valg'!$G$24=\"\",\"-\",SUMIF(Hjælpefane!$D$7:$D$111,\"=\"&Q$9,Hjælpefane!$N$7:$N$111))","v":22},{"$f":"IF('Dine valg'!$G$24=\"\",\"-\",SUMIF(Hjælpefane!$D$7:$D$111,\"=\"&R$9,Hjælpefane!$N$7:$N$111))","v":25}]
[null,"Antal 0-17-årige",null,{"$f":"IF('Dine valg'!$G$24=\"\",\"-\",SUMIF(Hjælpefane!$D$7:$D$111,\"=\"&D$9,Hjælpefane!$C$7:$C$111))","v":62241},{"$f":"IF('Dine valg'!$G$24=\"\",\"-\",SUMIF(Hjælpefane!$D$7:$D$111,\"=\"&E$9,Hjælpefane!$C$7:$C$111))","v":62670},{"$f":"IF('Dine valg'!$G$24=\"\",\"-\",SUMIF(Hjælpefane!$D$7:$D$111,\"=\"&F$9,Hjælpefane!$C$7:$C$111))","v":62903},{"$f":"IF('Dine valg'!$G$24=\"\",\"-\",SUMIF(Hjælpefane!$D$7:$D$111,\"=\"&G$9,Hjælpefane!$C$7:$C$111))","v":63077},{"$f":"IF('Dine valg'!$G$24=\"\",\"-\",SUMIF(Hjælpefane!$D$7:$D$111,\"=\"&H$9,Hjælpefane!$C$7:$C$111))","v":63245},{"$f":"IF('Dine valg'!$G$24=\"\",\"-\",SUMIF(Hjælpefane!$D$7:$D$111,\"=\"&I$9,Hjælpefane!$C$7:$C$111))","v":63510},{"$f":"IF('Dine valg'!$G$24=\"\",\"-\",SUMIF(Hjælpefane!$D$7:$D$111,\"=\"&J$9,Hjælpefane!$C$7:$C$111))","v":63607},{"$f":"IF('Dine valg'!$G$24=\"\",\"-\",SUMIF(Hjælpefane!$D$7:$D$111,\"=\"&K$9,Hjælpefane!$C$7:$C$111))","v":63704},{"$f":"IF('Dine valg'!$G$24=\"\",\"-\",SUMIF(Hjælpefane!$D$7:$D$111,\"=\"&L$9,Hjælpefane!$C$7:$C$111))","v":63890},{"$f":"IF('Dine valg'!$G$24=\"\",\"-\",SUMIF(Hjælpefane!$D$7:$D$111,\"=\"&M$9,Hjælpefane!$C$7:$C$111))","v":64128},{"$f":"IF('Dine valg'!$G$24=\"\",\"-\",SUMIF(Hjælpefane!$D$7:$D$111,\"=\"&N$9,Hjælpefane!$C$7:$C$111))","v":64334},{"$f":"IF('Dine valg'!$G$24=\"\",\"-\",SUMIF(Hjælpefane!$D$7:$D$111,\"=\"&O$9,Hjælpefane!$C$7:$C$111))","v":64307},{"$f":"IF('Dine valg'!$G$24=\"\",\"-\",SUMIF(Hjælpefane!$D$7:$D$111,\"=\"&P$9,Hjælpefane!$C$7:$C$111))","v":64049},{"$f":"IF('Dine valg'!$G$24=\"\",\"-\",SUMIF(Hjælpefane!$D$7:$D$111,\"=\"&Q$9,Hjælpefane!$C$7:$C$111))","v":64356},{"$f":"IF('Dine valg'!$G$24=\"\",\"-\",SUMIF(Hjælpefane!$D$7:$D$111,\"=\"&R$9,Hjælpefane!$C$7:$C$111))","v":64420}]
[null,"Andel",null,{"$f":"IFERROR(IF(D180=\"*\",\"*\",IF(D181=\"\",\"Indtast data\",(D180/D181*1000))),\"-\")","v":0.59446345656400112},{"$f":"IFERROR(IF(E180=\"*\",\"*\",IF(E181=\"\",\"Indtast data\",(E180/E181*1000))),\"-\")","v":0.60635072602521134},{"$f":"IFERROR(IF(F180=\"*\",\"*\",IF(F181=\"\",\"Indtast data\",(F180/F181*1000))),\"-\")","v":0.66769470454509317},{"$f":"IFERROR(IF(G180=\"*\",\"*\",IF(G181=\"\",\"Indtast data\",(G180/G181*1000))),\"-\")","v":0.58658465050652375},{"$f":"IFERROR(IF(H180=\"*\",\"*\",IF(H181=\"\",\"Indtast data\",(H180/H181*1000))),\"-\")","v":0.52178037789548581},{"$f":"IFERROR(IF(I180=\"*\",\"*\",IF(I181=\"\",\"Indtast data\",(I180/I181*1000))),\"-\")","v":0.42512990080302315},{"$f":"IFERROR(IF(J180=\"*\",\"*\",IF(J181=\"\",\"Indtast data\",(J180/J181*1000))),\"-\")","v":0.39303850205166102},{"$f":"IFERROR(IF(K180=\"*\",\"*\",IF(K181=\"\",\"Indtast data\",(K180/K181*1000))),\"-\")","v":0.37674243375612204},{"$f":"IFERROR(IF(L180=\"*\",\"*\",IF(L181=\"\",\"Indtast data\",(L180/L181*1000))),\"-\")","v":0.34434183753326031},0.37425149700598803,0.40414088973171264,0.38876016607834296,0.34348701775203361,0.34184846789732115,0.38807823657249302]
[null,"Hele landet"]
[null,"Antal anbragte",null,{"$f":"INDEX(Data_land,MATCH(Skyggetabeller!D174,Data!landaar,0),13)","v":942},{"$f":"INDEX(Data_land,MATCH(Skyggetabeller!E174,Data!landaar,0),13)","v":959},{"$f":"INDEX(Data_land,MATCH(Skyggetabeller!F174,Data!landaar,0),13)","v":954},{"$f":"INDEX(Data_land,MATCH(Skyggetabeller!G174,Data!landaar,0),13)","v":999},{"$f":"INDEX(Data_land,MATCH(Skyggetabeller!H174,Data!landaar,0),13)","v":961},{"$f":"INDEX(Data_land,MATCH(Skyggetabeller!I174,Data!landaar,0),13)","v":943},{"$f":"INDEX(Data_land,MATCH(Skyggetabeller!J174,Data!landaar,0),13)","v":942},{"$f":"INDEX(Data_land,MATCH(Skyggetabeller!K174,Data!landaar,0),13)","v":917},{"$f":"INDEX(Data_land,MATCH(Skyggetabeller!L174,Data!landaar,0),13)","v":899},{"$f":"INDEX(Data_land,MATCH(Skyggetabeller!M174,Data!landaar,0),13)","v":919},{"$f":"INDEX(Data_land,MATCH(Skyggetabeller!N174,Data!landaar,0),13)","v":943},{"$f":"INDEX(Data_land,MATCH(Skyggetabeller!O174,Data!landaar,0),13)","v":946},{"$f":"INDEX(Data_land,MATCH(Skyggetabeller!P174,Data!landaar,0),13)","v":929},{"$f":"INDEX(Data_land,MATCH(Skyggetabeller!Q174,Data!landaar,0),13)","v":947},{"$f":"INDEX(Data_land,MATCH(Skyggetabeller!R174,Data!landaar,0),13)","v":978}]
[null,"Antal 0-17-årige",null,{"$f":"INDEX(Data_land,MATCH(Skyggetabeller!D174,Data!landaar,0),2)","v":1167426},{"$f":"INDEX(Data_land,MATCH(Skyggetabeller!E174,Data!landaar,0),2)","v":1167002},{"$f":"INDEX(Data_land,MATCH(Skyggetabeller!F174,Data!landaar,0),2)","v":1168201},{"$f":"INDEX(Data_land,MATCH(Skyggetabeller!G174,Data!landaar,0),2)","v":1165363},{"$f":"INDEX(Data_land,MATCH(Skyggetabeller!H174,Data!landaar,0),2)","v":1165475},{"$f":"INDEX(Data_land,MATCH(Skyggetabeller!I174,Data!landaar,0),2)","v":1162195},{"$f":"INDEX(Data_land,MATCH(Skyggetabeller!J174,Data!landaar,0),2)","v":1160360},{"$f":"INDEX(Data_land,MATCH(Skyggetabeller!K174,Data!landaar,0),2)","v":1156537},{"$f":"INDEX(Data_land,MATCH(Skyggetabeller!L174,Data!landaar,0),2)","v":1156116},{"$f":"INDEX(Data_land,MATCH(Skyggetabeller!M174,Data!landaar,0),2)","v":1153027},{"$f":"INDEX(Data_land,MATCH(Skyggetabeller!N174,Data!landaar,0),2)","v":1152972},{"$f":"INDEX(Data_land,MATCH(Skyggetabeller!O174,Data!landaar,0),2)","v":1151374},{"$f":"INDEX(Data_land,MATCH(Skyggetabeller!P174,Data!landaar,0),2)","v":1151704},{"$f":"INDEX(Data_land,MATCH(Skyggetabeller!Q174,Data!landaar,0),2)","v":1157254},{"$f":"INDEX(Data_land,MATCH(Skyggetabeller!R174,Data!landaar,0),2)","v":1155814}]
[null,"Andel",null,{"$f":"IFERROR(IF(D184=\"*\",\"*\",IF(D185=0,\"#I/T\",(D184/D185*1000))),\"Data ikke tilføjet\")","v":0.80690339259190735},0.82176380160445317,0.81664028707388536,0.85724362280250876,0.82455651129367857,0.81139567800584234,0.81181702230342301,0.79288427434660547,0.77760363146950651,{"$f":"IFERROR(IF(M184=\"*\",\"*\",IF(M185=0,\"#I/T\",(M184/M185*1000))),\"Data ikke tilføjet\")","v":0.79703250661086},0.81788629732552054,0.82162702996593628,0.806630870431986,0.81831646293726357,0.84615690759931961]
[]
[]
[null,"Nøgletal 5: Hjemmebaserede foranstaltninger"]
[]
[null,"Tabel 5: Modtagere af hjemmebaserede foranstaltninger"]
[null,"Nøgletal 5: \nModtagere af hjemmebaserede foranstaltninger",null,"2016-01-01","2016-07-01","2017-01-01","2017-07-01","2018-01-01","2018-07-01","2019-01-01","2019-07-01","2020-01-01","2020-07-01","2021-01-01","2021-07-01","2022-01-01","2022-07-01","2023-01-01"]
[null,{"$f":"IF(Kommune=\"\",\"Kommune\",Kommune)","v":"København"}]
[null,"Antal modtagere",null,{"$f":"IFERROR(IF(INDEX(Data_kom2,MATCH(1,(komnavn2=Kommune)*(komaar2=D192),0),14)=\"*\",\"*\",INDEX(Data_kom2,MATCH(1,(komnavn2=Kommune)*(komaar2=D192),0),14)),\"Data ikke tilføjet\")","v":1985},{"$f":"IFERROR(IF(INDEX(Data_kom2,MATCH(1,(komnavn2=Kommune)*(komaar2=E192),0),14)=\"*\",\"*\",INDEX(Data_kom2,MATCH(1,(komnavn2=Kommune)*(komaar2=E192),0),14)),\"Data ikke tilføjet\")","v":2101},{"$f":"IFERROR(IF(INDEX(Data_kom2,MATCH(1,(komnavn2=Kommune)*(komaar2=F192),0),14)=\"*\",\"*\",INDEX(Data_kom2,MATCH(1,(komnavn2=Kommune)*(komaar2=F192),0),14)),\"Data ikke tilføjet\")","v":2146},{"$f":"IFERROR(IF(INDEX(Data_kom2,MATCH(1,(komnavn2=Kommune)*(komaar2=G192),0),14)=\"*\",\"*\",INDEX(Data_kom2,MATCH(1,(komnavn2=Kommune)*(komaar2=G192),0),14)),\"Data ikke tilføjet\")","v":2233},{"$f":"IFERROR(IF(INDEX(Data_kom2,MATCH(1,(komnavn2=Kommune)*(komaar2=H192),0),14)=\"*\",\"*\",INDEX(Data_kom2,MATCH(1,(komnavn2=Kommune)*(komaar2=H192),0),14)),\"Data ikke tilføjet\")","v":2324},{"$f":"IFERROR(IF(INDEX(Data_kom2,MATCH(1,(komnavn2=Kommune)*(komaar2=I192),0),14)=\"*\",\"*\",INDEX(Data_kom2,MATCH(1,(komnavn2=Kommune)*(komaar2=I192),0),14)),\"Data ikke tilføjet\")","v":2384},{"$f":"IFERROR(IF(INDEX(Data_kom2,MATCH(1,(komnavn2=Kommune)*(komaar2=J192),0),14)=\"*\",\"*\",INDEX(Data_kom2,MATCH(1,(komnavn2=Kommune)*(komaar2=J192),0),14)),\"Data ikke tilføjet\")","v":2355},{"$f":"IFERROR(IF(INDEX(Data_kom2,MATCH(1,(komnavn2=Kommune)*(komaar2=K192),0),14)=\"*\",\"*\",INDEX(Data_kom2,MATCH(1,(komnavn2=Kommune)*(komaar2=K192),0),14)),\"Data ikke tilføjet\")","v":2239},{"$f":"IFERROR(IF(INDEX(Data_kom2,MATCH(1,(komnavn2=Kommune)*(komaar2=L192),0),14)=\"*\",\"*\",INDEX(Data_kom2,MATCH(1,(komnavn2=Kommune)*(komaar2=L192),0),14)),\"Data ikke tilføjet\")","v":2155},{"$f":"IFERROR(IF(INDEX(Data_kom2,MATCH(1,(komnavn2=Kommune)*(komaar2=M192),0),14)=\"*\",\"*\",INDEX(Data_kom2,MATCH(1,(komnavn2=Kommune)*(komaar2=M192),0),14)),\"Data ikke tilføjet\")","v":2139},{"$f":"IFERROR(IF(INDEX(Data_kom2,MATCH(1,(komnavn2=Kommune)*(komaar2=N192),0),14)=\"*\",\"*\",INDEX(Data_kom2,MATCH(1,(komnavn2=Kommune)*(komaar2=N192),0),14)),\"Data ikke tilføjet\")","v":2042},{"$f":"IFERROR(IF(INDEX(Data_kom2,MATCH(1,(komnavn2=Kommune)*(komaar2=O192),0),14)=\"*\",\"*\",INDEX(Data_kom2,MATCH(1,(komnavn2=Kommune)*(komaar2=O192),0),14)),\"Data ikke tilføjet\")","v":2302},{"$f":"IFERROR(IF(INDEX(Data_kom2,MATCH(1,(komnavn2=Kommune)*(komaar2=P192),0),14)=\"*\",\"*\",INDEX(Data_kom2,MATCH(1,(komnavn2=Kommune)*(komaar2=P192),0),14)),\"Data ikke tilføjet\")","v":2307},{"$f":"IFERROR(IF(INDEX(Data_kom2,MATCH(1,(komnavn2=Kommune)*(komaar2=Q192),0),14)=\"*\",\"*\",INDEX(Data_kom2,MATCH(1,(komnavn2=Kommune)*(komaar2=Q192),0),14)),\"Data ikke tilføjet\")","v":2419},{"$f":"IFERROR(IF(INDEX(Data_kom2,MATCH(1,(komnavn2=Kommune)*(komaar2=R192),0),14)=\"*\",\"*\",INDEX(Data_kom2,MATCH(1,(komnavn2=Kommune)*(komaar2=R192),0),14)),\"Data ikke tilføjet\")","v":2424}]
[null,"Antal 0-17-årige",null,{"$f":"IFERROR(INDEX(Data_kom2,MATCH(1,(komnavn2=Kommune)*(komaar2=D192),0),2),\"Data ikke tilføjet\")","v":103578},{"$f":"IFERROR(INDEX(Data_kom2,MATCH(1,(komnavn2=Kommune)*(komaar2=E192),0),2),\"Data ikke tilføjet\")","v":104797},{"$f":"IFERROR(INDEX(Data_kom2,MATCH(1,(komnavn2=Kommune)*(komaar2=F192),0),2),\"Data ikke tilføjet\")","v":105885},{"$f":"IFERROR(INDEX(Data_kom2,MATCH(1,(komnavn2=Kommune)*(komaar2=G192),0),2),\"Data ikke tilføjet\")","v":106913},{"$f":"IFERROR(INDEX(Data_kom2,MATCH(1,(komnavn2=Kommune)*(komaar2=H192),0),2),\"Data ikke tilføjet\")","v":107770},{"$f":"IFERROR(INDEX(Data_kom2,MATCH(1,(komnavn2=Kommune)*(komaar2=I192),0),2),\"Data ikke tilføjet\")","v":108734},{"$f":"IFERROR(INDEX(Data_kom2,MATCH(1,(komnavn2=Kommune)*(komaar2=J192),0),2),\"Data ikke tilføjet\")","v":109335},{"$f":"IFERROR(INDEX(Data_kom2,MATCH(1,(komnavn2=Kommune)*(komaar2=K192),0),2),\"Data ikke tilføjet\")","v":110138},{"$f":"IFERROR(INDEX(Data_kom2,MATCH(1,(komnavn2=Kommune)*(komaar2=L192),0),2),\"Data ikke tilføjet\")","v":110822},{"$f":"IFERROR(INDEX(Data_kom2,MATCH(1,(komnavn2=Kommune)*(komaar2=M192),0),2),\"Data ikke tilføjet\")","v":111068},{"$f":"IFERROR(INDEX(Data_kom2,MATCH(1,(komnavn2=Kommune)*(komaar2=N192),0),2),\"Data ikke tilføjet\")","v":110927},{"$f":"IFERROR(INDEX(Data_kom2,MATCH(1,(komnavn2=Kommune)*(komaar2=O192),0),2),\"Data ikke tilføjet\")","v":110614},{"$f":"IFERROR(INDEX(Data_kom2,MATCH(1,(komnavn2=Kommune)*(komaar2=P192),0),2),\"Data ikke tilføjet\")","v":110513},{"$f":"IFERROR(INDEX(Data_kom2,MATCH(1,(komnavn2=Kommune)*(komaar2=Q192),0),2),\"Data ikke tilføjet\")","v":110692},{"$f":"IFERROR(INDEX(Data_kom2,MATCH(1,(komnavn2=Kommune)*(komaar2=R192),0),2),\"Data ikke tilføjet\")","v":110835}]
[null,"Andel",null,{"$f":"IFERROR(IF(D194=\"*\",\"*\",IF(D195=0,\"#I/T\",(D194/D195*1000))),\"Data ikke tilføjet\")","v":19.164301299503755},20.048283824918652,20.267271096000378,20.886141067971153,21.564442794840865,21.925064837125465,21.539305803265197,20.329041747625705,19.445597444550721,{"$f":"IFERROR(IF(M194=\"*\",\"*\",IF(M195=0,\"#I/T\",(M194/M195*1000))),\"Data ikke tilføjet\")","v":19.258472287247454},18.408502889287551,20.811108901224078,20.875372128165917,21.853431142268636,21.870347814318585]
[null,"Sammenligningsgruppe, gns."]
[null,"Antal modtagere",null,{"$f":"IF('Dine valg'!$G$24=\"\",\"-\",SUMIF(Hjælpefane!$D$7:$D$111,\"=\"&D$9,Hjælpefane!$O$7:$O$111))","v":1152},{"$f":"IF('Dine valg'!$G$24=\"\",\"-\",SUMIF(Hjælpefane!$D$7:$D$111,\"=\"&E$9,Hjælpefane!$O$7:$O$111))","v":1145},{"$f":"IF('Dine valg'!$G$24=\"\",\"-\",SUMIF(Hjælpefane!$D$7:$D$111,\"=\"&F$9,Hjælpefane!$O$7:$O$111))","v":1132},{"$f":"IF('Dine valg'!$G$24=\"\",\"-\",SUMIF(Hjælpefane!$D$7:$D$111,\"=\"&G$9,Hjælpefane!$O$7:$O$111))","v":1080},{"$f":"IF('Dine valg'!$G$24=\"\",\"-\",SUMIF(Hjælpefane!$D$7:$D$111,\"=\"&H$9,Hjælpefane!$O$7:$O$111))","v":1164},{"$f":"IF('Dine valg'!$G$24=\"\",\"-\",SUMIF(Hjælpefane!$D$7:$D$111,\"=\"&I$9,Hjælpefane!$O$7:$O$111))","v":1202},{"$f":"IF('Dine valg'!$G$24=\"\",\"-\",SUMIF(Hjælpefane!$D$7:$D$111,\"=\"&J$9,Hjælpefane!$O$7:$O$111))","v":1303},{"$f":"IF('Dine valg'!$G$24=\"\",\"-\",SUMIF(Hjælpefane!$D$7:$D$111,\"=\"&K$9,Hjælpefane!$O$7:$O$111))","v":1297},{"$f":"IF('Dine valg'!$G$24=\"\",\"-\",SUMIF(Hjælpefane!$D$7:$D$111,\"=\"&L$9,Hjælpefane!$O$7:$O$111))","v":1303},{"$f":"IF('Dine valg'!$G$24=\"\",\"-\",SUMIF(Hjælpefane!$D$7:$D$111,\"=\"&M$9,Hjælpefane!$O$7:$O$111))","v":1270},{"$f":"IF('Dine valg'!$G$24=\"\",\"-\",SUMIF(Hjælpefane!$D$7:$D$111,\"=\"&N$9,Hjælpefane!$O$7:$O$111))","v":1252},{"$f":"IF('Dine valg'!$G$24=\"\",\"-\",SUMIF(Hjælpefane!$D$7:$D$111,\"=\"&O$9,Hjælpefane!$O$7:$O$111))","v":1224},{"$f":"IF('Dine valg'!$G$24=\"\",\"-\",SUMIF(Hjælpefane!$D$7:$D$111,\"=\"&P$9,Hjælpefane!$O$7:$O$111))","v":1147},{"$f":"IF('Dine valg'!$G$24=\"\",\"-\",SUMIF(Hjælpefane!$D$7:$D$111,\"=\"&Q$9,Hjælpefane!$O$7:$O$111))","v":1112},{"$f":"IF('Dine valg'!$G$24=\"\",\"-\",SUMIF(Hjælpefane!$D$7:$D$111,\"=\"&R$9,Hjælpefane!$O$7:$O$111))","v":1086}]
[null,"Antal 0-17-årige",null,{"$f":"IF('Dine valg'!$G$24=\"\",\"-\",SUMIF(Hjælpefane!$D$7:$D$111,\"=\"&D$9,Hjælpefane!$C$7:$C$111))","v":62241},{"$f":"IF('Dine valg'!$G$24=\"\",\"-\",SUMIF(Hjælpefane!$D$7:$D$111,\"=\"&E$9,Hjælpefane!$C$7:$C$111))","v":62670},{"$f":"IF('Dine valg'!$G$24=\"\",\"-\",SUMIF(Hjælpefane!$D$7:$D$111,\"=\"&F$9,Hjælpefane!$C$7:$C$111))","v":62903},{"$f":"IF('Dine valg'!$G$24=\"\",\"-\",SUMIF(Hjælpefane!$D$7:$D$111,\"=\"&G$9,Hjælpefane!$C$7:$C$111))","v":63077},{"$f":"IF('Dine valg'!$G$24=\"\",\"-\",SUMIF(Hjælpefane!$D$7:$D$111,\"=\"&H$9,Hjælpefane!$C$7:$C$111))","v":63245},{"$f":"IF('Dine valg'!$G$24=\"\",\"-\",SUMIF(Hjælpefane!$D$7:$D$111,\"=\"&I$9,Hjælpefane!$C$7:$C$111))","v":63510},{"$f":"IF('Dine valg'!$G$24=\"\",\"-\",SUMIF(Hjælpefane!$D$7:$D$111,\"=\"&J$9,Hjælpefane!$C$7:$C$111))","v":63607},{"$f":"IF('Dine valg'!$G$24=\"\",\"-\",SUMIF(Hjælpefane!$D$7:$D$111,\"=\"&K$9,Hjælpefane!$C$7:$C$111))","v":63704},{"$f":"IF('Dine valg'!$G$24=\"\",\"-\",SUMIF(Hjælpefane!$D$7:$D$111,\"=\"&L$9,Hjælpefane!$C$7:$C$111))","v":63890},{"$f":"IF('Dine valg'!$G$24=\"\",\"-\",SUMIF(Hjælpefane!$D$7:$D$111,\"=\"&M$9,Hjælpefane!$C$7:$C$111))","v":64128},{"$f":"IF('Dine valg'!$G$24=\"\",\"-\",SUMIF(Hjælpefane!$D$7:$D$111,\"=\"&N$9,Hjælpefane!$C$7:$C$111))","v":64334},{"$f":"IF('Dine valg'!$G$24=\"\",\"-\",SUMIF(Hjælpefane!$D$7:$D$111,\"=\"&O$9,Hjælpefane!$C$7:$C$111))","v":64307},{"$f":"IF('Dine valg'!$G$24=\"\",\"-\",SUMIF(Hjælpefane!$D$7:$D$111,\"=\"&P$9,Hjælpefane!$C$7:$C$111))","v":64049},{"$f":"IF('Dine valg'!$G$24=\"\",\"-\",SUMIF(Hjælpefane!$D$7:$D$111,\"=\"&Q$9,Hjælpefane!$C$7:$C$111))","v":64356},{"$f":"IF('Dine valg'!$G$24=\"\",\"-\",SUMIF(Hjælpefane!$D$7:$D$111,\"=\"&R$9,Hjælpefane!$C$7:$C$111))","v":64420}]
[null,"Andel",null,{"$f":"IFERROR(IF(D198=\"*\",\"*\",IF(D199=\"\",\"Indtast data\",(D198/D199*1000))),\"-\")","v":18.508700053019712},{"$f":"IFERROR(IF(E198=\"*\",\"*\",IF(E199=\"\",\"Indtast data\",(E198/E199*1000))),\"-\")","v":18.270304771022818},{"$f":"IFERROR(IF(F198=\"*\",\"*\",IF(F199=\"\",\"Indtast data\",(F198/F199*1000))),\"-\")","v":17.9959620367868},{"$f":"IFERROR(IF(G198=\"*\",\"*\",IF(G199=\"\",\"Indtast data\",(G198/G199*1000))),\"-\")","v":17.12193033910934},{"$f":"IFERROR(IF(H198=\"*\",\"*\",IF(H199=\"\",\"Indtast data\",(H198/H199*1000))),\"-\")","v":18.404616965768042},{"$f":"IFERROR(IF(I198=\"*\",\"*\",IF(I199=\"\",\"Indtast data\",(I198/I199*1000))),\"-\")","v":18.926153361675325},{"$f":"IFERROR(IF(J198=\"*\",\"*\",IF(J199=\"\",\"Indtast data\",(J198/J199*1000))),\"-\")","v":20.485166726932569},{"$f":"IFERROR(IF(K198=\"*\",\"*\",IF(K199=\"\",\"Indtast data\",(K198/K199*1000))),\"-\")","v":20.359789024237099},{"$f":"IFERROR(IF(L198=\"*\",\"*\",IF(L199=\"\",\"Indtast data\",(L198/L199*1000))),\"-\")","v":20.394427922992644},19.804141716566864,19.460938228619391,19.033697731195673,17.908164061890115,17.278886195537321,16.858118596709097]
[null,"Hele landet"]
[null,"Antal modtagere",null,{"$f":"INDEX(Data_land,MATCH(Skyggetabeller!D192,Data!landaar,0),14)","v":23861},{"$f":"INDEX(Data_land,MATCH(Skyggetabeller!E192,Data!landaar,0),14)","v":23864},{"$f":"INDEX(Data_land,MATCH(Skyggetabeller!F192,Data!landaar,0),14)","v":23957},{"$f":"INDEX(Data_land,MATCH(Skyggetabeller!G192,Data!landaar,0),14)","v":23985},{"$f":"INDEX(Data_land,MATCH(Skyggetabeller!H192,Data!landaar,0),14)","v":24277},{"$f":"INDEX(Data_land,MATCH(Skyggetabeller!I192,Data!landaar,0),14)","v":23840},{"$f":"INDEX(Data_land,MATCH(Skyggetabeller!J192,Data!landaar,0),14)","v":24353},{"$f":"INDEX(Data_land,MATCH(Skyggetabeller!K192,Data!landaar,0),14)","v":24158},{"$f":"INDEX(Data_land,MATCH(Skyggetabeller!L192,Data!landaar,0),14)","v":25052},{"$f":"INDEX(Data_land,MATCH(Skyggetabeller!M192,Data!landaar,0),14)","v":25126},{"$f":"INDEX(Data_land,MATCH(Skyggetabeller!N192,Data!landaar,0),14)","v":25586},{"$f":"INDEX(Data_land,MATCH(Skyggetabeller!O192,Data!landaar,0),14)","v":26506},{"$f":"INDEX(Data_land,MATCH(Skyggetabeller!P192,Data!landaar,0),14)","v":26802},{"$f":"INDEX(Data_land,MATCH(Skyggetabeller!Q192,Data!landaar,0),14)","v":26911},{"$f":"INDEX(Data_land,MATCH(Skyggetabeller!R192,Data!landaar,0),14)","v":27050}]
[null,"Antal 0-17-årige",null,{"$f":"INDEX(Data_land,MATCH(Skyggetabeller!D192,Data!landaar,0),2)","v":1167426},{"$f":"INDEX(Data_land,MATCH(Skyggetabeller!E192,Data!landaar,0),2)","v":1167002},{"$f":"INDEX(Data_land,MATCH(Skyggetabeller!F192,Data!landaar,0),2)","v":1168201},{"$f":"INDEX(Data_land,MATCH(Skyggetabeller!G192,Data!landaar,0),2)","v":1165363},{"$f":"INDEX(Data_land,MATCH(Skyggetabeller!H192,Data!landaar,0),2)","v":1165475},{"$f":"INDEX(Data_land,MATCH(Skyggetabeller!I192,Data!landaar,0),2)","v":1162195},{"$f":"INDEX(Data_land,MATCH(Skyggetabeller!J192,Data!landaar,0),2)","v":1160360},{"$f":"INDEX(Data_land,MATCH(Skyggetabeller!K192,Data!landaar,0),2)","v":1156537},{"$f":"INDEX(Data_land,MATCH(Skyggetabeller!L192,Data!landaar,0),2)","v":1156116},{"$f":"INDEX(Data_land,MATCH(Skyggetabeller!M192,Data!landaar,0),2)","v":1153027},{"$f":"INDEX(Data_land,MATCH(Skyggetabeller!N192,Data!landaar,0),2)","v":1152972},{"$f":"INDEX(Data_land,MATCH(Skyggetabeller!O192,Data!landaar,0),2)","v":1151374},{"$f":"INDEX(Data_land,MATCH(Skyggetabeller!P192,Data!landaar,0),2)","v":1151704},{"$f":"INDEX(Data_land,MATCH(Skyggetabeller!Q192,Data!landaar,0),2)","v":1157254},{"$f":"INDEX(Data_land,MATCH(Skyggetabeller!R192,Data!landaar,0),2)","v":1155814}]
[null,"Andel",null,{"$f":"IFERROR(IF(D202=\"*\",\"*\",IF(D203=0,\"#I/T\",(D202/D203*1000))),\"Data ikke tilføjet\")","v":20.438982856300957},20.448979521885995,20.507601003594417,20.581569862780952,20.83013363650014,20.512908763159366,20.987452170016201,20.888220610322023,21.669105868269273,{"$f":"IFERROR(IF(M202=\"*\",\"*\",IF(M203=0,\"#I/T\",(M202/M203*1000))),\"Data ikke tilføjet\")","v":21.79133706322575},22.19134549668162,23.021190334330985,23.271604509492022,23.254186202856072,23.403419581351326]
[]
[null,"Tabel 5.1: Modtagere af døgnophold"]
[null,"Nøgletal 5.1\nModtagere af døgnophold for både forældremyndigheds-indehaveren, barnet eller den unge og andre medlemmer af familien",null,"2016-01-01","2016-07-01","2017-01-01","2017-07-01","2018-01-01","2018-07-01","2019-01-01","2019-07-01","2020-01-01","2020-07-01","2021-01-01","2021-07-01","2022-01-01","2022-07-01","2023-01-01"]
[null,{"$f":"IF(Kommune=\"\",\"Kommune\",Kommune)","v":"København"}]
[null,"Antal modtagere",null,{"$f":"IFERROR(IF(INDEX(Data_kom2,MATCH(1,(komnavn2=Kommune)*(komaar2=D207),0),15)=\"*\",\"*\",INDEX(Data_kom2,MATCH(1,(komnavn2=Kommune)*(komaar2=D207),0),15)),\"Data ikke tilføjet\")","v":17},{"$f":"IFERROR(IF(INDEX(Data_kom2,MATCH(1,(komnavn2=Kommune)*(komaar2=E207),0),15)=\"*\",\"*\",INDEX(Data_kom2,MATCH(1,(komnavn2=Kommune)*(komaar2=E207),0),15)),\"Data ikke tilføjet\")","v":10},{"$f":"IFERROR(IF(INDEX(Data_kom2,MATCH(1,(komnavn2=Kommune)*(komaar2=F207),0),15)=\"*\",\"*\",INDEX(Data_kom2,MATCH(1,(komnavn2=Kommune)*(komaar2=F207),0),15)),\"Data ikke tilføjet\")","v":10},{"$f":"IFERROR(IF(INDEX(Data_kom2,MATCH(1,(komnavn2=Kommune)*(komaar2=G207),0),15)=\"*\",\"*\",INDEX(Data_kom2,MATCH(1,(komnavn2=Kommune)*(komaar2=G207),0),15)),\"Data ikke tilføjet\")","v":14},{"$f":"IFERROR(IF(INDEX(Data_kom2,MATCH(1,(komnavn2=Kommune)*(komaar2=H207),0),15)=\"*\",\"*\",INDEX(Data_kom2,MATCH(1,(komnavn2=Kommune)*(komaar2=H207),0),15)),\"Data ikke tilføjet\")","v":13},{"$f":"IFERROR(IF(INDEX(Data_kom2,MATCH(1,(komnavn2=Kommune)*(komaar2=I207),0),15)=\"*\",\"*\",INDEX(Data_kom2,MATCH(1,(komnavn2=Kommune)*(komaar2=I207),0),15)),\"Data ikke tilføjet\")","v":14},{"$f":"IFERROR(IF(INDEX(Data_kom2,MATCH(1,(komnavn2=Kommune)*(komaar2=J207),0),15)=\"*\",\"*\",INDEX(Data_kom2,MATCH(1,(komnavn2=Kommune)*(komaar2=J207),0),15)),\"Data ikke tilføjet\")","v":15},{"$f":"IFERROR(IF(INDEX(Data_kom2,MATCH(1,(komnavn2=Kommune)*(komaar2=K207),0),15)=\"*\",\"*\",INDEX(Data_kom2,MATCH(1,(komnavn2=Kommune)*(komaar2=K207),0),15)),\"Data ikke tilføjet\")","v":9},{"$f":"IFERROR(IF(INDEX(Data_kom2,MATCH(1,(komnavn2=Kommune)*(komaar2=L207),0),15)=\"*\",\"*\",INDEX(Data_kom2,MATCH(1,(komnavn2=Kommune)*(komaar2=L207),0),15)),\"Data ikke tilføjet\")","v":15},{"$f":"IFERROR(IF(INDEX(Data_kom2,MATCH(1,(komnavn2=Kommune)*(komaar2=M207),0),15)=\"*\",\"*\",INDEX(Data_kom2,MATCH(1,(komnavn2=Kommune)*(komaar2=M207),0),15)),\"Data ikke tilføjet\")","v":8},{"$f":"IFERROR(IF(INDEX(Data_kom2,MATCH(1,(komnavn2=Kommune)*(komaar2=N207),0),15)=\"*\",\"*\",INDEX(Data_kom2,MATCH(1,(komnavn2=Kommune)*(komaar2=N207),0),15)),\"Data ikke tilføjet\")","v":6},{"$f":"IFERROR(IF(INDEX(Data_kom2,MATCH(1,(komnavn2=Kommune)*(komaar2=O207),0),15)=\"*\",\"*\",INDEX(Data_kom2,MATCH(1,(komnavn2=Kommune)*(komaar2=O207),0),15)),\"Data ikke tilføjet\")","v":"*"},{"$f":"IFERROR(IF(INDEX(Data_kom2,MATCH(1,(komnavn2=Kommune)*(komaar2=P207),0),15)=\"*\",\"*\",INDEX(Data_kom2,MATCH(1,(komnavn2=Kommune)*(komaar2=P207),0),15)),\"Data ikke tilføjet\")","v":11},{"$f":"IFERROR(IF(INDEX(Data_kom2,MATCH(1,(komnavn2=Kommune)*(komaar2=Q207),0),15)=\"*\",\"*\",INDEX(Data_kom2,MATCH(1,(komnavn2=Kommune)*(komaar2=Q207),0),15)),\"Data ikke tilføjet\")","v":9},{"$f":"IFERROR(IF(INDEX(Data_kom2,MATCH(1,(komnavn2=Kommune)*(komaar2=R207),0),15)=\"*\",\"*\",INDEX(Data_kom2,MATCH(1,(komnavn2=Kommune)*(komaar2=R207),0),15)),\"Data ikke tilføjet\")","v":10}]
[null,"Antal 0-17-årige",null,{"$f":"IFERROR(INDEX(Data_kom2,MATCH(1,(komnavn2=Kommune)*(komaar2=D207),0),2),\"Data ikke tilføjet\")","v":103578},{"$f":"IFERROR(INDEX(Data_kom2,MATCH(1,(komnavn2=Kommune)*(komaar2=E207),0),2),\"Data ikke tilføjet\")","v":104797},{"$f":"IFERROR(INDEX(Data_kom2,MATCH(1,(komnavn2=Kommune)*(komaar2=F207),0),2),\"Data ikke tilføjet\")","v":105885},{"$f":"IFERROR(INDEX(Data_kom2,MATCH(1,(komnavn2=Kommune)*(komaar2=G207),0),2),\"Data ikke tilføjet\")","v":106913},{"$f":"IFERROR(INDEX(Data_kom2,MATCH(1,(komnavn2=Kommune)*(komaar2=H207),0),2),\"Data ikke tilføjet\")","v":107770},{"$f":"IFERROR(INDEX(Data_kom2,MATCH(1,(komnavn2=Kommune)*(komaar2=I207),0),2),\"Data ikke tilføjet\")","v":108734},{"$f":"IFERROR(INDEX(Data_kom2,MATCH(1,(komnavn2=Kommune)*(komaar2=J207),0),2),\"Data ikke tilføjet\")","v":109335},{"$f":"IFERROR(INDEX(Data_kom2,MATCH(1,(komnavn2=Kommune)*(komaar2=K207),0),2),\"Data ikke tilføjet\")","v":110138},{"$f":"IFERROR(INDEX(Data_kom2,MATCH(1,(komnavn2=Kommune)*(komaar2=L207),0),2),\"Data ikke tilføjet\")","v":110822},{"$f":"IFERROR(INDEX(Data_kom2,MATCH(1,(komnavn2=Kommune)*(komaar2=M207),0),2),\"Data ikke tilføjet\")","v":111068},{"$f":"IFERROR(INDEX(Data_kom2,MATCH(1,(komnavn2=Kommune)*(komaar2=N207),0),2),\"Data ikke tilføjet\")","v":110927},{"$f":"IFERROR(INDEX(Data_kom2,MATCH(1,(komnavn2=Kommune)*(komaar2=O207),0),2),\"Data ikke tilføjet\")","v":110614},{"$f":"IFERROR(INDEX(Data_kom2,MATCH(1,(komnavn2=Kommune)*(komaar2=P207),0),2),\"Data ikke tilføjet\")","v":110513},{"$f":"IFERROR(INDEX(Data_kom2,MATCH(1,(komnavn2=Kommune)*(komaar2=Q207),0),2),\"Data ikke tilføjet\")","v":110692},{"$f":"IFERROR(INDEX(Data_kom2,MATCH(1,(komnavn2=Kommune)*(komaar2=R207),0),2),\"Data ikke tilføjet\")","v":110835}]
[null,"Andel",null,{"$f":"IFERROR(IF(D209=\"*\",\"*\",IF(D210=0,\"#I/T\",(D209/D210*1000))),\"Data ikke tilføjet\")","v":0.16412751742648055},9.5422578890617088E-2,9.4442083392359627E-2,0.13094759290264046,0.12062726176115803,0.12875457538580387,0.13719303059404583,8.1715665801085913E-2,0.13535218638898416,{"$f":"IFERROR(IF(M209=\"*\",\"*\",IF(M210=0,\"#I/T\",(M209/M210*1000))),\"Data ikke tilføjet\")","v":7.2027946843375226E-2},5.408962651112894E-2,"*",9.9535801217956257E-2,8.1306688830267759E-2,9.022420715477962E-2]
[null,"Sammenligningsgruppe, gns."]
[null,"Antal modtagere",null,{"$f":"IF('Dine valg'!$G$24=\"\",\"-\",SUMIF(Hjælpefane!$D$7:$D$111,\"=\"&D$9,Hjælpefane!$P$7:$P$111))","v":3},{"$f":"IF('Dine valg'!$G$24=\"\",\"-\",SUMIF(Hjælpefane!$D$7:$D$111,\"=\"&E$9,Hjælpefane!$P$7:$P$111))","v":0},{"$f":"IF('Dine valg'!$G$24=\"\",\"-\",SUMIF(Hjælpefane!$D$7:$D$111,\"=\"&F$9,Hjælpefane!$P$7:$P$111))","v":0},{"$f":"IF('Dine valg'!$G$24=\"\",\"-\",SUMIF(Hjælpefane!$D$7:$D$111,\"=\"&G$9,Hjælpefane!$P$7:$P$111))","v":0},{"$f":"IF('Dine valg'!$G$24=\"\",\"-\",SUMIF(Hjælpefane!$D$7:$D$111,\"=\"&H$9,Hjælpefane!$P$7:$P$111))","v":0},{"$f":"IF('Dine valg'!$G$24=\"\",\"-\",SUMIF(Hjælpefane!$D$7:$D$111,\"=\"&I$9,Hjælpefane!$P$7:$P$111))","v":0},{"$f":"IF('Dine valg'!$G$24=\"\",\"-\",SUMIF(Hjælpefane!$D$7:$D$111,\"=\"&J$9,Hjælpefane!$P$7:$P$111))","v":3},{"$f":"IF('Dine valg'!$G$24=\"\",\"-\",SUMIF(Hjælpefane!$D$7:$D$111,\"=\"&K$9,Hjælpefane!$P$7:$P$111))","v":0},{"$f":"IF('Dine valg'!$G$24=\"\",\"-\",SUMIF(Hjælpefane!$D$7:$D$111,\"=\"&L$9,Hjælpefane!$P$7:$P$111))","v":0},{"$f":"IF('Dine valg'!$G$24=\"\",\"-\",SUMIF(Hjælpefane!$D$7:$D$111,\"=\"&M$9,Hjælpefane!$P$7:$P$111))","v":0},{"$f":"IF('Dine valg'!$G$24=\"\",\"-\",SUMIF(Hjælpefane!$D$7:$D$111,\"=\"&N$9,Hjælpefane!$P$7:$P$111))","v":0},{"$f":"IF('Dine valg'!$G$24=\"\",\"-\",SUMIF(Hjælpefane!$D$7:$D$111,\"=\"&O$9,Hjælpefane!$P$7:$P$111))","v":0},{"$f":"IF('Dine valg'!$G$24=\"\",\"-\",SUMIF(Hjælpefane!$D$7:$D$111,\"=\"&P$9,Hjælpefane!$P$7:$P$111))","v":0},{"$f":"IF('Dine valg'!$G$24=\"\",\"-\",SUMIF(Hjælpefane!$D$7:$D$111,\"=\"&Q$9,Hjælpefane!$P$7:$P$111))","v":0},{"$f":"IF('Dine valg'!$G$24=\"\",\"-\",SUMIF(Hjælpefane!$D$7:$D$111,\"=\"&R$9,Hjælpefane!$P$7:$P$111))","v":0}]
[null,"Antal 0-17-årige",null,{"$f":"IF('Dine valg'!$G$24=\"\",\"-\",SUMIF(Hjælpefane!$D$7:$D$111,\"=\"&D$9,Hjælpefane!$C$7:$C$111))","v":62241},{"$f":"IF('Dine valg'!$G$24=\"\",\"-\",SUMIF(Hjælpefane!$D$7:$D$111,\"=\"&E$9,Hjælpefane!$C$7:$C$111))","v":62670},{"$f":"IF('Dine valg'!$G$24=\"\",\"-\",SUMIF(Hjælpefane!$D$7:$D$111,\"=\"&F$9,Hjælpefane!$C$7:$C$111))","v":62903},{"$f":"IF('Dine valg'!$G$24=\"\",\"-\",SUMIF(Hjælpefane!$D$7:$D$111,\"=\"&G$9,Hjælpefane!$C$7:$C$111))","v":63077},{"$f":"IF('Dine valg'!$G$24=\"\",\"-\",SUMIF(Hjælpefane!$D$7:$D$111,\"=\"&H$9,Hjælpefane!$C$7:$C$111))","v":63245},{"$f":"IF('Dine valg'!$G$24=\"\",\"-\",SUMIF(Hjælpefane!$D$7:$D$111,\"=\"&I$9,Hjælpefane!$C$7:$C$111))","v":63510},{"$f":"IF('Dine valg'!$G$24=\"\",\"-\",SUMIF(Hjælpefane!$D$7:$D$111,\"=\"&J$9,Hjælpefane!$C$7:$C$111))","v":63607},{"$f":"IF('Dine valg'!$G$24=\"\",\"-\",SUMIF(Hjælpefane!$D$7:$D$111,\"=\"&K$9,Hjælpefane!$C$7:$C$111))","v":63704},{"$f":"IF('Dine valg'!$G$24=\"\",\"-\",SUMIF(Hjælpefane!$D$7:$D$111,\"=\"&L$9,Hjælpefane!$C$7:$C$111))","v":63890},{"$f":"IF('Dine valg'!$G$24=\"\",\"-\",SUMIF(Hjælpefane!$D$7:$D$111,\"=\"&M$9,Hjælpefane!$C$7:$C$111))","v":64128},{"$f":"IF('Dine valg'!$G$24=\"\",\"-\",SUMIF(Hjælpefane!$D$7:$D$111,\"=\"&N$9,Hjælpefane!$C$7:$C$111))","v":64334},{"$f":"IF('Dine valg'!$G$24=\"\",\"-\",SUMIF(Hjælpefane!$D$7:$D$111,\"=\"&O$9,Hjælpefane!$C$7:$C$111))","v":64307},{"$f":"IF('Dine valg'!$G$24=\"\",\"-\",SUMIF(Hjælpefane!$D$7:$D$111,\"=\"&P$9,Hjælpefane!$C$7:$C$111))","v":64049},{"$f":"IF('Dine valg'!$G$24=\"\",\"-\",SUMIF(Hjælpefane!$D$7:$D$111,\"=\"&Q$9,Hjælpefane!$C$7:$C$111))","v":64356},{"$f":"IF('Dine valg'!$G$24=\"\",\"-\",SUMIF(Hjælpefane!$D$7:$D$111,\"=\"&R$9,Hjælpefane!$C$7:$C$111))","v":64420}]
[null,"Andel",null,{"$f":"IFERROR(IF(D213=\"*\",\"*\",IF(D214=\"\",\"Indtast data\",(D213/D214*1000))),\"-\")","v":4.8199739721405503E-2},{"$f":"IFERROR(IF(E213=\"*\",\"*\",IF(E214=\"\",\"Indtast data\",(E213/E214*1000))),\"-\")","v":0},0,0,0,0,4.7164620246199315E-2,0,0,{"$f":"IFERROR(IF(M213=\"*\",\"*\",IF(M214=\"\",\"Indtast data\",(M213/M214*1000))),\"-\")","v":0},0,0,0,0,0]
[null,"Hele landet"]
[null,"Antal modtagere",null,{"$f":"INDEX(Data_land,MATCH(Skyggetabeller!D207,Data!landaar,0),15)","v":90},{"$f":"INDEX(Data_land,MATCH(Skyggetabeller!E207,Data!landaar,0),15)","v":63},{"$f":"INDEX(Data_land,MATCH(Skyggetabeller!F207,Data!landaar,0),15)","v":87},{"$f":"INDEX(Data_land,MATCH(Skyggetabeller!G207,Data!landaar,0),15)","v":85},{"$f":"INDEX(Data_land,MATCH(Skyggetabeller!H207,Data!landaar,0),15)","v":68},{"$f":"INDEX(Data_land,MATCH(Skyggetabeller!I207,Data!landaar,0),15)","v":84},{"$f":"INDEX(Data_land,MATCH(Skyggetabeller!J207,Data!landaar,0),15)","v":79},{"$f":"INDEX(Data_land,MATCH(Skyggetabeller!K207,Data!landaar,0),15)","v":72},{"$f":"INDEX(Data_land,MATCH(Skyggetabeller!L207,Data!landaar,0),15)","v":88},{"$f":"INDEX(Data_land,MATCH(Skyggetabeller!M207,Data!landaar,0),15)","v":86},{"$f":"INDEX(Data_land,MATCH(Skyggetabeller!N207,Data!landaar,0),15)","v":77},{"$f":"INDEX(Data_land,MATCH(Skyggetabeller!O207,Data!landaar,0),15)","v":63},{"$f":"INDEX(Data_land,MATCH(Skyggetabeller!P207,Data!landaar,0),15)","v":72},{"$f":"INDEX(Data_land,MATCH(Skyggetabeller!Q207,Data!landaar,0),15)","v":61},{"$f":"INDEX(Data_land,MATCH(Skyggetabeller!R207,Data!landaar,0),15)","v":71}]
[null,"Antal 0-17-årige",null,{"$f":"INDEX(Data_land,MATCH(Skyggetabeller!D207,Data!landaar,0),2)","v":1167426},{"$f":"INDEX(Data_land,MATCH(Skyggetabeller!E207,Data!landaar,0),2)","v":1167002},{"$f":"INDEX(Data_land,MATCH(Skyggetabeller!F207,Data!landaar,0),2)","v":1168201},{"$f":"INDEX(Data_land,MATCH(Skyggetabeller!G207,Data!landaar,0),2)","v":1165363},{"$f":"INDEX(Data_land,MATCH(Skyggetabeller!H207,Data!landaar,0),2)","v":1165475},{"$f":"INDEX(Data_land,MATCH(Skyggetabeller!I207,Data!landaar,0),2)","v":1162195},{"$f":"INDEX(Data_land,MATCH(Skyggetabeller!J207,Data!landaar,0),2)","v":1160360},{"$f":"INDEX(Data_land,MATCH(Skyggetabeller!K207,Data!landaar,0),2)","v":1156537},{"$f":"INDEX(Data_land,MATCH(Skyggetabeller!L207,Data!landaar,0),2)","v":1156116},{"$f":"INDEX(Data_land,MATCH(Skyggetabeller!M207,Data!landaar,0),2)","v":1153027},{"$f":"INDEX(Data_land,MATCH(Skyggetabeller!N207,Data!landaar,0),2)","v":1152972},{"$f":"INDEX(Data_land,MATCH(Skyggetabeller!O207,Data!landaar,0),2)","v":1151374},{"$f":"INDEX(Data_land,MATCH(Skyggetabeller!P207,Data!landaar,0),2)","v":1151704},{"$f":"INDEX(Data_land,MATCH(Skyggetabeller!Q207,Data!landaar,0),2)","v":1157254},{"$f":"INDEX(Data_land,MATCH(Skyggetabeller!R207,Data!landaar,0),2)","v":1155814}]
[null,"Andel",null,{"$f":"IFERROR(IF(D217=\"*\",\"*\",IF(D218=0,\"#I/T\",(D217/D218*1000))),\"Data ikke tilføjet\")","v":7.7092680820882858E-2},5.3984483317080861E-2,7.4473485299190817E-2,7.2938646584798039E-2,5.8345309852206179E-2,7.2277027521199105E-2,6.8082319280223388E-2,6.2254817615000652E-2,7.6116929443066264E-2,{"$f":"IFERROR(IF(M217=\"*\",\"*\",IF(M218=0,\"#I/T\",(M217/M218*1000))),\"Data ikke tilføjet\")","v":7.4586284622996685E-2},6.6783928837820861E-2,5.4717233496674407E-2,6.251606315511625E-2,5.271098652499797E-2,6.1428568956596825E-2]
[]
[null,"Tabel 5.2: Modtagere af hjemmebaserede anbringelser"]
[null,"Nøgletal 5.2: \nModtagere af hjemmebaserede anbringelser",null,"2016-01-01","2016-07-01","2017-01-01","2017-07-01","2018-01-01","2018-07-01","2019-01-01","2019-07-01","2020-01-01","2020-07-01","2021-01-01","2021-07-01","2022-01-01","2022-07-01","2023-01-01"]
[null,{"$f":"IF(Kommune=\"\",\"Kommune\",Kommune)","v":"København"}]
[null,"Antal modtagere",null,{"$f":"IFERROR(IF(INDEX(Data_kom2,MATCH(1,(komnavn2=Kommune)*(komaar2=D222),0),16)=\"*\",\"*\",INDEX(Data_kom2,MATCH(1,(komnavn2=Kommune)*(komaar2=D222),0),16)),\"Data ikke tilføjet\")","v":26},{"$f":"IFERROR(IF(INDEX(Data_kom2,MATCH(1,(komnavn2=Kommune)*(komaar2=E222),0),16)=\"*\",\"*\",INDEX(Data_kom2,MATCH(1,(komnavn2=Kommune)*(komaar2=E222),0),16)),\"Data ikke tilføjet\")","v":19},{"$f":"IFERROR(IF(INDEX(Data_kom2,MATCH(1,(komnavn2=Kommune)*(komaar2=F222),0),16)=\"*\",\"*\",INDEX(Data_kom2,MATCH(1,(komnavn2=Kommune)*(komaar2=F222),0),16)),\"Data ikke tilføjet\")","v":23},{"$f":"IFERROR(IF(INDEX(Data_kom2,MATCH(1,(komnavn2=Kommune)*(komaar2=G222),0),16)=\"*\",\"*\",INDEX(Data_kom2,MATCH(1,(komnavn2=Kommune)*(komaar2=G222),0),16)),\"Data ikke tilføjet\")","v":23},{"$f":"IFERROR(IF(INDEX(Data_kom2,MATCH(1,(komnavn2=Kommune)*(komaar2=H222),0),16)=\"*\",\"*\",INDEX(Data_kom2,MATCH(1,(komnavn2=Kommune)*(komaar2=H222),0),16)),\"Data ikke tilføjet\")","v":23},{"$f":"IFERROR(IF(INDEX(Data_kom2,MATCH(1,(komnavn2=Kommune)*(komaar2=I222),0),16)=\"*\",\"*\",INDEX(Data_kom2,MATCH(1,(komnavn2=Kommune)*(komaar2=I222),0),16)),\"Data ikke tilføjet\")","v":15},{"$f":"IFERROR(IF(INDEX(Data_kom2,MATCH(1,(komnavn2=Kommune)*(komaar2=J222),0),16)=\"*\",\"*\",INDEX(Data_kom2,MATCH(1,(komnavn2=Kommune)*(komaar2=J222),0),16)),\"Data ikke tilføjet\")","v":19},{"$f":"IFERROR(IF(INDEX(Data_kom2,MATCH(1,(komnavn2=Kommune)*(komaar2=K222),0),16)=\"*\",\"*\",INDEX(Data_kom2,MATCH(1,(komnavn2=Kommune)*(komaar2=K222),0),16)),\"Data ikke tilføjet\")","v":9},{"$f":"IFERROR(IF(INDEX(Data_kom2,MATCH(1,(komnavn2=Kommune)*(komaar2=L222),0),16)=\"*\",\"*\",INDEX(Data_kom2,MATCH(1,(komnavn2=Kommune)*(komaar2=L222),0),16)),\"Data ikke tilføjet\")","v":10},{"$f":"IFERROR(IF(INDEX(Data_kom2,MATCH(1,(komnavn2=Kommune)*(komaar2=M222),0),16)=\"*\",\"*\",INDEX(Data_kom2,MATCH(1,(komnavn2=Kommune)*(komaar2=M222),0),16)),\"Data ikke tilføjet\")","v":10},{"$f":"IFERROR(IF(INDEX(Data_kom2,MATCH(1,(komnavn2=Kommune)*(komaar2=N222),0),16)=\"*\",\"*\",INDEX(Data_kom2,MATCH(1,(komnavn2=Kommune)*(komaar2=N222),0),16)),\"Data ikke tilføjet\")","v":15},{"$f":"IFERROR(IF(INDEX(Data_kom2,MATCH(1,(komnavn2=Kommune)*(komaar2=O222),0),16)=\"*\",\"*\",INDEX(Data_kom2,MATCH(1,(komnavn2=Kommune)*(komaar2=O222),0),16)),\"Data ikke tilføjet\")","v":15},{"$f":"IFERROR(IF(INDEX(Data_kom2,MATCH(1,(komnavn2=Kommune)*(komaar2=P222),0),16)=\"*\",\"*\",INDEX(Data_kom2,MATCH(1,(komnavn2=Kommune)*(komaar2=P222),0),16)),\"Data ikke tilføjet\")","v":15},{"$f":"IFERROR(IF(INDEX(Data_kom2,MATCH(1,(komnavn2=Kommune)*(komaar2=Q222),0),16)=\"*\",\"*\",INDEX(Data_kom2,MATCH(1,(komnavn2=Kommune)*(komaar2=Q222),0),16)),\"Data ikke tilføjet\")","v":11},{"$f":"IFERROR(IF(INDEX(Data_kom2,MATCH(1,(komnavn2=Kommune)*(komaar2=R222),0),16)=\"*\",\"*\",INDEX(Data_kom2,MATCH(1,(komnavn2=Kommune)*(komaar2=R222),0),16)),\"Data ikke tilføjet\")","v":13}]
[null,"Antal 0-17-årige",null,{"$f":"IFERROR(INDEX(Data_kom2,MATCH(1,(komnavn2=Kommune)*(komaar2=D222),0),2),\"Data ikke tilføjet\")","v":103578},{"$f":"IFERROR(INDEX(Data_kom2,MATCH(1,(komnavn2=Kommune)*(komaar2=E222),0),2),\"Data ikke tilføjet\")","v":104797},{"$f":"IFERROR(INDEX(Data_kom2,MATCH(1,(komnavn2=Kommune)*(komaar2=F222),0),2),\"Data ikke tilføjet\")","v":105885},{"$f":"IFERROR(INDEX(Data_kom2,MATCH(1,(komnavn2=Kommune)*(komaar2=G222),0),2),\"Data ikke tilføjet\")","v":106913},{"$f":"IFERROR(INDEX(Data_kom2,MATCH(1,(komnavn2=Kommune)*(komaar2=H222),0),2),\"Data ikke tilføjet\")","v":107770},{"$f":"IFERROR(INDEX(Data_kom2,MATCH(1,(komnavn2=Kommune)*(komaar2=I222),0),2),\"Data ikke tilføjet\")","v":108734},{"$f":"IFERROR(INDEX(Data_kom2,MATCH(1,(komnavn2=Kommune)*(komaar2=J222),0),2),\"Data ikke tilføjet\")","v":109335},{"$f":"IFERROR(INDEX(Data_kom2,MATCH(1,(komnavn2=Kommune)*(komaar2=K222),0),2),\"Data ikke tilføjet\")","v":110138},{"$f":"IFERROR(INDEX(Data_kom2,MATCH(1,(komnavn2=Kommune)*(komaar2=L222),0),2),\"Data ikke tilføjet\")","v":110822},{"$f":"IFERROR(INDEX(Data_kom2,MATCH(1,(komnavn2=Kommune)*(komaar2=M222),0),2),\"Data ikke tilføjet\")","v":111068},{"$f":"IFERROR(INDEX(Data_kom2,MATCH(1,(komnavn2=Kommune)*(komaar2=N222),0),2),\"Data ikke tilføjet\")","v":110927},{"$f":"IFERROR(INDEX(Data_kom2,MATCH(1,(komnavn2=Kommune)*(komaar2=O222),0),2),\"Data ikke tilføjet\")","v":110614},{"$f":"IFERROR(INDEX(Data_kom2,MATCH(1,(komnavn2=Kommune)*(komaar2=P222),0),2),\"Data ikke tilføjet\")","v":110513},{"$f":"IFERROR(INDEX(Data_kom2,MATCH(1,(komnavn2=Kommune)*(komaar2=Q222),0),2),\"Data ikke tilføjet\")","v":110692},{"$f":"IFERROR(INDEX(Data_kom2,MATCH(1,(komnavn2=Kommune)*(komaar2=R222),0),2),\"Data ikke tilføjet\")","v":110835}]
[null,"Andel",null,{"$f":"IFERROR(IF(D224=\"*\",\"*\",IF(D225=0,\"#I/T\",(D224/D225*1000))),\"Data ikke tilføjet\")","v":0.25101855606402906},0.18130289989217249,0.21721679180242717,0.21512818834005218,0.21341746311589496,0.13795133077050417,0.17377783875245806,8.1715665801085913E-2,9.0234790925989419E-2,{"$f":"IFERROR(IF(M224=\"*\",\"*\",IF(M225=0,\"#I/T\",(M224/M225*1000))),\"Data ikke tilføjet\")","v":9.0034933554219029E-2},0.13522406627782235,0.13560670439546529,0.13573063802448582,9.937484190366061E-2,0.11729146930121352]
[null,"Sammenligningsgruppe, gns."]
[null,"Antal modtagere",null,{"$f":"IF('Dine valg'!$G$24=\"\",\"-\",SUMIF(Hjælpefane!$D$7:$D$111,\"=\"&D$9,Hjælpefane!$Q$7:$Q$111))","v":30},{"$f":"IF('Dine valg'!$G$24=\"\",\"-\",SUMIF(Hjælpefane!$D$7:$D$111,\"=\"&E$9,Hjælpefane!$Q$7:$Q$111))","v":19},{"$f":"IF('Dine valg'!$G$24=\"\",\"-\",SUMIF(Hjælpefane!$D$7:$D$111,\"=\"&F$9,Hjælpefane!$Q$7:$Q$111))","v":24},{"$f":"IF('Dine valg'!$G$24=\"\",\"-\",SUMIF(Hjælpefane!$D$7:$D$111,\"=\"&G$9,Hjælpefane!$Q$7:$Q$111))","v":25},{"$f":"IF('Dine valg'!$G$24=\"\",\"-\",SUMIF(Hjælpefane!$D$7:$D$111,\"=\"&H$9,Hjælpefane!$Q$7:$Q$111))","v":18},{"$f":"IF('Dine valg'!$G$24=\"\",\"-\",SUMIF(Hjælpefane!$D$7:$D$111,\"=\"&I$9,Hjælpefane!$Q$7:$Q$111))","v":0},{"$f":"IF('Dine valg'!$G$24=\"\",\"-\",SUMIF(Hjælpefane!$D$7:$D$111,\"=\"&J$9,Hjælpefane!$Q$7:$Q$111))","v":7},{"$f":"IF('Dine valg'!$G$24=\"\",\"-\",SUMIF(Hjælpefane!$D$7:$D$111,\"=\"&K$9,Hjælpefane!$Q$7:$Q$111))","v":5},{"$f":"IF('Dine valg'!$G$24=\"\",\"-\",SUMIF(Hjælpefane!$D$7:$D$111,\"=\"&L$9,Hjælpefane!$Q$7:$Q$111))","v":0},{"$f":"IF('Dine valg'!$G$24=\"\",\"-\",SUMIF(Hjælpefane!$D$7:$D$111,\"=\"&M$9,Hjælpefane!$Q$7:$Q$111))","v":0},{"$f":"IF('Dine valg'!$G$24=\"\",\"-\",SUMIF(Hjælpefane!$D$7:$D$111,\"=\"&N$9,Hjælpefane!$Q$7:$Q$111))","v":0},{"$f":"IF('Dine valg'!$G$24=\"\",\"-\",SUMIF(Hjælpefane!$D$7:$D$111,\"=\"&O$9,Hjælpefane!$Q$7:$Q$111))","v":0},{"$f":"IF('Dine valg'!$G$24=\"\",\"-\",SUMIF(Hjælpefane!$D$7:$D$111,\"=\"&P$9,Hjælpefane!$Q$7:$Q$111))","v":0},{"$f":"IF('Dine valg'!$G$24=\"\",\"-\",SUMIF(Hjælpefane!$D$7:$D$111,\"=\"&Q$9,Hjælpefane!$Q$7:$Q$111))","v":0},{"$f":"IF('Dine valg'!$G$24=\"\",\"-\",SUMIF(Hjælpefane!$D$7:$D$111,\"=\"&R$9,Hjælpefane!$Q$7:$Q$111))","v":0}]
[null,"Antal 0-17-årige",null,{"$f":"IF('Dine valg'!$G$24=\"\",\"-\",SUMIF(Hjælpefane!$D$7:$D$111,\"=\"&D$9,Hjælpefane!$C$7:$C$111))","v":62241},{"$f":"IF('Dine valg'!$G$24=\"\",\"-\",SUMIF(Hjælpefane!$D$7:$D$111,\"=\"&E$9,Hjælpefane!$C$7:$C$111))","v":62670},{"$f":"IF('Dine valg'!$G$24=\"\",\"-\",SUMIF(Hjælpefane!$D$7:$D$111,\"=\"&F$9,Hjælpefane!$C$7:$C$111))","v":62903},{"$f":"IF('Dine valg'!$G$24=\"\",\"-\",SUMIF(Hjælpefane!$D$7:$D$111,\"=\"&G$9,Hjælpefane!$C$7:$C$111))","v":63077},{"$f":"IF('Dine valg'!$G$24=\"\",\"-\",SUMIF(Hjælpefane!$D$7:$D$111,\"=\"&H$9,Hjælpefane!$C$7:$C$111))","v":63245},{"$f":"IF('Dine valg'!$G$24=\"\",\"-\",SUMIF(Hjælpefane!$D$7:$D$111,\"=\"&I$9,Hjælpefane!$C$7:$C$111))","v":63510},{"$f":"IF('Dine valg'!$G$24=\"\",\"-\",SUMIF(Hjælpefane!$D$7:$D$111,\"=\"&J$9,Hjælpefane!$C$7:$C$111))","v":63607},{"$f":"IF('Dine valg'!$G$24=\"\",\"-\",SUMIF(Hjælpefane!$D$7:$D$111,\"=\"&K$9,Hjælpefane!$C$7:$C$111))","v":63704},{"$f":"IF('Dine valg'!$G$24=\"\",\"-\",SUMIF(Hjælpefane!$D$7:$D$111,\"=\"&L$9,Hjælpefane!$C$7:$C$111))","v":63890},{"$f":"IF('Dine valg'!$G$24=\"\",\"-\",SUMIF(Hjælpefane!$D$7:$D$111,\"=\"&M$9,Hjælpefane!$C$7:$C$111))","v":64128},{"$f":"IF('Dine valg'!$G$24=\"\",\"-\",SUMIF(Hjælpefane!$D$7:$D$111,\"=\"&N$9,Hjælpefane!$C$7:$C$111))","v":64334},{"$f":"IF('Dine valg'!$G$24=\"\",\"-\",SUMIF(Hjælpefane!$D$7:$D$111,\"=\"&O$9,Hjælpefane!$C$7:$C$111))","v":64307},{"$f":"IF('Dine valg'!$G$24=\"\",\"-\",SUMIF(Hjælpefane!$D$7:$D$111,\"=\"&P$9,Hjælpefane!$C$7:$C$111))","v":64049},{"$f":"IF('Dine valg'!$G$24=\"\",\"-\",SUMIF(Hjælpefane!$D$7:$D$111,\"=\"&Q$9,Hjælpefane!$C$7:$C$111))","v":64356},{"$f":"IF('Dine valg'!$G$24=\"\",\"-\",SUMIF(Hjælpefane!$D$7:$D$111,\"=\"&R$9,Hjælpefane!$C$7:$C$111))","v":64420}]
[null,"Andel",null,{"$f":"IFERROR(IF(D228=\"*\",\"*\",IF(D229=\"\",\"Indtast data\",(D228/D229*1000))),\"-\")","v":0.48199739721405505},{"$f":"IFERROR(IF(E228=\"*\",\"*\",IF(E229=\"\",\"Indtast data\",(E228/E229*1000))),\"-\")","v":0.30317536301260567},{"$f":"IFERROR(IF(F228=\"*\",\"*\",IF(F229=\"\",\"Indtast data\",(F228/F229*1000))),\"-\")","v":0.38153983116862472},{"$f":"IFERROR(IF(G228=\"*\",\"*\",IF(G229=\"\",\"Indtast data\",(G228/G229*1000))),\"-\")","v":0.39634098007197555},{"$f":"IFERROR(IF(H228=\"*\",\"*\",IF(H229=\"\",\"Indtast data\",(H228/H229*1000))),\"-\")","v":0.28460747885208321},{"$f":"IFERROR(IF(I228=\"*\",\"*\",IF(I229=\"\",\"Indtast data\",(I228/I229*1000))),\"-\")","v":0},{"$f":"IFERROR(IF(J228=\"*\",\"*\",IF(J229=\"\",\"Indtast data\",(J228/J229*1000))),\"-\")","v":0.11005078057446507},{"$f":"IFERROR(IF(K228=\"*\",\"*\",IF(K229=\"\",\"Indtast data\",(K228/K229*1000))),\"-\")","v":7.8488007032525425E-2},{"$f":"IFERROR(IF(L228=\"*\",\"*\",IF(L229=\"\",\"Indtast data\",(L228/L229*1000))),\"-\")","v":0},0,0,0,0,0,0]
[null,"Hele landet"]
[null,"Antal modtagere",null,{"$f":"INDEX(Data_land,MATCH(Skyggetabeller!D222,Data!landaar,0),16)","v":398},{"$f":"INDEX(Data_land,MATCH(Skyggetabeller!E222,Data!landaar,0),16)","v":364},{"$f":"INDEX(Data_land,MATCH(Skyggetabeller!F222,Data!landaar,0),16)","v":360},{"$f":"INDEX(Data_land,MATCH(Skyggetabeller!G222,Data!landaar,0),16)","v":336},{"$f":"INDEX(Data_land,MATCH(Skyggetabeller!H222,Data!landaar,0),16)","v":319},{"$f":"INDEX(Data_land,MATCH(Skyggetabeller!I222,Data!landaar,0),16)","v":255},{"$f":"INDEX(Data_land,MATCH(Skyggetabeller!J222,Data!landaar,0),16)","v":252},{"$f":"INDEX(Data_land,MATCH(Skyggetabeller!K222,Data!landaar,0),16)","v":223},{"$f":"INDEX(Data_land,MATCH(Skyggetabeller!L222,Data!landaar,0),16)","v":252},{"$f":"INDEX(Data_land,MATCH(Skyggetabeller!M222,Data!landaar,0),16)","v":235},{"$f":"INDEX(Data_land,MATCH(Skyggetabeller!N222,Data!landaar,0),16)","v":251},{"$f":"INDEX(Data_land,MATCH(Skyggetabeller!O222,Data!landaar,0),16)","v":245},{"$f":"INDEX(Data_land,MATCH(Skyggetabeller!P222,Data!landaar,0),16)","v":255},{"$f":"INDEX(Data_land,MATCH(Skyggetabeller!Q222,Data!landaar,0),16)","v":249},{"$f":"INDEX(Data_land,MATCH(Skyggetabeller!R222,Data!landaar,0),16)","v":244}]
[null,"Antal 0-17-årige",null,{"$f":"INDEX(Data_land,MATCH(Skyggetabeller!D222,Data!landaar,0),2)","v":1167426},{"$f":"INDEX(Data_land,MATCH(Skyggetabeller!E222,Data!landaar,0),2)","v":1167002},{"$f":"INDEX(Data_land,MATCH(Skyggetabeller!F222,Data!landaar,0),2)","v":1168201},{"$f":"INDEX(Data_land,MATCH(Skyggetabeller!G222,Data!landaar,0),2)","v":1165363},{"$f":"INDEX(Data_land,MATCH(Skyggetabeller!H222,Data!landaar,0),2)","v":1165475},{"$f":"INDEX(Data_land,MATCH(Skyggetabeller!I222,Data!landaar,0),2)","v":1162195},{"$f":"INDEX(Data_land,MATCH(Skyggetabeller!J222,Data!landaar,0),2)","v":1160360},{"$f":"INDEX(Data_land,MATCH(Skyggetabeller!K222,Data!landaar,0),2)","v":1156537},{"$f":"INDEX(Data_land,MATCH(Skyggetabeller!L222,Data!landaar,0),2)","v":1156116},{"$f":"INDEX(Data_land,MATCH(Skyggetabeller!M222,Data!landaar,0),2)","v":1153027},{"$f":"INDEX(Data_land,MATCH(Skyggetabeller!N222,Data!landaar,0),2)","v":1152972},{"$f":"INDEX(Data_land,MATCH(Skyggetabeller!O222,Data!landaar,0),2)","v":1151374},{"$f":"INDEX(Data_land,MATCH(Skyggetabeller!P222,Data!landaar,0),2)","v":1151704},{"$f":"INDEX(Data_land,MATCH(Skyggetabeller!Q222,Data!landaar,0),2)","v":1157254},{"$f":"INDEX(Data_land,MATCH(Skyggetabeller!R222,Data!landaar,0),2)","v":1155814}]
[null,"Andel",null,{"$f":"IFERROR(IF(D232=\"*\",\"*\",IF(D233=0,\"#I/T\",(D232/D233*1000))),\"Data ikke tilføjet\")","v":0.34092096629679308},0.31191034805424495,0.30816614606561715,0.28832217944108407,0.2737081447478496,0.21941240497506873,0.21717398048881381,0.19281700455757145,0.21797120704150796,{"$f":"IFERROR(IF(M232=\"*\",\"*\",IF(M233=0,\"#I/T\",(M232/M233*1000))),\"Data ikke tilføjet\")","v":0.20381135914423512},0.21769826153627322,0.21278924137595601,0.22141105700770339,0.21516451876597534,0.21110663134379754]
[]
[null,"Tabel 5.3: Modtagere af ikke-forældrerettede forebyggende foranstaltninger"]
[null,"Nøgletal 5.3: \nBørn og unge, der modtager ikke-forældrerettede forebyggende foranstaltninger",null,"2016-01-01","2016-07-01","2017-01-01","2017-07-01","2018-01-01","2018-07-01","2019-01-01","2019-07-01","2020-01-01","2020-07-01","2021-01-01","2021-07-01","2022-01-01","2022-07-01","2023-01-01"]
[null,{"$f":"IF(Kommune=\"\",\"Kommune\",Kommune)","v":"København"}]
[null,"Antal modtagere",null,{"$f":"IFERROR(IF(INDEX(Data_kom2,MATCH(1,(komnavn2=Kommune)*(komaar2=D237),0),17)=\"*\",\"*\",INDEX(Data_kom2,MATCH(1,(komnavn2=Kommune)*(komaar2=D237),0),17)),\"Data ikke tilføjet\")","v":1938},{"$f":"IFERROR(IF(INDEX(Data_kom2,MATCH(1,(komnavn2=Kommune)*(komaar2=E237),0),17)=\"*\",\"*\",INDEX(Data_kom2,MATCH(1,(komnavn2=Kommune)*(komaar2=E237),0),17)),\"Data ikke tilføjet\")","v":2069},{"$f":"IFERROR(IF(INDEX(Data_kom2,MATCH(1,(komnavn2=Kommune)*(komaar2=F237),0),17)=\"*\",\"*\",INDEX(Data_kom2,MATCH(1,(komnavn2=Kommune)*(komaar2=F237),0),17)),\"Data ikke tilføjet\")","v":2108},{"$f":"IFERROR(IF(INDEX(Data_kom2,MATCH(1,(komnavn2=Kommune)*(komaar2=G237),0),17)=\"*\",\"*\",INDEX(Data_kom2,MATCH(1,(komnavn2=Kommune)*(komaar2=G237),0),17)),\"Data ikke tilføjet\")","v":2193},{"$f":"IFERROR(IF(INDEX(Data_kom2,MATCH(1,(komnavn2=Kommune)*(komaar2=H237),0),17)=\"*\",\"*\",INDEX(Data_kom2,MATCH(1,(komnavn2=Kommune)*(komaar2=H237),0),17)),\"Data ikke tilføjet\")","v":2283},{"$f":"IFERROR(IF(INDEX(Data_kom2,MATCH(1,(komnavn2=Kommune)*(komaar2=I237),0),17)=\"*\",\"*\",INDEX(Data_kom2,MATCH(1,(komnavn2=Kommune)*(komaar2=I237),0),17)),\"Data ikke tilføjet\")","v":2351},{"$f":"IFERROR(IF(INDEX(Data_kom2,MATCH(1,(komnavn2=Kommune)*(komaar2=J237),0),17)=\"*\",\"*\",INDEX(Data_kom2,MATCH(1,(komnavn2=Kommune)*(komaar2=J237),0),17)),\"Data ikke tilføjet\")","v":2318},{"$f":"IFERROR(IF(INDEX(Data_kom2,MATCH(1,(komnavn2=Kommune)*(komaar2=K237),0),17)=\"*\",\"*\",INDEX(Data_kom2,MATCH(1,(komnavn2=Kommune)*(komaar2=K237),0),17)),\"Data ikke tilføjet\")","v":2218},{"$f":"IFERROR(IF(INDEX(Data_kom2,MATCH(1,(komnavn2=Kommune)*(komaar2=L237),0),17)=\"*\",\"*\",INDEX(Data_kom2,MATCH(1,(komnavn2=Kommune)*(komaar2=L237),0),17)),\"Data ikke tilføjet\")","v":2125},{"$f":"IFERROR(IF(INDEX(Data_kom2,MATCH(1,(komnavn2=Kommune)*(komaar2=M237),0),17)=\"*\",\"*\",INDEX(Data_kom2,MATCH(1,(komnavn2=Kommune)*(komaar2=M237),0),17)),\"Data ikke tilføjet\")","v":2110},{"$f":"IFERROR(IF(INDEX(Data_kom2,MATCH(1,(komnavn2=Kommune)*(komaar2=N237),0),17)=\"*\",\"*\",INDEX(Data_kom2,MATCH(1,(komnavn2=Kommune)*(komaar2=N237),0),17)),\"Data ikke tilføjet\")","v":2007},{"$f":"IFERROR(IF(INDEX(Data_kom2,MATCH(1,(komnavn2=Kommune)*(komaar2=O237),0),17)=\"*\",\"*\",INDEX(Data_kom2,MATCH(1,(komnavn2=Kommune)*(komaar2=O237),0),17)),\"Data ikke tilføjet\")","v":2273},{"$f":"IFERROR(IF(INDEX(Data_kom2,MATCH(1,(komnavn2=Kommune)*(komaar2=P237),0),17)=\"*\",\"*\",INDEX(Data_kom2,MATCH(1,(komnavn2=Kommune)*(komaar2=P237),0),17)),\"Data ikke tilføjet\")","v":2266},{"$f":"IFERROR(IF(INDEX(Data_kom2,MATCH(1,(komnavn2=Kommune)*(komaar2=Q237),0),17)=\"*\",\"*\",INDEX(Data_kom2,MATCH(1,(komnavn2=Kommune)*(komaar2=Q237),0),17)),\"Data ikke tilføjet\")","v":2386},{"$f":"IFERROR(IF(INDEX(Data_kom2,MATCH(1,(komnavn2=Kommune)*(komaar2=R237),0),17)=\"*\",\"*\",INDEX(Data_kom2,MATCH(1,(komnavn2=Kommune)*(komaar2=R237),0),17)),\"Data ikke tilføjet\")","v":2387}]
[null,"Antal 0-17-årige",null,{"$f":"IFERROR(INDEX(Data_kom2,MATCH(1,(komnavn2=Kommune)*(komaar2=D237),0),2),\"Data ikke tilføjet\")","v":103578},{"$f":"IFERROR(INDEX(Data_kom2,MATCH(1,(komnavn2=Kommune)*(komaar2=E237),0),2),\"Data ikke tilføjet\")","v":104797},{"$f":"IFERROR(INDEX(Data_kom2,MATCH(1,(komnavn2=Kommune)*(komaar2=F237),0),2),\"Data ikke tilføjet\")","v":105885},{"$f":"IFERROR(INDEX(Data_kom2,MATCH(1,(komnavn2=Kommune)*(komaar2=G237),0),2),\"Data ikke tilføjet\")","v":106913},{"$f":"IFERROR(INDEX(Data_kom2,MATCH(1,(komnavn2=Kommune)*(komaar2=H237),0),2),\"Data ikke tilføjet\")","v":107770},{"$f":"IFERROR(INDEX(Data_kom2,MATCH(1,(komnavn2=Kommune)*(komaar2=I237),0),2),\"Data ikke tilføjet\")","v":108734},{"$f":"IFERROR(INDEX(Data_kom2,MATCH(1,(komnavn2=Kommune)*(komaar2=J237),0),2),\"Data ikke tilføjet\")","v":109335},{"$f":"IFERROR(INDEX(Data_kom2,MATCH(1,(komnavn2=Kommune)*(komaar2=K237),0),2),\"Data ikke tilføjet\")","v":110138},{"$f":"IFERROR(INDEX(Data_kom2,MATCH(1,(komnavn2=Kommune)*(komaar2=L237),0),2),\"Data ikke tilføjet\")","v":110822},{"$f":"IFERROR(INDEX(Data_kom2,MATCH(1,(komnavn2=Kommune)*(komaar2=M237),0),2),\"Data ikke tilføjet\")","v":111068},{"$f":"IFERROR(INDEX(Data_kom2,MATCH(1,(komnavn2=Kommune)*(komaar2=N237),0),2),\"Data ikke tilføjet\")","v":110927},{"$f":"IFERROR(INDEX(Data_kom2,MATCH(1,(komnavn2=Kommune)*(komaar2=O237),0),2),\"Data ikke tilføjet\")","v":110614},{"$f":"IFERROR(INDEX(Data_kom2,MATCH(1,(komnavn2=Kommune)*(komaar2=P237),0),2),\"Data ikke tilføjet\")","v":110513},{"$f":"IFERROR(INDEX(Data_kom2,MATCH(1,(komnavn2=Kommune)*(komaar2=Q237),0),2),\"Data ikke tilføjet\")","v":110692},{"$f":"IFERROR(INDEX(Data_kom2,MATCH(1,(komnavn2=Kommune)*(komaar2=R237),0),2),\"Data ikke tilføjet\")","v":110835}]
[null,"Andel",null,{"$f":"IFERROR(IF(D239=\"*\",\"*\",IF(D240=0,\"#I/T\",(D239/D240*1000))),\"Data ikke tilføjet\")","v":18.710536986618781},19.742931572468677,19.908391179109412,20.512005088249325,21.184002969286443,21.621571909430354,21.200896327799882,20.138371860756507,19.174893071772754,{"$f":"IFERROR(IF(M239=\"*\",\"*\",IF(M240=0,\"#I/T\",(M239/M240*1000))),\"Data ikke tilføjet\")","v":18.997370979940214},18.092980067972629,20.548935939392841,20.504375050898989,21.555306616557655,21.536518247845898]
[null,"Sammenligningsgruppe, gns."]
[null,"Antal modtagere",null,{"$f":"IF('Dine valg'!$G$24=\"\",\"-\",SUMIF(Hjælpefane!$D$7:$D$111,\"=\"&D$9,Hjælpefane!$R$7:$R$111))","v":1103},{"$f":"IF('Dine valg'!$G$24=\"\",\"-\",SUMIF(Hjælpefane!$D$7:$D$111,\"=\"&E$9,Hjælpefane!$R$7:$R$111))","v":1110},{"$f":"IF('Dine valg'!$G$24=\"\",\"-\",SUMIF(Hjælpefane!$D$7:$D$111,\"=\"&F$9,Hjælpefane!$R$7:$R$111))","v":1098},{"$f":"IF('Dine valg'!$G$24=\"\",\"-\",SUMIF(Hjælpefane!$D$7:$D$111,\"=\"&G$9,Hjælpefane!$R$7:$R$111))","v":1043},{"$f":"IF('Dine valg'!$G$24=\"\",\"-\",SUMIF(Hjælpefane!$D$7:$D$111,\"=\"&H$9,Hjælpefane!$R$7:$R$111))","v":1133},{"$f":"IF('Dine valg'!$G$24=\"\",\"-\",SUMIF(Hjælpefane!$D$7:$D$111,\"=\"&I$9,Hjælpefane!$R$7:$R$111))","v":1174},{"$f":"IF('Dine valg'!$G$24=\"\",\"-\",SUMIF(Hjælpefane!$D$7:$D$111,\"=\"&J$9,Hjælpefane!$R$7:$R$111))","v":1280},{"$f":"IF('Dine valg'!$G$24=\"\",\"-\",SUMIF(Hjælpefane!$D$7:$D$111,\"=\"&K$9,Hjælpefane!$R$7:$R$111))","v":1278},{"$f":"IF('Dine valg'!$G$24=\"\",\"-\",SUMIF(Hjælpefane!$D$7:$D$111,\"=\"&L$9,Hjælpefane!$R$7:$R$111))","v":1280},{"$f":"IF('Dine valg'!$G$24=\"\",\"-\",SUMIF(Hjælpefane!$D$7:$D$111,\"=\"&M$9,Hjælpefane!$R$7:$R$111))","v":1251},{"$f":"IF('Dine valg'!$G$24=\"\",\"-\",SUMIF(Hjælpefane!$D$7:$D$111,\"=\"&N$9,Hjælpefane!$R$7:$R$111))","v":1233},{"$f":"IF('Dine valg'!$G$24=\"\",\"-\",SUMIF(Hjælpefane!$D$7:$D$111,\"=\"&O$9,Hjælpefane!$R$7:$R$111))","v":1207},{"$f":"IF('Dine valg'!$G$24=\"\",\"-\",SUMIF(Hjælpefane!$D$7:$D$111,\"=\"&P$9,Hjælpefane!$R$7:$R$111))","v":1129},{"$f":"IF('Dine valg'!$G$24=\"\",\"-\",SUMIF(Hjælpefane!$D$7:$D$111,\"=\"&Q$9,Hjælpefane!$R$7:$R$111))","v":1097},{"$f":"IF('Dine valg'!$G$24=\"\",\"-\",SUMIF(Hjælpefane!$D$7:$D$111,\"=\"&R$9,Hjælpefane!$R$7:$R$111))","v":1071}]
[null,"Antal 0-17-årige",null,{"$f":"IF('Dine valg'!$G$24=\"\",\"-\",SUMIF(Hjælpefane!$D$7:$D$111,\"=\"&D$9,Hjælpefane!$C$7:$C$111))","v":62241},{"$f":"IF('Dine valg'!$G$24=\"\",\"-\",SUMIF(Hjælpefane!$D$7:$D$111,\"=\"&E$9,Hjælpefane!$C$7:$C$111))","v":62670},{"$f":"IF('Dine valg'!$G$24=\"\",\"-\",SUMIF(Hjælpefane!$D$7:$D$111,\"=\"&F$9,Hjælpefane!$C$7:$C$111))","v":62903},{"$f":"IF('Dine valg'!$G$24=\"\",\"-\",SUMIF(Hjælpefane!$D$7:$D$111,\"=\"&G$9,Hjælpefane!$C$7:$C$111))","v":63077},{"$f":"IF('Dine valg'!$G$24=\"\",\"-\",SUMIF(Hjælpefane!$D$7:$D$111,\"=\"&H$9,Hjælpefane!$C$7:$C$111))","v":63245},{"$f":"IF('Dine valg'!$G$24=\"\",\"-\",SUMIF(Hjælpefane!$D$7:$D$111,\"=\"&I$9,Hjælpefane!$C$7:$C$111))","v":63510},{"$f":"IF('Dine valg'!$G$24=\"\",\"-\",SUMIF(Hjælpefane!$D$7:$D$111,\"=\"&J$9,Hjælpefane!$C$7:$C$111))","v":63607},{"$f":"IF('Dine valg'!$G$24=\"\",\"-\",SUMIF(Hjælpefane!$D$7:$D$111,\"=\"&K$9,Hjælpefane!$C$7:$C$111))","v":63704},{"$f":"IF('Dine valg'!$G$24=\"\",\"-\",SUMIF(Hjælpefane!$D$7:$D$111,\"=\"&L$9,Hjælpefane!$C$7:$C$111))","v":63890},{"$f":"IF('Dine valg'!$G$24=\"\",\"-\",SUMIF(Hjælpefane!$D$7:$D$111,\"=\"&M$9,Hjælpefane!$C$7:$C$111))","v":64128},{"$f":"IF('Dine valg'!$G$24=\"\",\"-\",SUMIF(Hjælpefane!$D$7:$D$111,\"=\"&N$9,Hjælpefane!$C$7:$C$111))","v":64334},{"$f":"IF('Dine valg'!$G$24=\"\",\"-\",SUMIF(Hjælpefane!$D$7:$D$111,\"=\"&O$9,Hjælpefane!$C$7:$C$111))","v":64307},{"$f":"IF('Dine valg'!$G$24=\"\",\"-\",SUMIF(Hjælpefane!$D$7:$D$111,\"=\"&P$9,Hjælpefane!$C$7:$C$111))","v":64049},{"$f":"IF('Dine valg'!$G$24=\"\",\"-\",SUMIF(Hjælpefane!$D$7:$D$111,\"=\"&Q$9,Hjælpefane!$C$7:$C$111))","v":64356},{"$f":"IF('Dine valg'!$G$24=\"\",\"-\",SUMIF(Hjælpefane!$D$7:$D$111,\"=\"&R$9,Hjælpefane!$C$7:$C$111))","v":64420}]
[null,"Andel",null,{"$f":"IFERROR(IF(D243=\"*\",\"*\",IF(D244=\"\",\"Indtast data\",(D243/D244*1000))),\"-\")","v":17.721437637570091},{"$f":"IFERROR(IF(E243=\"*\",\"*\",IF(E244=\"\",\"Indtast data\",(E243/E244*1000))),\"-\")","v":17.711823839157493},{"$f":"IFERROR(IF(F243=\"*\",\"*\",IF(F244=\"\",\"Indtast data\",(F243/F244*1000))),\"-\")","v":17.45544727596458},{"$f":"IFERROR(IF(G243=\"*\",\"*\",IF(G244=\"\",\"Indtast data\",(G243/G244*1000))),\"-\")","v":16.535345688602821},{"$f":"IFERROR(IF(H243=\"*\",\"*\",IF(H244=\"\",\"Indtast data\",(H243/H244*1000))),\"-\")","v":17.914459641078349},{"$f":"IFERROR(IF(I243=\"*\",\"*\",IF(I244=\"\",\"Indtast data\",(I243/I244*1000))),\"-\")","v":18.48527790899071},{"$f":"IFERROR(IF(J243=\"*\",\"*\",IF(J244=\"\",\"Indtast data\",(J243/J244*1000))),\"-\")","v":20.12357130504504},{"$f":"IFERROR(IF(K243=\"*\",\"*\",IF(K244=\"\",\"Indtast data\",(K243/K244*1000))),\"-\")","v":20.0615345975135},{"$f":"IFERROR(IF(L243=\"*\",\"*\",IF(L244=\"\",\"Indtast data\",(L243/L244*1000))),\"-\")","v":20.034434183753326},19.507859281437128,19.165604501507755,18.769340818262396,17.627129229183907,17.04580769469824,16.625271654765601]
[null,"Hele landet"]
[null,"Antal modtagere",null,{"$f":"INDEX(Data_land,MATCH(Skyggetabeller!D237,Data!landaar,0),17)","v":23022},{"$f":"INDEX(Data_land,MATCH(Skyggetabeller!E237,Data!landaar,0),17)","v":23094},{"$f":"INDEX(Data_land,MATCH(Skyggetabeller!F237,Data!landaar,0),17)","v":23188},{"$f":"INDEX(Data_land,MATCH(Skyggetabeller!G237,Data!landaar,0),17)","v":23270},{"$f":"INDEX(Data_land,MATCH(Skyggetabeller!H237,Data!landaar,0),17)","v":23601},{"$f":"INDEX(Data_land,MATCH(Skyggetabeller!I237,Data!landaar,0),17)","v":23231},{"$f":"INDEX(Data_land,MATCH(Skyggetabeller!J237,Data!landaar,0),17)","v":23784},{"$f":"INDEX(Data_land,MATCH(Skyggetabeller!K237,Data!landaar,0),17)","v":23654},{"$f":"INDEX(Data_land,MATCH(Skyggetabeller!L237,Data!landaar,0),17)","v":24495},{"$f":"INDEX(Data_land,MATCH(Skyggetabeller!M237,Data!landaar,0),17)","v":24589},{"$f":"INDEX(Data_land,MATCH(Skyggetabeller!N237,Data!landaar,0),17)","v":25026},{"$f":"INDEX(Data_land,MATCH(Skyggetabeller!O237,Data!landaar,0),17)","v":25988},{"$f":"INDEX(Data_land,MATCH(Skyggetabeller!P237,Data!landaar,0),17)","v":26269},{"$f":"INDEX(Data_land,MATCH(Skyggetabeller!Q237,Data!landaar,0),17)","v":26379},{"$f":"INDEX(Data_land,MATCH(Skyggetabeller!R237,Data!landaar,0),17)","v":26490}]
[null,"Antal 0-17-årige",null,{"$f":"INDEX(Data_land,MATCH(Skyggetabeller!D237,Data!landaar,0),2)","v":1167426},{"$f":"INDEX(Data_land,MATCH(Skyggetabeller!E237,Data!landaar,0),2)","v":1167002},{"$f":"INDEX(Data_land,MATCH(Skyggetabeller!F237,Data!landaar,0),2)","v":1168201},{"$f":"INDEX(Data_land,MATCH(Skyggetabeller!G237,Data!landaar,0),2)","v":1165363},{"$f":"INDEX(Data_land,MATCH(Skyggetabeller!H237,Data!landaar,0),2)","v":1165475},{"$f":"INDEX(Data_land,MATCH(Skyggetabeller!I237,Data!landaar,0),2)","v":1162195},{"$f":"INDEX(Data_land,MATCH(Skyggetabeller!J237,Data!landaar,0),2)","v":1160360},{"$f":"INDEX(Data_land,MATCH(Skyggetabeller!K237,Data!landaar,0),2)","v":1156537},{"$f":"INDEX(Data_land,MATCH(Skyggetabeller!L237,Data!landaar,0),2)","v":1156116},{"$f":"INDEX(Data_land,MATCH(Skyggetabeller!M237,Data!landaar,0),2)","v":1153027},{"$f":"INDEX(Data_land,MATCH(Skyggetabeller!N237,Data!landaar,0),2)","v":1152972},{"$f":"INDEX(Data_land,MATCH(Skyggetabeller!O237,Data!landaar,0),2)","v":1151374},{"$f":"INDEX(Data_land,MATCH(Skyggetabeller!P237,Data!landaar,0),2)","v":1151704},{"$f":"INDEX(Data_land,MATCH(Skyggetabeller!Q237,Data!landaar,0),2)","v":1157254},{"$f":"INDEX(Data_land,MATCH(Skyggetabeller!R237,Data!landaar,0),2)","v":1155814}]
[null,"Andel",null,{"$f":"IFERROR(IF(D247=\"*\",\"*\",IF(D248=0,\"#I/T\",(D247/D248*1000))),\"Data ikke tilføjet\")","v":19.720307753981839},19.789169170232785,19.84932387491536,19.968027129744122,20.250112615028208,19.988900313630673,20.497087110896619,20.452436887017015,21.187320303498957,{"$f":"IFERROR(IF(M247=\"*\",\"*\",IF(M248=0,\"#I/T\",(M247/M248*1000))),\"Data ikke tilføjet\")","v":21.325606425521691},21.705644196042922,22.571293081136105,22.808811986413176,22.794477271195433,22.918912558595068]
[]
[null,"Tabel 5.4: Modtagere af forældrerettede indsatser"]
[null,"Nøgletal 5.4: \nModtagere af forældrerettede indsatser",null,"2016-01-01","2016-07-01","2017-01-01","2017-07-01","2018-01-01","2018-07-01","2019-01-01","2019-07-01","2020-01-01","2020-07-01","2021-01-01","2021-07-01","2022-01-01","2022-07-01","2023-01-01"]
[null,{"$f":"IF(Kommune=\"\",\"Kommune\",Kommune)","v":"København"}]
[null,"Antal modtagere",null,{"$f":"IFERROR(IF(INDEX(Data_kom2,MATCH(1,(komnavn2=Kommune)*(komaar2=D252),0),18)=\"*\",\"*\",INDEX(Data_kom2,MATCH(1,(komnavn2=Kommune)*(komaar2=D252),0),18)),\"Data ikke tilføjet\")","v":4},{"$f":"IFERROR(IF(INDEX(Data_kom2,MATCH(1,(komnavn2=Kommune)*(komaar2=E252),0),18)=\"*\",\"*\",INDEX(Data_kom2,MATCH(1,(komnavn2=Kommune)*(komaar2=E252),0),18)),\"Data ikke tilføjet\")","v":3},{"$f":"IFERROR(IF(INDEX(Data_kom2,MATCH(1,(komnavn2=Kommune)*(komaar2=F252),0),18)=\"*\",\"*\",INDEX(Data_kom2,MATCH(1,(komnavn2=Kommune)*(komaar2=F252),0),18)),\"Data ikke tilføjet\")","v":5},{"$f":"IFERROR(IF(INDEX(Data_kom2,MATCH(1,(komnavn2=Kommune)*(komaar2=G252),0),18)=\"*\",\"*\",INDEX(Data_kom2,MATCH(1,(komnavn2=Kommune)*(komaar2=G252),0),18)),\"Data ikke tilføjet\")","v":3},{"$f":"IFERROR(IF(INDEX(Data_kom2,MATCH(1,(komnavn2=Kommune)*(komaar2=H252),0),18)=\"*\",\"*\",INDEX(Data_kom2,MATCH(1,(komnavn2=Kommune)*(komaar2=H252),0),18)),\"Data ikke tilføjet\")","v":5},{"$f":"IFERROR(IF(INDEX(Data_kom2,MATCH(1,(komnavn2=Kommune)*(komaar2=I252),0),18)=\"*\",\"*\",INDEX(Data_kom2,MATCH(1,(komnavn2=Kommune)*(komaar2=I252),0),18)),\"Data ikke tilføjet\")","v":4},{"$f":"IFERROR(IF(INDEX(Data_kom2,MATCH(1,(komnavn2=Kommune)*(komaar2=J252),0),18)=\"*\",\"*\",INDEX(Data_kom2,MATCH(1,(komnavn2=Kommune)*(komaar2=J252),0),18)),\"Data ikke tilføjet\")","v":3},{"$f":"IFERROR(IF(INDEX(Data_kom2,MATCH(1,(komnavn2=Kommune)*(komaar2=K252),0),18)=\"*\",\"*\",INDEX(Data_kom2,MATCH(1,(komnavn2=Kommune)*(komaar2=K252),0),18)),\"Data ikke tilføjet\")","v":3},{"$f":"IFERROR(IF(INDEX(Data_kom2,MATCH(1,(komnavn2=Kommune)*(komaar2=L252),0),18)=\"*\",\"*\",INDEX(Data_kom2,MATCH(1,(komnavn2=Kommune)*(komaar2=L252),0),18)),\"Data ikke tilføjet\")","v":5},{"$f":"IFERROR(IF(INDEX(Data_kom2,MATCH(1,(komnavn2=Kommune)*(komaar2=M252),0),18)=\"*\",\"*\",INDEX(Data_kom2,MATCH(1,(komnavn2=Kommune)*(komaar2=M252),0),18)),\"Data ikke tilføjet\")","v":11},{"$f":"IFERROR(IF(INDEX(Data_kom2,MATCH(1,(komnavn2=Kommune)*(komaar2=N252),0),18)=\"*\",\"*\",INDEX(Data_kom2,MATCH(1,(komnavn2=Kommune)*(komaar2=N252),0),18)),\"Data ikke tilføjet\")","v":14},{"$f":"IFERROR(IF(INDEX(Data_kom2,MATCH(1,(komnavn2=Kommune)*(komaar2=O252),0),18)=\"*\",\"*\",INDEX(Data_kom2,MATCH(1,(komnavn2=Kommune)*(komaar2=O252),0),18)),\"Data ikke tilføjet\")","v":"*"},{"$f":"IFERROR(IF(INDEX(Data_kom2,MATCH(1,(komnavn2=Kommune)*(komaar2=P252),0),18)=\"*\",\"*\",INDEX(Data_kom2,MATCH(1,(komnavn2=Kommune)*(komaar2=P252),0),18)),\"Data ikke tilføjet\")","v":15},{"$f":"IFERROR(IF(INDEX(Data_kom2,MATCH(1,(komnavn2=Kommune)*(komaar2=Q252),0),18)=\"*\",\"*\",INDEX(Data_kom2,MATCH(1,(komnavn2=Kommune)*(komaar2=Q252),0),18)),\"Data ikke tilføjet\")","v":13},{"$f":"IFERROR(IF(INDEX(Data_kom2,MATCH(1,(komnavn2=Kommune)*(komaar2=R252),0),18)=\"*\",\"*\",INDEX(Data_kom2,MATCH(1,(komnavn2=Kommune)*(komaar2=R252),0),18)),\"Data ikke tilføjet\")","v":14}]
[null,"Antal 0-17-årige",null,{"$f":"IFERROR(INDEX(Data_kom2,MATCH(1,(komnavn2=Kommune)*(komaar2=D252),0),2),\"Data ikke tilføjet\")","v":103578},{"$f":"IFERROR(INDEX(Data_kom2,MATCH(1,(komnavn2=Kommune)*(komaar2=E252),0),2),\"Data ikke tilføjet\")","v":104797},{"$f":"IFERROR(INDEX(Data_kom2,MATCH(1,(komnavn2=Kommune)*(komaar2=F252),0),2),\"Data ikke tilføjet\")","v":105885},{"$f":"IFERROR(INDEX(Data_kom2,MATCH(1,(komnavn2=Kommune)*(komaar2=G252),0),2),\"Data ikke tilføjet\")","v":106913},{"$f":"IFERROR(INDEX(Data_kom2,MATCH(1,(komnavn2=Kommune)*(komaar2=H252),0),2),\"Data ikke tilføjet\")","v":107770},{"$f":"IFERROR(INDEX(Data_kom2,MATCH(1,(komnavn2=Kommune)*(komaar2=I252),0),2),\"Data ikke tilføjet\")","v":108734},{"$f":"IFERROR(INDEX(Data_kom2,MATCH(1,(komnavn2=Kommune)*(komaar2=J252),0),2),\"Data ikke tilføjet\")","v":109335},{"$f":"IFERROR(INDEX(Data_kom2,MATCH(1,(komnavn2=Kommune)*(komaar2=K252),0),2),\"Data ikke tilføjet\")","v":110138},{"$f":"IFERROR(INDEX(Data_kom2,MATCH(1,(komnavn2=Kommune)*(komaar2=L252),0),2),\"Data ikke tilføjet\")","v":110822},{"$f":"IFERROR(INDEX(Data_kom2,MATCH(1,(komnavn2=Kommune)*(komaar2=M252),0),2),\"Data ikke tilføjet\")","v":111068},{"$f":"IFERROR(INDEX(Data_kom2,MATCH(1,(komnavn2=Kommune)*(komaar2=N252),0),2),\"Data ikke tilføjet\")","v":110927},{"$f":"IFERROR(INDEX(Data_kom2,MATCH(1,(komnavn2=Kommune)*(komaar2=O252),0),2),\"Data ikke tilføjet\")","v":110614},{"$f":"IFERROR(INDEX(Data_kom2,MATCH(1,(komnavn2=Kommune)*(komaar2=P252),0),2),\"Data ikke tilføjet\")","v":110513},{"$f":"IFERROR(INDEX(Data_kom2,MATCH(1,(komnavn2=Kommune)*(komaar2=Q252),0),2),\"Data ikke tilføjet\")","v":110692},{"$f":"IFERROR(INDEX(Data_kom2,MATCH(1,(komnavn2=Kommune)*(komaar2=R252),0),2),\"Data ikke tilføjet\")","v":110835}]
[null,"Andel",null,{"$f":"IFERROR(IF(D254=\"*\",\"*\",IF(D255=0,\"#I/T\",(D254/D255*1000))),\"Data ikke tilføjet\")","v":3.8618239394466007E-2},2.8626773667185131E-2,4.7221041696179814E-2,2.8060198479137242E-2,4.6395100677368475E-2,3.6787021538801111E-2,2.7438606118809165E-2,2.723855526702864E-2,4.511739546299471E-2,{"$f":"IFERROR(IF(M254=\"*\",\"*\",IF(M255=0,\"#I/T\",(M254/M255*1000))),\"Data ikke tilføjet\")","v":9.9038426909640931E-2},0.12620912852596752,"*",0.13573063802448582,0.11744299497705345,0.12631389001669147]
[null,"Sammenligningsgruppe, gns."]
[null,"Antal modtagere",null,{"$f":"IF('Dine valg'!$G$24=\"\",\"-\",SUMIF(Hjælpefane!$D$7:$D$111,\"=\"&D$9,Hjælpefane!$S$7:$S$111))","v":16},{"$f":"IF('Dine valg'!$G$24=\"\",\"-\",SUMIF(Hjælpefane!$D$7:$D$111,\"=\"&E$9,Hjælpefane!$S$7:$S$111))","v":0},{"$f":"IF('Dine valg'!$G$24=\"\",\"-\",SUMIF(Hjælpefane!$D$7:$D$111,\"=\"&F$9,Hjælpefane!$S$7:$S$111))","v":0},{"$f":"IF('Dine valg'!$G$24=\"\",\"-\",SUMIF(Hjælpefane!$D$7:$D$111,\"=\"&G$9,Hjælpefane!$S$7:$S$111))","v":0},{"$f":"IF('Dine valg'!$G$24=\"\",\"-\",SUMIF(Hjælpefane!$D$7:$D$111,\"=\"&H$9,Hjælpefane!$S$7:$S$111))","v":0},{"$f":"IF('Dine valg'!$G$24=\"\",\"-\",SUMIF(Hjælpefane!$D$7:$D$111,\"=\"&I$9,Hjælpefane!$S$7:$S$111))","v":16},{"$f":"IF('Dine valg'!$G$24=\"\",\"-\",SUMIF(Hjælpefane!$D$7:$D$111,\"=\"&J$9,Hjælpefane!$S$7:$S$111))","v":13},{"$f":"IF('Dine valg'!$G$24=\"\",\"-\",SUMIF(Hjælpefane!$D$7:$D$111,\"=\"&K$9,Hjælpefane!$S$7:$S$111))","v":14},{"$f":"IF('Dine valg'!$G$24=\"\",\"-\",SUMIF(Hjælpefane!$D$7:$D$111,\"=\"&L$9,Hjælpefane!$S$7:$S$111))","v":16},{"$f":"IF('Dine valg'!$G$24=\"\",\"-\",SUMIF(Hjælpefane!$D$7:$D$111,\"=\"&M$9,Hjælpefane!$S$7:$S$111))","v":15},{"$f":"IF('Dine valg'!$G$24=\"\",\"-\",SUMIF(Hjælpefane!$D$7:$D$111,\"=\"&N$9,Hjælpefane!$S$7:$S$111))","v":15},{"$f":"IF('Dine valg'!$G$24=\"\",\"-\",SUMIF(Hjælpefane!$D$7:$D$111,\"=\"&O$9,Hjælpefane!$S$7:$S$111))","v":14},{"$f":"IF('Dine valg'!$G$24=\"\",\"-\",SUMIF(Hjælpefane!$D$7:$D$111,\"=\"&P$9,Hjælpefane!$S$7:$S$111))","v":15},{"$f":"IF('Dine valg'!$G$24=\"\",\"-\",SUMIF(Hjælpefane!$D$7:$D$111,\"=\"&Q$9,Hjælpefane!$S$7:$S$111))","v":11},{"$f":"IF('Dine valg'!$G$24=\"\",\"-\",SUMIF(Hjælpefane!$D$7:$D$111,\"=\"&R$9,Hjælpefane!$S$7:$S$111))","v":15}]
[null,"Antal 0-17-årige",null,{"$f":"IF('Dine valg'!$G$24=\"\",\"-\",SUMIF(Hjælpefane!$D$7:$D$111,\"=\"&D$9,Hjælpefane!$C$7:$C$111))","v":62241},{"$f":"IF('Dine valg'!$G$24=\"\",\"-\",SUMIF(Hjælpefane!$D$7:$D$111,\"=\"&E$9,Hjælpefane!$C$7:$C$111))","v":62670},{"$f":"IF('Dine valg'!$G$24=\"\",\"-\",SUMIF(Hjælpefane!$D$7:$D$111,\"=\"&F$9,Hjælpefane!$C$7:$C$111))","v":62903},{"$f":"IF('Dine valg'!$G$24=\"\",\"-\",SUMIF(Hjælpefane!$D$7:$D$111,\"=\"&G$9,Hjælpefane!$C$7:$C$111))","v":63077},{"$f":"IF('Dine valg'!$G$24=\"\",\"-\",SUMIF(Hjælpefane!$D$7:$D$111,\"=\"&H$9,Hjælpefane!$C$7:$C$111))","v":63245},{"$f":"IF('Dine valg'!$G$24=\"\",\"-\",SUMIF(Hjælpefane!$D$7:$D$111,\"=\"&I$9,Hjælpefane!$C$7:$C$111))","v":63510},{"$f":"IF('Dine valg'!$G$24=\"\",\"-\",SUMIF(Hjælpefane!$D$7:$D$111,\"=\"&J$9,Hjælpefane!$C$7:$C$111))","v":63607},{"$f":"IF('Dine valg'!$G$24=\"\",\"-\",SUMIF(Hjælpefane!$D$7:$D$111,\"=\"&K$9,Hjælpefane!$C$7:$C$111))","v":63704},{"$f":"IF('Dine valg'!$G$24=\"\",\"-\",SUMIF(Hjælpefane!$D$7:$D$111,\"=\"&L$9,Hjælpefane!$C$7:$C$111))","v":63890},{"$f":"IF('Dine valg'!$G$24=\"\",\"-\",SUMIF(Hjælpefane!$D$7:$D$111,\"=\"&M$9,Hjælpefane!$C$7:$C$111))","v":64128},{"$f":"IF('Dine valg'!$G$24=\"\",\"-\",SUMIF(Hjælpefane!$D$7:$D$111,\"=\"&N$9,Hjælpefane!$C$7:$C$111))","v":64334},{"$f":"IF('Dine valg'!$G$24=\"\",\"-\",SUMIF(Hjælpefane!$D$7:$D$111,\"=\"&O$9,Hjælpefane!$C$7:$C$111))","v":64307},{"$f":"IF('Dine valg'!$G$24=\"\",\"-\",SUMIF(Hjælpefane!$D$7:$D$111,\"=\"&P$9,Hjælpefane!$C$7:$C$111))","v":64049},{"$f":"IF('Dine valg'!$G$24=\"\",\"-\",SUMIF(Hjælpefane!$D$7:$D$111,\"=\"&Q$9,Hjælpefane!$C$7:$C$111))","v":64356},{"$f":"IF('Dine valg'!$G$24=\"\",\"-\",SUMIF(Hjælpefane!$D$7:$D$111,\"=\"&R$9,Hjælpefane!$C$7:$C$111))","v":64420}]
[null,"Andel",null,{"$f":"IFERROR(IF(D258=\"*\",\"*\",IF(D259=\"\",\"Indtast data\",(D258/D259*1000))),\"-\")","v":0.25706527851416272},{"$f":"IFERROR(IF(E258=\"*\",\"*\",IF(E259=\"\",\"Indtast data\",(E258/E259*1000))),\"-\")","v":0},{"$f":"IFERROR(IF(F258=\"*\",\"*\",IF(F259=\"\",\"Indtast data\",(F258/F259*1000))),\"-\")","v":0},{"$f":"IFERROR(IF(G258=\"*\",\"*\",IF(G259=\"\",\"Indtast data\",(G258/G259*1000))),\"-\")","v":0},{"$f":"IFERROR(IF(H258=\"*\",\"*\",IF(H259=\"\",\"Indtast data\",(H258/H259*1000))),\"-\")","v":0},{"$f":"IFERROR(IF(I258=\"*\",\"*\",IF(I259=\"\",\"Indtast data\",(I258/I259*1000))),\"-\")","v":0.25192883010549522},{"$f":"IFERROR(IF(J258=\"*\",\"*\",IF(J259=\"\",\"Indtast data\",(J258/J259*1000))),\"-\")","v":0.2043800210668637},{"$f":"IFERROR(IF(K258=\"*\",\"*\",IF(K259=\"\",\"Indtast data\",(K258/K259*1000))),\"-\")","v":0.21976641969107122},{"$f":"IFERROR(IF(L258=\"*\",\"*\",IF(L259=\"\",\"Indtast data\",(L258/L259*1000))),\"-\")","v":0.25043042729691661},0.23390718562874252,0.23315820561444958,0.21770569300387208,0.23419569392184109,0.17092423394866058,0.23284694194349581]
[null,"Hele landet"]
[null,"Antal modtagere",null,{"$f":"INDEX(Data_land,MATCH(Skyggetabeller!D252,Data!landaar,0),18)","v":351},{"$f":"INDEX(Data_land,MATCH(Skyggetabeller!E252,Data!landaar,0),18)","v":343},{"$f":"INDEX(Data_land,MATCH(Skyggetabeller!F252,Data!landaar,0),18)","v":322},{"$f":"INDEX(Data_land,MATCH(Skyggetabeller!G252,Data!landaar,0),18)","v":294},{"$f":"INDEX(Data_land,MATCH(Skyggetabeller!H252,Data!landaar,0),18)","v":289},{"$f":"INDEX(Data_land,MATCH(Skyggetabeller!I252,Data!landaar,0),18)","v":270},{"$f":"INDEX(Data_land,MATCH(Skyggetabeller!J252,Data!landaar,0),18)","v":238},{"$f":"INDEX(Data_land,MATCH(Skyggetabeller!K252,Data!landaar,0),18)","v":209},{"$f":"INDEX(Data_land,MATCH(Skyggetabeller!L252,Data!landaar,0),18)","v":217},{"$f":"INDEX(Data_land,MATCH(Skyggetabeller!M252,Data!landaar,0),18)","v":216},{"$f":"INDEX(Data_land,MATCH(Skyggetabeller!N252,Data!landaar,0),18)","v":232},{"$f":"INDEX(Data_land,MATCH(Skyggetabeller!O252,Data!landaar,0),18)","v":210},{"$f":"INDEX(Data_land,MATCH(Skyggetabeller!P252,Data!landaar,0),18)","v":206},{"$f":"INDEX(Data_land,MATCH(Skyggetabeller!Q252,Data!landaar,0),18)","v":222},{"$f":"INDEX(Data_land,MATCH(Skyggetabeller!R252,Data!landaar,0),18)","v":245}]
[null,"Antal 0-17-årige",null,{"$f":"INDEX(Data_land,MATCH(Skyggetabeller!D252,Data!landaar,0),2)","v":1167426},{"$f":"INDEX(Data_land,MATCH(Skyggetabeller!E252,Data!landaar,0),2)","v":1167002},{"$f":"INDEX(Data_land,MATCH(Skyggetabeller!F252,Data!landaar,0),2)","v":1168201},{"$f":"INDEX(Data_land,MATCH(Skyggetabeller!G252,Data!landaar,0),2)","v":1165363},{"$f":"INDEX(Data_land,MATCH(Skyggetabeller!H252,Data!landaar,0),2)","v":1165475},{"$f":"INDEX(Data_land,MATCH(Skyggetabeller!I252,Data!landaar,0),2)","v":1162195},{"$f":"INDEX(Data_land,MATCH(Skyggetabeller!J252,Data!landaar,0),2)","v":1160360},{"$f":"INDEX(Data_land,MATCH(Skyggetabeller!K252,Data!landaar,0),2)","v":1156537},{"$f":"INDEX(Data_land,MATCH(Skyggetabeller!L252,Data!landaar,0),2)","v":1156116},{"$f":"INDEX(Data_land,MATCH(Skyggetabeller!M252,Data!landaar,0),2)","v":1153027},{"$f":"INDEX(Data_land,MATCH(Skyggetabeller!N252,Data!landaar,0),2)","v":1152972},{"$f":"INDEX(Data_land,MATCH(Skyggetabeller!O252,Data!landaar,0),2)","v":1151374},{"$f":"INDEX(Data_land,MATCH(Skyggetabeller!P252,Data!landaar,0),2)","v":1151704},{"$f":"INDEX(Data_land,MATCH(Skyggetabeller!Q252,Data!landaar,0),2)","v":1157254},{"$f":"INDEX(Data_land,MATCH(Skyggetabeller!R252,Data!landaar,0),2)","v":1155814}]
[null,"Andel",null,{"$f":"IFERROR(IF(D262=\"*\",\"*\",IF(D263=0,\"#I/T\",(D262/D263*1000))),\"Data ikke tilføjet\")","v":0.30066145520144316},0.29391552028188467,0.27563749731424642,0.25228190701094855,0.24796756687187629,0.23231901703242572,0.20510875935054637,0.18071190113243243,0.18769742828574296,{"$f":"IFERROR(IF(M262=\"*\",\"*\",IF(M263=0,\"#I/T\",(M262/M263*1000))),\"Data ikke tilføjet\")","v":0.18733299393682887},0.20121911026460312,0.18239077832224804,0.17886540291602704,0.19183342636966474,0.21197182245586227]
[]
[]
[null,"Nøgletal 6: Forebyggende indsatser (§ 11, stk. 3-tilbud)"]
[]
[null,{"$f":"\"Tabel 6: Samlet antal § 11, stk. 3-tilbud for \"&Kommune&\"\"","v":"Tabel 6: Samlet antal § 11, stk. 3-tilbud for København"}]
[null,"Nøgletal 6: \nModtagere af § 11, stk. 3-tilbud",null,"2016-01-01","2016-07-01","2017-01-01","2017-07-01","2018-01-01","2018-07-01","2019-01-01","2019-07-01","2020-01-01","2020-07-01","2021-01-01","2021-07-01","2022-01-01","2022-07-01","2023-01-01"]
[null,"Antal modtagere",null,{"$f":"IF(Indtastningsark!D27=0,\"Indtast data\",Indtastningsark!D27)","v":"Indtast data"},{"$f":"IF(Indtastningsark!E27=0,\"Indtast data\",Indtastningsark!E27)","v":"Indtast data"},{"$f":"IF(Indtastningsark!F27=0,\"Indtast data\",Indtastningsark!F27)","v":"Indtast data"},{"$f":"IF(Indtastningsark!G27=0,\"Indtast data\",Indtastningsark!G27)","v":"Indtast data"},{"$f":"IF(Indtastningsark!H27=0,\"Indtast data\",Indtastningsark!H27)","v":"Indtast data"},{"$f":"IF(Indtastningsark!I27=0,\"Indtast data\",Indtastningsark!I27)","v":"Indtast data"},{"$f":"IF(Indtastningsark!J27=0,\"Indtast data\",Indtastningsark!J27)","v":"Indtast data"},{"$f":"IF(Indtastningsark!K27=0,\"Indtast data\",Indtastningsark!K27)","v":"Indtast data"},{"$f":"IF(Indtastningsark!L27=0,\"Indtast data\",Indtastningsark!L27)","v":"Indtast data"},{"$f":"IF(Indtastningsark!M27=0,\"Indtast data\",Indtastningsark!M27)","v":"Indtast data"},{"$f":"IF(Indtastningsark!N27=0,\"Indtast data\",Indtastningsark!N27)","v":"Indtast data"},{"$f":"IF(Indtastningsark!O27=0,\"Indtast data\",Indtastningsark!O27)","v":"Indtast data"},{"$f":"IF(Indtastningsark!P27=0,\"Indtast data\",Indtastningsark!P27)","v":"Indtast data"},{"$f":"IF(Indtastningsark!Q27=0,\"Indtast data\",Indtastningsark!Q27)","v":"Indtast data"},{"$f":"IF(Indtastningsark!R27=0,\"Indtast data\",Indtastningsark!R27)","v":"Indtast data"}]
[null,"Antal 0-17-årige",null,{"$f":"IFERROR(INDEX(Data_kom2,MATCH(1,(komnavn2=Kommune)*(komaar2=D270),0),2),\"Data ikke tilføjet\")","v":103578},{"$f":"IFERROR(INDEX(Data_kom2,MATCH(1,(komnavn2=Kommune)*(komaar2=E270),0),2),\"Data ikke tilføjet\")","v":104797},{"$f":"IFERROR(INDEX(Data_kom2,MATCH(1,(komnavn2=Kommune)*(komaar2=F270),0),2),\"Data ikke tilføjet\")","v":105885},{"$f":"IFERROR(INDEX(Data_kom2,MATCH(1,(komnavn2=Kommune)*(komaar2=G270),0),2),\"Data ikke tilføjet\")","v":106913},{"$f":"IFERROR(INDEX(Data_kom2,MATCH(1,(komnavn2=Kommune)*(komaar2=H270),0),2),\"Data ikke tilføjet\")","v":107770},{"$f":"IFERROR(INDEX(Data_kom2,MATCH(1,(komnavn2=Kommune)*(komaar2=I270),0),2),\"Data ikke tilføjet\")","v":108734},{"$f":"IFERROR(INDEX(Data_kom2,MATCH(1,(komnavn2=Kommune)*(komaar2=J270),0),2),\"Data ikke tilføjet\")","v":109335},{"$f":"IFERROR(INDEX(Data_kom2,MATCH(1,(komnavn2=Kommune)*(komaar2=K270),0),2),\"Data ikke tilføjet\")","v":110138},{"$f":"IFERROR(INDEX(Data_kom2,MATCH(1,(komnavn2=Kommune)*(komaar2=L270),0),2),\"Data ikke tilføjet\")","v":110822},{"$f":"IFERROR(INDEX(Data_kom2,MATCH(1,(komnavn2=Kommune)*(komaar2=M270),0),2),\"Data ikke tilføjet\")","v":111068},{"$f":"IFERROR(INDEX(Data_kom2,MATCH(1,(komnavn2=Kommune)*(komaar2=N270),0),2),\"Data ikke tilføjet\")","v":110927},{"$f":"IFERROR(INDEX(Data_kom2,MATCH(1,(komnavn2=Kommune)*(komaar2=O270),0),2),\"Data ikke tilføjet\")","v":110614},{"$f":"IFERROR(INDEX(Data_kom2,MATCH(1,(komnavn2=Kommune)*(komaar2=P270),0),2),\"Data ikke tilføjet\")","v":110513},{"$f":"IFERROR(INDEX(Data_kom2,MATCH(1,(komnavn2=Kommune)*(komaar2=Q270),0),2),\"Data ikke tilføjet\")","v":110692},{"$f":"IFERROR(INDEX(Data_kom2,MATCH(1,(komnavn2=Kommune)*(komaar2=R270),0),2),\"Data ikke tilføjet\")","v":110835}]
[null,"Andel",null,{"$f":"IF(D271=\"Indtast data\",\"-\",IF(D272=0,\"#I/T\",D271/D272*1000))","v":"-"},"-","-","-","-","-","-","-","-",{"$f":"IF(M271=\"Indtast data\",\"-\",IF(M272=0,\"#I/T\",M271/M272*1000))","v":"-"},"-","-","-","-","-"]
[]
[null,{"$f":"\"Tabel 6.1: Myndighedsbevilgede § 11, stk. 3-tilbud (pr. 1.000 0-17-årige) for \"&Kommune&\"\"","v":"Tabel 6.1: Myndighedsbevilgede § 11, stk. 3-tilbud (pr. 1.000 0-17-årige) for København"}]
[null,{"$f":"\"Tabel 6.1: Modtagere af myndighedsbevilgede § 11, stk. 3-tilbud for \"&Kommune&\"\"","v":"Tabel 6.1: Modtagere af myndighedsbevilgede § 11, stk. 3-tilbud for København"}]
[null,"Nøgletal 6.1: \nModtagere af myndighedsbevilgede § 11, stk. 3-tilbud",null,"2016-01-01","2016-07-01","2017-01-01","2017-07-01","2018-01-01","2018-07-01","2019-01-01","2019-07-01","2020-01-01","2020-07-01","2021-01-01","2021-07-01","2022-01-01","2022-07-01","2023-01-01"]
[null,"Antal modtagere",null,{"$f":"IF(Indtastningsark!D32=0,\"Indtast data\",Indtastningsark!D32)","v":"Indtast data"},{"$f":"IF(Indtastningsark!E32=0,\"Indtast data\",Indtastningsark!E32)","v":"Indtast data"},{"$f":"IF(Indtastningsark!F32=0,\"Indtast data\",Indtastningsark!F32)","v":"Indtast data"},{"$f":"IF(Indtastningsark!G32=0,\"Indtast data\",Indtastningsark!G32)","v":"Indtast data"},{"$f":"IF(Indtastningsark!H32=0,\"Indtast data\",Indtastningsark!H32)","v":"Indtast data"},{"$f":"IF(Indtastningsark!I32=0,\"Indtast data\",Indtastningsark!I32)","v":"Indtast data"},{"$f":"IF(Indtastningsark!J32=0,\"Indtast data\",Indtastningsark!J32)","v":"Indtast data"},{"$f":"IF(Indtastningsark!K32=0,\"Indtast data\",Indtastningsark!K32)","v":"Indtast data"},{"$f":"IF(Indtastningsark!L32=0,\"Indtast data\",Indtastningsark!L32)","v":"Indtast data"},{"$f":"IF(Indtastningsark!M32=0,\"Indtast data\",Indtastningsark!M32)","v":"Indtast data"},{"$f":"IF(Indtastningsark!N32=0,\"Indtast data\",Indtastningsark!N32)","v":"Indtast data"},{"$f":"IF(Indtastningsark!O32=0,\"Indtast data\",Indtastningsark!O32)","v":"Indtast data"},{"$f":"IF(Indtastningsark!P32=0,\"Indtast data\",Indtastningsark!P32)","v":"Indtast data"},{"$f":"IF(Indtastningsark!Q32=0,\"Indtast data\",Indtastningsark!Q32)","v":"Indtast data"},{"$f":"IF(Indtastningsark!R32=0,\"Indtast data\",Indtastningsark!R32)","v":"Indtast data"}]
[null,"Antal 0-17-årige",null,{"$f":"IFERROR(INDEX(Data_kom2,MATCH(1,(komnavn2=Kommune)*(komaar2=D277),0),2),\"Data ikke tilføjet\")","v":103578},{"$f":"IFERROR(INDEX(Data_kom2,MATCH(1,(komnavn2=Kommune)*(komaar2=E277),0),2),\"Data ikke tilføjet\")","v":104797},{"$f":"IFERROR(INDEX(Data_kom2,MATCH(1,(komnavn2=Kommune)*(komaar2=F277),0),2),\"Data ikke tilføjet\")","v":105885},{"$f":"IFERROR(INDEX(Data_kom2,MATCH(1,(komnavn2=Kommune)*(komaar2=G277),0),2),\"Data ikke tilføjet\")","v":106913},{"$f":"IFERROR(INDEX(Data_kom2,MATCH(1,(komnavn2=Kommune)*(komaar2=H277),0),2),\"Data ikke tilføjet\")","v":107770},{"$f":"IFERROR(INDEX(Data_kom2,MATCH(1,(komnavn2=Kommune)*(komaar2=I277),0),2),\"Data ikke tilføjet\")","v":108734},{"$f":"IFERROR(INDEX(Data_kom2,MATCH(1,(komnavn2=Kommune)*(komaar2=J277),0),2),\"Data ikke tilføjet\")","v":109335},{"$f":"IFERROR(INDEX(Data_kom2,MATCH(1,(komnavn2=Kommune)*(komaar2=K277),0),2),\"Data ikke tilføjet\")","v":110138},{"$f":"IFERROR(INDEX(Data_kom2,MATCH(1,(komnavn2=Kommune)*(komaar2=L277),0),2),\"Data ikke tilføjet\")","v":110822},{"$f":"IFERROR(INDEX(Data_kom2,MATCH(1,(komnavn2=Kommune)*(komaar2=M277),0),2),\"Data ikke tilføjet\")","v":111068},{"$f":"IFERROR(INDEX(Data_kom2,MATCH(1,(komnavn2=Kommune)*(komaar2=N277),0),2),\"Data ikke tilføjet\")","v":110927},{"$f":"IFERROR(INDEX(Data_kom2,MATCH(1,(komnavn2=Kommune)*(komaar2=O277),0),2),\"Data ikke tilføjet\")","v":110614},{"$f":"IFERROR(INDEX(Data_kom2,MATCH(1,(komnavn2=Kommune)*(komaar2=P277),0),2),\"Data ikke tilføjet\")","v":110513},{"$f":"IFERROR(INDEX(Data_kom2,MATCH(1,(komnavn2=Kommune)*(komaar2=Q277),0),2),\"Data ikke tilføjet\")","v":110692},{"$f":"IFERROR(INDEX(Data_kom2,MATCH(1,(komnavn2=Kommune)*(komaar2=R277),0),2),\"Data ikke tilføjet\")","v":110835}]
[null,"Andel",null,{"$f":"IF(D278=\"Indtast data\",\"-\",IF(D279=0,\"#I/T\",D278/D279*1000))","v":"-"},"-","-","-","-","-","-","-","-",{"$f":"IF(M278=\"Indtast data\",\"-\",IF(M279=0,\"#I/T\",M278/M279*1000))","v":"-"},"-","-","-","-","-"]
[null,{"$f":"\"Tabel 6.2: Øvrige § 11, stk. 3-tilbud (pr. 1.000 0-17-årige) for \"&Kommune&\"\"","v":"Tabel 6.2: Øvrige § 11, stk. 3-tilbud (pr. 1.000 0-17-årige) for København"}]
[null,{"$f":"\"Tabel 6.2: Modtagere af øvrige § 11, stk. 3-tilbud for \"&Kommune&\"\"","v":"Tabel 6.2: Modtagere af øvrige § 11, stk. 3-tilbud for København"}]
[null,"Nøgletal 6.2: \nModtagere af øvrige § 11, stk. 3-tilbud",null,"2016-01-01","2016-07-01","2017-01-01","2017-07-01","2018-01-01","2018-07-01","2019-01-01","2019-07-01","2020-01-01","2020-07-01","2021-01-01","2021-07-01","2022-01-01","2022-07-01","2023-01-01"]
[null,"Antal modtagere",null,{"$f":"IF(Indtastningsark!D37=0,\"Indtast data\",Indtastningsark!D37)","v":"Indtast data"},{"$f":"IF(Indtastningsark!E37=0,\"Indtast data\",Indtastningsark!E37)","v":"Indtast data"},{"$f":"IF(Indtastningsark!F37=0,\"Indtast data\",Indtastningsark!F37)","v":"Indtast data"},{"$f":"IF(Indtastningsark!G37=0,\"Indtast data\",Indtastningsark!G37)","v":"Indtast data"},{"$f":"IF(Indtastningsark!H37=0,\"Indtast data\",Indtastningsark!H37)","v":"Indtast data"},{"$f":"IF(Indtastningsark!I37=0,\"Indtast data\",Indtastningsark!I37)","v":"Indtast data"},{"$f":"IF(Indtastningsark!J37=0,\"Indtast data\",Indtastningsark!J37)","v":"Indtast data"},{"$f":"IF(Indtastningsark!K37=0,\"Indtast data\",Indtastningsark!K37)","v":"Indtast data"},{"$f":"IF(Indtastningsark!L37=0,\"Indtast data\",Indtastningsark!L37)","v":"Indtast data"},{"$f":"IF(Indtastningsark!M37=0,\"Indtast data\",Indtastningsark!M37)","v":"Indtast data"},{"$f":"IF(Indtastningsark!N37=0,\"Indtast data\",Indtastningsark!N37)","v":"Indtast data"},{"$f":"IF(Indtastningsark!O37=0,\"Indtast data\",Indtastningsark!O37)","v":"Indtast data"},{"$f":"IF(Indtastningsark!P37=0,\"Indtast data\",Indtastningsark!P37)","v":"Indtast data"},{"$f":"IF(Indtastningsark!Q37=0,\"Indtast data\",Indtastningsark!Q37)","v":"Indtast data"},{"$f":"IF(Indtastningsark!R37=0,\"Indtast data\",Indtastningsark!R37)","v":"Indtast data"}]
[null,"Antal 0-17-årige",null,{"$f":"IFERROR(INDEX(Data_kom2,MATCH(1,(komnavn2=Kommune)*(komaar2=D283),0),2),\"Data ikke tilføjet\")","v":103578},{"$f":"IFERROR(INDEX(Data_kom2,MATCH(1,(komnavn2=Kommune)*(komaar2=E283),0),2),\"Data ikke tilføjet\")","v":104797},{"$f":"IFERROR(INDEX(Data_kom2,MATCH(1,(komnavn2=Kommune)*(komaar2=F283),0),2),\"Data ikke tilføjet\")","v":105885},{"$f":"IFERROR(INDEX(Data_kom2,MATCH(1,(komnavn2=Kommune)*(komaar2=G283),0),2),\"Data ikke tilføjet\")","v":106913},{"$f":"IFERROR(INDEX(Data_kom2,MATCH(1,(komnavn2=Kommune)*(komaar2=H283),0),2),\"Data ikke tilføjet\")","v":107770},{"$f":"IFERROR(INDEX(Data_kom2,MATCH(1,(komnavn2=Kommune)*(komaar2=I283),0),2),\"Data ikke tilføjet\")","v":108734},{"$f":"IFERROR(INDEX(Data_kom2,MATCH(1,(komnavn2=Kommune)*(komaar2=J283),0),2),\"Data ikke tilføjet\")","v":109335},{"$f":"IFERROR(INDEX(Data_kom2,MATCH(1,(komnavn2=Kommune)*(komaar2=K283),0),2),\"Data ikke tilføjet\")","v":110138},{"$f":"IFERROR(INDEX(Data_kom2,MATCH(1,(komnavn2=Kommune)*(komaar2=L283),0),2),\"Data ikke tilføjet\")","v":110822},{"$f":"IFERROR(INDEX(Data_kom2,MATCH(1,(komnavn2=Kommune)*(komaar2=M283),0),2),\"Data ikke tilføjet\")","v":111068},{"$f":"IFERROR(INDEX(Data_kom2,MATCH(1,(komnavn2=Kommune)*(komaar2=N283),0),2),\"Data ikke tilføjet\")","v":110927},{"$f":"IFERROR(INDEX(Data_kom2,MATCH(1,(komnavn2=Kommune)*(komaar2=O283),0),2),\"Data ikke tilføjet\")","v":110614},{"$f":"IFERROR(INDEX(Data_kom2,MATCH(1,(komnavn2=Kommune)*(komaar2=P283),0),2),\"Data ikke tilføjet\")","v":110513},{"$f":"IFERROR(INDEX(Data_kom2,MATCH(1,(komnavn2=Kommune)*(komaar2=Q283),0),2),\"Data ikke tilføjet\")","v":110692},{"$f":"IFERROR(INDEX(Data_kom2,MATCH(1,(komnavn2=Kommune)*(komaar2=R283),0),2),\"Data ikke tilføjet\")","v":110835}]
[null,"Andel",null,{"$f":"IF(D284=\"Indtast data\",\"-\",IF(D285=\"\",\"Indtast data\",D284/D285*1000))","v":"-"},"-","-","-","-","-","-","-","-",{"$f":"IF(M284=\"Indtast data\",\"-\",IF(M285=\"\",\"Indtast data\",M284/M285*1000))","v":"-"},"-","-","-","-","-"]
[]
[]
[null,"Nøgletal 7: Fra institutionsanbringelse og ned ad trappen"]
[]
[null,"Tabel 7: Fra institutionsanbringelse og ned ad trappen"]
[null,"Nøgletal 7: \nBørn og unge, der ved forrige opgørelse var institutionsanbragt eller anbragt på socialpædagogisk opholdssted, og som nu ikke er anbragt eller anbragt i anden form",null,"2016-01-01","2016-07-01","2017-01-01","2017-07-01","2018-01-01","2018-07-01","2019-01-01","2019-07-01","2020-01-01","2020-07-01","2021-01-01","2021-07-01","2022-01-01","2022-07-01","2023-01-01"]
[null,{"$f":"IF(Kommune=\"\",\"Kommune\",Kommune)","v":"København"}]
[null,"Antal, der har bevæget sig",null,{"$f":"IFERROR(IF(INDEX(Data_kom2,MATCH(1,(komnavn2=Kommune)*(komaar2=D292),0),22)=\"*\",\"*\",INDEX(Data_kom2,MATCH(1,(komnavn2=Kommune)*(komaar2=D292),0),22)),\"Data ikke tilføjet\")","v":65},{"$f":"IFERROR(IF(INDEX(Data_kom2,MATCH(1,(komnavn2=Kommune)*(komaar2=E292),0),22)=\"*\",\"*\",INDEX(Data_kom2,MATCH(1,(komnavn2=Kommune)*(komaar2=E292),0),22)),\"Data ikke tilføjet\")","v":47},{"$f":"IFERROR(IF(INDEX(Data_kom2,MATCH(1,(komnavn2=Kommune)*(komaar2=F292),0),22)=\"*\",\"*\",INDEX(Data_kom2,MATCH(1,(komnavn2=Kommune)*(komaar2=F292),0),22)),\"Data ikke tilføjet\")","v":46},{"$f":"IFERROR(IF(INDEX(Data_kom2,MATCH(1,(komnavn2=Kommune)*(komaar2=G292),0),22)=\"*\",\"*\",INDEX(Data_kom2,MATCH(1,(komnavn2=Kommune)*(komaar2=G292),0),22)),\"Data ikke tilføjet\")","v":50},{"$f":"IFERROR(IF(INDEX(Data_kom2,MATCH(1,(komnavn2=Kommune)*(komaar2=H292),0),22)=\"*\",\"*\",INDEX(Data_kom2,MATCH(1,(komnavn2=Kommune)*(komaar2=H292),0),22)),\"Data ikke tilføjet\")","v":60},{"$f":"IFERROR(IF(INDEX(Data_kom2,MATCH(1,(komnavn2=Kommune)*(komaar2=I292),0),22)=\"*\",\"*\",INDEX(Data_kom2,MATCH(1,(komnavn2=Kommune)*(komaar2=I292),0),22)),\"Data ikke tilføjet\")","v":51},{"$f":"IFERROR(IF(INDEX(Data_kom2,MATCH(1,(komnavn2=Kommune)*(komaar2=J292),0),22)=\"*\",\"*\",INDEX(Data_kom2,MATCH(1,(komnavn2=Kommune)*(komaar2=J292),0),22)),\"Data ikke tilføjet\")","v":48},{"$f":"IFERROR(IF(INDEX(Data_kom2,MATCH(1,(komnavn2=Kommune)*(komaar2=K292),0),22)=\"*\",\"*\",INDEX(Data_kom2,MATCH(1,(komnavn2=Kommune)*(komaar2=K292),0),22)),\"Data ikke tilføjet\")","v":50},{"$f":"IFERROR(IF(INDEX(Data_kom2,MATCH(1,(komnavn2=Kommune)*(komaar2=L292),0),22)=\"*\",\"*\",INDEX(Data_kom2,MATCH(1,(komnavn2=Kommune)*(komaar2=L292),0),22)),\"Data ikke tilføjet\")","v":72},{"$f":"IFERROR(IF(INDEX(Data_kom2,MATCH(1,(komnavn2=Kommune)*(komaar2=M292),0),22)=\"*\",\"*\",INDEX(Data_kom2,MATCH(1,(komnavn2=Kommune)*(komaar2=M292),0),22)),\"Data ikke tilføjet\")","v":31},{"$f":"IFERROR(IF(INDEX(Data_kom2,MATCH(1,(komnavn2=Kommune)*(komaar2=N292),0),22)=\"*\",\"*\",INDEX(Data_kom2,MATCH(1,(komnavn2=Kommune)*(komaar2=N292),0),22)),\"Data ikke tilføjet\")","v":38},{"$f":"IFERROR(IF(INDEX(Data_kom2,MATCH(1,(komnavn2=Kommune)*(komaar2=O292),0),22)=\"*\",\"*\",INDEX(Data_kom2,MATCH(1,(komnavn2=Kommune)*(komaar2=O292),0),22)),\"Data ikke tilføjet\")","v":43},{"$f":"IFERROR(IF(INDEX(Data_kom2,MATCH(1,(komnavn2=Kommune)*(komaar2=P292),0),22)=\"*\",\"*\",INDEX(Data_kom2,MATCH(1,(komnavn2=Kommune)*(komaar2=P292),0),22)),\"Data ikke tilføjet\")","v":56},{"$f":"IFERROR(IF(INDEX(Data_kom2,MATCH(1,(komnavn2=Kommune)*(komaar2=Q292),0),22)=\"*\",\"*\",INDEX(Data_kom2,MATCH(1,(komnavn2=Kommune)*(komaar2=Q292),0),22)),\"Data ikke tilføjet\")","v":53},{"$f":"IFERROR(IF(INDEX(Data_kom2,MATCH(1,(komnavn2=Kommune)*(komaar2=R292),0),22)=\"*\",\"*\",INDEX(Data_kom2,MATCH(1,(komnavn2=Kommune)*(komaar2=R292),0),22)),\"Data ikke tilføjet\")","v":48}]
[null,"Antal tidligere institutionsanbragte",null,{"$f":"IFERROR(IF(INDEX(Data_kom2,MATCH(1,(komnavn2=Kommune)*(komaar2=D292),0),23)=\"*\",\"*\",INDEX(Data_kom2,MATCH(1,(komnavn2=Kommune)*(komaar2=D292),0),23)),\"Data ikke tilføjet\")","v":251},{"$f":"IFERROR(IF(INDEX(Data_kom2,MATCH(1,(komnavn2=Kommune)*(komaar2=E292),0),23)=\"*\",\"*\",INDEX(Data_kom2,MATCH(1,(komnavn2=Kommune)*(komaar2=E292),0),23)),\"Data ikke tilføjet\")","v":230},{"$f":"IFERROR(IF(INDEX(Data_kom2,MATCH(1,(komnavn2=Kommune)*(komaar2=F292),0),23)=\"*\",\"*\",INDEX(Data_kom2,MATCH(1,(komnavn2=Kommune)*(komaar2=F292),0),23)),\"Data ikke tilføjet\")","v":233},{"$f":"IFERROR(IF(INDEX(Data_kom2,MATCH(1,(komnavn2=Kommune)*(komaar2=G292),0),23)=\"*\",\"*\",INDEX(Data_kom2,MATCH(1,(komnavn2=Kommune)*(komaar2=G292),0),23)),\"Data ikke tilføjet\")","v":224},{"$f":"IFERROR(IF(INDEX(Data_kom2,MATCH(1,(komnavn2=Kommune)*(komaar2=H292),0),23)=\"*\",\"*\",INDEX(Data_kom2,MATCH(1,(komnavn2=Kommune)*(komaar2=H292),0),23)),\"Data ikke tilføjet\")","v":226},{"$f":"IFERROR(IF(INDEX(Data_kom2,MATCH(1,(komnavn2=Kommune)*(komaar2=I292),0),23)=\"*\",\"*\",INDEX(Data_kom2,MATCH(1,(komnavn2=Kommune)*(komaar2=I292),0),23)),\"Data ikke tilføjet\")","v":214},{"$f":"IFERROR(IF(INDEX(Data_kom2,MATCH(1,(komnavn2=Kommune)*(komaar2=J292),0),23)=\"*\",\"*\",INDEX(Data_kom2,MATCH(1,(komnavn2=Kommune)*(komaar2=J292),0),23)),\"Data ikke tilføjet\")","v":217},{"$f":"IFERROR(IF(INDEX(Data_kom2,MATCH(1,(komnavn2=Kommune)*(komaar2=K292),0),23)=\"*\",\"*\",INDEX(Data_kom2,MATCH(1,(komnavn2=Kommune)*(komaar2=K292),0),23)),\"Data ikke tilføjet\")","v":204},{"$f":"IFERROR(IF(INDEX(Data_kom2,MATCH(1,(komnavn2=Kommune)*(komaar2=L292),0),23)=\"*\",\"*\",INDEX(Data_kom2,MATCH(1,(komnavn2=Kommune)*(komaar2=L292),0),23)),\"Data ikke tilføjet\")","v":193},{"$f":"IFERROR(IF(INDEX(Data_kom2,MATCH(1,(komnavn2=Kommune)*(komaar2=M292),0),23)=\"*\",\"*\",INDEX(Data_kom2,MATCH(1,(komnavn2=Kommune)*(komaar2=M292),0),23)),\"Data ikke tilføjet\")","v":160},{"$f":"IFERROR(IF(INDEX(Data_kom2,MATCH(1,(komnavn2=Kommune)*(komaar2=N292),0),23)=\"*\",\"*\",INDEX(Data_kom2,MATCH(1,(komnavn2=Kommune)*(komaar2=N292),0),23)),\"Data ikke tilføjet\")","v":180},{"$f":"IFERROR(IF(INDEX(Data_kom2,MATCH(1,(komnavn2=Kommune)*(komaar2=O292),0),23)=\"*\",\"*\",INDEX(Data_kom2,MATCH(1,(komnavn2=Kommune)*(komaar2=O292),0),23)),\"Data ikke tilføjet\")","v":201},{"$f":"IFERROR(IF(INDEX(Data_kom2,MATCH(1,(komnavn2=Kommune)*(komaar2=P292),0),23)=\"*\",\"*\",INDEX(Data_kom2,MATCH(1,(komnavn2=Kommune)*(komaar2=P292),0),23)),\"Data ikke tilføjet\")","v":219},{"$f":"IFERROR(IF(INDEX(Data_kom2,MATCH(1,(komnavn2=Kommune)*(komaar2=Q292),0),23)=\"*\",\"*\",INDEX(Data_kom2,MATCH(1,(komnavn2=Kommune)*(komaar2=Q292),0),23)),\"Data ikke tilføjet\")","v":217},{"$f":"IFERROR(IF(INDEX(Data_kom2,MATCH(1,(komnavn2=Kommune)*(komaar2=R292),0),23)=\"*\",\"*\",INDEX(Data_kom2,MATCH(1,(komnavn2=Kommune)*(komaar2=R292),0),23)),\"Data ikke tilføjet\")","v":243}]
[null,"Andel",null,{"$f":"IFERROR(IF(D294=\"*\",\"*\",IF(D295=0,\"#I/T\",(D294/D295))),\"Data ikke tilføjet\")","v":0.25896414342629481},0.20434782608695654,0.19742489270386265,0.22321428571428573,0.26548672566371684,0.23831775700934579,0.22119815668202766,0.24509803921568626,0.37305699481865284,{"$f":"IFERROR(IF(M294=\"*\",\"*\",IF(M295=0,\"#I/T\",(M294/M295))),\"Data ikke tilføjet\")","v":0.19375000000000001},0.21111111111111111,0.21393034825870647,0.25570776255707761,0.24423963133640553,0.19753086419753085]
[null,"Sammenligningsgruppe, gns."]
[null,"Antal, der har bevæget sig",null,{"$f":"IF('Dine valg'!$G$24=\"\",\"-\",SUMIF(Hjælpefane!$D$7:$D$111,\"=\"&D$9,Hjælpefane!$W$7:$W$111))","v":30},{"$f":"IF('Dine valg'!$G$24=\"\",\"-\",SUMIF(Hjælpefane!$D$7:$D$111,\"=\"&E$9,Hjælpefane!$W$7:$W$111))","v":31},{"$f":"IF('Dine valg'!$G$24=\"\",\"-\",SUMIF(Hjælpefane!$D$7:$D$111,\"=\"&F$9,Hjælpefane!$W$7:$W$111))","v":36},{"$f":"IF('Dine valg'!$G$24=\"\",\"-\",SUMIF(Hjælpefane!$D$7:$D$111,\"=\"&G$9,Hjælpefane!$W$7:$W$111))","v":35},{"$f":"IF('Dine valg'!$G$24=\"\",\"-\",SUMIF(Hjælpefane!$D$7:$D$111,\"=\"&H$9,Hjælpefane!$W$7:$W$111))","v":35},{"$f":"IF('Dine valg'!$G$24=\"\",\"-\",SUMIF(Hjælpefane!$D$7:$D$111,\"=\"&I$9,Hjælpefane!$W$7:$W$111))","v":37},{"$f":"IF('Dine valg'!$G$24=\"\",\"-\",SUMIF(Hjælpefane!$D$7:$D$111,\"=\"&J$9,Hjælpefane!$W$7:$W$111))","v":28},{"$f":"IF('Dine valg'!$G$24=\"\",\"-\",SUMIF(Hjælpefane!$D$7:$D$111,\"=\"&K$9,Hjælpefane!$W$7:$W$111))","v":25},{"$f":"IF('Dine valg'!$G$24=\"\",\"-\",SUMIF(Hjælpefane!$D$7:$D$111,\"=\"&L$9,Hjælpefane!$W$7:$W$111))","v":31},{"$f":"IF('Dine valg'!$G$24=\"\",\"-\",SUMIF(Hjælpefane!$D$7:$D$111,\"=\"&M$9,Hjælpefane!$W$7:$W$111))","v":46},{"$f":"IF('Dine valg'!$G$24=\"\",\"-\",SUMIF(Hjælpefane!$D$7:$D$111,\"=\"&N$9,Hjælpefane!$W$7:$W$111))","v":28},{"$f":"IF('Dine valg'!$G$24=\"\",\"-\",SUMIF(Hjælpefane!$D$7:$D$111,\"=\"&O$9,Hjælpefane!$W$7:$W$111))","v":31},{"$f":"IF('Dine valg'!$G$24=\"\",\"-\",SUMIF(Hjælpefane!$D$7:$D$111,\"=\"&P$9,Hjælpefane!$W$7:$W$111))","v":39},{"$f":"IF('Dine valg'!$G$24=\"\",\"-\",SUMIF(Hjælpefane!$D$7:$D$111,\"=\"&Q$9,Hjælpefane!$W$7:$W$111))","v":22},{"$f":"IF('Dine valg'!$G$24=\"\",\"-\",SUMIF(Hjælpefane!$D$7:$D$111,\"=\"&R$9,Hjælpefane!$W$7:$W$111))","v":32}]
[null,"Antal tidligere institutionsanbragte",null,{"$f":"IF('Dine valg'!$G$24=\"\",\"-\",SUMIF(Hjælpefane!$D$7:$D$111,\"=\"&D$9,Hjælpefane!$X$7:$X$111))","v":190},{"$f":"IF('Dine valg'!$G$24=\"\",\"-\",SUMIF(Hjælpefane!$D$7:$D$111,\"=\"&E$9,Hjælpefane!$X$7:$X$111))","v":189},{"$f":"IF('Dine valg'!$G$24=\"\",\"-\",SUMIF(Hjælpefane!$D$7:$D$111,\"=\"&F$9,Hjælpefane!$X$7:$X$111))","v":203},{"$f":"IF('Dine valg'!$G$24=\"\",\"-\",SUMIF(Hjælpefane!$D$7:$D$111,\"=\"&G$9,Hjælpefane!$X$7:$X$111))","v":191},{"$f":"IF('Dine valg'!$G$24=\"\",\"-\",SUMIF(Hjælpefane!$D$7:$D$111,\"=\"&H$9,Hjælpefane!$X$7:$X$111))","v":190},{"$f":"IF('Dine valg'!$G$24=\"\",\"-\",SUMIF(Hjælpefane!$D$7:$D$111,\"=\"&I$9,Hjælpefane!$X$7:$X$111))","v":180},{"$f":"IF('Dine valg'!$G$24=\"\",\"-\",SUMIF(Hjælpefane!$D$7:$D$111,\"=\"&J$9,Hjælpefane!$X$7:$X$111))","v":168},{"$f":"IF('Dine valg'!$G$24=\"\",\"-\",SUMIF(Hjælpefane!$D$7:$D$111,\"=\"&K$9,Hjælpefane!$X$7:$X$111))","v":174},{"$f":"IF('Dine valg'!$G$24=\"\",\"-\",SUMIF(Hjælpefane!$D$7:$D$111,\"=\"&L$9,Hjælpefane!$X$7:$X$111))","v":178},{"$f":"IF('Dine valg'!$G$24=\"\",\"-\",SUMIF(Hjælpefane!$D$7:$D$111,\"=\"&M$9,Hjælpefane!$X$7:$X$111))","v":171},{"$f":"IF('Dine valg'!$G$24=\"\",\"-\",SUMIF(Hjælpefane!$D$7:$D$111,\"=\"&N$9,Hjælpefane!$X$7:$X$111))","v":173},{"$f":"IF('Dine valg'!$G$24=\"\",\"-\",SUMIF(Hjælpefane!$D$7:$D$111,\"=\"&O$9,Hjælpefane!$X$7:$X$111))","v":175},{"$f":"IF('Dine valg'!$G$24=\"\",\"-\",SUMIF(Hjælpefane!$D$7:$D$111,\"=\"&P$9,Hjælpefane!$X$7:$X$111))","v":175},{"$f":"IF('Dine valg'!$G$24=\"\",\"-\",SUMIF(Hjælpefane!$D$7:$D$111,\"=\"&Q$9,Hjælpefane!$X$7:$X$111))","v":161},{"$f":"IF('Dine valg'!$G$24=\"\",\"-\",SUMIF(Hjælpefane!$D$7:$D$111,\"=\"&R$9,Hjælpefane!$X$7:$X$111))","v":174}]
[null,"Andel",null,{"$f":"IFERROR(IF(D298=\"*\",\"*\",IF(D299=\"\",\"Indtast data\",(D298/D299))),\"-\")","v":0.15789473684210525},{"$f":"IFERROR(IF(E298=\"*\",\"*\",IF(E299=\"\",\"Indtast data\",(E298/E299))),\"-\")","v":0.16402116402116401},0.17733990147783252,0.18324607329842932,0.18421052631578946,0.20555555555555555,0.16666666666666666,0.14367816091954022,0.17415730337078653,{"$f":"IFERROR(IF(M298=\"*\",\"*\",IF(M299=\"\",\"Indtast data\",(M298/M299))),\"-\")","v":0.26900584795321636},0.16184971098265896,0.17714285714285713,0.22285714285714286,0.13664596273291926,0.18390804597701149]
[null,"Hele landet"]
[null,"Antal, der har bevæget sig",null,{"$f":"INDEX(Data_land,MATCH(Skyggetabeller!D292,Data!landaar,0),22)","v":626},{"$f":"INDEX(Data_land,MATCH(Skyggetabeller!E292,Data!landaar,0),22)","v":673},{"$f":"INDEX(Data_land,MATCH(Skyggetabeller!F292,Data!landaar,0),22)","v":634},{"$f":"INDEX(Data_land,MATCH(Skyggetabeller!G292,Data!landaar,0),22)","v":653},{"$f":"INDEX(Data_land,MATCH(Skyggetabeller!H292,Data!landaar,0),22)","v":697},{"$f":"INDEX(Data_land,MATCH(Skyggetabeller!I292,Data!landaar,0),22)","v":645},{"$f":"INDEX(Data_land,MATCH(Skyggetabeller!J292,Data!landaar,0),22)","v":675},{"$f":"INDEX(Data_land,MATCH(Skyggetabeller!K292,Data!landaar,0),22)","v":602},{"$f":"INDEX(Data_land,MATCH(Skyggetabeller!L292,Data!landaar,0),22)","v":652},{"$f":"INDEX(Data_land,MATCH(Skyggetabeller!M292,Data!landaar,0),22)","v":557},{"$f":"INDEX(Data_land,MATCH(Skyggetabeller!N292,Data!landaar,0),22)","v":594},{"$f":"INDEX(Data_land,MATCH(Skyggetabeller!O292,Data!landaar,0),22)","v":584},{"$f":"INDEX(Data_land,MATCH(Skyggetabeller!P292,Data!landaar,0),22)","v":646},{"$f":"INDEX(Data_land,MATCH(Skyggetabeller!Q292,Data!landaar,0),22)","v":562},{"$f":"INDEX(Data_land,MATCH(Skyggetabeller!R292,Data!landaar,0),22)","v":637}]
[null,"Antal tidligere institutionsanbragte",null,{"$f":"INDEX(Data_land,MATCH(Skyggetabeller!D292,Data!landaar,0),23)","v":3525},{"$f":"INDEX(Data_land,MATCH(Skyggetabeller!E292,Data!landaar,0),23)","v":3438},{"$f":"INDEX(Data_land,MATCH(Skyggetabeller!F292,Data!landaar,0),23)","v":3434},{"$f":"INDEX(Data_land,MATCH(Skyggetabeller!G292,Data!landaar,0),23)","v":3381},{"$f":"INDEX(Data_land,MATCH(Skyggetabeller!H292,Data!landaar,0),23)","v":3463},{"$f":"INDEX(Data_land,MATCH(Skyggetabeller!I292,Data!landaar,0),23)","v":3375},{"$f":"INDEX(Data_land,MATCH(Skyggetabeller!J292,Data!landaar,0),23)","v":3401},{"$f":"INDEX(Data_land,MATCH(Skyggetabeller!K292,Data!landaar,0),23)","v":3298},{"$f":"INDEX(Data_land,MATCH(Skyggetabeller!L292,Data!landaar,0),23)","v":3276},{"$f":"INDEX(Data_land,MATCH(Skyggetabeller!M292,Data!landaar,0),23)","v":3268},{"$f":"INDEX(Data_land,MATCH(Skyggetabeller!N292,Data!landaar,0),23)","v":3331},{"$f":"INDEX(Data_land,MATCH(Skyggetabeller!O292,Data!landaar,0),23)","v":3391},{"$f":"INDEX(Data_land,MATCH(Skyggetabeller!P292,Data!landaar,0),23)","v":3479},{"$f":"INDEX(Data_land,MATCH(Skyggetabeller!Q292,Data!landaar,0),23)","v":3460},{"$f":"INDEX(Data_land,MATCH(Skyggetabeller!R292,Data!landaar,0),23)","v":3624}]
[null,"Andel",null,{"$f":"IFERROR(IF(D302=\"*\",\"*\",IF(D303=0,\"#I/T\",(D302/D303))),\"Data ikke tilføjet\")","v":0.17758865248226952},{"$f":"IFERROR(IF(E302=\"*\",\"*\",IF(E303=0,\"#I/T\",(E302/E303))),\"Data ikke tilføjet\")","v":0.19575334496800464},{"$f":"IFERROR(IF(F302=\"*\",\"*\",IF(F303=0,\"#I/T\",(F302/F303))),\"Data ikke tilføjet\")","v":0.18462434478741993},{"$f":"IFERROR(IF(G302=\"*\",\"*\",IF(G303=0,\"#I/T\",(G302/G303))),\"Data ikke tilføjet\")","v":0.19313812481514345},{"$f":"IFERROR(IF(H302=\"*\",\"*\",IF(H303=0,\"#I/T\",(H302/H303))),\"Data ikke tilføjet\")","v":0.20127057464626047},{"$f":"IFERROR(IF(I302=\"*\",\"*\",IF(I303=0,\"#I/T\",(I302/I303))),\"Data ikke tilføjet\")","v":0.19111111111111112},{"$f":"IFERROR(IF(J302=\"*\",\"*\",IF(J303=0,\"#I/T\",(J302/J303))),\"Data ikke tilføjet\")","v":0.19847103793002058},{"$f":"IFERROR(IF(K302=\"*\",\"*\",IF(K303=0,\"#I/T\",(K302/K303))),\"Data ikke tilføjet\")","v":0.18253486961795026},{"$f":"IFERROR(IF(L302=\"*\",\"*\",IF(L303=0,\"#I/T\",(L302/L303))),\"Data ikke tilføjet\")","v":0.19902319902319901},{"$f":"IFERROR(IF(M302=\"*\",\"*\",IF(M303=0,\"#I/T\",(M302/M303))),\"Data ikke tilføjet\")","v":0.1704406364749082},{"$f":"IFERROR(IF(N302=\"*\",\"*\",IF(N303=0,\"#I/T\",(N302/N303))),\"Data ikke tilføjet\")","v":0.17832482737916541},{"$f":"IFERROR(IF(O302=\"*\",\"*\",IF(O303=0,\"#I/T\",(O302/O303))),\"Data ikke tilføjet\")","v":0.17222058389855499},{"$f":"IFERROR(IF(P302=\"*\",\"*\",IF(P303=0,\"#I/T\",(P302/P303))),\"Data ikke tilføjet\")","v":0.18568554182236274},{"$f":"IFERROR(IF(Q302=\"*\",\"*\",IF(Q303=0,\"#I/T\",(Q302/Q303))),\"Data ikke tilføjet\")","v":0.16242774566473989},{"$f":"IFERROR(IF(R302=\"*\",\"*\",IF(R303=0,\"#I/T\",(R302/R303))),\"Data ikke tilføjet\")","v":0.17577262693156734}]
[]
[null,"Tabel 7.1: Fra institutionsanbringelse til anden anbringelse"]
[null,"Nøgletal 7.1: \nTidligere institutionsanbragte, som nu er anbragt i anden form",null,"2016-01-01","2016-07-01","2017-01-01","2017-07-01","2018-01-01","2018-07-01","2019-01-01","2019-07-01","2020-01-01","2020-07-01","2021-01-01","2021-07-01","2022-01-01","2022-07-01","2023-01-01"]
[null,{"$f":"IF(Kommune=\"\",\"Kommune\",Kommune)","v":"København"}]
[null,"Antal, der har bevæget sig",null,{"$f":"IFERROR(IF(INDEX(Data_kom2,MATCH(1,(komnavn2=Kommune)*(komaar2=D307),0),24)=\"*\",\"*\",INDEX(Data_kom2,MATCH(1,(komnavn2=Kommune)*(komaar2=D307),0),24)),\"Data ikke tilføjet\")","v":11},{"$f":"IFERROR(IF(INDEX(Data_kom2,MATCH(1,(komnavn2=Kommune)*(komaar2=E307),0),24)=\"*\",\"*\",INDEX(Data_kom2,MATCH(1,(komnavn2=Kommune)*(komaar2=E307),0),24)),\"Data ikke tilføjet\")","v":5},{"$f":"IFERROR(IF(INDEX(Data_kom2,MATCH(1,(komnavn2=Kommune)*(komaar2=F307),0),24)=\"*\",\"*\",INDEX(Data_kom2,MATCH(1,(komnavn2=Kommune)*(komaar2=F307),0),24)),\"Data ikke tilføjet\")","v":9},{"$f":"IFERROR(IF(INDEX(Data_kom2,MATCH(1,(komnavn2=Kommune)*(komaar2=G307),0),24)=\"*\",\"*\",INDEX(Data_kom2,MATCH(1,(komnavn2=Kommune)*(komaar2=G307),0),24)),\"Data ikke tilføjet\")","v":4},{"$f":"IFERROR(IF(INDEX(Data_kom2,MATCH(1,(komnavn2=Kommune)*(komaar2=H307),0),24)=\"*\",\"*\",INDEX(Data_kom2,MATCH(1,(komnavn2=Kommune)*(komaar2=H307),0),24)),\"Data ikke tilføjet\")","v":10},{"$f":"IFERROR(IF(INDEX(Data_kom2,MATCH(1,(komnavn2=Kommune)*(komaar2=I307),0),24)=\"*\",\"*\",INDEX(Data_kom2,MATCH(1,(komnavn2=Kommune)*(komaar2=I307),0),24)),\"Data ikke tilføjet\")","v":6},{"$f":"IFERROR(IF(INDEX(Data_kom2,MATCH(1,(komnavn2=Kommune)*(komaar2=J307),0),24)=\"*\",\"*\",INDEX(Data_kom2,MATCH(1,(komnavn2=Kommune)*(komaar2=J307),0),24)),\"Data ikke tilføjet\")","v":9},{"$f":"IFERROR(IF(INDEX(Data_kom2,MATCH(1,(komnavn2=Kommune)*(komaar2=K307),0),24)=\"*\",\"*\",INDEX(Data_kom2,MATCH(1,(komnavn2=Kommune)*(komaar2=K307),0),24)),\"Data ikke tilføjet\")","v":4},{"$f":"IFERROR(IF(INDEX(Data_kom2,MATCH(1,(komnavn2=Kommune)*(komaar2=L307),0),24)=\"*\",\"*\",INDEX(Data_kom2,MATCH(1,(komnavn2=Kommune)*(komaar2=L307),0),24)),\"Data ikke tilføjet\")","v":7},{"$f":"IFERROR(IF(INDEX(Data_kom2,MATCH(1,(komnavn2=Kommune)*(komaar2=M307),0),24)=\"*\",\"*\",INDEX(Data_kom2,MATCH(1,(komnavn2=Kommune)*(komaar2=M307),0),24)),\"Data ikke tilføjet\")","v":3},{"$f":"IFERROR(IF(INDEX(Data_kom2,MATCH(1,(komnavn2=Kommune)*(komaar2=N307),0),24)=\"*\",\"*\",INDEX(Data_kom2,MATCH(1,(komnavn2=Kommune)*(komaar2=N307),0),24)),\"Data ikke tilføjet\")","v":7},{"$f":"IFERROR(IF(INDEX(Data_kom2,MATCH(1,(komnavn2=Kommune)*(komaar2=O307),0),24)=\"*\",\"*\",INDEX(Data_kom2,MATCH(1,(komnavn2=Kommune)*(komaar2=O307),0),24)),\"Data ikke tilføjet\")","v":5},{"$f":"IFERROR(IF(INDEX(Data_kom2,MATCH(1,(komnavn2=Kommune)*(komaar2=P307),0),24)=\"*\",\"*\",INDEX(Data_kom2,MATCH(1,(komnavn2=Kommune)*(komaar2=P307),0),24)),\"Data ikke tilføjet\")","v":9},{"$f":"IFERROR(IF(INDEX(Data_kom2,MATCH(1,(komnavn2=Kommune)*(komaar2=Q307),0),24)=\"*\",\"*\",INDEX(Data_kom2,MATCH(1,(komnavn2=Kommune)*(komaar2=Q307),0),24)),\"Data ikke tilføjet\")","v":0},{"$f":"IFERROR(IF(INDEX(Data_kom2,MATCH(1,(komnavn2=Kommune)*(komaar2=R307),0),24)=\"*\",\"*\",INDEX(Data_kom2,MATCH(1,(komnavn2=Kommune)*(komaar2=R307),0),24)),\"Data ikke tilføjet\")","v":6}]
[null,"Antal tidligere institutionsanbragte",null,{"$f":"IFERROR(IF(INDEX(Data_kom2,MATCH(1,(komnavn2=Kommune)*(komaar2=D307),0),25)=\"*\",\"*\",INDEX(Data_kom2,MATCH(1,(komnavn2=Kommune)*(komaar2=D307),0),25)),\"Data ikke tilføjet\")","v":251},{"$f":"IFERROR(IF(INDEX(Data_kom2,MATCH(1,(komnavn2=Kommune)*(komaar2=E307),0),25)=\"*\",\"*\",INDEX(Data_kom2,MATCH(1,(komnavn2=Kommune)*(komaar2=E307),0),25)),\"Data ikke tilføjet\")","v":230},{"$f":"IFERROR(IF(INDEX(Data_kom2,MATCH(1,(komnavn2=Kommune)*(komaar2=F307),0),25)=\"*\",\"*\",INDEX(Data_kom2,MATCH(1,(komnavn2=Kommune)*(komaar2=F307),0),25)),\"Data ikke tilføjet\")","v":233},{"$f":"IFERROR(IF(INDEX(Data_kom2,MATCH(1,(komnavn2=Kommune)*(komaar2=G307),0),25)=\"*\",\"*\",INDEX(Data_kom2,MATCH(1,(komnavn2=Kommune)*(komaar2=G307),0),25)),\"Data ikke tilføjet\")","v":224},{"$f":"IFERROR(IF(INDEX(Data_kom2,MATCH(1,(komnavn2=Kommune)*(komaar2=H307),0),25)=\"*\",\"*\",INDEX(Data_kom2,MATCH(1,(komnavn2=Kommune)*(komaar2=H307),0),25)),\"Data ikke tilføjet\")","v":226},{"$f":"IFERROR(IF(INDEX(Data_kom2,MATCH(1,(komnavn2=Kommune)*(komaar2=I307),0),25)=\"*\",\"*\",INDEX(Data_kom2,MATCH(1,(komnavn2=Kommune)*(komaar2=I307),0),25)),\"Data ikke tilføjet\")","v":214},{"$f":"IFERROR(IF(INDEX(Data_kom2,MATCH(1,(komnavn2=Kommune)*(komaar2=J307),0),25)=\"*\",\"*\",INDEX(Data_kom2,MATCH(1,(komnavn2=Kommune)*(komaar2=J307),0),25)),\"Data ikke tilføjet\")","v":217},{"$f":"IFERROR(IF(INDEX(Data_kom2,MATCH(1,(komnavn2=Kommune)*(komaar2=K307),0),25)=\"*\",\"*\",INDEX(Data_kom2,MATCH(1,(komnavn2=Kommune)*(komaar2=K307),0),25)),\"Data ikke tilføjet\")","v":204},{"$f":"IFERROR(IF(INDEX(Data_kom2,MATCH(1,(komnavn2=Kommune)*(komaar2=L307),0),25)=\"*\",\"*\",INDEX(Data_kom2,MATCH(1,(komnavn2=Kommune)*(komaar2=L307),0),25)),\"Data ikke tilføjet\")","v":193},{"$f":"IFERROR(IF(INDEX(Data_kom2,MATCH(1,(komnavn2=Kommune)*(komaar2=M307),0),25)=\"*\",\"*\",INDEX(Data_kom2,MATCH(1,(komnavn2=Kommune)*(komaar2=M307),0),25)),\"Data ikke tilføjet\")","v":160},{"$f":"IFERROR(IF(INDEX(Data_kom2,MATCH(1,(komnavn2=Kommune)*(komaar2=N307),0),25)=\"*\",\"*\",INDEX(Data_kom2,MATCH(1,(komnavn2=Kommune)*(komaar2=N307),0),25)),\"Data ikke tilføjet\")","v":180},{"$f":"IFERROR(IF(INDEX(Data_kom2,MATCH(1,(komnavn2=Kommune)*(komaar2=O307),0),25)=\"*\",\"*\",INDEX(Data_kom2,MATCH(1,(komnavn2=Kommune)*(komaar2=O307),0),25)),\"Data ikke tilføjet\")","v":201},{"$f":"IFERROR(IF(INDEX(Data_kom2,MATCH(1,(komnavn2=Kommune)*(komaar2=P307),0),25)=\"*\",\"*\",INDEX(Data_kom2,MATCH(1,(komnavn2=Kommune)*(komaar2=P307),0),25)),\"Data ikke tilføjet\")","v":219},{"$f":"IFERROR(IF(INDEX(Data_kom2,MATCH(1,(komnavn2=Kommune)*(komaar2=Q307),0),25)=\"*\",\"*\",INDEX(Data_kom2,MATCH(1,(komnavn2=Kommune)*(komaar2=Q307),0),25)),\"Data ikke tilføjet\")","v":217},{"$f":"IFERROR(IF(INDEX(Data_kom2,MATCH(1,(komnavn2=Kommune)*(komaar2=R307),0),25)=\"*\",\"*\",INDEX(Data_kom2,MATCH(1,(komnavn2=Kommune)*(komaar2=R307),0),25)),\"Data ikke tilføjet\")","v":243}]
[null,"Andel",null,{"$f":"IFERROR(IF(D309=\"*\",\"*\",IF(D310=0,\"#I/T\",(D309/D310))),\"Data ikke tilføjet\")","v":4.3824701195219126E-2},2.1739130434782608E-2,3.8626609442060089E-2,1.7857142857142856E-2,4.4247787610619468E-2,2.8037383177570093E-2,4.1474654377880185E-2,1.9607843137254902E-2,3.6269430051813469E-2,{"$f":"IFERROR(IF(M309=\"*\",\"*\",IF(M310=0,\"#I/T\",(M309/M310))),\"Data ikke tilføjet\")","v":1.8749999999999999E-2},3.888888888888889E-2,2.4875621890547265E-2,4.1095890410958902E-2,0,2.4691358024691357E-2]
[null,"Sammenligningsgruppe, gns."]
[null,"Antal, der har bevæget sig",null,{"$f":"IF('Dine valg'!$G$24=\"\",\"-\",SUMIF(Hjælpefane!$D$7:$D$111,\"=\"&D$9,Hjælpefane!$Y$7:$Y$111))","v":4},{"$f":"IF('Dine valg'!$G$24=\"\",\"-\",SUMIF(Hjælpefane!$D$7:$D$111,\"=\"&E$9,Hjælpefane!$Y$7:$Y$111))","v":3},{"$f":"IF('Dine valg'!$G$24=\"\",\"-\",SUMIF(Hjælpefane!$D$7:$D$111,\"=\"&F$9,Hjælpefane!$Y$7:$Y$111))","v":6},{"$f":"IF('Dine valg'!$G$24=\"\",\"-\",SUMIF(Hjælpefane!$D$7:$D$111,\"=\"&G$9,Hjælpefane!$Y$7:$Y$111))","v":0},{"$f":"IF('Dine valg'!$G$24=\"\",\"-\",SUMIF(Hjælpefane!$D$7:$D$111,\"=\"&H$9,Hjælpefane!$Y$7:$Y$111))","v":5},{"$f":"IF('Dine valg'!$G$24=\"\",\"-\",SUMIF(Hjælpefane!$D$7:$D$111,\"=\"&I$9,Hjælpefane!$Y$7:$Y$111))","v":0},{"$f":"IF('Dine valg'!$G$24=\"\",\"-\",SUMIF(Hjælpefane!$D$7:$D$111,\"=\"&J$9,Hjælpefane!$Y$7:$Y$111))","v":0},{"$f":"IF('Dine valg'!$G$24=\"\",\"-\",SUMIF(Hjælpefane!$D$7:$D$111,\"=\"&K$9,Hjælpefane!$Y$7:$Y$111))","v":0},{"$f":"IF('Dine valg'!$G$24=\"\",\"-\",SUMIF(Hjælpefane!$D$7:$D$111,\"=\"&L$9,Hjælpefane!$Y$7:$Y$111))","v":0},{"$f":"IF('Dine valg'!$G$24=\"\",\"-\",SUMIF(Hjælpefane!$D$7:$D$111,\"=\"&M$9,Hjælpefane!$Y$7:$Y$111))","v":4},{"$f":"IF('Dine valg'!$G$24=\"\",\"-\",SUMIF(Hjælpefane!$D$7:$D$111,\"=\"&N$9,Hjælpefane!$Y$7:$Y$111))","v":0},{"$f":"IF('Dine valg'!$G$24=\"\",\"-\",SUMIF(Hjælpefane!$D$7:$D$111,\"=\"&O$9,Hjælpefane!$Y$7:$Y$111))","v":3},{"$f":"IF('Dine valg'!$G$24=\"\",\"-\",SUMIF(Hjælpefane!$D$7:$D$111,\"=\"&P$9,Hjælpefane!$Y$7:$Y$111))","v":0},{"$f":"IF('Dine valg'!$G$24=\"\",\"-\",SUMIF(Hjælpefane!$D$7:$D$111,\"=\"&Q$9,Hjælpefane!$Y$7:$Y$111))","v":4},{"$f":"IF('Dine valg'!$G$24=\"\",\"-\",SUMIF(Hjælpefane!$D$7:$D$111,\"=\"&R$9,Hjælpefane!$Y$7:$Y$111))","v":0}]
[null,"Antal tidligere institutionsanbragte",null,{"$f":"IF('Dine valg'!$G$24=\"\",\"-\",SUMIF(Hjælpefane!$D$7:$D$111,\"=\"&D$9,Hjælpefane!$Z$7:$Z$111))","v":190},{"$f":"IF('Dine valg'!$G$24=\"\",\"-\",SUMIF(Hjælpefane!$D$7:$D$111,\"=\"&E$9,Hjælpefane!$Z$7:$Z$111))","v":189},{"$f":"IF('Dine valg'!$G$24=\"\",\"-\",SUMIF(Hjælpefane!$D$7:$D$111,\"=\"&F$9,Hjælpefane!$Z$7:$Z$111))","v":203},{"$f":"IF('Dine valg'!$G$24=\"\",\"-\",SUMIF(Hjælpefane!$D$7:$D$111,\"=\"&G$9,Hjælpefane!$Z$7:$Z$111))","v":191},{"$f":"IF('Dine valg'!$G$24=\"\",\"-\",SUMIF(Hjælpefane!$D$7:$D$111,\"=\"&H$9,Hjælpefane!$Z$7:$Z$111))","v":190},{"$f":"IF('Dine valg'!$G$24=\"\",\"-\",SUMIF(Hjælpefane!$D$7:$D$111,\"=\"&I$9,Hjælpefane!$Z$7:$Z$111))","v":180},{"$f":"IF('Dine valg'!$G$24=\"\",\"-\",SUMIF(Hjælpefane!$D$7:$D$111,\"=\"&J$9,Hjælpefane!$Z$7:$Z$111))","v":168},{"$f":"IF('Dine valg'!$G$24=\"\",\"-\",SUMIF(Hjælpefane!$D$7:$D$111,\"=\"&K$9,Hjælpefane!$Z$7:$Z$111))","v":174},{"$f":"IF('Dine valg'!$G$24=\"\",\"-\",SUMIF(Hjælpefane!$D$7:$D$111,\"=\"&L$9,Hjælpefane!$Z$7:$Z$111))","v":178},{"$f":"IF('Dine valg'!$G$24=\"\",\"-\",SUMIF(Hjælpefane!$D$7:$D$111,\"=\"&M$9,Hjælpefane!$Z$7:$Z$111))","v":171},{"$f":"IF('Dine valg'!$G$24=\"\",\"-\",SUMIF(Hjælpefane!$D$7:$D$111,\"=\"&N$9,Hjælpefane!$Z$7:$Z$111))","v":173},{"$f":"IF('Dine valg'!$G$24=\"\",\"-\",SUMIF(Hjælpefane!$D$7:$D$111,\"=\"&O$9,Hjælpefane!$Z$7:$Z$111))","v":175},{"$f":"IF('Dine valg'!$G$24=\"\",\"-\",SUMIF(Hjælpefane!$D$7:$D$111,\"=\"&P$9,Hjælpefane!$Z$7:$Z$111))","v":175},{"$f":"IF('Dine valg'!$G$24=\"\",\"-\",SUMIF(Hjælpefane!$D$7:$D$111,\"=\"&Q$9,Hjælpefane!$Z$7:$Z$111))","v":161},{"$f":"IF('Dine valg'!$G$24=\"\",\"-\",SUMIF(Hjælpefane!$D$7:$D$111,\"=\"&R$9,Hjælpefane!$Z$7:$Z$111))","v":174}]
[null,"Andel",null,{"$f":"IFERROR(IF(D313=\"*\",\"*\",IF(D314=\"\",\"Indtast data\",(D313/D314))),\"-\")","v":2.1052631578947368E-2},{"$f":"IFERROR(IF(E313=\"*\",\"*\",IF(E314=\"\",\"Indtast data\",(E313/E314))),\"-\")","v":1.5873015873015872E-2},{"$f":"IFERROR(IF(F313=\"*\",\"*\",IF(F314=\"\",\"Indtast data\",(F313/F314))),\"-\")","v":2.9556650246305417E-2},{"$f":"IFERROR(IF(G313=\"*\",\"*\",IF(G314=\"\",\"Indtast data\",(G313/G314))),\"-\")","v":0},{"$f":"IFERROR(IF(H313=\"*\",\"*\",IF(H314=\"\",\"Indtast data\",(H313/H314))),\"-\")","v":2.6315789473684209E-2},{"$f":"IFERROR(IF(I313=\"*\",\"*\",IF(I314=\"\",\"Indtast data\",(I313/I314))),\"-\")","v":0},{"$f":"IFERROR(IF(J313=\"*\",\"*\",IF(J314=\"\",\"Indtast data\",(J313/J314))),\"-\")","v":0},{"$f":"IFERROR(IF(K313=\"*\",\"*\",IF(K314=\"\",\"Indtast data\",(K313/K314))),\"-\")","v":0},{"$f":"IFERROR(IF(L313=\"*\",\"*\",IF(L314=\"\",\"Indtast data\",(L313/L314))),\"-\")","v":0},2.3391812865497075E-2,0,1.7142857142857144E-2,0,2.4844720496894408E-2,0]
[null,"Hele landet"]
[null,"Antal, der har bevæget sig",null,{"$f":"INDEX(Data_land,MATCH(Skyggetabeller!D307,Data!landaar,0),24)","v":63},{"$f":"INDEX(Data_land,MATCH(Skyggetabeller!E307,Data!landaar,0),24)","v":75},{"$f":"INDEX(Data_land,MATCH(Skyggetabeller!F307,Data!landaar,0),24)","v":76},{"$f":"INDEX(Data_land,MATCH(Skyggetabeller!G307,Data!landaar,0),24)","v":72},{"$f":"INDEX(Data_land,MATCH(Skyggetabeller!H307,Data!landaar,0),24)","v":80},{"$f":"INDEX(Data_land,MATCH(Skyggetabeller!I307,Data!landaar,0),24)","v":59},{"$f":"INDEX(Data_land,MATCH(Skyggetabeller!J307,Data!landaar,0),24)","v":77},{"$f":"INDEX(Data_land,MATCH(Skyggetabeller!K307,Data!landaar,0),24)","v":60},{"$f":"INDEX(Data_land,MATCH(Skyggetabeller!L307,Data!landaar,0),24)","v":74},{"$f":"INDEX(Data_land,MATCH(Skyggetabeller!M307,Data!landaar,0),24)","v":50},{"$f":"INDEX(Data_land,MATCH(Skyggetabeller!N307,Data!landaar,0),24)","v":68},{"$f":"INDEX(Data_land,MATCH(Skyggetabeller!O307,Data!landaar,0),24)","v":59},{"$f":"INDEX(Data_land,MATCH(Skyggetabeller!P307,Data!landaar,0),24)","v":44},{"$f":"INDEX(Data_land,MATCH(Skyggetabeller!Q307,Data!landaar,0),24)","v":42},{"$f":"INDEX(Data_land,MATCH(Skyggetabeller!R307,Data!landaar,0),24)","v":52}]
[null,"Antal tidligere institutionsanbragte",null,{"$f":"INDEX(Data_land,MATCH(Skyggetabeller!D307,Data!landaar,0),25)","v":3525},{"$f":"INDEX(Data_land,MATCH(Skyggetabeller!E307,Data!landaar,0),25)","v":3438},{"$f":"INDEX(Data_land,MATCH(Skyggetabeller!F307,Data!landaar,0),25)","v":3434},{"$f":"INDEX(Data_land,MATCH(Skyggetabeller!G307,Data!landaar,0),25)","v":3381},{"$f":"INDEX(Data_land,MATCH(Skyggetabeller!H307,Data!landaar,0),25)","v":3463},{"$f":"INDEX(Data_land,MATCH(Skyggetabeller!I307,Data!landaar,0),25)","v":3375},{"$f":"INDEX(Data_land,MATCH(Skyggetabeller!J307,Data!landaar,0),25)","v":3401},{"$f":"INDEX(Data_land,MATCH(Skyggetabeller!K307,Data!landaar,0),25)","v":3298},{"$f":"INDEX(Data_land,MATCH(Skyggetabeller!L307,Data!landaar,0),25)","v":3276},{"$f":"INDEX(Data_land,MATCH(Skyggetabeller!M307,Data!landaar,0),25)","v":3268},{"$f":"INDEX(Data_land,MATCH(Skyggetabeller!N307,Data!landaar,0),25)","v":3331},{"$f":"INDEX(Data_land,MATCH(Skyggetabeller!O307,Data!landaar,0),25)","v":3391},{"$f":"INDEX(Data_land,MATCH(Skyggetabeller!P307,Data!landaar,0),25)","v":3479},{"$f":"INDEX(Data_land,MATCH(Skyggetabeller!Q307,Data!landaar,0),25)","v":3460},{"$f":"INDEX(Data_land,MATCH(Skyggetabeller!R307,Data!landaar,0),25)","v":3624}]
[null,"Andel",null,{"$f":"IFERROR(IF(D317=\"*\",\"*\",IF(D318=0,\"#I/T\",(D317/D318))),\"Data ikke tilføjet\")","v":1.7872340425531916E-2},{"$f":"IFERROR(IF(E317=\"*\",\"*\",IF(E318=0,\"#I/T\",(E317/E318))),\"Data ikke tilføjet\")","v":2.181500872600349E-2},{"$f":"IFERROR(IF(F317=\"*\",\"*\",IF(F318=0,\"#I/T\",(F317/F318))),\"Data ikke tilføjet\")","v":2.2131624927198602E-2},{"$f":"IFERROR(IF(G317=\"*\",\"*\",IF(G318=0,\"#I/T\",(G317/G318))),\"Data ikke tilføjet\")","v":2.1295474711623779E-2},{"$f":"IFERROR(IF(H317=\"*\",\"*\",IF(H318=0,\"#I/T\",(H317/H318))),\"Data ikke tilføjet\")","v":2.310135720473578E-2},{"$f":"IFERROR(IF(I317=\"*\",\"*\",IF(I318=0,\"#I/T\",(I317/I318))),\"Data ikke tilføjet\")","v":1.748148148148148E-2},{"$f":"IFERROR(IF(J317=\"*\",\"*\",IF(J318=0,\"#I/T\",(J317/J318))),\"Data ikke tilføjet\")","v":2.2640399882387533E-2},{"$f":"IFERROR(IF(K317=\"*\",\"*\",IF(K318=0,\"#I/T\",(K317/K318))),\"Data ikke tilføjet\")","v":1.8192844147968467E-2},{"$f":"IFERROR(IF(L317=\"*\",\"*\",IF(L318=0,\"#I/T\",(L317/L318))),\"Data ikke tilføjet\")","v":2.2588522588522588E-2},{"$f":"IFERROR(IF(M317=\"*\",\"*\",IF(M318=0,\"#I/T\",(M317/M318))),\"Data ikke tilføjet\")","v":1.5299877600979192E-2},{"$f":"IFERROR(IF(N317=\"*\",\"*\",IF(N318=0,\"#I/T\",(N317/N318))),\"Data ikke tilføjet\")","v":2.04142900030021E-2},{"$f":"IFERROR(IF(O317=\"*\",\"*\",IF(O318=0,\"#I/T\",(O317/O318))),\"Data ikke tilføjet\")","v":1.739899734591566E-2},{"$f":"IFERROR(IF(P317=\"*\",\"*\",IF(P318=0,\"#I/T\",(P317/P318))),\"Data ikke tilføjet\")","v":1.2647312446105202E-2},{"$f":"IFERROR(IF(Q317=\"*\",\"*\",IF(Q318=0,\"#I/T\",(Q317/Q318))),\"Data ikke tilføjet\")","v":1.2138728323699421E-2},{"$f":"IFERROR(IF(R317=\"*\",\"*\",IF(R318=0,\"#I/T\",(R317/R318))),\"Data ikke tilføjet\")","v":1.434878587196468E-2}]
[]
[null,"Tabel 7.2: Fra institutionsanbringelse til ingen anbringelse"]
[null,"Nøgletal 7.2: \nTidligere institutionsanbragte, som nu ikke er anbragt ",null,"2016-01-01","2016-07-01","2017-01-01","2017-07-01","2018-01-01","2018-07-01","2019-01-01","2019-07-01","2020-01-01","2020-07-01","2021-01-01","2021-07-01","2022-01-01","2022-07-01","2023-01-01"]
[null,{"$f":"IF(Kommune=\"\",\"Kommune\",Kommune)","v":"København"}]
[null,"Antal, der har bevæget sig",null,{"$f":"IFERROR(IF(INDEX(Data_kom2,MATCH(1,(komnavn2=Kommune)*(komaar2=D322),0),26)=\"*\",\"*\",INDEX(Data_kom2,MATCH(1,(komnavn2=Kommune)*(komaar2=D322),0),26)),\"Data ikke tilføjet\")","v":54},{"$f":"IFERROR(IF(INDEX(Data_kom2,MATCH(1,(komnavn2=Kommune)*(komaar2=E322),0),26)=\"*\",\"*\",INDEX(Data_kom2,MATCH(1,(komnavn2=Kommune)*(komaar2=E322),0),26)),\"Data ikke tilføjet\")","v":42},{"$f":"IFERROR(IF(INDEX(Data_kom2,MATCH(1,(komnavn2=Kommune)*(komaar2=F322),0),26)=\"*\",\"*\",INDEX(Data_kom2,MATCH(1,(komnavn2=Kommune)*(komaar2=F322),0),26)),\"Data ikke tilføjet\")","v":37},{"$f":"IFERROR(IF(INDEX(Data_kom2,MATCH(1,(komnavn2=Kommune)*(komaar2=G322),0),26)=\"*\",\"*\",INDEX(Data_kom2,MATCH(1,(komnavn2=Kommune)*(komaar2=G322),0),26)),\"Data ikke tilføjet\")","v":46},{"$f":"IFERROR(IF(INDEX(Data_kom2,MATCH(1,(komnavn2=Kommune)*(komaar2=H322),0),26)=\"*\",\"*\",INDEX(Data_kom2,MATCH(1,(komnavn2=Kommune)*(komaar2=H322),0),26)),\"Data ikke tilføjet\")","v":50},{"$f":"IFERROR(IF(INDEX(Data_kom2,MATCH(1,(komnavn2=Kommune)*(komaar2=I322),0),26)=\"*\",\"*\",INDEX(Data_kom2,MATCH(1,(komnavn2=Kommune)*(komaar2=I322),0),26)),\"Data ikke tilføjet\")","v":45},{"$f":"IFERROR(IF(INDEX(Data_kom2,MATCH(1,(komnavn2=Kommune)*(komaar2=J322),0),26)=\"*\",\"*\",INDEX(Data_kom2,MATCH(1,(komnavn2=Kommune)*(komaar2=J322),0),26)),\"Data ikke tilføjet\")","v":39},{"$f":"IFERROR(IF(INDEX(Data_kom2,MATCH(1,(komnavn2=Kommune)*(komaar2=K322),0),26)=\"*\",\"*\",INDEX(Data_kom2,MATCH(1,(komnavn2=Kommune)*(komaar2=K322),0),26)),\"Data ikke tilføjet\")","v":46},{"$f":"IFERROR(IF(INDEX(Data_kom2,MATCH(1,(komnavn2=Kommune)*(komaar2=L322),0),26)=\"*\",\"*\",INDEX(Data_kom2,MATCH(1,(komnavn2=Kommune)*(komaar2=L322),0),26)),\"Data ikke tilføjet\")","v":65},{"$f":"IFERROR(IF(INDEX(Data_kom2,MATCH(1,(komnavn2=Kommune)*(komaar2=M322),0),26)=\"*\",\"*\",INDEX(Data_kom2,MATCH(1,(komnavn2=Kommune)*(komaar2=M322),0),26)),\"Data ikke tilføjet\")","v":28},{"$f":"IFERROR(IF(INDEX(Data_kom2,MATCH(1,(komnavn2=Kommune)*(komaar2=N322),0),26)=\"*\",\"*\",INDEX(Data_kom2,MATCH(1,(komnavn2=Kommune)*(komaar2=N322),0),26)),\"Data ikke tilføjet\")","v":31},{"$f":"IFERROR(IF(INDEX(Data_kom2,MATCH(1,(komnavn2=Kommune)*(komaar2=O322),0),26)=\"*\",\"*\",INDEX(Data_kom2,MATCH(1,(komnavn2=Kommune)*(komaar2=O322),0),26)),\"Data ikke tilføjet\")","v":38},{"$f":"IFERROR(IF(INDEX(Data_kom2,MATCH(1,(komnavn2=Kommune)*(komaar2=P322),0),26)=\"*\",\"*\",INDEX(Data_kom2,MATCH(1,(komnavn2=Kommune)*(komaar2=P322),0),26)),\"Data ikke tilføjet\")","v":47},{"$f":"IFERROR(IF(INDEX(Data_kom2,MATCH(1,(komnavn2=Kommune)*(komaar2=Q322),0),26)=\"*\",\"*\",INDEX(Data_kom2,MATCH(1,(komnavn2=Kommune)*(komaar2=Q322),0),26)),\"Data ikke tilføjet\")","v":0},{"$f":"IFERROR(IF(INDEX(Data_kom2,MATCH(1,(komnavn2=Kommune)*(komaar2=R322),0),26)=\"*\",\"*\",INDEX(Data_kom2,MATCH(1,(komnavn2=Kommune)*(komaar2=R322),0),26)),\"Data ikke tilføjet\")","v":42}]
[null,"Antal tidligere institutionsanbragte",null,{"$f":"IFERROR(IF(INDEX(Data_kom2,MATCH(1,(komnavn2=Kommune)*(komaar2=D322),0),27)=\"*\",\"*\",INDEX(Data_kom2,MATCH(1,(komnavn2=Kommune)*(komaar2=D322),0),27)),\"Data ikke tilføjet\")","v":251},{"$f":"IFERROR(IF(INDEX(Data_kom2,MATCH(1,(komnavn2=Kommune)*(komaar2=E322),0),27)=\"*\",\"*\",INDEX(Data_kom2,MATCH(1,(komnavn2=Kommune)*(komaar2=E322),0),27)),\"Data ikke tilføjet\")","v":230},{"$f":"IFERROR(IF(INDEX(Data_kom2,MATCH(1,(komnavn2=Kommune)*(komaar2=F322),0),27)=\"*\",\"*\",INDEX(Data_kom2,MATCH(1,(komnavn2=Kommune)*(komaar2=F322),0),27)),\"Data ikke tilføjet\")","v":233},{"$f":"IFERROR(IF(INDEX(Data_kom2,MATCH(1,(komnavn2=Kommune)*(komaar2=G322),0),27)=\"*\",\"*\",INDEX(Data_kom2,MATCH(1,(komnavn2=Kommune)*(komaar2=G322),0),27)),\"Data ikke tilføjet\")","v":224},{"$f":"IFERROR(IF(INDEX(Data_kom2,MATCH(1,(komnavn2=Kommune)*(komaar2=H322),0),27)=\"*\",\"*\",INDEX(Data_kom2,MATCH(1,(komnavn2=Kommune)*(komaar2=H322),0),27)),\"Data ikke tilføjet\")","v":226},{"$f":"IFERROR(IF(INDEX(Data_kom2,MATCH(1,(komnavn2=Kommune)*(komaar2=I322),0),27)=\"*\",\"*\",INDEX(Data_kom2,MATCH(1,(komnavn2=Kommune)*(komaar2=I322),0),27)),\"Data ikke tilføjet\")","v":214},{"$f":"IFERROR(IF(INDEX(Data_kom2,MATCH(1,(komnavn2=Kommune)*(komaar2=J322),0),27)=\"*\",\"*\",INDEX(Data_kom2,MATCH(1,(komnavn2=Kommune)*(komaar2=J322),0),27)),\"Data ikke tilføjet\")","v":217},{"$f":"IFERROR(IF(INDEX(Data_kom2,MATCH(1,(komnavn2=Kommune)*(komaar2=K322),0),27)=\"*\",\"*\",INDEX(Data_kom2,MATCH(1,(komnavn2=Kommune)*(komaar2=K322),0),27)),\"Data ikke tilføjet\")","v":204},{"$f":"IFERROR(IF(INDEX(Data_kom2,MATCH(1,(komnavn2=Kommune)*(komaar2=L322),0),27)=\"*\",\"*\",INDEX(Data_kom2,MATCH(1,(komnavn2=Kommune)*(komaar2=L322),0),27)),\"Data ikke tilføjet\")","v":193},{"$f":"IFERROR(IF(INDEX(Data_kom2,MATCH(1,(komnavn2=Kommune)*(komaar2=M322),0),27)=\"*\",\"*\",INDEX(Data_kom2,MATCH(1,(komnavn2=Kommune)*(komaar2=M322),0),27)),\"Data ikke tilføjet\")","v":160},{"$f":"IFERROR(IF(INDEX(Data_kom2,MATCH(1,(komnavn2=Kommune)*(komaar2=N322),0),27)=\"*\",\"*\",INDEX(Data_kom2,MATCH(1,(komnavn2=Kommune)*(komaar2=N322),0),27)),\"Data ikke tilføjet\")","v":180},{"$f":"IFERROR(IF(INDEX(Data_kom2,MATCH(1,(komnavn2=Kommune)*(komaar2=O322),0),27)=\"*\",\"*\",INDEX(Data_kom2,MATCH(1,(komnavn2=Kommune)*(komaar2=O322),0),27)),\"Data ikke tilføjet\")","v":201},{"$f":"IFERROR(IF(INDEX(Data_kom2,MATCH(1,(komnavn2=Kommune)*(komaar2=P322),0),27)=\"*\",\"*\",INDEX(Data_kom2,MATCH(1,(komnavn2=Kommune)*(komaar2=P322),0),27)),\"Data ikke tilføjet\")","v":219},{"$f":"IFERROR(IF(INDEX(Data_kom2,MATCH(1,(komnavn2=Kommune)*(komaar2=Q322),0),27)=\"*\",\"*\",INDEX(Data_kom2,MATCH(1,(komnavn2=Kommune)*(komaar2=Q322),0),27)),\"Data ikke tilføjet\")","v":217},{"$f":"IFERROR(IF(INDEX(Data_kom2,MATCH(1,(komnavn2=Kommune)*(komaar2=R322),0),27)=\"*\",\"*\",INDEX(Data_kom2,MATCH(1,(komnavn2=Kommune)*(komaar2=R322),0),27)),\"Data ikke tilføjet\")","v":243}]
[null,"Andel",null,{"$f":"IFERROR(IF(D324=\"*\",\"*\",IF(D325=0,\"#I/T\",(D324/D325))),\"Data ikke tilføjet\")","v":0.2151394422310757},0.18260869565217391,0.15879828326180256,0.20535714285714285,0.22123893805309736,0.2102803738317757,0.17972350230414746,0.22549019607843138,0.33678756476683935,{"$f":"IFERROR(IF(M324=\"*\",\"*\",IF(M325=0,\"#I/T\",(M324/M325))),\"Data ikke tilføjet\")","v":0.17499999999999999},0.17222222222222222,0.1890547263681592,0.21461187214611871,0,0.1728395061728395]
[null,"Sammenligningsgruppe, gns."]
[null,"Antal, der har bevæget sig",null,{"$f":"IF('Dine valg'!$G$24=\"\",\"-\",SUMIF(Hjælpefane!$D$7:$D$111,\"=\"&D$9,Hjælpefane!$AA$7:$AA$111))","v":26},{"$f":"IF('Dine valg'!$G$24=\"\",\"-\",SUMIF(Hjælpefane!$D$7:$D$111,\"=\"&E$9,Hjælpefane!$AA$7:$AA$111))","v":28},{"$f":"IF('Dine valg'!$G$24=\"\",\"-\",SUMIF(Hjælpefane!$D$7:$D$111,\"=\"&F$9,Hjælpefane!$AA$7:$AA$111))","v":30},{"$f":"IF('Dine valg'!$G$24=\"\",\"-\",SUMIF(Hjælpefane!$D$7:$D$111,\"=\"&G$9,Hjælpefane!$AA$7:$AA$111))","v":35},{"$f":"IF('Dine valg'!$G$24=\"\",\"-\",SUMIF(Hjælpefane!$D$7:$D$111,\"=\"&H$9,Hjælpefane!$AA$7:$AA$111))","v":30},{"$f":"IF('Dine valg'!$G$24=\"\",\"-\",SUMIF(Hjælpefane!$D$7:$D$111,\"=\"&I$9,Hjælpefane!$AA$7:$AA$111))","v":0},{"$f":"IF('Dine valg'!$G$24=\"\",\"-\",SUMIF(Hjælpefane!$D$7:$D$111,\"=\"&J$9,Hjælpefane!$AA$7:$AA$111))","v":0},{"$f":"IF('Dine valg'!$G$24=\"\",\"-\",SUMIF(Hjælpefane!$D$7:$D$111,\"=\"&K$9,Hjælpefane!$AA$7:$AA$111))","v":25},{"$f":"IF('Dine valg'!$G$24=\"\",\"-\",SUMIF(Hjælpefane!$D$7:$D$111,\"=\"&L$9,Hjælpefane!$AA$7:$AA$111))","v":31},{"$f":"IF('Dine valg'!$G$24=\"\",\"-\",SUMIF(Hjælpefane!$D$7:$D$111,\"=\"&M$9,Hjælpefane!$AA$7:$AA$111))","v":42},{"$f":"IF('Dine valg'!$G$24=\"\",\"-\",SUMIF(Hjælpefane!$D$7:$D$111,\"=\"&N$9,Hjælpefane!$AA$7:$AA$111))","v":28},{"$f":"IF('Dine valg'!$G$24=\"\",\"-\",SUMIF(Hjælpefane!$D$7:$D$111,\"=\"&O$9,Hjælpefane!$AA$7:$AA$111))","v":28},{"$f":"IF('Dine valg'!$G$24=\"\",\"-\",SUMIF(Hjælpefane!$D$7:$D$111,\"=\"&P$9,Hjælpefane!$AA$7:$AA$111))","v":0},{"$f":"IF('Dine valg'!$G$24=\"\",\"-\",SUMIF(Hjælpefane!$D$7:$D$111,\"=\"&Q$9,Hjælpefane!$AA$7:$AA$111))","v":18},{"$f":"IF('Dine valg'!$G$24=\"\",\"-\",SUMIF(Hjælpefane!$D$7:$D$111,\"=\"&R$9,Hjælpefane!$AA$7:$AA$111))","v":32}]
[null,"Antal tidligere institutionsanbragte",null,{"$f":"IF('Dine valg'!$G$24=\"\",\"-\",SUMIF(Hjælpefane!$D$7:$D$111,\"=\"&D$9,Hjælpefane!$AB$7:$AB$111))","v":190},{"$f":"IF('Dine valg'!$G$24=\"\",\"-\",SUMIF(Hjælpefane!$D$7:$D$111,\"=\"&E$9,Hjælpefane!$AB$7:$AB$111))","v":189},{"$f":"IF('Dine valg'!$G$24=\"\",\"-\",SUMIF(Hjælpefane!$D$7:$D$111,\"=\"&F$9,Hjælpefane!$AB$7:$AB$111))","v":203},{"$f":"IF('Dine valg'!$G$24=\"\",\"-\",SUMIF(Hjælpefane!$D$7:$D$111,\"=\"&G$9,Hjælpefane!$AB$7:$AB$111))","v":191},{"$f":"IF('Dine valg'!$G$24=\"\",\"-\",SUMIF(Hjælpefane!$D$7:$D$111,\"=\"&H$9,Hjælpefane!$AB$7:$AB$111))","v":190},{"$f":"IF('Dine valg'!$G$24=\"\",\"-\",SUMIF(Hjælpefane!$D$7:$D$111,\"=\"&I$9,Hjælpefane!$AB$7:$AB$111))","v":180},{"$f":"IF('Dine valg'!$G$24=\"\",\"-\",SUMIF(Hjælpefane!$D$7:$D$111,\"=\"&J$9,Hjælpefane!$AB$7:$AB$111))","v":168},{"$f":"IF('Dine valg'!$G$24=\"\",\"-\",SUMIF(Hjælpefane!$D$7:$D$111,\"=\"&K$9,Hjælpefane!$AB$7:$AB$111))","v":174},{"$f":"IF('Dine valg'!$G$24=\"\",\"-\",SUMIF(Hjælpefane!$D$7:$D$111,\"=\"&L$9,Hjælpefane!$AB$7:$AB$111))","v":178},{"$f":"IF('Dine valg'!$G$24=\"\",\"-\",SUMIF(Hjælpefane!$D$7:$D$111,\"=\"&M$9,Hjælpefane!$AB$7:$AB$111))","v":171},{"$f":"IF('Dine valg'!$G$24=\"\",\"-\",SUMIF(Hjælpefane!$D$7:$D$111,\"=\"&N$9,Hjælpefane!$AB$7:$AB$111))","v":173},{"$f":"IF('Dine valg'!$G$24=\"\",\"-\",SUMIF(Hjælpefane!$D$7:$D$111,\"=\"&O$9,Hjælpefane!$AB$7:$AB$111))","v":175},{"$f":"IF('Dine valg'!$G$24=\"\",\"-\",SUMIF(Hjælpefane!$D$7:$D$111,\"=\"&P$9,Hjælpefane!$AB$7:$AB$111))","v":175},{"$f":"IF('Dine valg'!$G$24=\"\",\"-\",SUMIF(Hjælpefane!$D$7:$D$111,\"=\"&Q$9,Hjælpefane!$AB$7:$AB$111))","v":161},{"$f":"IF('Dine valg'!$G$24=\"\",\"-\",SUMIF(Hjælpefane!$D$7:$D$111,\"=\"&R$9,Hjælpefane!$AB$7:$AB$111))","v":174}]
[null,"Andel",null,{"$f":"IFERROR(IF(D328=\"*\",\"*\",IF(D329=\"\",\"Indtast data\",(D328/D329))),\"-\")","v":0.1368421052631579},{"$f":"IFERROR(IF(E328=\"*\",\"*\",IF(E329=\"\",\"Indtast data\",(E328/E329))),\"-\")","v":0.14814814814814814},{"$f":"IFERROR(IF(F328=\"*\",\"*\",IF(F329=\"\",\"Indtast data\",(F328/F329))),\"-\")","v":0.14778325123152711},{"$f":"IFERROR(IF(G328=\"*\",\"*\",IF(G329=\"\",\"Indtast data\",(G328/G329))),\"-\")","v":0.18324607329842932},{"$f":"IFERROR(IF(H328=\"*\",\"*\",IF(H329=\"\",\"Indtast data\",(H328/H329))),\"-\")","v":0.15789473684210525},{"$f":"IFERROR(IF(I328=\"*\",\"*\",IF(I329=\"\",\"Indtast data\",(I328/I329))),\"-\")","v":0},{"$f":"IFERROR(IF(J328=\"*\",\"*\",IF(J329=\"\",\"Indtast data\",(J328/J329))),\"-\")","v":0},{"$f":"IFERROR(IF(K328=\"*\",\"*\",IF(K329=\"\",\"Indtast data\",(K328/K329))),\"-\")","v":0.14367816091954022},{"$f":"IFERROR(IF(L328=\"*\",\"*\",IF(L329=\"\",\"Indtast data\",(L328/L329))),\"-\")","v":0.17415730337078653},0.24561403508771928,0.16184971098265896,0.16,0,0.11180124223602485,0.18390804597701149]
[null,"Hele landet"]
[null,"Antal, der har bevæget sig",null,{"$f":"INDEX(Data_land,MATCH(Skyggetabeller!D322,Data!landaar,0),26)","v":563},{"$f":"INDEX(Data_land,MATCH(Skyggetabeller!E322,Data!landaar,0),26)","v":598},{"$f":"INDEX(Data_land,MATCH(Skyggetabeller!F322,Data!landaar,0),26)","v":558},{"$f":"INDEX(Data_land,MATCH(Skyggetabeller!G322,Data!landaar,0),26)","v":581},{"$f":"INDEX(Data_land,MATCH(Skyggetabeller!H322,Data!landaar,0),26)","v":617},{"$f":"INDEX(Data_land,MATCH(Skyggetabeller!I322,Data!landaar,0),26)","v":586},{"$f":"INDEX(Data_land,MATCH(Skyggetabeller!J322,Data!landaar,0),26)","v":598},{"$f":"INDEX(Data_land,MATCH(Skyggetabeller!K322,Data!landaar,0),26)","v":542},{"$f":"INDEX(Data_land,MATCH(Skyggetabeller!L322,Data!landaar,0),26)","v":578},{"$f":"INDEX(Data_land,MATCH(Skyggetabeller!M322,Data!landaar,0),26)","v":507},{"$f":"INDEX(Data_land,MATCH(Skyggetabeller!N322,Data!landaar,0),26)","v":526},{"$f":"INDEX(Data_land,MATCH(Skyggetabeller!O322,Data!landaar,0),26)","v":525},{"$f":"INDEX(Data_land,MATCH(Skyggetabeller!P322,Data!landaar,0),26)","v":602},{"$f":"INDEX(Data_land,MATCH(Skyggetabeller!Q322,Data!landaar,0),26)","v":520},{"$f":"INDEX(Data_land,MATCH(Skyggetabeller!R322,Data!landaar,0),26)","v":585}]
[null,"Antal tidligere institutionsanbragte",null,{"$f":"INDEX(Data_land,MATCH(Skyggetabeller!D322,Data!landaar,0),27)","v":3525},{"$f":"INDEX(Data_land,MATCH(Skyggetabeller!E322,Data!landaar,0),27)","v":3438},{"$f":"INDEX(Data_land,MATCH(Skyggetabeller!F322,Data!landaar,0),27)","v":3434},{"$f":"INDEX(Data_land,MATCH(Skyggetabeller!G322,Data!landaar,0),27)","v":3381},{"$f":"INDEX(Data_land,MATCH(Skyggetabeller!H322,Data!landaar,0),27)","v":3463},{"$f":"INDEX(Data_land,MATCH(Skyggetabeller!I322,Data!landaar,0),27)","v":3375},{"$f":"INDEX(Data_land,MATCH(Skyggetabeller!J322,Data!landaar,0),27)","v":3401},{"$f":"INDEX(Data_land,MATCH(Skyggetabeller!K322,Data!landaar,0),27)","v":3298},{"$f":"INDEX(Data_land,MATCH(Skyggetabeller!L322,Data!landaar,0),27)","v":3276},{"$f":"INDEX(Data_land,MATCH(Skyggetabeller!M322,Data!landaar,0),27)","v":3268},{"$f":"INDEX(Data_land,MATCH(Skyggetabeller!N322,Data!landaar,0),27)","v":3331},{"$f":"INDEX(Data_land,MATCH(Skyggetabeller!O322,Data!landaar,0),27)","v":3391},{"$f":"INDEX(Data_land,MATCH(Skyggetabeller!P322,Data!landaar,0),27)","v":3479},{"$f":"INDEX(Data_land,MATCH(Skyggetabeller!Q322,Data!landaar,0),27)","v":3460},{"$f":"INDEX(Data_land,MATCH(Skyggetabeller!R322,Data!landaar,0),27)","v":3624}]
[null,"Andel",null,{"$f":"IFERROR(IF(D332=\"*\",\"*\",IF(D333=0,\"#I/T\",(D332/D333))),\"Data ikke tilføjet\")","v":0.15971631205673759},{"$f":"IFERROR(IF(E332=\"*\",\"*\",IF(E333=0,\"#I/T\",(E332/E333))),\"Data ikke tilføjet\")","v":0.17393833624200117},{"$f":"IFERROR(IF(F332=\"*\",\"*\",IF(F333=0,\"#I/T\",(F332/F333))),\"Data ikke tilføjet\")","v":0.16249271986022132},{"$f":"IFERROR(IF(G332=\"*\",\"*\",IF(G333=0,\"#I/T\",(G332/G333))),\"Data ikke tilføjet\")","v":0.17184265010351968},{"$f":"IFERROR(IF(H332=\"*\",\"*\",IF(H333=0,\"#I/T\",(H332/H333))),\"Data ikke tilføjet\")","v":0.1781692174415247},{"$f":"IFERROR(IF(I332=\"*\",\"*\",IF(I333=0,\"#I/T\",(I332/I333))),\"Data ikke tilføjet\")","v":0.17362962962962963},{"$f":"IFERROR(IF(J332=\"*\",\"*\",IF(J333=0,\"#I/T\",(J332/J333))),\"Data ikke tilføjet\")","v":0.17583063804763305},{"$f":"IFERROR(IF(K332=\"*\",\"*\",IF(K333=0,\"#I/T\",(K332/K333))),\"Data ikke tilføjet\")","v":0.16434202546998181},{"$f":"IFERROR(IF(L332=\"*\",\"*\",IF(L333=0,\"#I/T\",(L332/L333))),\"Data ikke tilføjet\")","v":0.17643467643467645},{"$f":"IFERROR(IF(M332=\"*\",\"*\",IF(M333=0,\"#I/T\",(M332/M333))),\"Data ikke tilføjet\")","v":0.155140758873929},{"$f":"IFERROR(IF(N332=\"*\",\"*\",IF(N333=0,\"#I/T\",(N332/N333))),\"Data ikke tilføjet\")","v":0.15791053737616331},{"$f":"IFERROR(IF(O332=\"*\",\"*\",IF(O333=0,\"#I/T\",(O332/O333))),\"Data ikke tilføjet\")","v":0.15482158655263933},{"$f":"IFERROR(IF(P332=\"*\",\"*\",IF(P333=0,\"#I/T\",(P332/P333))),\"Data ikke tilføjet\")","v":0.17303822937625754},{"$f":"IFERROR(IF(Q332=\"*\",\"*\",IF(Q333=0,\"#I/T\",(Q332/Q333))),\"Data ikke tilføjet\")","v":0.15028901734104047},{"$f":"IFERROR(IF(R332=\"*\",\"*\",IF(R333=0,\"#I/T\",(R332/R333))),\"Data ikke tilføjet\")","v":0.16142384105960264}]
[]
[]
[null,"Nøgletal 8: Fra hjemmebaseret foranstaltning og op ad trappen"]
[]
[null,"Tabel 8: Fra hjemmebaseret foranstaltning og op ad trappen"]
[null,"Nøgletal 8: \nBørn og unge, der ved sidste opgørelse modtog en hjemmebaseret foranstaltning, og ikke var anbragt, som på opgørelsestidspunktet er anbragt uden for hjemmet",null,"2016-01-01","2016-07-01","2017-01-01","2017-07-01","2018-01-01","2018-07-01","2019-01-01","2019-07-01","2020-01-01","2020-07-01","2021-01-01","2021-07-01","2022-01-01","2022-07-01","2023-01-01"]
[null,{"$f":"IF(Kommune=\"\",\"Kommune\",Kommune)","v":"København"}]
[null,"Antal, der har bevæget sig",null,{"$f":"IFERROR(IF(INDEX(Data_kom2,MATCH(1,(komnavn2=Kommune)*(komaar2=D340),0),28)=\"*\",\"*\",INDEX(Data_kom2,MATCH(1,(komnavn2=Kommune)*(komaar2=D340),0),28)),\"Data ikke tilføjet\")","v":0},{"$f":"IFERROR(IF(INDEX(Data_kom2,MATCH(1,(komnavn2=Kommune)*(komaar2=E340),0),28)=\"*\",\"*\",INDEX(Data_kom2,MATCH(1,(komnavn2=Kommune)*(komaar2=E340),0),28)),\"Data ikke tilføjet\")","v":57},{"$f":"IFERROR(IF(INDEX(Data_kom2,MATCH(1,(komnavn2=Kommune)*(komaar2=F340),0),28)=\"*\",\"*\",INDEX(Data_kom2,MATCH(1,(komnavn2=Kommune)*(komaar2=F340),0),28)),\"Data ikke tilføjet\")","v":59},{"$f":"IFERROR(IF(INDEX(Data_kom2,MATCH(1,(komnavn2=Kommune)*(komaar2=G340),0),28)=\"*\",\"*\",INDEX(Data_kom2,MATCH(1,(komnavn2=Kommune)*(komaar2=G340),0),28)),\"Data ikke tilføjet\")","v":59},{"$f":"IFERROR(IF(INDEX(Data_kom2,MATCH(1,(komnavn2=Kommune)*(komaar2=H340),0),28)=\"*\",\"*\",INDEX(Data_kom2,MATCH(1,(komnavn2=Kommune)*(komaar2=H340),0),28)),\"Data ikke tilføjet\")","v":56},{"$f":"IFERROR(IF(INDEX(Data_kom2,MATCH(1,(komnavn2=Kommune)*(komaar2=I340),0),28)=\"*\",\"*\",INDEX(Data_kom2,MATCH(1,(komnavn2=Kommune)*(komaar2=I340),0),28)),\"Data ikke tilføjet\")","v":69},{"$f":"IFERROR(IF(INDEX(Data_kom2,MATCH(1,(komnavn2=Kommune)*(komaar2=J340),0),28)=\"*\",\"*\",INDEX(Data_kom2,MATCH(1,(komnavn2=Kommune)*(komaar2=J340),0),28)),\"Data ikke tilføjet\")","v":59},{"$f":"IFERROR(IF(INDEX(Data_kom2,MATCH(1,(komnavn2=Kommune)*(komaar2=K340),0),28)=\"*\",\"*\",INDEX(Data_kom2,MATCH(1,(komnavn2=Kommune)*(komaar2=K340),0),28)),\"Data ikke tilføjet\")","v":46},{"$f":"IFERROR(IF(INDEX(Data_kom2,MATCH(1,(komnavn2=Kommune)*(komaar2=L340),0),28)=\"*\",\"*\",INDEX(Data_kom2,MATCH(1,(komnavn2=Kommune)*(komaar2=L340),0),28)),\"Data ikke tilføjet\")","v":46},{"$f":"IFERROR(IF(INDEX(Data_kom2,MATCH(1,(komnavn2=Kommune)*(komaar2=M340),0),28)=\"*\",\"*\",INDEX(Data_kom2,MATCH(1,(komnavn2=Kommune)*(komaar2=M340),0),28)),\"Data ikke tilføjet\")","v":49},{"$f":"IFERROR(IF(INDEX(Data_kom2,MATCH(1,(komnavn2=Kommune)*(komaar2=N340),0),28)=\"*\",\"*\",INDEX(Data_kom2,MATCH(1,(komnavn2=Kommune)*(komaar2=N340),0),28)),\"Data ikke tilføjet\")","v":65},{"$f":"IFERROR(IF(INDEX(Data_kom2,MATCH(1,(komnavn2=Kommune)*(komaar2=O340),0),28)=\"*\",\"*\",INDEX(Data_kom2,MATCH(1,(komnavn2=Kommune)*(komaar2=O340),0),28)),\"Data ikke tilføjet\")","v":56},{"$f":"IFERROR(IF(INDEX(Data_kom2,MATCH(1,(komnavn2=Kommune)*(komaar2=P340),0),28)=\"*\",\"*\",INDEX(Data_kom2,MATCH(1,(komnavn2=Kommune)*(komaar2=P340),0),28)),\"Data ikke tilføjet\")","v":0},{"$f":"IFERROR(IF(INDEX(Data_kom2,MATCH(1,(komnavn2=Kommune)*(komaar2=Q340),0),28)=\"*\",\"*\",INDEX(Data_kom2,MATCH(1,(komnavn2=Kommune)*(komaar2=Q340),0),28)),\"Data ikke tilføjet\")","v":72},{"$f":"IFERROR(IF(INDEX(Data_kom2,MATCH(1,(komnavn2=Kommune)*(komaar2=R340),0),28)=\"*\",\"*\",INDEX(Data_kom2,MATCH(1,(komnavn2=Kommune)*(komaar2=R340),0),28)),\"Data ikke tilføjet\")","v":64}]
[null,"Antal tidligere modtagere",null,{"$f":"IFERROR(IF(INDEX(Data_kom2,MATCH(1,(komnavn2=Kommune)*(komaar2=D340),0),29)=\"*\",\"*\",INDEX(Data_kom2,MATCH(1,(komnavn2=Kommune)*(komaar2=D340),0),29)),\"Data ikke tilføjet\")","v":0},{"$f":"IFERROR(IF(INDEX(Data_kom2,MATCH(1,(komnavn2=Kommune)*(komaar2=E340),0),29)=\"*\",\"*\",INDEX(Data_kom2,MATCH(1,(komnavn2=Kommune)*(komaar2=E340),0),29)),\"Data ikke tilføjet\")","v":1942},{"$f":"IFERROR(IF(INDEX(Data_kom2,MATCH(1,(komnavn2=Kommune)*(komaar2=F340),0),29)=\"*\",\"*\",INDEX(Data_kom2,MATCH(1,(komnavn2=Kommune)*(komaar2=F340),0),29)),\"Data ikke tilføjet\")","v":2072},{"$f":"IFERROR(IF(INDEX(Data_kom2,MATCH(1,(komnavn2=Kommune)*(komaar2=G340),0),29)=\"*\",\"*\",INDEX(Data_kom2,MATCH(1,(komnavn2=Kommune)*(komaar2=G340),0),29)),\"Data ikke tilføjet\")","v":2113},{"$f":"IFERROR(IF(INDEX(Data_kom2,MATCH(1,(komnavn2=Kommune)*(komaar2=H340),0),29)=\"*\",\"*\",INDEX(Data_kom2,MATCH(1,(komnavn2=Kommune)*(komaar2=H340),0),29)),\"Data ikke tilføjet\")","v":2196},{"$f":"IFERROR(IF(INDEX(Data_kom2,MATCH(1,(komnavn2=Kommune)*(komaar2=I340),0),29)=\"*\",\"*\",INDEX(Data_kom2,MATCH(1,(komnavn2=Kommune)*(komaar2=I340),0),29)),\"Data ikke tilføjet\")","v":2288},{"$f":"IFERROR(IF(INDEX(Data_kom2,MATCH(1,(komnavn2=Kommune)*(komaar2=J340),0),29)=\"*\",\"*\",INDEX(Data_kom2,MATCH(1,(komnavn2=Kommune)*(komaar2=J340),0),29)),\"Data ikke tilføjet\")","v":2355},{"$f":"IFERROR(IF(INDEX(Data_kom2,MATCH(1,(komnavn2=Kommune)*(komaar2=K340),0),29)=\"*\",\"*\",INDEX(Data_kom2,MATCH(1,(komnavn2=Kommune)*(komaar2=K340),0),29)),\"Data ikke tilføjet\")","v":2321},{"$f":"IFERROR(IF(INDEX(Data_kom2,MATCH(1,(komnavn2=Kommune)*(komaar2=L340),0),29)=\"*\",\"*\",INDEX(Data_kom2,MATCH(1,(komnavn2=Kommune)*(komaar2=L340),0),29)),\"Data ikke tilføjet\")","v":2221},{"$f":"IFERROR(IF(INDEX(Data_kom2,MATCH(1,(komnavn2=Kommune)*(komaar2=M340),0),29)=\"*\",\"*\",INDEX(Data_kom2,MATCH(1,(komnavn2=Kommune)*(komaar2=M340),0),29)),\"Data ikke tilføjet\")","v":2130},{"$f":"IFERROR(IF(INDEX(Data_kom2,MATCH(1,(komnavn2=Kommune)*(komaar2=N340),0),29)=\"*\",\"*\",INDEX(Data_kom2,MATCH(1,(komnavn2=Kommune)*(komaar2=N340),0),29)),\"Data ikke tilføjet\")","v":2121},{"$f":"IFERROR(IF(INDEX(Data_kom2,MATCH(1,(komnavn2=Kommune)*(komaar2=O340),0),29)=\"*\",\"*\",INDEX(Data_kom2,MATCH(1,(komnavn2=Kommune)*(komaar2=O340),0),29)),\"Data ikke tilføjet\")","v":2021},{"$f":"IFERROR(IF(INDEX(Data_kom2,MATCH(1,(komnavn2=Kommune)*(komaar2=P340),0),29)=\"*\",\"*\",INDEX(Data_kom2,MATCH(1,(komnavn2=Kommune)*(komaar2=P340),0),29)),\"Data ikke tilføjet\")","v":0},{"$f":"IFERROR(IF(INDEX(Data_kom2,MATCH(1,(komnavn2=Kommune)*(komaar2=Q340),0),29)=\"*\",\"*\",INDEX(Data_kom2,MATCH(1,(komnavn2=Kommune)*(komaar2=Q340),0),29)),\"Data ikke tilføjet\")","v":2281},{"$f":"IFERROR(IF(INDEX(Data_kom2,MATCH(1,(komnavn2=Kommune)*(komaar2=R340),0),29)=\"*\",\"*\",INDEX(Data_kom2,MATCH(1,(komnavn2=Kommune)*(komaar2=R340),0),29)),\"Data ikke tilføjet\")","v":2399}]
[null,"Andel",null,{"$f":"IFERROR(IF(D342=\"*\",\"*\",IF(D343=0,\"#I/T\",(D342/D343))),\"Data ikke tilføjet\")","v":"#I/T"},2.9351184346035016E-2,2.8474903474903474E-2,2.7922385234264078E-2,2.5500910746812388E-2,3.0157342657342656E-2,2.5053078556263271E-2,1.9819043515725981E-2,2.0711391265195857E-2,{"$f":"IFERROR(IF(M342=\"*\",\"*\",IF(M343=0,\"#I/T\",(M342/M343))),\"Data ikke tilføjet\")","v":2.3004694835680753E-2},3.0645921735030647E-2,2.7709054923305294E-2,"#I/T",3.1565103024989043E-2,2.6677782409337224E-2]
[null,"Sammenligningsgruppe, gns."]
[null,"Antal, der har bevæget sig",null,{"$f":"IF('Dine valg'!$G$24=\"\",\"-\",SUMIF(Hjælpefane!$D$7:$D$111,\"=\"&D$9,Hjælpefane!$AC$7:$AC$111))","v":0},{"$f":"IF('Dine valg'!$G$24=\"\",\"-\",SUMIF(Hjælpefane!$D$7:$D$111,\"=\"&E$9,Hjælpefane!$AC$7:$AC$111))","v":52},{"$f":"IF('Dine valg'!$G$24=\"\",\"-\",SUMIF(Hjælpefane!$D$7:$D$111,\"=\"&F$9,Hjælpefane!$AC$7:$AC$111))","v":0},{"$f":"IF('Dine valg'!$G$24=\"\",\"-\",SUMIF(Hjælpefane!$D$7:$D$111,\"=\"&G$9,Hjælpefane!$AC$7:$AC$111))","v":0},{"$f":"IF('Dine valg'!$G$24=\"\",\"-\",SUMIF(Hjælpefane!$D$7:$D$111,\"=\"&H$9,Hjælpefane!$AC$7:$AC$111))","v":0},{"$f":"IF('Dine valg'!$G$24=\"\",\"-\",SUMIF(Hjælpefane!$D$7:$D$111,\"=\"&I$9,Hjælpefane!$AC$7:$AC$111))","v":0},{"$f":"IF('Dine valg'!$G$24=\"\",\"-\",SUMIF(Hjælpefane!$D$7:$D$111,\"=\"&J$9,Hjælpefane!$AC$7:$AC$111))","v":31},{"$f":"IF('Dine valg'!$G$24=\"\",\"-\",SUMIF(Hjælpefane!$D$7:$D$111,\"=\"&K$9,Hjælpefane!$AC$7:$AC$111))","v":24},{"$f":"IF('Dine valg'!$G$24=\"\",\"-\",SUMIF(Hjælpefane!$D$7:$D$111,\"=\"&L$9,Hjælpefane!$AC$7:$AC$111))","v":23},{"$f":"IF('Dine valg'!$G$24=\"\",\"-\",SUMIF(Hjælpefane!$D$7:$D$111,\"=\"&M$9,Hjælpefane!$AC$7:$AC$111))","v":38},{"$f":"IF('Dine valg'!$G$24=\"\",\"-\",SUMIF(Hjælpefane!$D$7:$D$111,\"=\"&N$9,Hjælpefane!$AC$7:$AC$111))","v":22},{"$f":"IF('Dine valg'!$G$24=\"\",\"-\",SUMIF(Hjælpefane!$D$7:$D$111,\"=\"&O$9,Hjælpefane!$AC$7:$AC$111))","v":25},{"$f":"IF('Dine valg'!$G$24=\"\",\"-\",SUMIF(Hjælpefane!$D$7:$D$111,\"=\"&P$9,Hjælpefane!$AC$7:$AC$111))","v":19},{"$f":"IF('Dine valg'!$G$24=\"\",\"-\",SUMIF(Hjælpefane!$D$7:$D$111,\"=\"&Q$9,Hjælpefane!$AC$7:$AC$111))","v":34},{"$f":"IF('Dine valg'!$G$24=\"\",\"-\",SUMIF(Hjælpefane!$D$7:$D$111,\"=\"&R$9,Hjælpefane!$AC$7:$AC$111))","v":24}]
[null,"Antal tidligere modtagere",null,{"$f":"IF('Dine valg'!$G$24=\"\",\"-\",SUMIF(Hjælpefane!$D$7:$D$111,\"=\"&D$9,Hjælpefane!$AD$7:$AD$111))","v":0},{"$f":"IF('Dine valg'!$G$24=\"\",\"-\",SUMIF(Hjælpefane!$D$7:$D$111,\"=\"&E$9,Hjælpefane!$AD$7:$AD$111))","v":1119},{"$f":"IF('Dine valg'!$G$24=\"\",\"-\",SUMIF(Hjælpefane!$D$7:$D$111,\"=\"&F$9,Hjælpefane!$AD$7:$AD$111))","v":0},{"$f":"IF('Dine valg'!$G$24=\"\",\"-\",SUMIF(Hjælpefane!$D$7:$D$111,\"=\"&G$9,Hjælpefane!$AD$7:$AD$111))","v":0},{"$f":"IF('Dine valg'!$G$24=\"\",\"-\",SUMIF(Hjælpefane!$D$7:$D$111,\"=\"&H$9,Hjælpefane!$AD$7:$AD$111))","v":0},{"$f":"IF('Dine valg'!$G$24=\"\",\"-\",SUMIF(Hjælpefane!$D$7:$D$111,\"=\"&I$9,Hjælpefane!$AD$7:$AD$111))","v":0},{"$f":"IF('Dine valg'!$G$24=\"\",\"-\",SUMIF(Hjælpefane!$D$7:$D$111,\"=\"&J$9,Hjælpefane!$AD$7:$AD$111))","v":1190},{"$f":"IF('Dine valg'!$G$24=\"\",\"-\",SUMIF(Hjælpefane!$D$7:$D$111,\"=\"&K$9,Hjælpefane!$AD$7:$AD$111))","v":1293},{"$f":"IF('Dine valg'!$G$24=\"\",\"-\",SUMIF(Hjælpefane!$D$7:$D$111,\"=\"&L$9,Hjælpefane!$AD$7:$AD$111))","v":1292},{"$f":"IF('Dine valg'!$G$24=\"\",\"-\",SUMIF(Hjælpefane!$D$7:$D$111,\"=\"&M$9,Hjælpefane!$AD$7:$AD$111))","v":1296},{"$f":"IF('Dine valg'!$G$24=\"\",\"-\",SUMIF(Hjælpefane!$D$7:$D$111,\"=\"&N$9,Hjælpefane!$AD$7:$AD$111))","v":1266},{"$f":"IF('Dine valg'!$G$24=\"\",\"-\",SUMIF(Hjælpefane!$D$7:$D$111,\"=\"&O$9,Hjælpefane!$AD$7:$AD$111))","v":1248},{"$f":"IF('Dine valg'!$G$24=\"\",\"-\",SUMIF(Hjælpefane!$D$7:$D$111,\"=\"&P$9,Hjælpefane!$AD$7:$AD$111))","v":1221},{"$f":"IF('Dine valg'!$G$24=\"\",\"-\",SUMIF(Hjælpefane!$D$7:$D$111,\"=\"&Q$9,Hjælpefane!$AD$7:$AD$111))","v":1144},{"$f":"IF('Dine valg'!$G$24=\"\",\"-\",SUMIF(Hjælpefane!$D$7:$D$111,\"=\"&R$9,Hjælpefane!$AD$7:$AD$111))","v":1108}]
[null,"Andel",null,{"$f":"IFERROR(IF(D346=\"*\",\"*\",IF(D347=\"\",\"Indtast data\",(D346/D347))),\"-\")","v":"-"},{"$f":"IFERROR(IF(E346=\"*\",\"*\",IF(E347=\"\",\"Indtast data\",(E346/E347))),\"-\")","v":4.6470062555853439E-2},{"$f":"IFERROR(IF(F346=\"*\",\"*\",IF(F347=\"\",\"Indtast data\",(F346/F347))),\"-\")","v":"-"},{"$f":"IFERROR(IF(G346=\"*\",\"*\",IF(G347=\"\",\"Indtast data\",(G346/G347))),\"-\")","v":"-"},{"$f":"IFERROR(IF(H346=\"*\",\"*\",IF(H347=\"\",\"Indtast data\",(H346/H347))),\"-\")","v":"-"},{"$f":"IFERROR(IF(I346=\"*\",\"*\",IF(I347=\"\",\"Indtast data\",(I346/I347))),\"-\")","v":"-"},{"$f":"IFERROR(IF(J346=\"*\",\"*\",IF(J347=\"\",\"Indtast data\",(J346/J347))),\"-\")","v":2.6050420168067228E-2},{"$f":"IFERROR(IF(K346=\"*\",\"*\",IF(K347=\"\",\"Indtast data\",(K346/K347))),\"-\")","v":1.8561484918793503E-2},{"$f":"IFERROR(IF(L346=\"*\",\"*\",IF(L347=\"\",\"Indtast data\",(L346/L347))),\"-\")","v":1.780185758513932E-2},2.9320987654320986E-2,1.7377567140600316E-2,2.0032051282051284E-2,1.5561015561015561E-2,2.972027972027972E-2,2.1660649819494584E-2]
[null,"Hele landet"]
[null,"Antal, der har bevæget sig",null,{"$f":"INDEX(Data_land,MATCH(Skyggetabeller!D340,Data!landaar,0),28)","v":775},{"$f":"INDEX(Data_land,MATCH(Skyggetabeller!E340,Data!landaar,0),28)","v":819},{"$f":"INDEX(Data_land,MATCH(Skyggetabeller!F340,Data!landaar,0),28)","v":823},{"$f":"INDEX(Data_land,MATCH(Skyggetabeller!G340,Data!landaar,0),28)","v":809},{"$f":"INDEX(Data_land,MATCH(Skyggetabeller!H340,Data!landaar,0),28)","v":767},{"$f":"INDEX(Data_land,MATCH(Skyggetabeller!I340,Data!landaar,0),28)","v":777},{"$f":"INDEX(Data_land,MATCH(Skyggetabeller!J340,Data!landaar,0),28)","v":717},{"$f":"INDEX(Data_land,MATCH(Skyggetabeller!K340,Data!landaar,0),28)","v":680},{"$f":"INDEX(Data_land,MATCH(Skyggetabeller!L340,Data!landaar,0),28)","v":728},{"$f":"INDEX(Data_land,MATCH(Skyggetabeller!M340,Data!landaar,0),28)","v":756},{"$f":"INDEX(Data_land,MATCH(Skyggetabeller!N340,Data!landaar,0),28)","v":760},{"$f":"INDEX(Data_land,MATCH(Skyggetabeller!O340,Data!landaar,0),28)","v":785},{"$f":"INDEX(Data_land,MATCH(Skyggetabeller!P340,Data!landaar,0),28)","v":729},{"$f":"INDEX(Data_land,MATCH(Skyggetabeller!Q340,Data!landaar,0),28)","v":800},{"$f":"INDEX(Data_land,MATCH(Skyggetabeller!R340,Data!landaar,0),28)","v":737}]
[null,"Antal tidligere modtagere",null,{"$f":"INDEX(Data_land,MATCH(Skyggetabeller!D340,Data!landaar,0),29)","v":23201},{"$f":"INDEX(Data_land,MATCH(Skyggetabeller!E340,Data!landaar,0),29)","v":23373},{"$f":"INDEX(Data_land,MATCH(Skyggetabeller!F340,Data!landaar,0),29)","v":23437},{"$f":"INDEX(Data_land,MATCH(Skyggetabeller!G340,Data!landaar,0),29)","v":23510},{"$f":"INDEX(Data_land,MATCH(Skyggetabeller!H340,Data!landaar,0),29)","v":23564},{"$f":"INDEX(Data_land,MATCH(Skyggetabeller!I340,Data!landaar,0),29)","v":23890},{"$f":"INDEX(Data_land,MATCH(Skyggetabeller!J340,Data!landaar,0),29)","v":23501},{"$f":"INDEX(Data_land,MATCH(Skyggetabeller!K340,Data!landaar,0),29)","v":24022},{"$f":"INDEX(Data_land,MATCH(Skyggetabeller!L340,Data!landaar,0),29)","v":23863},{"$f":"INDEX(Data_land,MATCH(Skyggetabeller!M340,Data!landaar,0),29)","v":24712},{"$f":"INDEX(Data_land,MATCH(Skyggetabeller!N340,Data!landaar,0),29)","v":24805},{"$f":"INDEX(Data_land,MATCH(Skyggetabeller!O340,Data!landaar,0),29)","v":25258},{"$f":"INDEX(Data_land,MATCH(Skyggetabeller!P340,Data!landaar,0),29)","v":26198},{"$f":"INDEX(Data_land,MATCH(Skyggetabeller!Q340,Data!landaar,0),29)","v":26475},{"$f":"INDEX(Data_land,MATCH(Skyggetabeller!R340,Data!landaar,0),29)","v":26601}]
[null,"Andel",null,{"$f":"IFERROR(IF(D350=\"*\",\"*\",IF(D351=0,\"#I/T\",(D350/D351))),\"Data ikke tilføjet\")","v":3.3403732597732855E-2},{"$f":"IFERROR(IF(E350=\"*\",\"*\",IF(E351=0,\"#I/T\",(E350/E351))),\"Data ikke tilføjet\")","v":3.5040431266846361E-2},{"$f":"IFERROR(IF(F350=\"*\",\"*\",IF(F351=0,\"#I/T\",(F350/F351))),\"Data ikke tilføjet\")","v":3.5115415795536974E-2},{"$f":"IFERROR(IF(G350=\"*\",\"*\",IF(G351=0,\"#I/T\",(G350/G351))),\"Data ikke tilføjet\")","v":3.4410888983411311E-2},{"$f":"IFERROR(IF(H350=\"*\",\"*\",IF(H351=0,\"#I/T\",(H350/H351))),\"Data ikke tilføjet\")","v":3.2549652011543029E-2},{"$f":"IFERROR(IF(I350=\"*\",\"*\",IF(I351=0,\"#I/T\",(I350/I351))),\"Data ikke tilføjet\")","v":3.2524068647969862E-2},{"$f":"IFERROR(IF(J350=\"*\",\"*\",IF(J351=0,\"#I/T\",(J350/J351))),\"Data ikke tilføjet\")","v":3.0509340028083913E-2},{"$f":"IFERROR(IF(K350=\"*\",\"*\",IF(K351=0,\"#I/T\",(K350/K351))),\"Data ikke tilføjet\")","v":2.8307384897177587E-2},{"$f":"IFERROR(IF(L350=\"*\",\"*\",IF(L351=0,\"#I/T\",(L350/L351))),\"Data ikke tilføjet\")","v":3.0507480199471988E-2},{"$f":"IFERROR(IF(M350=\"*\",\"*\",IF(M351=0,\"#I/T\",(M350/M351))),\"Data ikke tilføjet\")","v":3.0592424732923278E-2},{"$f":"IFERROR(IF(N350=\"*\",\"*\",IF(N351=0,\"#I/T\",(N350/N351))),\"Data ikke tilføjet\")","v":3.063898407579117E-2},{"$f":"IFERROR(IF(O350=\"*\",\"*\",IF(O351=0,\"#I/T\",(O350/O351))),\"Data ikke tilføjet\")","v":3.1079262015994931E-2},{"$f":"IFERROR(IF(P350=\"*\",\"*\",IF(P351=0,\"#I/T\",(P350/P351))),\"Data ikke tilføjet\")","v":2.7826551645163754E-2},{"$f":"IFERROR(IF(Q350=\"*\",\"*\",IF(Q351=0,\"#I/T\",(Q350/Q351))),\"Data ikke tilføjet\")","v":3.0217186024551465E-2},{"$f":"IFERROR(IF(R350=\"*\",\"*\",IF(R351=0,\"#I/T\",(R350/R351))),\"Data ikke tilføjet\")","v":2.7705725348671103E-2}]
[]
[]
[null,"Nøgletal 9: Fra hjemmebaseret foranstaltning og ned ad trappen"]
[]
[null,"Tabel 9: Fra hjemmebaseret foranstaltning og ned ad trappen"]
[null,"Nøgletal 9: Tidligere modtagere af hjemmebaserede foranstaltninger, som nu er rykket ned ad trappen",null,"2016-01-01","2016-07-01","2017-01-01","2017-07-01","2018-01-01","2018-07-01","2019-01-01","2019-07-01","2020-01-01","2020-07-01","2021-01-01","2021-07-01","2022-01-01","2022-07-01","2023-01-01"]
[null,{"$f":"IF(Kommune=\"\",\"Kommune\",Kommune)","v":"København"}]
[null,"Antal, der har bevæget sig",null,{"$f":"IFERROR(IF(INDEX(Data_kom2,MATCH(1,(komnavn2=Kommune)*(komaar2=D358),0),30)=\"*\",\"*\",INDEX(Data_kom2,MATCH(1,(komnavn2=Kommune)*(komaar2=D358),0),30)),\"Data ikke tilføjet\")","v":475},{"$f":"IFERROR(IF(INDEX(Data_kom2,MATCH(1,(komnavn2=Kommune)*(komaar2=E358),0),30)=\"*\",\"*\",INDEX(Data_kom2,MATCH(1,(komnavn2=Kommune)*(komaar2=E358),0),30)),\"Data ikke tilføjet\")","v":424},{"$f":"IFERROR(IF(INDEX(Data_kom2,MATCH(1,(komnavn2=Kommune)*(komaar2=F358),0),30)=\"*\",\"*\",INDEX(Data_kom2,MATCH(1,(komnavn2=Kommune)*(komaar2=F358),0),30)),\"Data ikke tilføjet\")","v":516},{"$f":"IFERROR(IF(INDEX(Data_kom2,MATCH(1,(komnavn2=Kommune)*(komaar2=G358),0),30)=\"*\",\"*\",INDEX(Data_kom2,MATCH(1,(komnavn2=Kommune)*(komaar2=G358),0),30)),\"Data ikke tilføjet\")","v":501},{"$f":"IFERROR(IF(INDEX(Data_kom2,MATCH(1,(komnavn2=Kommune)*(komaar2=H358),0),30)=\"*\",\"*\",INDEX(Data_kom2,MATCH(1,(komnavn2=Kommune)*(komaar2=H358),0),30)),\"Data ikke tilføjet\")","v":553},{"$f":"IFERROR(IF(INDEX(Data_kom2,MATCH(1,(komnavn2=Kommune)*(komaar2=I358),0),30)=\"*\",\"*\",INDEX(Data_kom2,MATCH(1,(komnavn2=Kommune)*(komaar2=I358),0),30)),\"Data ikke tilføjet\")","v":517},{"$f":"IFERROR(IF(INDEX(Data_kom2,MATCH(1,(komnavn2=Kommune)*(komaar2=J358),0),30)=\"*\",\"*\",INDEX(Data_kom2,MATCH(1,(komnavn2=Kommune)*(komaar2=J358),0),30)),\"Data ikke tilføjet\")","v":629},{"$f":"IFERROR(IF(INDEX(Data_kom2,MATCH(1,(komnavn2=Kommune)*(komaar2=K358),0),30)=\"*\",\"*\",INDEX(Data_kom2,MATCH(1,(komnavn2=Kommune)*(komaar2=K358),0),30)),\"Data ikke tilføjet\")","v":623},{"$f":"IFERROR(IF(INDEX(Data_kom2,MATCH(1,(komnavn2=Kommune)*(komaar2=L358),0),30)=\"*\",\"*\",INDEX(Data_kom2,MATCH(1,(komnavn2=Kommune)*(komaar2=L358),0),30)),\"Data ikke tilføjet\")","v":628},{"$f":"IFERROR(IF(INDEX(Data_kom2,MATCH(1,(komnavn2=Kommune)*(komaar2=M358),0),30)=\"*\",\"*\",INDEX(Data_kom2,MATCH(1,(komnavn2=Kommune)*(komaar2=M358),0),30)),\"Data ikke tilføjet\")","v":457},{"$f":"IFERROR(IF(INDEX(Data_kom2,MATCH(1,(komnavn2=Kommune)*(komaar2=N358),0),30)=\"*\",\"*\",INDEX(Data_kom2,MATCH(1,(komnavn2=Kommune)*(komaar2=N358),0),30)),\"Data ikke tilføjet\")","v":575},{"$f":"IFERROR(IF(INDEX(Data_kom2,MATCH(1,(komnavn2=Kommune)*(komaar2=O358),0),30)=\"*\",\"*\",INDEX(Data_kom2,MATCH(1,(komnavn2=Kommune)*(komaar2=O358),0),30)),\"Data ikke tilføjet\")","v":406},{"$f":"IFERROR(IF(INDEX(Data_kom2,MATCH(1,(komnavn2=Kommune)*(komaar2=P358),0),30)=\"*\",\"*\",INDEX(Data_kom2,MATCH(1,(komnavn2=Kommune)*(komaar2=P358),0),30)),\"Data ikke tilføjet\")","v":589},{"$f":"IFERROR(IF(INDEX(Data_kom2,MATCH(1,(komnavn2=Kommune)*(komaar2=Q358),0),30)=\"*\",\"*\",INDEX(Data_kom2,MATCH(1,(komnavn2=Kommune)*(komaar2=Q358),0),30)),\"Data ikke tilføjet\")","v":572},{"$f":"IFERROR(IF(INDEX(Data_kom2,MATCH(1,(komnavn2=Kommune)*(komaar2=R358),0),30)=\"*\",\"*\",INDEX(Data_kom2,MATCH(1,(komnavn2=Kommune)*(komaar2=R358),0),30)),\"Data ikke tilføjet\")","v":614}]
[null,"Antal tidligere modtagere",null,{"$f":"IFERROR(IF(INDEX(Data_kom2,MATCH(1,(komnavn2=Kommune)*(komaar2=D358),0),31)=\"*\",\"*\",INDEX(Data_kom2,MATCH(1,(komnavn2=Kommune)*(komaar2=D358),0),31)),\"Data ikke tilføjet\")","v":1929},{"$f":"IFERROR(IF(INDEX(Data_kom2,MATCH(1,(komnavn2=Kommune)*(komaar2=E358),0),31)=\"*\",\"*\",INDEX(Data_kom2,MATCH(1,(komnavn2=Kommune)*(komaar2=E358),0),31)),\"Data ikke tilføjet\")","v":1985},{"$f":"IFERROR(IF(INDEX(Data_kom2,MATCH(1,(komnavn2=Kommune)*(komaar2=F358),0),31)=\"*\",\"*\",INDEX(Data_kom2,MATCH(1,(komnavn2=Kommune)*(komaar2=F358),0),31)),\"Data ikke tilføjet\")","v":2101},{"$f":"IFERROR(IF(INDEX(Data_kom2,MATCH(1,(komnavn2=Kommune)*(komaar2=G358),0),31)=\"*\",\"*\",INDEX(Data_kom2,MATCH(1,(komnavn2=Kommune)*(komaar2=G358),0),31)),\"Data ikke tilføjet\")","v":2146},{"$f":"IFERROR(IF(INDEX(Data_kom2,MATCH(1,(komnavn2=Kommune)*(komaar2=H358),0),31)=\"*\",\"*\",INDEX(Data_kom2,MATCH(1,(komnavn2=Kommune)*(komaar2=H358),0),31)),\"Data ikke tilføjet\")","v":2233},{"$f":"IFERROR(IF(INDEX(Data_kom2,MATCH(1,(komnavn2=Kommune)*(komaar2=I358),0),31)=\"*\",\"*\",INDEX(Data_kom2,MATCH(1,(komnavn2=Kommune)*(komaar2=I358),0),31)),\"Data ikke tilføjet\")","v":2324},{"$f":"IFERROR(IF(INDEX(Data_kom2,MATCH(1,(komnavn2=Kommune)*(komaar2=J358),0),31)=\"*\",\"*\",INDEX(Data_kom2,MATCH(1,(komnavn2=Kommune)*(komaar2=J358),0),31)),\"Data ikke tilføjet\")","v":2384},{"$f":"IFERROR(IF(INDEX(Data_kom2,MATCH(1,(komnavn2=Kommune)*(komaar2=K358),0),31)=\"*\",\"*\",INDEX(Data_kom2,MATCH(1,(komnavn2=Kommune)*(komaar2=K358),0),31)),\"Data ikke tilføjet\")","v":2355},{"$f":"IFERROR(IF(INDEX(Data_kom2,MATCH(1,(komnavn2=Kommune)*(komaar2=L358),0),31)=\"*\",\"*\",INDEX(Data_kom2,MATCH(1,(komnavn2=Kommune)*(komaar2=L358),0),31)),\"Data ikke tilføjet\")","v":2239},{"$f":"IFERROR(IF(INDEX(Data_kom2,MATCH(1,(komnavn2=Kommune)*(komaar2=M358),0),31)=\"*\",\"*\",INDEX(Data_kom2,MATCH(1,(komnavn2=Kommune)*(komaar2=M358),0),31)),\"Data ikke tilføjet\")","v":2155},{"$f":"IFERROR(IF(INDEX(Data_kom2,MATCH(1,(komnavn2=Kommune)*(komaar2=N358),0),31)=\"*\",\"*\",INDEX(Data_kom2,MATCH(1,(komnavn2=Kommune)*(komaar2=N358),0),31)),\"Data ikke tilføjet\")","v":2139},{"$f":"IFERROR(IF(INDEX(Data_kom2,MATCH(1,(komnavn2=Kommune)*(komaar2=O358),0),31)=\"*\",\"*\",INDEX(Data_kom2,MATCH(1,(komnavn2=Kommune)*(komaar2=O358),0),31)),\"Data ikke tilføjet\")","v":2042},{"$f":"IFERROR(IF(INDEX(Data_kom2,MATCH(1,(komnavn2=Kommune)*(komaar2=P358),0),31)=\"*\",\"*\",INDEX(Data_kom2,MATCH(1,(komnavn2=Kommune)*(komaar2=P358),0),31)),\"Data ikke tilføjet\")","v":2302},{"$f":"IFERROR(IF(INDEX(Data_kom2,MATCH(1,(komnavn2=Kommune)*(komaar2=Q358),0),31)=\"*\",\"*\",INDEX(Data_kom2,MATCH(1,(komnavn2=Kommune)*(komaar2=Q358),0),31)),\"Data ikke tilføjet\")","v":2307},{"$f":"IFERROR(IF(INDEX(Data_kom2,MATCH(1,(komnavn2=Kommune)*(komaar2=R358),0),31)=\"*\",\"*\",INDEX(Data_kom2,MATCH(1,(komnavn2=Kommune)*(komaar2=R358),0),31)),\"Data ikke tilføjet\")","v":2419}]
[null,"Andel",null,{"$f":"IFERROR(IF(D360=\"*\",\"*\",IF(D361=0,\"#I/T\",(D360/D361))),\"Data ikke tilføjet\")","v":0.24624157594608606},0.21360201511335011,0.24559733460257022,0.23345759552656103,0.2476489028213166,0.22246127366609295,0.26384228187919462,0.26454352441613588,0.28048235819562306,{"$f":"IFERROR(IF(M360=\"*\",\"*\",IF(M361=0,\"#I/T\",(M360/M361))),\"Data ikke tilføjet\")","v":0.21206496519721577},0.26881720430107525,0.19882468168462292,0.25586446568201565,0.24794104898136107,0.25382389417114509]
[null,"Sammenligningsgruppe, gns."]
[null,"Antal, der har bevæget sig",null,{"$f":"IF('Dine valg'!$G$24=\"\",\"-\",SUMIF(Hjælpefane!$D$7:$D$111,\"=\"&D$9,Hjælpefane!$AE$7:$AE$111))","v":293},{"$f":"IF('Dine valg'!$G$24=\"\",\"-\",SUMIF(Hjælpefane!$D$7:$D$111,\"=\"&E$9,Hjælpefane!$AE$7:$AE$111))","v":301},{"$f":"IF('Dine valg'!$G$24=\"\",\"-\",SUMIF(Hjælpefane!$D$7:$D$111,\"=\"&F$9,Hjælpefane!$AE$7:$AE$111))","v":314},{"$f":"IF('Dine valg'!$G$24=\"\",\"-\",SUMIF(Hjælpefane!$D$7:$D$111,\"=\"&G$9,Hjælpefane!$AE$7:$AE$111))","v":298},{"$f":"IF('Dine valg'!$G$24=\"\",\"-\",SUMIF(Hjælpefane!$D$7:$D$111,\"=\"&H$9,Hjælpefane!$AE$7:$AE$111))","v":269},{"$f":"IF('Dine valg'!$G$24=\"\",\"-\",SUMIF(Hjælpefane!$D$7:$D$111,\"=\"&I$9,Hjælpefane!$AE$7:$AE$111))","v":300},{"$f":"IF('Dine valg'!$G$24=\"\",\"-\",SUMIF(Hjælpefane!$D$7:$D$111,\"=\"&J$9,Hjælpefane!$AE$7:$AE$111))","v":310},{"$f":"IF('Dine valg'!$G$24=\"\",\"-\",SUMIF(Hjælpefane!$D$7:$D$111,\"=\"&K$9,Hjælpefane!$AE$7:$AE$111))","v":376},{"$f":"IF('Dine valg'!$G$24=\"\",\"-\",SUMIF(Hjælpefane!$D$7:$D$111,\"=\"&L$9,Hjælpefane!$AE$7:$AE$111))","v":374},{"$f":"IF('Dine valg'!$G$24=\"\",\"-\",SUMIF(Hjælpefane!$D$7:$D$111,\"=\"&M$9,Hjælpefane!$AE$7:$AE$111))","v":318},{"$f":"IF('Dine valg'!$G$24=\"\",\"-\",SUMIF(Hjælpefane!$D$7:$D$111,\"=\"&N$9,Hjælpefane!$AE$7:$AE$111))","v":355},{"$f":"IF('Dine valg'!$G$24=\"\",\"-\",SUMIF(Hjælpefane!$D$7:$D$111,\"=\"&O$9,Hjælpefane!$AE$7:$AE$111))","v":332},{"$f":"IF('Dine valg'!$G$24=\"\",\"-\",SUMIF(Hjælpefane!$D$7:$D$111,\"=\"&P$9,Hjælpefane!$AE$7:$AE$111))","v":366},{"$f":"IF('Dine valg'!$G$24=\"\",\"-\",SUMIF(Hjælpefane!$D$7:$D$111,\"=\"&Q$9,Hjælpefane!$AE$7:$AE$111))","v":331},{"$f":"IF('Dine valg'!$G$24=\"\",\"-\",SUMIF(Hjælpefane!$D$7:$D$111,\"=\"&R$9,Hjælpefane!$AE$7:$AE$111))","v":325}]
[null,"Antal tidligere modtagere",null,{"$f":"IF('Dine valg'!$G$24=\"\",\"-\",SUMIF(Hjælpefane!$D$7:$D$111,\"=\"&D$9,Hjælpefane!$AF$7:$AF$111))","v":1083},{"$f":"IF('Dine valg'!$G$24=\"\",\"-\",SUMIF(Hjælpefane!$D$7:$D$111,\"=\"&E$9,Hjælpefane!$AF$7:$AF$111))","v":1152},{"$f":"IF('Dine valg'!$G$24=\"\",\"-\",SUMIF(Hjælpefane!$D$7:$D$111,\"=\"&F$9,Hjælpefane!$AF$7:$AF$111))","v":1145},{"$f":"IF('Dine valg'!$G$24=\"\",\"-\",SUMIF(Hjælpefane!$D$7:$D$111,\"=\"&G$9,Hjælpefane!$AF$7:$AF$111))","v":1132},{"$f":"IF('Dine valg'!$G$24=\"\",\"-\",SUMIF(Hjælpefane!$D$7:$D$111,\"=\"&H$9,Hjælpefane!$AF$7:$AF$111))","v":1080},{"$f":"IF('Dine valg'!$G$24=\"\",\"-\",SUMIF(Hjælpefane!$D$7:$D$111,\"=\"&I$9,Hjælpefane!$AF$7:$AF$111))","v":1164},{"$f":"IF('Dine valg'!$G$24=\"\",\"-\",SUMIF(Hjælpefane!$D$7:$D$111,\"=\"&J$9,Hjælpefane!$AF$7:$AF$111))","v":1202},{"$f":"IF('Dine valg'!$G$24=\"\",\"-\",SUMIF(Hjælpefane!$D$7:$D$111,\"=\"&K$9,Hjælpefane!$AF$7:$AF$111))","v":1303},{"$f":"IF('Dine valg'!$G$24=\"\",\"-\",SUMIF(Hjælpefane!$D$7:$D$111,\"=\"&L$9,Hjælpefane!$AF$7:$AF$111))","v":1297},{"$f":"IF('Dine valg'!$G$24=\"\",\"-\",SUMIF(Hjælpefane!$D$7:$D$111,\"=\"&M$9,Hjælpefane!$AF$7:$AF$111))","v":1303},{"$f":"IF('Dine valg'!$G$24=\"\",\"-\",SUMIF(Hjælpefane!$D$7:$D$111,\"=\"&N$9,Hjælpefane!$AF$7:$AF$111))","v":1270},{"$f":"IF('Dine valg'!$G$24=\"\",\"-\",SUMIF(Hjælpefane!$D$7:$D$111,\"=\"&O$9,Hjælpefane!$AF$7:$AF$111))","v":1252},{"$f":"IF('Dine valg'!$G$24=\"\",\"-\",SUMIF(Hjælpefane!$D$7:$D$111,\"=\"&P$9,Hjælpefane!$AF$7:$AF$111))","v":1224},{"$f":"IF('Dine valg'!$G$24=\"\",\"-\",SUMIF(Hjælpefane!$D$7:$D$111,\"=\"&Q$9,Hjælpefane!$AF$7:$AF$111))","v":1147},{"$f":"IF('Dine valg'!$G$24=\"\",\"-\",SUMIF(Hjælpefane!$D$7:$D$111,\"=\"&R$9,Hjælpefane!$AF$7:$AF$111))","v":1112}]
[null,"Andel",null,{"$f":"IFERROR(IF(D364=\"*\",\"*\",IF(D365=\"\",\"Indtast data\",(D364/D365))),\"-\")","v":0.270544783010157},{"$f":"IFERROR(IF(E364=\"*\",\"*\",IF(E365=\"\",\"Indtast data\",(E364/E365))),\"-\")","v":0.26128472222222221},{"$f":"IFERROR(IF(F364=\"*\",\"*\",IF(F365=\"\",\"Indtast data\",(F364/F365))),\"-\")","v":0.27423580786026203},{"$f":"IFERROR(IF(G364=\"*\",\"*\",IF(G365=\"\",\"Indtast data\",(G364/G365))),\"-\")","v":0.26325088339222613},{"$f":"IFERROR(IF(H364=\"*\",\"*\",IF(H365=\"\",\"Indtast data\",(H364/H365))),\"-\")","v":0.24907407407407409},{"$f":"IFERROR(IF(I364=\"*\",\"*\",IF(I365=\"\",\"Indtast data\",(I364/I365))),\"-\")","v":0.25773195876288657},{"$f":"IFERROR(IF(J364=\"*\",\"*\",IF(J365=\"\",\"Indtast data\",(J364/J365))),\"-\")","v":0.25790349417637271},{"$f":"IFERROR(IF(K364=\"*\",\"*\",IF(K365=\"\",\"Indtast data\",(K364/K365))),\"-\")","v":0.28856485034535689},{"$f":"IFERROR(IF(L364=\"*\",\"*\",IF(L365=\"\",\"Indtast data\",(L364/L365))),\"-\")","v":0.28835774865073244},0.24405218726016883,0.27952755905511811,0.26517571884984026,0.29901960784313725,0.28857890148212728,0.29226618705035973]
[null,"Hele landet"]
[null,"Antal, der har bevæget sig",null,{"$f":"INDEX(Data_land,MATCH(Skyggetabeller!D358,Data!landaar,0),30)","v":5247},{"$f":"INDEX(Data_land,MATCH(Skyggetabeller!E358,Data!landaar,0),30)","v":5854},{"$f":"INDEX(Data_land,MATCH(Skyggetabeller!F358,Data!landaar,0),30)","v":5403},{"$f":"INDEX(Data_land,MATCH(Skyggetabeller!G358,Data!landaar,0),30)","v":5889},{"$f":"INDEX(Data_land,MATCH(Skyggetabeller!H358,Data!landaar,0),30)","v":5622},{"$f":"INDEX(Data_land,MATCH(Skyggetabeller!I358,Data!landaar,0),30)","v":6393},{"$f":"INDEX(Data_land,MATCH(Skyggetabeller!J358,Data!landaar,0),30)","v":5767},{"$f":"INDEX(Data_land,MATCH(Skyggetabeller!K358,Data!landaar,0),30)","v":6875},{"$f":"INDEX(Data_land,MATCH(Skyggetabeller!L358,Data!landaar,0),30)","v":6008},{"$f":"INDEX(Data_land,MATCH(Skyggetabeller!M358,Data!landaar,0),30)","v":5834},{"$f":"INDEX(Data_land,MATCH(Skyggetabeller!N358,Data!landaar,0),30)","v":6194},{"$f":"INDEX(Data_land,MATCH(Skyggetabeller!O358,Data!landaar,0),30)","v":5860},{"$f":"INDEX(Data_land,MATCH(Skyggetabeller!P358,Data!landaar,0),30)","v":6650},{"$f":"INDEX(Data_land,MATCH(Skyggetabeller!Q358,Data!landaar,0),30)","v":6665},{"$f":"INDEX(Data_land,MATCH(Skyggetabeller!R358,Data!landaar,0),30)","v":6938}]
[null,"Antal tidligere modtagere",null,{"$f":"INDEX(Data_land,MATCH(Skyggetabeller!D358,Data!landaar,0),31)","v":23726},{"$f":"INDEX(Data_land,MATCH(Skyggetabeller!E358,Data!landaar,0),31)","v":23861},{"$f":"INDEX(Data_land,MATCH(Skyggetabeller!F358,Data!landaar,0),31)","v":23864},{"$f":"INDEX(Data_land,MATCH(Skyggetabeller!G358,Data!landaar,0),31)","v":23957},{"$f":"INDEX(Data_land,MATCH(Skyggetabeller!H358,Data!landaar,0),31)","v":23985},{"$f":"INDEX(Data_land,MATCH(Skyggetabeller!I358,Data!landaar,0),31)","v":24277},{"$f":"INDEX(Data_land,MATCH(Skyggetabeller!J358,Data!landaar,0),31)","v":23840},{"$f":"INDEX(Data_land,MATCH(Skyggetabeller!K358,Data!landaar,0),31)","v":24353},{"$f":"INDEX(Data_land,MATCH(Skyggetabeller!L358,Data!landaar,0),31)","v":24158},{"$f":"INDEX(Data_land,MATCH(Skyggetabeller!M358,Data!landaar,0),31)","v":25052},{"$f":"INDEX(Data_land,MATCH(Skyggetabeller!N358,Data!landaar,0),31)","v":25126},{"$f":"INDEX(Data_land,MATCH(Skyggetabeller!O358,Data!landaar,0),31)","v":25586},{"$f":"INDEX(Data_land,MATCH(Skyggetabeller!P358,Data!landaar,0),31)","v":26506},{"$f":"INDEX(Data_land,MATCH(Skyggetabeller!Q358,Data!landaar,0),31)","v":26802},{"$f":"INDEX(Data_land,MATCH(Skyggetabeller!R358,Data!landaar,0),31)","v":26911}]
[null,"Andel",null,{"$f":"IFERROR(IF(D368=\"*\",\"*\",IF(D369=0,\"#I/T\",(D368/D369))),\"Data ikke tilføjet\")","v":0.22114979347551209},{"$f":"IFERROR(IF(E368=\"*\",\"*\",IF(E369=0,\"#I/T\",(E368/E369))),\"Data ikke tilføjet\")","v":0.245337580151712},{"$f":"IFERROR(IF(F368=\"*\",\"*\",IF(F369=0,\"#I/T\",(F368/F369))),\"Data ikke tilføjet\")","v":0.22640797854508884},{"$f":"IFERROR(IF(G368=\"*\",\"*\",IF(G369=0,\"#I/T\",(G368/G369))),\"Data ikke tilføjet\")","v":0.24581541929289977},{"$f":"IFERROR(IF(H368=\"*\",\"*\",IF(H369=0,\"#I/T\",(H368/H369))),\"Data ikke tilføjet\")","v":0.23439649781113195},{"$f":"IFERROR(IF(I368=\"*\",\"*\",IF(I369=0,\"#I/T\",(I368/I369))),\"Data ikke tilføjet\")","v":0.2633356675042221},{"$f":"IFERROR(IF(J368=\"*\",\"*\",IF(J369=0,\"#I/T\",(J368/J369))),\"Data ikke tilføjet\")","v":0.24190436241610738},{"$f":"IFERROR(IF(K368=\"*\",\"*\",IF(K369=0,\"#I/T\",(K368/K369))),\"Data ikke tilføjet\")","v":0.28230608138627683},{"$f":"IFERROR(IF(L368=\"*\",\"*\",IF(L369=0,\"#I/T\",(L368/L369))),\"Data ikke tilføjet\")","v":0.24869608411292327},{"$f":"IFERROR(IF(M368=\"*\",\"*\",IF(M369=0,\"#I/T\",(M368/M369))),\"Data ikke tilføjet\")","v":0.2328756187130768},{"$f":"IFERROR(IF(N368=\"*\",\"*\",IF(N369=0,\"#I/T\",(N368/N369))),\"Data ikke tilføjet\")","v":0.24651755154023722},{"$f":"IFERROR(IF(O368=\"*\",\"*\",IF(O369=0,\"#I/T\",(O368/O369))),\"Data ikke tilføjet\")","v":0.22903150160243885},{"$f":"IFERROR(IF(P368=\"*\",\"*\",IF(P369=0,\"#I/T\",(P368/P369))),\"Data ikke tilføjet\")","v":0.25088659171508337},{"$f":"IFERROR(IF(Q368=\"*\",\"*\",IF(Q369=0,\"#I/T\",(Q368/Q369))),\"Data ikke tilføjet\")","v":0.24867547197970299},{"$f":"IFERROR(IF(R368=\"*\",\"*\",IF(R369=0,\"#I/T\",(R368/R369))),\"Data ikke tilføjet\")","v":0.25781279030879567}]
[]
[]
[null,"Nøgletal 10: Fra forebyggende indsatser og op ad trappen"]
[]
[null,{"$f":"\"Tabel 10: Fra forebyggende indsatser og op ad trappen for \"&Kommune&\"\"","v":"Tabel 10: Fra forebyggende indsatser og op ad trappen for København"}]
[null,"Nøgletal 10: Tidligere modtagere af forebyggende indsatser, som nu er rykket ned ad trappen",null,"2016-01-01","2016-07-01","2017-01-01","2017-07-01","2018-01-01","2018-07-01","2019-01-01","2019-07-01","2020-01-01","2020-07-01","2021-01-01","2021-07-01","2022-01-01","2022-07-01","2023-01-01"]
[null,"Antal, der har bevæget sig",null,{"$f":"Indtastningsark!D44","v":0},{"$f":"Indtastningsark!E44","v":0},{"$f":"Indtastningsark!F44","v":0},{"$f":"Indtastningsark!G44","v":0},{"$f":"Indtastningsark!H44","v":0},{"$f":"Indtastningsark!I44","v":0},{"$f":"Indtastningsark!J44","v":0},{"$f":"Indtastningsark!K44","v":0},{"$f":"Indtastningsark!L44","v":0},{"$f":"Indtastningsark!M44","v":0},{"$f":"Indtastningsark!N44","v":0},{"$f":"Indtastningsark!O44","v":0},{"$f":"Indtastningsark!P44","v":0},{"$f":"Indtastningsark!Q44","v":0},{"$f":"Indtastningsark!R44","v":0}]
[null,"Antal tidligere modtagere",null,{"$f":"Indtastningsark!D45","v":0},{"$f":"Indtastningsark!E45","v":0},{"$f":"Indtastningsark!F45","v":0},{"$f":"Indtastningsark!G45","v":0},{"$f":"Indtastningsark!H45","v":0},{"$f":"Indtastningsark!I45","v":0},{"$f":"Indtastningsark!J45","v":0},{"$f":"Indtastningsark!K45","v":0},{"$f":"Indtastningsark!L45","v":0},{"$f":"Indtastningsark!M45","v":0},{"$f":"Indtastningsark!N45","v":0},{"$f":"Indtastningsark!O45","v":0},{"$f":"Indtastningsark!P45","v":0},{"$f":"Indtastningsark!Q45","v":0},{"$f":"Indtastningsark!R45","v":0}]
[null,"Andel",null,{"$f":"IFERROR(IF(D377=\"*\",\"*\",IF(D378=\"\",\"Indtast data\",(D377/D378))),\"-\")","v":"-"},{"$f":"IFERROR(IF(E377=\"*\",\"*\",IF(E378=\"\",\"Indtast data\",(E377/E378))),\"-\")","v":"-"},"-","-","-","-","-","-","-",{"$f":"IFERROR(IF(M377=\"*\",\"*\",IF(M378=\"\",\"Indtast data\",(M377/M378))),\"-\")","v":"-"},"-","-","-","-","-"]
[]
[null,"Tabel 10.1: Fra myndighedsbevilget § 11, stk. 3-indsats og op ad trappen"]
[]
[null,"Nøgletal 10.1: Tidligere modtagere af myndighedsbevilget § 11, stk. 3-indsats, som nu er rykket ned ad trappen",null,"2016-01-01","2016-07-01","2017-01-01","2017-07-01","2018-01-01","2018-07-01","2019-01-01","2019-07-01","2020-01-01","2020-07-01","2021-01-01","2021-07-01","2022-01-01","2022-07-01","2023-01-01"]
[null,"Antal, der har bevæget sig",null,{"$f":"Indtastningsark!D49","v":0},{"$f":"Indtastningsark!E49","v":0},{"$f":"Indtastningsark!F49","v":0},{"$f":"Indtastningsark!G49","v":0},{"$f":"Indtastningsark!H49","v":0},{"$f":"Indtastningsark!I49","v":0},{"$f":"Indtastningsark!J49","v":0},{"$f":"Indtastningsark!K49","v":0},{"$f":"Indtastningsark!L49","v":0},{"$f":"Indtastningsark!M49","v":0},{"$f":"Indtastningsark!N49","v":0},{"$f":"Indtastningsark!O49","v":0},{"$f":"Indtastningsark!P49","v":0},{"$f":"Indtastningsark!Q49","v":0},{"$f":"Indtastningsark!R49","v":0}]
[null,"Antal tidligere modtagere",null,{"$f":"Indtastningsark!D50","v":0},{"$f":"Indtastningsark!E50","v":0},{"$f":"Indtastningsark!F50","v":0},{"$f":"Indtastningsark!G50","v":0},{"$f":"Indtastningsark!H50","v":0},{"$f":"Indtastningsark!I50","v":0},{"$f":"Indtastningsark!J50","v":0},{"$f":"Indtastningsark!K50","v":0},{"$f":"Indtastningsark!L50","v":0},{"$f":"Indtastningsark!M50","v":0},{"$f":"Indtastningsark!N50","v":0},{"$f":"Indtastningsark!O50","v":0},{"$f":"Indtastningsark!P50","v":0},{"$f":"Indtastningsark!Q50","v":0},{"$f":"Indtastningsark!R50","v":0}]
[null,"Andel",null,{"$f":"IFERROR(IF(D384=\"*\",\"*\",IF(D385=\"\",\"Indtast data\",(D384/D385))),\"-\")","v":"-"},{"$f":"IFERROR(IF(E384=\"*\",\"*\",IF(E385=\"\",\"Indtast data\",(E384/E385))),\"-\")","v":"-"},{"$f":"IFERROR(IF(F384=\"*\",\"*\",IF(F385=\"\",\"Indtast data\",(F384/F385))),\"-\")","v":"-"},{"$f":"IFERROR(IF(G384=\"*\",\"*\",IF(G385=\"\",\"Indtast data\",(G384/G385))),\"-\")","v":"-"},{"$f":"IFERROR(IF(H384=\"*\",\"*\",IF(H385=\"\",\"Indtast data\",(H384/H385))),\"-\")","v":"-"},{"$f":"IFERROR(IF(I384=\"*\",\"*\",IF(I385=\"\",\"Indtast data\",(I384/I385))),\"-\")","v":"-"},{"$f":"IFERROR(IF(J384=\"*\",\"*\",IF(J385=\"\",\"Indtast data\",(J384/J385))),\"-\")","v":"-"},{"$f":"IFERROR(IF(K384=\"*\",\"*\",IF(K385=\"\",\"Indtast data\",(K384/K385))),\"-\")","v":"-"},{"$f":"IFERROR(IF(L384=\"*\",\"*\",IF(L385=\"\",\"Indtast data\",(L384/L385))),\"-\")","v":"-"},"-","-","-","-","-","-"]
[]
[null,"Tabel 10.2: Fra ikke-myndighedsbevilget § 11, stk. 3-indsats og op ad trappen"]
[]
[null,"Nøgletal 10.2: Tidligere modtagere af ikke-myndighedsbevilget § 11, stk. 3-indsats, som nu er rykket ned ad trappen",null,"2016-01-01","2016-07-01","2017-01-01","2017-07-01","2018-01-01","2018-07-01","2019-01-01","2019-07-01","2020-01-01","2020-07-01","2021-01-01","2021-07-01","2022-01-01","2022-07-01","2023-01-01"]
[null,"Antal, der har bevæget sig",null,{"$f":"Indtastningsark!D54","v":0},{"$f":"Indtastningsark!E54","v":0},{"$f":"Indtastningsark!F54","v":0},{"$f":"Indtastningsark!G54","v":0},{"$f":"Indtastningsark!H54","v":0},{"$f":"Indtastningsark!I54","v":0},{"$f":"Indtastningsark!J54","v":0},{"$f":"Indtastningsark!K54","v":0},{"$f":"Indtastningsark!L54","v":0},{"$f":"Indtastningsark!M54","v":0},{"$f":"Indtastningsark!N54","v":0},{"$f":"Indtastningsark!O54","v":0},{"$f":"Indtastningsark!P54","v":0},{"$f":"Indtastningsark!Q54","v":0},{"$f":"Indtastningsark!R54","v":0}]
[null,"Antal tidligere modtagere",null,{"$f":"Indtastningsark!D55","v":0},{"$f":"Indtastningsark!E55","v":0},{"$f":"Indtastningsark!F55","v":0},{"$f":"Indtastningsark!G55","v":0},{"$f":"Indtastningsark!H55","v":0},{"$f":"Indtastningsark!I55","v":0},{"$f":"Indtastningsark!J55","v":0},{"$f":"Indtastningsark!K55","v":0},{"$f":"Indtastningsark!L55","v":0},{"$f":"Indtastningsark!M55","v":0},{"$f":"Indtastningsark!N55","v":0},{"$f":"Indtastningsark!O55","v":0},{"$f":"Indtastningsark!P55","v":0},{"$f":"Indtastningsark!Q55","v":0},{"$f":"Indtastningsark!R55","v":0}]
[null,"Andel",null,{"$f":"IFERROR(IF(D391=\"*\",\"*\",IF(D392=\"\",\"Indtast data\",(D391/D392))),\"-\")","v":"-"},{"$f":"IFERROR(IF(E391=\"*\",\"*\",IF(E392=\"\",\"Indtast data\",(E391/E392))),\"-\")","v":"-"},{"$f":"IFERROR(IF(F391=\"*\",\"*\",IF(F392=\"\",\"Indtast data\",(F391/F392))),\"-\")","v":"-"},{"$f":"IFERROR(IF(G391=\"*\",\"*\",IF(G392=\"\",\"Indtast data\",(G391/G392))),\"-\")","v":"-"},{"$f":"IFERROR(IF(H391=\"*\",\"*\",IF(H392=\"\",\"Indtast data\",(H391/H392))),\"-\")","v":"-"},{"$f":"IFERROR(IF(I391=\"*\",\"*\",IF(I392=\"\",\"Indtast data\",(I391/I392))),\"-\")","v":"-"},{"$f":"IFERROR(IF(J391=\"*\",\"*\",IF(J392=\"\",\"Indtast data\",(J391/J392))),\"-\")","v":"-"},{"$f":"IFERROR(IF(K391=\"*\",\"*\",IF(K392=\"\",\"Indtast data\",(K391/K392))),\"-\")","v":"-"},{"$f":"IFERROR(IF(L391=\"*\",\"*\",IF(L392=\"\",\"Indtast data\",(L391/L392))),\"-\")","v":"-"},"-","-","-","-","-","-"]
[]
[]
[null,"Nøgletal 11: Frekvens af opfølgninger"]
[]
[null,{"$f":"\"Tabel 11: Frekvens af opfølgninger for \"&Kommune&\"\"","v":"Tabel 11: Frekvens af opfølgninger for København"}]
[null,"Nøgletal 11.1: \nFrekvens i opfølgninger for institutionsanbringelser",null,"2016-01-01","2016-07-01","2017-01-01","2017-07-01","2018-01-01","2018-07-01","2019-01-01","2019-07-01","2020-01-01","2020-07-01","2021-01-01","2021-07-01","2022-01-01","2022-07-01","2023-01-01"]
[null,"Antal dage",null,{"$f":"Indtastningsark!D61","v":0},{"$f":"Indtastningsark!E61","v":0},{"$f":"Indtastningsark!F61","v":0},{"$f":"Indtastningsark!G61","v":0},{"$f":"Indtastningsark!H61","v":0},{"$f":"Indtastningsark!I61","v":0},{"$f":"Indtastningsark!J61","v":0},{"$f":"Indtastningsark!K61","v":0},{"$f":"Indtastningsark!L61","v":0},{"$f":"Indtastningsark!M61","v":0},{"$f":"Indtastningsark!N61","v":0},{"$f":"Indtastningsark!O61","v":0},{"$f":"Indtastningsark!P61","v":0},{"$f":"Indtastningsark!Q61","v":0},{"$f":"Indtastningsark!R61","v":0}]
[null,"Antal opfølgninger",null,{"$f":"Indtastningsark!D62","v":0},{"$f":"Indtastningsark!E62","v":0},{"$f":"Indtastningsark!F62","v":0},{"$f":"Indtastningsark!G62","v":0},{"$f":"Indtastningsark!H62","v":0},{"$f":"Indtastningsark!I62","v":0},{"$f":"Indtastningsark!J62","v":0},{"$f":"Indtastningsark!K62","v":0},{"$f":"Indtastningsark!L62","v":0},{"$f":"Indtastningsark!M62","v":0},{"$f":"Indtastningsark!N62","v":0},{"$f":"Indtastningsark!O62","v":0},{"$f":"Indtastningsark!P62","v":0},{"$f":"Indtastningsark!Q62","v":0},{"$f":"Indtastningsark!R62","v":0}]
[null,"Varighed",null,{"$f":"IFERROR(IF(D400=\"*\",\"*\",IF(D401=\"\",\"Indtast data\",(D400/D401))),\"-\")","v":"-"},{"$f":"IFERROR(IF(E400=\"*\",\"*\",IF(E401=\"\",\"Indtast data\",(E400/E401))),\"-\")","v":"-"},{"$f":"IFERROR(IF(F400=\"*\",\"*\",IF(F401=\"\",\"Indtast data\",(F400/F401))),\"-\")","v":"-"},{"$f":"IFERROR(IF(G400=\"*\",\"*\",IF(G401=\"\",\"Indtast data\",(G400/G401))),\"-\")","v":"-"},{"$f":"IFERROR(IF(H400=\"*\",\"*\",IF(H401=\"\",\"Indtast data\",(H400/H401))),\"-\")","v":"-"},{"$f":"IFERROR(IF(I400=\"*\",\"*\",IF(I401=\"\",\"Indtast data\",(I400/I401))),\"-\")","v":"-"},{"$f":"IFERROR(IF(J400=\"*\",\"*\",IF(J401=\"\",\"Indtast data\",(J400/J401))),\"-\")","v":"-"},{"$f":"IFERROR(IF(K400=\"*\",\"*\",IF(K401=\"\",\"Indtast data\",(K400/K401))),\"-\")","v":"-"},{"$f":"IFERROR(IF(L400=\"*\",\"*\",IF(L401=\"\",\"Indtast data\",(L400/L401))),\"-\")","v":"-"},"-","-","-","-","-","-"]
[]
[null,"Nøgletal 11.2: \nFrekvens i opfølgninger for plejefamilier",null,"2016-01-01","2016-07-01","2017-01-01","2017-07-01","2018-01-01","2018-07-01","2019-01-01","2019-07-01","2020-01-01","2020-07-01","2021-01-01","2021-07-01","2022-01-01","2022-07-01","2023-01-01"]
[null,"Antal dage",null,{"$f":"Indtastningsark!D66","v":0},{"$f":"Indtastningsark!E66","v":0},{"$f":"Indtastningsark!F66","v":0},{"$f":"Indtastningsark!G66","v":0},{"$f":"Indtastningsark!H66","v":0},{"$f":"Indtastningsark!I66","v":0},{"$f":"Indtastningsark!J66","v":0},{"$f":"Indtastningsark!K66","v":0},{"$f":"Indtastningsark!L66","v":0},{"$f":"Indtastningsark!M66","v":0},{"$f":"Indtastningsark!N66","v":0},{"$f":"Indtastningsark!O66","v":0},{"$f":"Indtastningsark!P66","v":0},{"$f":"Indtastningsark!Q66","v":0},{"$f":"Indtastningsark!R66","v":0}]
[null,"Antal opfølgninger",null,{"$f":"Indtastningsark!D67","v":0},{"$f":"Indtastningsark!E67","v":0},{"$f":"Indtastningsark!F67","v":0},{"$f":"Indtastningsark!G67","v":0},{"$f":"Indtastningsark!H67","v":0},{"$f":"Indtastningsark!I67","v":0},{"$f":"Indtastningsark!J67","v":0},{"$f":"Indtastningsark!K67","v":0},{"$f":"Indtastningsark!L67","v":0},{"$f":"Indtastningsark!M67","v":0},{"$f":"Indtastningsark!N67","v":0},{"$f":"Indtastningsark!O67","v":0},{"$f":"Indtastningsark!P67","v":0},{"$f":"Indtastningsark!Q67","v":0},{"$f":"Indtastningsark!R67","v":0}]
[null,"Varighed",null,{"$f":"IFERROR(IF(D405=\"*\",\"*\",IF(D406=\"\",\"Indtast data\",(D405/D406))),\"-\")","v":"-"},{"$f":"IFERROR(IF(E405=\"*\",\"*\",IF(E406=\"\",\"Indtast data\",(E405/E406))),\"-\")","v":"-"},{"$f":"IFERROR(IF(F405=\"*\",\"*\",IF(F406=\"\",\"Indtast data\",(F405/F406))),\"-\")","v":"-"},{"$f":"IFERROR(IF(G405=\"*\",\"*\",IF(G406=\"\",\"Indtast data\",(G405/G406))),\"-\")","v":"-"},{"$f":"IFERROR(IF(H405=\"*\",\"*\",IF(H406=\"\",\"Indtast data\",(H405/H406))),\"-\")","v":"-"},{"$f":"IFERROR(IF(I405=\"*\",\"*\",IF(I406=\"\",\"Indtast data\",(I405/I406))),\"-\")","v":"-"},{"$f":"IFERROR(IF(J405=\"*\",\"*\",IF(J406=\"\",\"Indtast data\",(J405/J406))),\"-\")","v":"-"},{"$f":"IFERROR(IF(K405=\"*\",\"*\",IF(K406=\"\",\"Indtast data\",(K405/K406))),\"-\")","v":"-"},{"$f":"IFERROR(IF(L405=\"*\",\"*\",IF(L406=\"\",\"Indtast data\",(L405/L406))),\"-\")","v":"-"},"-","-","-","-","-","-"]
[]
[null,"Nøgletal 11.3: \nFrekvens i opfølgninger for hjemmebaserede foranstaltninger",null,"2016-01-01","2016-07-01","2017-01-01","2017-07-01","2018-01-01","2018-07-01","2019-01-01","2019-07-01","2020-01-01","2020-07-01","2021-01-01","2021-07-01","2022-01-01","2022-07-01","2023-01-01"]
[null,"Antal dage",null,{"$f":"Indtastningsark!D71","v":0},{"$f":"Indtastningsark!E71","v":0},{"$f":"Indtastningsark!F71","v":0},{"$f":"Indtastningsark!G71","v":0},{"$f":"Indtastningsark!H71","v":0},{"$f":"Indtastningsark!I71","v":0},{"$f":"Indtastningsark!J71","v":0},{"$f":"Indtastningsark!K71","v":0},{"$f":"Indtastningsark!L71","v":0},{"$f":"Indtastningsark!M71","v":0},{"$f":"Indtastningsark!N71","v":0},{"$f":"Indtastningsark!O71","v":0},{"$f":"Indtastningsark!P71","v":0},{"$f":"Indtastningsark!Q71","v":0},{"$f":"Indtastningsark!R71","v":0}]
[null,"Antal opfølgninger",null,{"$f":"Indtastningsark!D72","v":0},{"$f":"Indtastningsark!E72","v":0},{"$f":"Indtastningsark!F72","v":0},{"$f":"Indtastningsark!G72","v":0},{"$f":"Indtastningsark!H72","v":0},{"$f":"Indtastningsark!I72","v":0},{"$f":"Indtastningsark!J72","v":0},{"$f":"Indtastningsark!K72","v":0},{"$f":"Indtastningsark!L72","v":0},{"$f":"Indtastningsark!M72","v":0},{"$f":"Indtastningsark!N72","v":0},{"$f":"Indtastningsark!O72","v":0},{"$f":"Indtastningsark!P72","v":0},{"$f":"Indtastningsark!Q72","v":0},{"$f":"Indtastningsark!R72","v":0}]
[null,"Varighed",null,{"$f":"IFERROR(IF(D410=\"*\",\"*\",IF(D411=\"\",\"Indtast data\",(D410/D411))),\"-\")","v":"-"},{"$f":"IFERROR(IF(E410=\"*\",\"*\",IF(E411=\"\",\"Indtast data\",(E410/E411))),\"-\")","v":"-"},{"$f":"IFERROR(IF(F410=\"*\",\"*\",IF(F411=\"\",\"Indtast data\",(F410/F411))),\"-\")","v":"-"},{"$f":"IFERROR(IF(G410=\"*\",\"*\",IF(G411=\"\",\"Indtast data\",(G410/G411))),\"-\")","v":"-"},{"$f":"IFERROR(IF(H410=\"*\",\"*\",IF(H411=\"\",\"Indtast data\",(H410/H411))),\"-\")","v":"-"},{"$f":"IFERROR(IF(I410=\"*\",\"*\",IF(I411=\"\",\"Indtast data\",(I410/I411))),\"-\")","v":"-"},{"$f":"IFERROR(IF(J410=\"*\",\"*\",IF(J411=\"\",\"Indtast data\",(J410/J411))),\"-\")","v":"-"},{"$f":"IFERROR(IF(K410=\"*\",\"*\",IF(K411=\"\",\"Indtast data\",(K410/K411))),\"-\")","v":"-"},{"$f":"IFERROR(IF(L410=\"*\",\"*\",IF(L411=\"\",\"Indtast data\",(L410/L411))),\"-\")","v":"-"},"-","-","-","-","-","-"]

{"sheet":"Hjælpefane","index":6,"n_rows":1605,"n_cols":39,"rows_kept":1605,"cut":false,"hidden":true,"merged":[]}
[]
[]
[null,"Hjælpefane: Sammenligningskommuner"]
[null,1,2,3,4,5,6,7,8,9,10,11,12,13,14,15,16,17,18,19,20,21,22,23,24,25,26,27,28,29,30,31,32,33,34,35,36,37,38]
[null,"Nøgletal",null,null,1,"1.1","1.2","1.3",2,"2.1","2.2","2.3",3,4,5,"5.1","5.2","5.3","5.4",6,"6.1","6.2",7,7,"7.1","7.1","7.2","7.2",8,8,9,9,10,null,"10.1",null,"10.2"]
[null,"Kommune","Antal indbyggere","Dato","Antal institutionsanbragte ","Antal anbragte på døgninstitution","Antal anbragte på sikret døgninstitution","Antal anbragte på socialpædagogiske opholdssteder","Varighed igangværende institutionsanbringelser","Varighed igangværende anbringelser på døgninstitution","Varighed igangværende anbringelser på sikret døgninstitution","Varighed igangværende anbringelser på socialpædagogisk opholdssted","Antal anbragte i plejefamilier","Antal anbragte i netværksplejefamilier","Antal modtagere af hjemmebaserede foranstaltninger","Antal modtagere af døgnophold","Antal modtagere af hjemmebaserede anbringelser","Antal modtagere af forebyggende foranstaltninger","Antal modtagere af forældrerettede indsatser","Forebyggende indsatser (§ 11, stk. 3-tilbud)","Myndighedsbevilgede § 11, stk. 3-tilbud (pr. 1.000 0-17-årige)","Øvrige § 11, stk. 3-tilbud (pr. 1.000 0-17-årige)","Antal institutionsanbragte 0-17 årige, og som nu ikke er anbragt på denne form","Antal institutionsanbragte 0-17 årige pr. forrige opgørelse","0-17 årige, der ved sidste opgørelse var institutionsanbragt, men nu er anbragt i anden form","Antal 0-17-årige institutionsanbragte forrige opgørelse","0-17 årige, der ved sidste opgørelse var institutionsanbragt, men nu ikke er anbragt","Antal 0-17-årige institutionsanbragte forrige opgørelse","0-17-årige, der ved sidste opgørelse modtog en hjemmebaseret foranstaltning, som nu er anbragt","Antal 0-17-årige, der modtog hjemmebaseret foranstaltning, og ikke var anbragt pr. forrige opgørelse","0-17-årige, der ved sidste opgørelse modtog hjemmebaseret foranstaltning, men som nu hverken modtager hjemmebaseret foranstaltning eller er anbragt","Antal 0-17-årige som ved forrige opgørelse modtog hjemmebaseret foranstaltning","Andel børn og unge, der har modtaget en § 11, stk. 3-indsats inden for de første 6 måneder af året, hvor der efterfølgende træffes en afgørelse om en § 50 undersøgelse i alt","Antal 0-17-årige der inden for de første 6 måneder har påbegyndt en § 11, stk. 3-indsats","Børn der har modtaget en myndighedsbevilget § 11, stk. 3-indsats inden for de første 6 måneder af året, hvor der efterfølgende træffes en afgørelse om en § 50 undersøgelse","Antal 0-17-årige der inden for de første 6 måneder har påbegyndt en myndighedsbevilget § 11, stk. 3-indsats","Børn der har modtaget en ikke-myndighedsbevilget § 11, stk. 3-indsats inden for de første 6 måneder af året, hvor der efterfølgende træffes en afgørelse om en § 50 undersøgelse","Antal 0-17-årige der inden for de første 6 måneder har påbegyndt en ikke-myndighedsbevilget § 11, stk. 3-indsats","Region"]
[1,{"$f":"'Dine valg'!$G$24","v":"Aarhus"},{"$f":"IF(B7=\"\",\"\",INDEX(Data_kom2,MATCH(1,(komnavn2=B7)*(komaar2=D7),0),2))","v":64420},"2023-01-01",{"$f":"IF(B7=\"\",\"\",INDEX(Data_kom2,MATCH(1,(komnavn2=B7)*(komaar2=D7),0),4))","v":168},{"$f":"IF(B7=\"\",\"\",INDEX(Data_kom2,MATCH(1,(komnavn2=B7)*(komaar2=D7),0),5))","v":110},{"$f":"IF(B7=\"\",\"\",INDEX(Data_kom2,MATCH(1,(komnavn2=B7)*(komaar2=D7),0),6))","v":14},{"$f":"IF(B7=\"\",\"\",INDEX(Data_kom2,MATCH(1,(komnavn2=B7)*(komaar2=D7),0),7))","v":44},{"$f":"IF(B7=\"\",\"\",INDEX(Data_kom2,MATCH(1,(komnavn2=B7)*(komaar2=D7),0),8))","v":174335},{"$f":"IF(B7=\"\",\"\",INDEX(Data_kom2,MATCH(1,(komnavn2=B7)*(komaar2=D7),0),9))","v":147751},{"$f":"IF(B7=\"\",\"\",INDEX(Data_kom2,MATCH(1,(komnavn2=B7)*(komaar2=D7),0),10))","v":5754},{"$f":"IF(B7=\"\",\"\",INDEX(Data_kom2,MATCH(1,(komnavn2=B7)*(komaar2=D7),0),11))","v":20830},{"$f":"IF(B7=\"\",\"\",INDEX(Data_kom2,MATCH(1,(komnavn2=B7)*(komaar2=D7),0),12))","v":205},{"$f":"IF(B7=\"\",\"\",INDEX(Data_kom2,MATCH(1,(komnavn2=B7)*(komaar2=D7),0),13))","v":25},{"$f":"IF(B7=\"\",\"\",INDEX(Data_kom2,MATCH(1,(komnavn2=B7)*(komaar2=D7),0),14))","v":1086},{"$f":"IF(B7=\"\",\"\",INDEX(Data_kom2,MATCH(1,(komnavn2=B7)*(komaar2=D7),0),15))","v":0},{"$f":"IF(B7=\"\",\"\",INDEX(Data_kom2,MATCH(1,(komnavn2=B7)*(komaar2=D7),0),16))","v":0},{"$f":"IF(B7=\"\",\"\",INDEX(Data_kom2,MATCH(1,(komnavn2=B7)*(komaar2=D7),0),17))","v":1071},{"$f":"IF(B7=\"\",\"\",INDEX(Data_kom2,MATCH(1,(komnavn2=B7)*(komaar2=D7),0),18))","v":15},{"$f":"IF(B7=\"\",\"\",INDEX(Data_kom2,MATCH(1,(komnavn2=B7)*(komaar2=D7),0),19))","v":0},{"$f":"IF(B7=\"\",\"\",INDEX(Data_kom2,MATCH(1,(komnavn2=B7)*(komaar2=D7),0),20))","v":0},{"$f":"IF(B7=\"\",\"\",INDEX(Data_kom2,MATCH(1,(komnavn2=B7)*(komaar2=D7),0),21))","v":0},{"$f":"IF(B7=\"\",\"\",INDEX(Data_kom2,MATCH(1,(komnavn2=B7)*(komaar2=D7),0),22))","v":32},{"$f":"IF(B7=\"\",\"\",INDEX(Data_kom2,MATCH(1,(komnavn2=B7)*(komaar2=D7),0),23))","v":174},{"$f":"IF(B7=\"\",\"\",INDEX(Data_kom2,MATCH(1,(komnavn2=B7)*(komaar2=D7),0),24))","v":0},{"$f":"IF(B7=\"\",\"\",INDEX(Data_kom2,MATCH(1,(komnavn2=B7)*(komaar2=D7),0),25))","v":174},{"$f":"IF(B7=\"\",\"\",INDEX(Data_kom2,MATCH(1,(komnavn2=B7)*(komaar2=D7),0),26))","v":32},{"$f":"IF(B7=\"\",\"\",INDEX(Data_kom2,MATCH(1,(komnavn2=B7)*(komaar2=D7),0),27))","v":174},{"$f":"IF(B7=\"\",\"\",INDEX(Data_kom2,MATCH(1,(komnavn2=B7)*(komaar2=D7),0),28))","v":24},{"$f":"IF(B7=\"\",\"\",INDEX(Data_kom2,MATCH(1,(komnavn2=B7)*(komaar2=D7),0),29))","v":1108},{"$f":"IF(B7=\"\",\"\",INDEX(Data_kom2,MATCH(1,(komnavn2=B7)*(komaar2=D7),0),30))","v":325},{"$f":"IF(B7=\"\",\"\",INDEX(Data_kom2,MATCH(1,(komnavn2=B7)*(komaar2=D7),0),31))","v":1112},{"$f":"IF(B7=\"\",\"\",INDEX(Data_kom2,MATCH(1,(komnavn2=B7)*(komaar2=D7),0),32))","v":0},{"$f":"IF(B7=\"\",\"\",INDEX(Data_kom2,MATCH(1,(komnavn2=B7)*(komaar2=D7),0),33))","v":0},{"$f":"IF(B7=\"\",\"\",INDEX(Data_kom2,MATCH(1,(komnavn2=B7)*(komaar2=D7),0),34))","v":0},{"$f":"IF(B7=\"\",\"\",INDEX(Data_kom2,MATCH(1,(komnavn2=B7)*(komaar2=D7),0),35))","v":0},{"$f":"IF(B7=\"\",\"\",INDEX(Data_kom2,MATCH(1,(komnavn2=B7)*(komaar2=D7),0),36))","v":0},{"$f":"IF(B7=\"\",\"\",INDEX(Data_kom2,MATCH(1,(komnavn2=B7)*(komaar2=D7),0),37))","v":0},{"$f":"IF(B7=\"\",\"\",INDEX(Data_kom2,MATCH(1,(komnavn2=B7)*(komaar2=D7),0),38))","v":"Region Midtjylland"}]
[2,{"$f":"'Dine valg'!$G$25","v":""},{"$f":"IF(B8=\"\",\"\",INDEX(Data_kom2,MATCH(1,(komnavn2=B8)*(komaar2=D8),0),2))","v":""},"2023-01-01",{"$f":"IF(B8=\"\",\"\",INDEX(Data_kom2,MATCH(1,(komnavn2=B8)*(komaar2=D8),0),4))","v":""},{"$f":"IF(B8=\"\",\"\",INDEX(Data_kom2,MATCH(1,(komnavn2=B8)*(komaar2=D8),0),5))","v":""},{"$f":"IF(B8=\"\",\"\",INDEX(Data_kom2,MATCH(1,(komnavn2=B8)*(komaar2=D8),0),6))","v":""},{"$f":"IF(B8=\"\",\"\",INDEX(Data_kom2,MATCH(1,(komnavn2=B8)*(komaar2=D8),0),7))","v":""},{"$f":"IF(B8=\"\",\"\",INDEX(Data_kom2,MATCH(1,(komnavn2=B8)*(komaar2=D8),0),8))","v":""},{"$f":"IF(B8=\"\",\"\",INDEX(Data_kom2,MATCH(1,(komnavn2=B8)*(komaar2=D8),0),9))","v":""},{"$f":"IF(B8=\"\",\"\",INDEX(Data_kom2,MATCH(1,(komnavn2=B8)*(komaar2=D8),0),10))","v":""},{"$f":"IF(B8=\"\",\"\",INDEX(Data_kom2,MATCH(1,(komnavn2=B8)*(komaar2=D8),0),11))","v":""},{"$f":"IF(B8=\"\",\"\",INDEX(Data_kom2,MATCH(1,(komnavn2=B8)*(komaar2=D8),0),12))","v":""},{"$f":"IF(B8=\"\",\"\",INDEX(Data_kom2,MATCH(1,(komnavn2=B8)*(komaar2=D8),0),13))","v":""},{"$f":"IF(B8=\"\",\"\",INDEX(Data_kom2,MATCH(1,(komnavn2=B8)*(komaar2=D8),0),14))","v":""},{"$f":"IF(B8=\"\",\"\",INDEX(Data_kom2,MATCH(1,(komnavn2=B8)*(komaar2=D8),0),15))","v":""},{"$f":"IF(B8=\"\",\"\",INDEX(Data_kom2,MATCH(1,(komnavn2=B8)*(komaar2=D8),0),16))","v":""},{"$f":"IF(B8=\"\",\"\",INDEX(Data_kom2,MATCH(1,(komnavn2=B8)*(komaar2=D8),0),17))","v":""},{"$f":"IF(B8=\"\",\"\",INDEX(Data_kom2,MATCH(1,(komnavn2=B8)*(komaar2=D8),0),18))","v":""},{"$f":"IF(B8=\"\",\"\",INDEX(Data_kom2,MATCH(1,(komnavn2=B8)*(komaar2=D8),0),19))","v":""},{"$f":"IF(B8=\"\",\"\",INDEX(Data_kom2,MATCH(1,(komnavn2=B8)*(komaar2=D8),0),20))","v":""},{"$f":"IF(B8=\"\",\"\",INDEX(Data_kom2,MATCH(1,(komnavn2=B8)*(komaar2=D8),0),21))","v":""},{"$f":"IF(B8=\"\",\"\",INDEX(Data_kom2,MATCH(1,(komnavn2=B8)*(komaar2=D8),0),22))","v":""},{"$f":"IF(B8=\"\",\"\",INDEX(Data_kom2,MATCH(1,(komnavn2=B8)*(komaar2=D8),0),23))","v":""},{"$f":"IF(B8=\"\",\"\",INDEX(Data_kom2,MATCH(1,(komnavn2=B8)*(komaar2=D8),0),24))","v":""},{"$f":"IF(B8=\"\",\"\",INDEX(Data_kom2,MATCH(1,(komnavn2=B8)*(komaar2=D8),0),25))","v":""},{"$f":"IF(B8=\"\",\"\",INDEX(Data_kom2,MATCH(1,(komnavn2=B8)*(komaar2=D8),0),26))","v":""},{"$f":"IF(B8=\"\",\"\",INDEX(Data_kom2,MATCH(1,(komnavn2=B8)*(komaar2=D8),0),27))","v":""},{"$f":"IF(B8=\"\",\"\",INDEX(Data_kom2,MATCH(1,(komnavn2=B8)*(komaar2=D8),0),28))","v":""},{"$f":"IF(B8=\"\",\"\",INDEX(Data_kom2,MATCH(1,(komnavn2=B8)*(komaar2=D8),0),29))","v":""},{"$f":"IF(B8=\"\",\"\",INDEX(Data_kom2,MATCH(1,(komnavn2=B8)*(komaar2=D8),0),30))","v":""},{"$f":"IF(B8=\"\",\"\",INDEX(Data_kom2,MATCH(1,(komnavn2=B8)*(komaar2=D8),0),31))","v":""},{"$f":"IF(B8=\"\",\"\",INDEX(Data_kom2,MATCH(1,(komnavn2=B8)*(komaar2=D8),0),32))","v":""},{"$f":"IF(B8=\"\",\"\",INDEX(Data_kom2,MATCH(1,(komnavn2=B8)*(komaar2=D8),0),33))","v":""},{"$f":"IF(B8=\"\",\"\",INDEX(Data_kom2,MATCH(1,(komnavn2=B8)*(komaar2=D8),0),34))","v":""},{"$f":"IF(B8=\"\",\"\",INDEX(Data_kom2,MATCH(1,(komnavn2=B8)*(komaar2=D8),0),35))","v":""},{"$f":"IF(B8=\"\",\"\",INDEX(Data_kom2,MATCH(1,(komnavn2=B8)*(komaar2=D8),0),36))","v":""},{"$f":"IF(B8=\"\",\"\",INDEX(Data_kom2,MATCH(1,(komnavn2=B8)*(komaar2=D8),0),37))","v":""},{"$f":"IF(B8=\"\",\"\",INDEX(Data_kom2,MATCH(1,(komnavn2=B8)*(komaar2=D8),0),38))","v":""}]
[3,{"$f":"'Dine valg'!$G$26","v":""},{"$f":"IF(B9=\"\",\"\",INDEX(Data_kom2,MATCH(1,(komnavn2=B9)*(komaar2=D9),0),2))","v":""},"2023-01-01",{"$f":"IF(B9=\"\",\"\",INDEX(Data_kom2,MATCH(1,(komnavn2=B9)*(komaar2=D9),0),4))","v":""},{"$f":"IF(B9=\"\",\"\",INDEX(Data_kom2,MATCH(1,(komnavn2=B9)*(komaar2=D9),0),5))","v":""},{"$f":"IF(B9=\"\",\"\",INDEX(Data_kom2,MATCH(1,(komnavn2=B9)*(komaar2=D9),0),6))","v":""},{"$f":"IF(B9=\"\",\"\",INDEX(Data_kom2,MATCH(1,(komnavn2=B9)*(komaar2=D9),0),7))","v":""},{"$f":"IF(B9=\"\",\"\",INDEX(Data_kom2,MATCH(1,(komnavn2=B9)*(komaar2=D9),0),8))","v":""},{"$f":"IF(B9=\"\",\"\",INDEX(Data_kom2,MATCH(1,(komnavn2=B9)*(komaar2=D9),0),9))","v":""},{"$f":"IF(B9=\"\",\"\",INDEX(Data_kom2,MATCH(1,(komnavn2=B9)*(komaar2=D9),0),10))","v":""},{"$f":"IF(B9=\"\",\"\",INDEX(Data_kom2,MATCH(1,(komnavn2=B9)*(komaar2=D9),0),11))","v":""},{"$f":"IF(B9=\"\",\"\",INDEX(Data_kom2,MATCH(1,(komnavn2=B9)*(komaar2=D9),0),12))","v":""},{"$f":"IF(B9=\"\",\"\",INDEX(Data_kom2,MATCH(1,(komnavn2=B9)*(komaar2=D9),0),13))","v":""},{"$f":"IF(B9=\"\",\"\",INDEX(Data_kom2,MATCH(1,(komnavn2=B9)*(komaar2=D9),0),14))","v":""},{"$f":"IF(B9=\"\",\"\",INDEX(Data_kom2,MATCH(1,(komnavn2=B9)*(komaar2=D9),0),15))","v":""},{"$f":"IF(B9=\"\",\"\",INDEX(Data_kom2,MATCH(1,(komnavn2=B9)*(komaar2=D9),0),16))","v":""},{"$f":"IF(B9=\"\",\"\",INDEX(Data_kom2,MATCH(1,(komnavn2=B9)*(komaar2=D9),0),17))","v":""},{"$f":"IF(B9=\"\",\"\",INDEX(Data_kom2,MATCH(1,(komnavn2=B9)*(komaar2=D9),0),18))","v":""},{"$f":"IF(B9=\"\",\"\",INDEX(Data_kom2,MATCH(1,(komnavn2=B9)*(komaar2=D9),0),19))","v":""},{"$f":"IF(B9=\"\",\"\",INDEX(Data_kom2,MATCH(1,(komnavn2=B9)*(komaar2=D9),0),20))","v":""},{"$f":"IF(B9=\"\",\"\",INDEX(Data_kom2,MATCH(1,(komnavn2=B9)*(komaar2=D9),0),21))","v":""},{"$f":"IF(B9=\"\",\"\",INDEX(Data_kom2,MATCH(1,(komnavn2=B9)*(komaar2=D9),0),22))","v":""},{"$f":"IF(B9=\"\",\"\",INDEX(Data_kom2,MATCH(1,(komnavn2=B9)*(komaar2=D9),0),23))","v":""},{"$f":"IF(B9=\"\",\"\",INDEX(Data_kom2,MATCH(1,(komnavn2=B9)*(komaar2=D9),0),24))","v":""},{"$f":"IF(B9=\"\",\"\",INDEX(Data_kom2,MATCH(1,(komnavn2=B9)*(komaar2=D9),0),25))","v":""},{"$f":"IF(B9=\"\",\"\",INDEX(Data_kom2,MATCH(1,(komnavn2=B9)*(komaar2=D9),0),26))","v":""},{"$f":"IF(B9=\"\",\"\",INDEX(Data_kom2,MATCH(1,(komnavn2=B9)*(komaar2=D9),0),27))","v":""},{"$f":"IF(B9=\"\",\"\",INDEX(Data_kom2,MATCH(1,(komnavn2=B9)*(komaar2=D9),0),28))","v":""},{"$f":"IF(B9=\"\",\"\",INDEX(Data_kom2,MATCH(1,(komnavn2=B9)*(komaar2=D9),0),29))","v":""},{"$f":"IF(B9=\"\",\"\",INDEX(Data_kom2,MATCH(1,(komnavn2=B9)*(komaar2=D9),0),30))","v":""},{"$f":"IF(B9=\"\",\"\",INDEX(Data_kom2,MATCH(1,(komnavn2=B9)*(komaar2=D9),0),31))","v":""},{"$f":"IF(B9=\"\",\"\",INDEX(Data_kom2,MATCH(1,(komnavn2=B9)*(komaar2=D9),0),32))","v":""},{"$f":"IF(B9=\"\",\"\",INDEX(Data_kom2,MATCH(1,(komnavn2=B9)*(komaar2=D9),0),33))","v":""},{"$f":"IF(B9=\"\",\"\",INDEX(Data_kom2,MATCH(1,(komnavn2=B9)*(komaar2=D9),0),34))","v":""},{"$f":"IF(B9=\"\",\"\",INDEX(Data_kom2,MATCH(1,(komnavn2=B9)*(komaar2=D9),0),35))","v":""},{"$f":"IF(B9=\"\",\"\",INDEX(Data_kom2,MATCH(1,(komnavn2=B9)*(komaar2=D9),0),36))","v":""},{"$f":"IF(B9=\"\",\"\",INDEX(Data_kom2,MATCH(1,(komnavn2=B9)*(komaar2=D9),0),37))","v":""},{"$f":"IF(B9=\"\",\"\",INDEX(Data_kom2,MATCH(1,(komnavn2=B9)*(komaar2=D9),0),38))","v":""}]
[4,{"$f":"'Dine valg'!$G$27","v":""},{"$f":"IF(B10=\"\",\"\",INDEX(Data_kom2,MATCH(1,(komnavn2=B10)*(komaar2=D10),0),2))","v":""},"2023-01-01",{"$f":"IF(B10=\"\",\"\",INDEX(Data_kom2,MATCH(1,(komnavn2=B10)*(komaar2=D10),0),4))","v":""},{"$f":"IF(B10=\"\",\"\",INDEX(Data_kom2,MATCH(1,(komnavn2=B10)*(komaar2=D10),0),5))","v":""},{"$f":"IF(B10=\"\",\"\",INDEX(Data_kom2,MATCH(1,(komnavn2=B10)*(komaar2=D10),0),6))","v":""},{"$f":"IF(B10=\"\",\"\",INDEX(Data_kom2,MATCH(1,(komnavn2=B10)*(komaar2=D10),0),7))","v":""},{"$f":"IF(B10=\"\",\"\",INDEX(Data_kom2,MATCH(1,(komnavn2=B10)*(komaar2=D10),0),8))","v":""},{"$f":"IF(B10=\"\",\"\",INDEX(Data_kom2,MATCH(1,(komnavn2=B10)*(komaar2=D10),0),9))","v":""},{"$f":"IF(B10=\"\",\"\",INDEX(Data_kom2,MATCH(1,(komnavn2=B10)*(komaar2=D10),0),10))","v":""},{"$f":"IF(B10=\"\",\"\",INDEX(Data_kom2,MATCH(1,(komnavn2=B10)*(komaar2=D10),0),11))","v":""},{"$f":"IF(B10=\"\",\"\",INDEX(Data_kom2,MATCH(1,(komnavn2=B10)*(komaar2=D10),0),12))","v":""},{"$f":"IF(B10=\"\",\"\",INDEX(Data_kom2,MATCH(1,(komnavn2=B10)*(komaar2=D10),0),13))","v":""},{"$f":"IF(B10=\"\",\"\",INDEX(Data_kom2,MATCH(1,(komnavn2=B10)*(komaar2=D10),0),14))","v":""},{"$f":"IF(B10=\"\",\"\",INDEX(Data_kom2,MATCH(1,(komnavn2=B10)*(komaar2=D10),0),15))","v":""},{"$f":"IF(B10=\"\",\"\",INDEX(Data_kom2,MATCH(1,(komnavn2=B10)*(komaar2=D10),0),16))","v":""},{"$f":"IF(B10=\"\",\"\",INDEX(Data_kom2,MATCH(1,(komnavn2=B10)*(komaar2=D10),0),17))","v":""},{"$f":"IF(B10=\"\",\"\",INDEX(Data_kom2,MATCH(1,(komnavn2=B10)*(komaar2=D10),0),18))","v":""},{"$f":"IF(B10=\"\",\"\",INDEX(Data_kom2,MATCH(1,(komnavn2=B10)*(komaar2=D10),0),19))","v":""},{"$f":"IF(B10=\"\",\"\",INDEX(Data_kom2,MATCH(1,(komnavn2=B10)*(komaar2=D10),0),20))","v":""},{"$f":"IF(B10=\"\",\"\",INDEX(Data_kom2,MATCH(1,(komnavn2=B10)*(komaar2=D10),0),21))","v":""},{"$f":"IF(B10=\"\",\"\",INDEX(Data_kom2,MATCH(1,(komnavn2=B10)*(komaar2=D10),0),22))","v":""},{"$f":"IF(B10=\"\",\"\",INDEX(Data_kom2,MATCH(1,(komnavn2=B10)*(komaar2=D10),0),23))","v":""},{"$f":"IF(B10=\"\",\"\",INDEX(Data_kom2,MATCH(1,(komnavn2=B10)*(komaar2=D10),0),24))","v":""},{"$f":"IF(B10=\"\",\"\",INDEX(Data_kom2,MATCH(1,(komnavn2=B10)*(komaar2=D10),0),25))","v":""},{"$f":"IF(B10=\"\",\"\",INDEX(Data_kom2,MATCH(1,(komnavn2=B10)*(komaar2=D10),0),26))","v":""},{"$f":"IF(B10=\"\",\"\",INDEX(Data_kom2,MATCH(1,(komnavn2=B10)*(komaar2=D10),0),27))","v":""},{"$f":"IF(B10=\"\",\"\",INDEX(Data_kom2,MATCH(1,(komnavn2=B10)*(komaar2=D10),0),28))","v":""},{"$f":"IF(B10=\"\",\"\",INDEX(Data_kom2,MATCH(1,(komnavn2=B10)*(komaar2=D10),0),29))","v":""},{"$f":"IF(B10=\"\",\"\",INDEX(Data_kom2,MATCH(1,(komnavn2=B10)*(komaar2=D10),0),30))","v":""},{"$f":"IF(B10=\"\",\"\",INDEX(Data_kom2,MATCH(1,(komnavn2=B10)*(komaar2=D10),0),31))","v":""},{"$f":"IF(B10=\"\",\"\",INDEX(Data_kom2,MATCH(1,(komnavn2=B10)*(komaar2=D10),0),32))","v":""},{"$f":"IF(B10=\"\",\"\",INDEX(Data_kom2,MATCH(1,(komnavn2=B10)*(komaar2=D10),0),33))","v":""},{"$f":"IF(B10=\"\",\"\",INDEX(Data_kom2,MATCH(1,(komnavn2=B10)*(komaar2=D10),0),34))","v":""},{"$f":"IF(B10=\"\",\"\",INDEX(Data_kom2,MATCH(1,(komnavn2=B10)*(komaar2=D10),0),35))","v":""},{"$f":"IF(B10=\"\",\"\",INDEX(Data_kom2,MATCH(1,(komnavn2=B10)*(komaar2=D10),0),36))","v":""},{"$f":"IF(B10=\"\",\"\",INDEX(Data_kom2,MATCH(1,(komnavn2=B10)*(komaar2=D10),0),37))","v":""},{"$f":"IF(B10=\"\",\"\",INDEX(Data_kom2,MATCH(1,(komnavn2=B10)*(komaar2=D10),0),38))","v":""}]
[5,{"$f":"'Dine valg'!$G$28","v":""},{"$f":"IF(B11=\"\",\"\",INDEX(Data_kom2,MATCH(1,(komnavn2=B11)*(komaar2=D11),0),2))","v":""},"2023-01-01",{"$f":"IF(B11=\"\",\"\",INDEX(Data_kom2,MATCH(1,(komnavn2=B11)*(komaar2=D11),0),4))","v":""},{"$f":"IF(B11=\"\",\"\",INDEX(Data_kom2,MATCH(1,(komnavn2=B11)*(komaar2=D11),0),5))","v":""},{"$f":"IF(B11=\"\",\"\",INDEX(Data_kom2,MATCH(1,(komnavn2=B11)*(komaar2=D11),0),6))","v":""},{"$f":"IF(B11=\"\",\"\",INDEX(Data_kom2,MATCH(1,(komnavn2=B11)*(komaar2=D11),0),7))","v":""},{"$f":"IF(B11=\"\",\"\",INDEX(Data_kom2,MATCH(1,(komnavn2=B11)*(komaar2=D11),0),8))","v":""},{"$f":"IF(B11=\"\",\"\",INDEX(Data_kom2,MATCH(1,(komnavn2=B11)*(komaar2=D11),0),9))","v":""},{"$f":"IF(B11=\"\",\"\",INDEX(Data_kom2,MATCH(1,(komnavn2=B11)*(komaar2=D11),0),10))","v":""},{"$f":"IF(B11=\"\",\"\",INDEX(Data_kom2,MATCH(1,(komnavn2=B11)*(komaar2=D11),0),11))","v":""},{"$f":"IF(B11=\"\",\"\",INDEX(Data_kom2,MATCH(1,(komnavn2=B11)*(komaar2=D11),0),12))","v":""},{"$f":"IF(B11=\"\",\"\",INDEX(Data_kom2,MATCH(1,(komnavn2=B11)*(komaar2=D11),0),13))","v":""},{"$f":"IF(B11=\"\",\"\",INDEX(Data_kom2,MATCH(1,(komnavn2=B11)*(komaar2=D11),0),14))","v":""},{"$f":"IF(B11=\"\",\"\",INDEX(Data_kom2,MATCH(1,(komnavn2=B11)*(komaar2=D11),0),15))","v":""},{"$f":"IF(B11=\"\",\"\",INDEX(Data_kom2,MATCH(1,(komnavn2=B11)*(komaar2=D11),0),16))","v":""},{"$f":"IF(B11=\"\",\"\",INDEX(Data_kom2,MATCH(1,(komnavn2=B11)*(komaar2=D11),0),17))","v":""},{"$f":"IF(B11=\"\",\"\",INDEX(Data_kom2,MATCH(1,(komnavn2=B11)*(komaar2=D11),0),18))","v":""},{"$f":"IF(B11=\"\",\"\",INDEX(Data_kom2,MATCH(1,(komnavn2=B11)*(komaar2=D11),0),19))","v":""},{"$f":"IF(B11=\"\",\"\",INDEX(Data_kom2,MATCH(1,(komnavn2=B11)*(komaar2=D11),0),20))","v":""},{"$f":"IF(B11=\"\",\"\",INDEX(Data_kom2,MATCH(1,(komnavn2=B11)*(komaar2=D11),0),21))","v":""},{"$f":"IF(B11=\"\",\"\",INDEX(Data_kom2,MATCH(1,(komnavn2=B11)*(komaar2=D11),0),22))","v":""},{"$f":"IF(B11=\"\",\"\",INDEX(Data_kom2,MATCH(1,(komnavn2=B11)*(komaar2=D11),0),23))","v":""},{"$f":"IF(B11=\"\",\"\",INDEX(Data_kom2,MATCH(1,(komnavn2=B11)*(komaar2=D11),0),24))","v":""},{"$f":"IF(B11=\"\",\"\",INDEX(Data_kom2,MATCH(1,(komnavn2=B11)*(komaar2=D11),0),25))","v":""},{"$f":"IF(B11=\"\",\"\",INDEX(Data_kom2,MATCH(1,(komnavn2=B11)*(komaar2=D11),0),26))","v":""},{"$f":"IF(B11=\"\",\"\",INDEX(Data_kom2,MATCH(1,(komnavn2=B11)*(komaar2=D11),0),27))","v":""},{"$f":"IF(B11=\"\",\"\",INDEX(Data_kom2,MATCH(1,(komnavn2=B11)*(komaar2=D11),0),28))","v":""},{"$f":"IF(B11=\"\",\"\",INDEX(Data_kom2,MATCH(1,(komnavn2=B11)*(komaar2=D11),0),29))","v":""},{"$f":"IF(B11=\"\",\"\",INDEX(Data_kom2,MATCH(1,(komnavn2=B11)*(komaar2=D11),0),30))","v":""},{"$f":"IF(B11=\"\",\"\",INDEX(Data_kom2,MATCH(1,(komnavn2=B11)*(komaar2=D11),0),31))","v":""},{"$f":"IF(B11=\"\",\"\",INDEX(Data_kom2,MATCH(1,(komnavn2=B11)*(komaar2=D11),0),32))","v":""},{"$f":"IF(B11=\"\",\"\",INDEX(Data_kom2,MATCH(1,(komnavn2=B11)*(komaar2=D11),0),33))","v":""},{"$f":"IF(B11=\"\",\"\",INDEX(Data_kom2,MATCH(1,(komnavn2=B11)*(komaar2=D11),0),34))","v":""},{"$f":"IF(B11=\"\",\"\",INDEX(Data_kom2,MATCH(1,(komnavn2=B11)*(komaar2=D11),0),35))","v":""},{"$f":"IF(B11=\"\",\"\",INDEX(Data_kom2,MATCH(1,(komnavn2=B11)*(komaar2=D11),0),36))","v":""},{"$f":"IF(B11=\"\",\"\",INDEX(Data_kom2,MATCH(1,(komnavn2=B11)*(komaar2=D11),0),37))","v":""},{"$f":"IF(B11=\"\",\"\",INDEX(Data_kom2,MATCH(1,(komnavn2=B11)*(komaar2=D11),0),38))","v":""}]
[6,{"$f":"'Dine valg'!$G$29","v":""},{"$f":"IF(B12=\"\",\"\",INDEX(Data_kom2,MATCH(1,(komnavn2=B12)*(komaar2=D12),0),2))","v":""},"2023-01-01",{"$f":"IF(B12=\"\",\"\",INDEX(Data_kom2,MATCH(1,(komnavn2=B12)*(komaar2=D12),0),4))","v":""},{"$f":"IF(B12=\"\",\"\",INDEX(Data_kom2,MATCH(1,(komnavn2=B12)*(komaar2=D12),0),5))","v":""},{"$f":"IF(B12=\"\",\"\",INDEX(Data_kom2,MATCH(1,(komnavn2=B12)*(komaar2=D12),0),6))","v":""},{"$f":"IF(B12=\"\",\"\",INDEX(Data_kom2,MATCH(1,(komnavn2=B12)*(komaar2=D12),0),7))","v":""},{"$f":"IF(B12=\"\",\"\",INDEX(Data_kom2,MATCH(1,(komnavn2=B12)*(komaar2=D12),0),8))","v":""},{"$f":"IF(B12=\"\",\"\",INDEX(Data_kom2,MATCH(1,(komnavn2=B12)*(komaar2=D12),0),9))","v":""},{"$f":"IF(B12=\"\",\"\",INDEX(Data_kom2,MATCH(1,(komnavn2=B12)*(komaar2=D12),0),10))","v":""},{"$f":"IF(B12=\"\",\"\",INDEX(Data_kom2,MATCH(1,(komnavn2=B12)*(komaar2=D12),0),11))","v":""},{"$f":"IF(B12=\"\",\"\",INDEX(Data_kom2,MATCH(1,(komnavn2=B12)*(komaar2=D12),0),12))","v":""},{"$f":"IF(B12=\"\",\"\",INDEX(Data_kom2,MATCH(1,(komnavn2=B12)*(komaar2=D12),0),13))","v":""},{"$f":"IF(B12=\"\",\"\",INDEX(Data_kom2,MATCH(1,(komnavn2=B12)*(komaar2=D12),0),14))","v":""},{"$f":"IF(B12=\"\",\"\",INDEX(Data_kom2,MATCH(1,(komnavn2=B12)*(komaar2=D12),0),15))","v":""},{"$f":"IF(B12=\"\",\"\",INDEX(Data_kom2,MATCH(1,(komnavn2=B12)*(komaar2=D12),0),16))","v":""},{"$f":"IF(B12=\"\",\"\",INDEX(Data_kom2,MATCH(1,(komnavn2=B12)*(komaar2=D12),0),17))","v":""},{"$f":"IF(B12=\"\",\"\",INDEX(Data_kom2,MATCH(1,(komnavn2=B12)*(komaar2=D12),0),18))","v":""},{"$f":"IF(B12=\"\",\"\",INDEX(Data_kom2,MATCH(1,(komnavn2=B12)*(komaar2=D12),0),19))","v":""},{"$f":"IF(B12=\"\",\"\",INDEX(Data_kom2,MATCH(1,(komnavn2=B12)*(komaar2=D12),0),20))","v":""},{"$f":"IF(B12=\"\",\"\",INDEX(Data_kom2,MATCH(1,(komnavn2=B12)*(komaar2=D12),0),21))","v":""},{"$f":"IF(B12=\"\",\"\",INDEX(Data_kom2,MATCH(1,(komnavn2=B12)*(komaar2=D12),0),22))","v":""},{"$f":"IF(B12=\"\",\"\",INDEX(Data_kom2,MATCH(1,(komnavn2=B12)*(komaar2=D12),0),23))","v":""},{"$f":"IF(B12=\"\",\"\",INDEX(Data_kom2,MATCH(1,(komnavn2=B12)*(komaar2=D12),0),24))","v":""},{"$f":"IF(B12=\"\",\"\",INDEX(Data_kom2,MATCH(1,(komnavn2=B12)*(komaar2=D12),0),25))","v":""},{"$f":"IF(B12=\"\",\"\",INDEX(Data_kom2,MATCH(1,(komnavn2=B12)*(komaar2=D12),0),26))","v":""},{"$f":"IF(B12=\"\",\"\",INDEX(Data_kom2,MATCH(1,(komnavn2=B12)*(komaar2=D12),0),27))","v":""},{"$f":"IF(B12=\"\",\"\",INDEX(Data_kom2,MATCH(1,(komnavn2=B12)*(komaar2=D12),0),28))","v":""},{"$f":"IF(B12=\"\",\"\",INDEX(Data_kom2,MATCH(1,(komnavn2=B12)*(komaar2=D12),0),29))","v":""},{"$f":"IF(B12=\"\",\"\",INDEX(Data_kom2,MATCH(1,(komnavn2=B12)*(komaar2=D12),0),30))","v":""},{"$f":"IF(B12=\"\",\"\",INDEX(Data_kom2,MATCH(1,(komnavn2=B12)*(komaar2=D12),0),31))","v":""},{"$f":"IF(B12=\"\",\"\",INDEX(Data_kom2,MATCH(1,(komnavn2=B12)*(komaar2=D12),0),32))","v":""},{"$f":"IF(B12=\"\",\"\",INDEX(Data_kom2,MATCH(1,(komnavn2=B12)*(komaar2=D12),0),33))","v":""},{"$f":"IF(B12=\"\",\"\",INDEX(Data_kom2,MATCH(1,(komnavn2=B12)*(komaar2=D12),0),34))","v":""},{"$f":"IF(B12=\"\",\"\",INDEX(Data_kom2,MATCH(1,(komnavn2=B12)*(komaar2=D12),0),35))","v":""},{"$f":"IF(B12=\"\",\"\",INDEX(Data_kom2,MATCH(1,(komnavn2=B12)*(komaar2=D12),0),36))","v":""},{"$f":"IF(B12=\"\",\"\",INDEX(Data_kom2,MATCH(1,(komnavn2=B12)*(komaar2=D12),0),37))","v":""},{"$f":"IF(B12=\"\",\"\",INDEX(Data_kom2,MATCH(1,(komnavn2=B12)*(komaar2=D12),0),38))","v":""}]
[7,{"$f":"'Dine valg'!$G$30","v":""},{"$f":"IF(B13=\"\",\"\",INDEX(Data_kom2,MATCH(1,(komnavn2=B13)*(komaar2=D13),0),2))","v":""},"2023-01-01",{"$f":"IF(B13=\"\",\"\",INDEX(Data_kom2,MATCH(1,(komnavn2=B13)*(komaar2=D13),0),4))","v":""},{"$f":"IF(B13=\"\",\"\",INDEX(Data_kom2,MATCH(1,(komnavn2=B13)*(komaar2=D13),0),5))","v":""},{"$f":"IF(B13=\"\",\"\",INDEX(Data_kom2,MATCH(1,(komnavn2=B13)*(komaar2=D13),0),6))","v":""},{"$f":"IF(B13=\"\",\"\",INDEX(Data_kom2,MATCH(1,(komnavn2=B13)*(komaar2=D13),0),7))","v":""},{"$f":"IF(B13=\"\",\"\",INDEX(Data_kom2,MATCH(1,(komnavn2=B13)*(komaar2=D13),0),8))","v":""},{"$f":"IF(B13=\"\",\"\",INDEX(Data_kom2,MATCH(1,(komnavn2=B13)*(komaar2=D13),0),9))","v":""},{"$f":"IF(B13=\"\",\"\",INDEX(Data_kom2,MATCH(1,(komnavn2=B13)*(komaar2=D13),0),10))","v":""},{"$f":"IF(B13=\"\",\"\",INDEX(Data_kom2,MATCH(1,(komnavn2=B13)*(komaar2=D13),0),11))","v":""},{"$f":"IF(B13=\"\",\"\",INDEX(Data_kom2,MATCH(1,(komnavn2=B13)*(komaar2=D13),0),12))","v":""},{"$f":"IF(B13=\"\",\"\",INDEX(Data_kom2,MATCH(1,(komnavn2=B13)*(komaar2=D13),0),13))","v":""},{"$f":"IF(B13=\"\",\"\",INDEX(Data_kom2,MATCH(1,(komnavn2=B13)*(komaar2=D13),0),14))","v":""},{"$f":"IF(B13=\"\",\"\",INDEX(Data_kom2,MATCH(1,(komnavn2=B13)*(komaar2=D13),0),15))","v":""},{"$f":"IF(B13=\"\",\"\",INDEX(Data_kom2,MATCH(1,(komnavn2=B13)*(komaar2=D13),0),16))","v":""},{"$f":"IF(B13=\"\",\"\",INDEX(Data_kom2,MATCH(1,(komnavn2=B13)*(komaar2=D13),0),17))","v":""},{"$f":"IF(B13=\"\",\"\",INDEX(Data_kom2,MATCH(1,(komnavn2=B13)*(komaar2=D13),0),18))","v":""},{"$f":"IF(B13=\"\",\"\",INDEX(Data_kom2,MATCH(1,(komnavn2=B13)*(komaar2=D13),0),19))","v":""},{"$f":"IF(B13=\"\",\"\",INDEX(Data_kom2,MATCH(1,(komnavn2=B13)*(komaar2=D13),0),20))","v":""},{"$f":"IF(B13=\"\",\"\",INDEX(Data_kom2,MATCH(1,(komnavn2=B13)*(komaar2=D13),0),21))","v":""},{"$f":"IF(B13=\"\",\"\",INDEX(Data_kom2,MATCH(1,(komnavn2=B13)*(komaar2=D13),0),22))","v":""},{"$f":"IF(B13=\"\",\"\",INDEX(Data_kom2,MATCH(1,(komnavn2=B13)*(komaar2=D13),0),23))","v":""},{"$f":"IF(B13=\"\",\"\",INDEX(Data_kom2,MATCH(1,(komnavn2=B13)*(komaar2=D13),0),24))","v":""},{"$f":"IF(B13=\"\",\"\",INDEX(Data_kom2,MATCH(1,(komnavn2=B13)*(komaar2=D13),0),25))","v":""},{"$f":"IF(B13=\"\",\"\",INDEX(Data_kom2,MATCH(1,(komnavn2=B13)*(komaar2=D13),0),26))","v":""},{"$f":"IF(B13=\"\",\"\",INDEX(Data_kom2,MATCH(1,(komnavn2=B13)*(komaar2=D13),0),27))","v":""},{"$f":"IF(B13=\"\",\"\",INDEX(Data_kom2,MATCH(1,(komnavn2=B13)*(komaar2=D13),0),28))","v":""},{"$f":"IF(B13=\"\",\"\",INDEX(Data_kom2,MATCH(1,(komnavn2=B13)*(komaar2=D13),0),29))","v":""},{"$f":"IF(B13=\"\",\"\",INDEX(Data_kom2,MATCH(1,(komnavn2=B13)*(komaar2=D13),0),30))","v":""},{"$f":"IF(B13=\"\",\"\",INDEX(Data_kom2,MATCH(1,(komnavn2=B13)*(komaar2=D13),0),31))","v":""},{"$f":"IF(B13=\"\",\"\",INDEX(Data_kom2,MATCH(1,(komnavn2=B13)*(komaar2=D13),0),32))","v":""},{"$f":"IF(B13=\"\",\"\",INDEX(Data_kom2,MATCH(1,(komnavn2=B13)*(komaar2=D13),0),33))","v":""},{"$f":"IF(B13=\"\",\"\",INDEX(Data_kom2,MATCH(1,(komnavn2=B13)*(komaar2=D13),0),34))","v":""},{"$f":"IF(B13=\"\",\"\",INDEX(Data_kom2,MATCH(1,(komnavn2=B13)*(komaar2=D13),0),35))","v":""},{"$f":"IF(B13=\"\",\"\",INDEX(Data_kom2,MATCH(1,(komnavn2=B13)*(komaar2=D13),0),36))","v":""},{"$f":"IF(B13=\"\",\"\",INDEX(Data_kom2,MATCH(1,(komnavn2=B13)*(komaar2=D13),0),37))","v":""},{"$f":"IF(B13=\"\",\"\",INDEX(Data_kom2,MATCH(1,(komnavn2=B13)*(komaar2=D13),0),38))","v":""}]
[null,{"$f":"'Dine valg'!$G$24","v":"Aarhus"},{"$f":"IF(B14=\"\",\"\",INDEX(Data_kom2,MATCH(1,(komnavn2=B14)*(komaar2=D14),0),2))","v":64356},"2022-07-01",{"$f":"IF(B14=\"\",\"\",INDEX(Data_kom2,MATCH(1,(komnavn2=B14)*(komaar2=D14),0),4))","v":174},{"$f":"IF(B14=\"\",\"\",INDEX(Data_kom2,MATCH(1,(komnavn2=B14)*(komaar2=D14),0),5))","v":109},{"$f":"IF(B14=\"\",\"\",INDEX(Data_kom2,MATCH(1,(komnavn2=B14)*(komaar2=D14),0),6))","v":17},{"$f":"IF(B14=\"\",\"\",INDEX(Data_kom2,MATCH(1,(komnavn2=B14)*(komaar2=D14),0),7))","v":48},{"$f":"IF(B14=\"\",\"\",INDEX(Data_kom2,MATCH(1,(komnavn2=B14)*(komaar2=D14),0),8))","v":184152},{"$f":"IF(B14=\"\",\"\",INDEX(Data_kom2,MATCH(1,(komnavn2=B14)*(komaar2=D14),0),9))","v":154573},{"$f":"IF(B14=\"\",\"\",INDEX(Data_kom2,MATCH(1,(komnavn2=B14)*(komaar2=D14),0),10))","v":5481},{"$f":"IF(B14=\"\",\"\",INDEX(Data_kom2,MATCH(1,(komnavn2=B14)*(komaar2=D14),0),11))","v":24098},{"$f":"IF(B14=\"\",\"\",INDEX(Data_kom2,MATCH(1,(komnavn2=B14)*(komaar2=D14),0),12))","v":217},{"$f":"IF(B14=\"\",\"\",INDEX(Data_kom2,MATCH(1,(komnavn2=B14)*(komaar2=D14),0),13))","v":22},{"$f":"IF(B14=\"\",\"\",INDEX(Data_kom2,MATCH(1,(komnavn2=B14)*(komaar2=D14),0),14))","v":1112},{"$f":"IF(B14=\"\",\"\",INDEX(Data_kom2,MATCH(1,(komnavn2=B14)*(komaar2=D14),0),15))","v":"*"},{"$f":"IF(B14=\"\",\"\",INDEX(Data_kom2,MATCH(1,(komnavn2=B14)*(komaar2=D14),0),16))","v":"*"},{"$f":"IF(B14=\"\",\"\",INDEX(Data_kom2,MATCH(1,(komnavn2=B14)*(komaar2=D14),0),17))","v":1097},{"$f":"IF(B14=\"\",\"\",INDEX(Data_kom2,MATCH(1,(komnavn2=B14)*(komaar2=D14),0),18))","v":11},{"$f":"IF(B14=\"\",\"\",INDEX(Data_kom2,MATCH(1,(komnavn2=B14)*(komaar2=D14),0),19))","v":0},{"$f":"IF(B14=\"\",\"\",INDEX(Data_kom2,MATCH(1,(komnavn2=B14)*(komaar2=D14),0),20))","v":0},{"$f":"IF(B14=\"\",\"\",INDEX(Data_kom2,MATCH(1,(komnavn2=B14)*(komaar2=D14),0),21))","v":0},{"$f":"IF(B14=\"\",\"\",INDEX(Data_kom2,MATCH(1,(komnavn2=B14)*(komaar2=D14),0),22))","v":22},{"$f":"IF(B14=\"\",\"\",INDEX(Data_kom2,MATCH(1,(komnavn2=B14)*(komaar2=D14),0),23))","v":161},{"$f":"IF(B14=\"\",\"\",INDEX(Data_kom2,MATCH(1,(komnavn2=B14)*(komaar2=D14),0),24))","v":4},{"$f":"IF(B14=\"\",\"\",INDEX(Data_kom2,MATCH(1,(komnavn2=B14)*(komaar2=D14),0),25))","v":161},{"$f":"IF(B14=\"\",\"\",INDEX(Data_kom2,MATCH(1,(komnavn2=B14)*(komaar2=D14),0),26))","v":18},{"$f":"IF(B14=\"\",\"\",INDEX(Data_kom2,MATCH(1,(komnavn2=B14)*(komaar2=D14),0),27))","v":161},{"$f":"IF(B14=\"\",\"\",INDEX(Data_kom2,MATCH(1,(komnavn2=B14)*(komaar2=D14),0),28))","v":34},{"$f":"IF(B14=\"\",\"\",INDEX(Data_kom2,MATCH(1,(komnavn2=B14)*(komaar2=D14),0),29))","v":1144},{"$f":"IF(B14=\"\",\"\",INDEX(Data_kom2,MATCH(1,(komnavn2=B14)*(komaar2=D14),0),30))","v":331},{"$f":"IF(B14=\"\",\"\",INDEX(Data_kom2,MATCH(1,(komnavn2=B14)*(komaar2=D14),0),31))","v":1147},{"$f":"IF(B14=\"\",\"\",INDEX(Data_kom2,MATCH(1,(komnavn2=B14)*(komaar2=D14),0),32))","v":0},{"$f":"IF(B14=\"\",\"\",INDEX(Data_kom2,MATCH(1,(komnavn2=B14)*(komaar2=D14),0),33))","v":0},{"$f":"IF(B14=\"\",\"\",INDEX(Data_kom2,MATCH(1,(komnavn2=B14)*(komaar2=D14),0),34))","v":0},{"$f":"IF(B14=\"\",\"\",INDEX(Data_kom2,MATCH(1,(komnavn2=B14)*(komaar2=D14),0),35))","v":0},{"$f":"IF(B14=\"\",\"\",INDEX(Data_kom2,MATCH(1,(komnavn2=B14)*(komaar2=D14),0),36))","v":0},{"$f":"IF(B14=\"\",\"\",INDEX(Data_kom2,MATCH(1,(komnavn2=B14)*(komaar2=D14),0),37))","v":0},{"$f":"IF(B14=\"\",\"\",INDEX(Data_kom2,MATCH(1,(komnavn2=B14)*(komaar2=D14),0),38))","v":"Region Midtjylland"}]
[null,{"$f":"'Dine valg'!$G$25","v":""},{"$f":"IF(B15=\"\",\"\",INDEX(Data_kom2,MATCH(1,(komnavn2=B15)*(komaar2=D15),0),2))","v":""},"2022-07-01",{"$f":"IF(B15=\"\",\"\",INDEX(Data_kom2,MATCH(1,(komnavn2=B15)*(komaar2=D15),0),4))","v":""},{"$f":"IF(B15=\"\",\"\",INDEX(Data_kom2,MATCH(1,(komnavn2=B15)*(komaar2=D15),0),5))","v":""},{"$f":"IF(B15=\"\",\"\",INDEX(Data_kom2,MATCH(1,(komnavn2=B15)*(komaar2=D15),0),6))","v":""},{"$f":"IF(B15=\"\",\"\",INDEX(Data_kom2,MATCH(1,(komnavn2=B15)*(komaar2=D15),0),7))","v":""},{"$f":"IF(B15=\"\",\"\",INDEX(Data_kom2,MATCH(1,(komnavn2=B15)*(komaar2=D15),0),8))","v":""},{"$f":"IF(B15=\"\",\"\",INDEX(Data_kom2,MATCH(1,(komnavn2=B15)*(komaar2=D15),0),9))","v":""},{"$f":"IF(B15=\"\",\"\",INDEX(Data_kom2,MATCH(1,(komnavn2=B15)*(komaar2=D15),0),10))","v":""},{"$f":"IF(B15=\"\",\"\",INDEX(Data_kom2,MATCH(1,(komnavn2=B15)*(komaar2=D15),0),11))","v":""},{"$f":"IF(B15=\"\",\"\",INDEX(Data_kom2,MATCH(1,(komnavn2=B15)*(komaar2=D15),0),12))","v":""},{"$f":"IF(B15=\"\",\"\",INDEX(Data_kom2,MATCH(1,(komnavn2=B15)*(komaar2=D15),0),13))","v":""},{"$f":"IF(B15=\"\",\"\",INDEX(Data_kom2,MATCH(1,(komnavn2=B15)*(komaar2=D15),0),14))","v":""},{"$f":"IF(B15=\"\",\"\",INDEX(Data_kom2,MATCH(1,(komnavn2=B15)*(komaar2=D15),0),15))","v":""},{"$f":"IF(B15=\"\",\"\",INDEX(Data_kom2,MATCH(1,(komnavn2=B15)*(komaar2=D15),0),16))","v":""},{"$f":"IF(B15=\"\",\"\",INDEX(Data_kom2,MATCH(1,(komnavn2=B15)*(komaar2=D15),0),17))","v":""},{"$f":"IF(B15=\"\",\"\",INDEX(Data_kom2,MATCH(1,(komnavn2=B15)*(komaar2=D15),0),18))","v":""},{"$f":"IF(B15=\"\",\"\",INDEX(Data_kom2,MATCH(1,(komnavn2=B15)*(komaar2=D15),0),19))","v":""},{"$f":"IF(B15=\"\",\"\",INDEX(Data_kom2,MATCH(1,(komnavn2=B15)*(komaar2=D15),0),20))","v":""},{"$f":"IF(B15=\"\",\"\",INDEX(Data_kom2,MATCH(1,(komnavn2=B15)*(komaar2=D15),0),21))","v":""},{"$f":"IF(B15=\"\",\"\",INDEX(Data_kom2,MATCH(1,(komnavn2=B15)*(komaar2=D15),0),22))","v":""},{"$f":"IF(B15=\"\",\"\",INDEX(Data_kom2,MATCH(1,(komnavn2=B15)*(komaar2=D15),0),23))","v":""},{"$f":"IF(B15=\"\",\"\",INDEX(Data_kom2,MATCH(1,(komnavn2=B15)*(komaar2=D15),0),24))","v":""},{"$f":"IF(B15=\"\",\"\",INDEX(Data_kom2,MATCH(1,(komnavn2=B15)*(komaar2=D15),0),25))","v":""},{"$f":"IF(B15=\"\",\"\",INDEX(Data_kom2,MATCH(1,(komnavn2=B15)*(komaar2=D15),0),26))","v":""},{"$f":"IF(B15=\"\",\"\",INDEX(Data_kom2,MATCH(1,(komnavn2=B15)*(komaar2=D15),0),27))","v":""},{"$f":"IF(B15=\"\",\"\",INDEX(Data_kom2,MATCH(1,(komnavn2=B15)*(komaar2=D15),0),28))","v":""},{"$f":"IF(B15=\"\",\"\",INDEX(Data_kom2,MATCH(1,(komnavn2=B15)*(komaar2=D15),0),29))","v":""},{"$f":"IF(B15=\"\",\"\",INDEX(Data_kom2,MATCH(1,(komnavn2=B15)*(komaar2=D15),0),30))","v":""},{"$f":"IF(B15=\"\",\"\",INDEX(Data_kom2,MATCH(1,(komnavn2=B15)*(komaar2=D15),0),31))","v":""},{"$f":"IF(B15=\"\",\"\",INDEX(Data_kom2,MATCH(1,(komnavn2=B15)*(komaar2=D15),0),32))","v":""},{"$f":"IF(B15=\"\",\"\",INDEX(Data_kom2,MATCH(1,(komnavn2=B15)*(komaar2=D15),0),33))","v":""},{"$f":"IF(B15=\"\",\"\",INDEX(Data_kom2,MATCH(1,(komnavn2=B15)*(komaar2=D15),0),34))","v":""},{"$f":"IF(B15=\"\",\"\",INDEX(Data_kom2,MATCH(1,(komnavn2=B15)*(komaar2=D15),0),35))","v":""},{"$f":"IF(B15=\"\",\"\",INDEX(Data_kom2,MATCH(1,(komnavn2=B15)*(komaar2=D15),0),36))","v":""},{"$f":"IF(B15=\"\",\"\",INDEX(Data_kom2,MATCH(1,(komnavn2=B15)*(komaar2=D15),0),37))","v":""},{"$f":"IF(B15=\"\",\"\",INDEX(Data_kom2,MATCH(1,(komnavn2=B15)*(komaar2=D15),0),38))","v":""}]
[null,{"$f":"'Dine valg'!$G$26","v":""},{"$f":"IF(B16=\"\",\"\",INDEX(Data_kom2,MATCH(1,(komnavn2=B16)*(komaar2=D16),0),2))","v":""},"2022-07-01",{"$f":"IF(B16=\"\",\"\",INDEX(Data_kom2,MATCH(1,(komnavn2=B16)*(komaar2=D16),0),4))","v":""},{"$f":"IF(B16=\"\",\"\",INDEX(Data_kom2,MATCH(1,(komnavn2=B16)*(komaar2=D16),0),5))","v":""},{"$f":"IF(B16=\"\",\"\",INDEX(Data_kom2,MATCH(1,(komnavn2=B16)*(komaar2=D16),0),6))","v":""},{"$f":"IF(B16=\"\",\"\",INDEX(Data_kom2,MATCH(1,(komnavn2=B16)*(komaar2=D16),0),7))","v":""},{"$f":"IF(B16=\"\",\"\",INDEX(Data_kom2,MATCH(1,(komnavn2=B16)*(komaar2=D16),0),8))","v":""},{"$f":"IF(B16=\"\",\"\",INDEX(Data_kom2,MATCH(1,(komnavn2=B16)*(komaar2=D16),0),9))","v":""},{"$f":"IF(B16=\"\",\"\",INDEX(Data_kom2,MATCH(1,(komnavn2=B16)*(komaar2=D16),0),10))","v":""},{"$f":"IF(B16=\"\",\"\",INDEX(Data_kom2,MATCH(1,(komnavn2=B16)*(komaar2=D16),0),11))","v":""},{"$f":"IF(B16=\"\",\"\",INDEX(Data_kom2,MATCH(1,(komnavn2=B16)*(komaar2=D16),0),12))","v":""},{"$f":"IF(B16=\"\",\"\",INDEX(Data_kom2,MATCH(1,(komnavn2=B16)*(komaar2=D16),0),13))","v":""},{"$f":"IF(B16=\"\",\"\",INDEX(Data_kom2,MATCH(1,(komnavn2=B16)*(komaar2=D16),0),14))","v":""},{"$f":"IF(B16=\"\",\"\",INDEX(Data_kom2,MATCH(1,(komnavn2=B16)*(komaar2=D16),0),15))","v":""},{"$f":"IF(B16=\"\",\"\",INDEX(Data_kom2,MATCH(1,(komnavn2=B16)*(komaar2=D16),0),16))","v":""},{"$f":"IF(B16=\"\",\"\",INDEX(Data_kom2,MATCH(1,(komnavn2=B16)*(komaar2=D16),0),17))","v":""},{"$f":"IF(B16=\"\",\"\",INDEX(Data_kom2,MATCH(1,(komnavn2=B16)*(komaar2=D16),0),18))","v":""},{"$f":"IF(B16=\"\",\"\",INDEX(Data_kom2,MATCH(1,(komnavn2=B16)*(komaar2=D16),0),19))","v":""},{"$f":"IF(B16=\"\",\"\",INDEX(Data_kom2,MATCH(1,(komnavn2=B16)*(komaar2=D16),0),20))","v":""},{"$f":"IF(B16=\"\",\"\",INDEX(Data_kom2,MATCH(1,(komnavn2=B16)*(komaar2=D16),0),21))","v":""},{"$f":"IF(B16=\"\",\"\",INDEX(Data_kom2,MATCH(1,(komnavn2=B16)*(komaar2=D16),0),22))","v":""},{"$f":"IF(B16=\"\",\"\",INDEX(Data_kom2,MATCH(1,(komnavn2=B16)*(komaar2=D16),0),23))","v":""},{"$f":"IF(B16=\"\",\"\",INDEX(Data_kom2,MATCH(1,(komnavn2=B16)*(komaar2=D16),0),24))","v":""},{"$f":"IF(B16=\"\",\"\",INDEX(Data_kom2,MATCH(1,(komnavn2=B16)*(komaar2=D16),0),25))","v":""},{"$f":"IF(B16=\"\",\"\",INDEX(Data_kom2,MATCH(1,(komnavn2=B16)*(komaar2=D16),0),26))","v":""},{"$f":"IF(B16=\"\",\"\",INDEX(Data_kom2,MATCH(1,(komnavn2=B16)*(komaar2=D16),0),27))","v":""},{"$f":"IF(B16=\"\",\"\",INDEX(Data_kom2,MATCH(1,(komnavn2=B16)*(komaar2=D16),0),28))","v":""},{"$f":"IF(B16=\"\",\"\",INDEX(Data_kom2,MATCH(1,(komnavn2=B16)*(komaar2=D16),0),29))","v":""},{"$f":"IF(B16=\"\",\"\",INDEX(Data_kom2,MATCH(1,(komnavn2=B16)*(komaar2=D16),0),30))","v":""},{"$f":"IF(B16=\"\",\"\",INDEX(Data_kom2,MATCH(1,(komnavn2=B16)*(komaar2=D16),0),31))","v":""},{"$f":"IF(B16=\"\",\"\",INDEX(Data_kom2,MATCH(1,(komnavn2=B16)*(komaar2=D16),0),32))","v":""},{"$f":"IF(B16=\"\",\"\",INDEX(Data_kom2,MATCH(1,(komnavn2=B16)*(komaar2=D16),0),33))","v":""},{"$f":"IF(B16=\"\",\"\",INDEX(Data_kom2,MATCH(1,(komnavn2=B16)*(komaar2=D16),0),34))","v":""},{"$f":"IF(B16=\"\",\"\",INDEX(Data_kom2,MATCH(1,(komnavn2=B16)*(komaar2=D16),0),35))","v":""},{"$f":"IF(B16=\"\",\"\",INDEX(Data_kom2,MATCH(1,(komnavn2=B16)*(komaar2=D16),0),36))","v":""},{"$f":"IF(B16=\"\",\"\",INDEX(Data_kom2,MATCH(1,(komnavn2=B16)*(komaar2=D16),0),37))","v":""},{"$f":"IF(B16=\"\",\"\",INDEX(Data_kom2,MATCH(1,(komnavn2=B16)*(komaar2=D16),0),38))","v":""}]
[null,{"$f":"'Dine valg'!$G$27","v":""},{"$f":"IF(B17=\"\",\"\",INDEX(Data_kom2,MATCH(1,(komnavn2=B17)*(komaar2=D17),0),2))","v":""},"2022-07-01",{"$f":"IF(B17=\"\",\"\",INDEX(Data_kom2,MATCH(1,(komnavn2=B17)*(komaar2=D17),0),4))","v":""},{"$f":"IF(B17=\"\",\"\",INDEX(Data_kom2,MATCH(1,(komnavn2=B17)*(komaar2=D17),0),5))","v":""},{"$f":"IF(B17=\"\",\"\",INDEX(Data_kom2,MATCH(1,(komnavn2=B17)*(komaar2=D17),0),6))","v":""},{"$f":"IF(B17=\"\",\"\",INDEX(Data_kom2,MATCH(1,(komnavn2=B17)*(komaar2=D17),0),7))","v":""},{"$f":"IF(B17=\"\",\"\",INDEX(Data_kom2,MATCH(1,(komnavn2=B17)*(komaar2=D17),0),8))","v":""},{"$f":"IF(B17=\"\",\"\",INDEX(Data_kom2,MATCH(1,(komnavn2=B17)*(komaar2=D17),0),9))","v":""},{"$f":"IF(B17=\"\",\"\",INDEX(Data_kom2,MATCH(1,(komnavn2=B17)*(komaar2=D17),0),10))","v":""},{"$f":"IF(B17=\"\",\"\",INDEX(Data_kom2,MATCH(1,(komnavn2=B17)*(komaar2=D17),0),11))","v":""},{"$f":"IF(B17=\"\",\"\",INDEX(Data_kom2,MATCH(1,(komnavn2=B17)*(komaar2=D17),0),12))","v":""},{"$f":"IF(B17=\"\",\"\",INDEX(Data_kom2,MATCH(1,(komnavn2=B17)*(komaar2=D17),0),13))","v":""},{"$f":"IF(B17=\"\",\"\",INDEX(Data_kom2,MATCH(1,(komnavn2=B17)*(komaar2=D17),0),14))","v":""},{"$f":"IF(B17=\"\",\"\",INDEX(Data_kom2,MATCH(1,(komnavn2=B17)*(komaar2=D17),0),15))","v":""},{"$f":"IF(B17=\"\",\"\",INDEX(Data_kom2,MATCH(1,(komnavn2=B17)*(komaar2=D17),0),16))","v":""},{"$f":"IF(B17=\"\",\"\",INDEX(Data_kom2,MATCH(1,(komnavn2=B17)*(komaar2=D17),0),17))","v":""},{"$f":"IF(B17=\"\",\"\",INDEX(Data_kom2,MATCH(1,(komnavn2=B17)*(komaar2=D17),0),18))","v":""},{"$f":"IF(B17=\"\",\"\",INDEX(Data_kom2,MATCH(1,(komnavn2=B17)*(komaar2=D17),0),19))","v":""},{"$f":"IF(B17=\"\",\"\",INDEX(Data_kom2,MATCH(1,(komnavn2=B17)*(komaar2=D17),0),20))","v":""},{"$f":"IF(B17=\"\",\"\",INDEX(Data_kom2,MATCH(1,(komnavn2=B17)*(komaar2=D17),0),21))","v":""},{"$f":"IF(B17=\"\",\"\",INDEX(Data_kom2,MATCH(1,(komnavn2=B17)*(komaar2=D17),0),22))","v":""},{"$f":"IF(B17=\"\",\"\",INDEX(Data_kom2,MATCH(1,(komnavn2=B17)*(komaar2=D17),0),23))","v":""},{"$f":"IF(B17=\"\",\"\",INDEX(Data_kom2,MATCH(1,(komnavn2=B17)*(komaar2=D17),0),24))","v":""},{"$f":"IF(B17=\"\",\"\",INDEX(Data_kom2,MATCH(1,(komnavn2=B17)*(komaar2=D17),0),25))","v":""},{"$f":"IF(B17=\"\",\"\",INDEX(Data_kom2,MATCH(1,(komnavn2=B17)*(komaar2=D17),0),26))","v":""},{"$f":"IF(B17=\"\",\"\",INDEX(Data_kom2,MATCH(1,(komnavn2=B17)*(komaar2=D17),0),27))","v":""},{"$f":"IF(B17=\"\",\"\",INDEX(Data_kom2,MATCH(1,(komnavn2=B17)*(komaar2=D17),0),28))","v":""},{"$f":"IF(B17=\"\",\"\",INDEX(Data_kom2,MATCH(1,(komnavn2=B17)*(komaar2=D17),0),29))","v":""},{"$f":"IF(B17=\"\",\"\",INDEX(Data_kom2,MATCH(1,(komnavn2=B17)*(komaar2=D17),0),30))","v":""},{"$f":"IF(B17=\"\",\"\",INDEX(Data_kom2,MATCH(1,(komnavn2=B17)*(komaar2=D17),0),31))","v":""},{"$f":"IF(B17=\"\",\"\",INDEX(Data_kom2,MATCH(1,(komnavn2=B17)*(komaar2=D17),0),32))","v":""},{"$f":"IF(B17=\"\",\"\",INDEX(Data_kom2,MATCH(1,(komnavn2=B17)*(komaar2=D17),0),33))","v":""},{"$f":"IF(B17=\"\",\"\",INDEX(Data_kom2,MATCH(1,(komnavn2=B17)*(komaar2=D17),0),34))","v":""},{"$f":"IF(B17=\"\",\"\",INDEX(Data_kom2,MATCH(1,(komnavn2=B17)*(komaar2=D17),0),35))","v":""},{"$f":"IF(B17=\"\",\"\",INDEX(Data_kom2,MATCH(1,(komnavn2=B17)*(komaar2=D17),0),36))","v":""},{"$f":"IF(B17=\"\",\"\",INDEX(Data_kom2,MATCH(1,(komnavn2=B17)*(komaar2=D17),0),37))","v":""},{"$f":"IF(B17=\"\",\"\",INDEX(Data_kom2,MATCH(1,(komnavn2=B17)*(komaar2=D17),0),38))","v":""}]
[null,{"$f":"'Dine valg'!$G$28","v":""},{"$f":"IF(B18=\"\",\"\",INDEX(Data_kom2,MATCH(1,(komnavn2=B18)*(komaar2=D18),0),2))","v":""},"2022-07-01",{"$f":"IF(B18=\"\",\"\",INDEX(Data_kom2,MATCH(1,(komnavn2=B18)*(komaar2=D18),0),4))","v":""},{"$f":"IF(B18=\"\",\"\",INDEX(Data_kom2,MATCH(1,(komnavn2=B18)*(komaar2=D18),0),5))","v":""},{"$f":"IF(B18=\"\",\"\",INDEX(Data_kom2,MATCH(1,(komnavn2=B18)*(komaar2=D18),0),6))","v":""},{"$f":"IF(B18=\"\",\"\",INDEX(Data_kom2,MATCH(1,(komnavn2=B18)*(komaar2=D18),0),7))","v":""},{"$f":"IF(B18=\"\",\"\",INDEX(Data_kom2,MATCH(1,(komnavn2=B18)*(komaar2=D18),0),8))","v":""},{"$f":"IF(B18=\"\",\"\",INDEX(Data_kom2,MATCH(1,(komnavn2=B18)*(komaar2=D18),0),9))","v":""},{"$f":"IF(B18=\"\",\"\",INDEX(Data_kom2,MATCH(1,(komnavn2=B18)*(komaar2=D18),0),10))","v":""},{"$f":"IF(B18=\"\",\"\",INDEX(Data_kom2,MATCH(1,(komnavn2=B18)*(komaar2=D18),0),11))","v":""},{"$f":"IF(B18=\"\",\"\",INDEX(Data_kom2,MATCH(1,(komnavn2=B18)*(komaar2=D18),0),12))","v":""},{"$f":"IF(B18=\"\",\"\",INDEX(Data_kom2,MATCH(1,(komnavn2=B18)*(komaar2=D18),0),13))","v":""},{"$f":"IF(B18=\"\",\"\",INDEX(Data_kom2,MATCH(1,(komnavn2=B18)*(komaar2=D18),0),14))","v":""},{"$f":"IF(B18=\"\",\"\",INDEX(Data_kom2,MATCH(1,(komnavn2=B18)*(komaar2=D18),0),15))","v":""},{"$f":"IF(B18=\"\",\"\",INDEX(Data_kom2,MATCH(1,(komnavn2=B18)*(komaar2=D18),0),16))","v":""},{"$f":"IF(B18=\"\",\"\",INDEX(Data_kom2,MATCH(1,(komnavn2=B18)*(komaar2=D18),0),17))","v":""},{"$f":"IF(B18=\"\",\"\",INDEX(Data_kom2,MATCH(1,(komnavn2=B18)*(komaar2=D18),0),18))","v":""},{"$f":"IF(B18=\"\",\"\",INDEX(Data_kom2,MATCH(1,(komnavn2=B18)*(komaar2=D18),0),19))","v":""},{"$f":"IF(B18=\"\",\"\",INDEX(Data_kom2,MATCH(1,(komnavn2=B18)*(komaar2=D18),0),20))","v":""},{"$f":"IF(B18=\"\",\"\",INDEX(Data_kom2,MATCH(1,(komnavn2=B18)*(komaar2=D18),0),21))","v":""},{"$f":"IF(B18=\"\",\"\",INDEX(Data_kom2,MATCH(1,(komnavn2=B18)*(komaar2=D18),0),22))","v":""},{"$f":"IF(B18=\"\",\"\",INDEX(Data_kom2,MATCH(1,(komnavn2=B18)*(komaar2=D18),0),23))","v":""},{"$f":"IF(B18=\"\",\"\",INDEX(Data_kom2,MATCH(1,(komnavn2=B18)*(komaar2=D18),0),24))","v":""},{"$f":"IF(B18=\"\",\"\",INDEX(Data_kom2,MATCH(1,(komnavn2=B18)*(komaar2=D18),0),25))","v":""},{"$f":"IF(B18=\"\",\"\",INDEX(Data_kom2,MATCH(1,(komnavn2=B18)*(komaar2=D18),0),26))","v":""},{"$f":"IF(B18=\"\",\"\",INDEX(Data_kom2,MATCH(1,(komnavn2=B18)*(komaar2=D18),0),27))","v":""},{"$f":"IF(B18=\"\",\"\",INDEX(Data_kom2,MATCH(1,(komnavn2=B18)*(komaar2=D18),0),28))","v":""},{"$f":"IF(B18=\"\",\"\",INDEX(Data_kom2,MATCH(1,(komnavn2=B18)*(komaar2=D18),0),29))","v":""},{"$f":"IF(B18=\"\",\"\",INDEX(Data_kom2,MATCH(1,(komnavn2=B18)*(komaar2=D18),0),30))","v":""},{"$f":"IF(B18=\"\",\"\",INDEX(Data_kom2,MATCH(1,(komnavn2=B18)*(komaar2=D18),0),31))","v":""},{"$f":"IF(B18=\"\",\"\",INDEX(Data_kom2,MATCH(1,(komnavn2=B18)*(komaar2=D18),0),32))","v":""},{"$f":"IF(B18=\"\",\"\",INDEX(Data_kom2,MATCH(1,(komnavn2=B18)*(komaar2=D18),0),33))","v":""},{"$f":"IF(B18=\"\",\"\",INDEX(Data_kom2,MATCH(1,(komnavn2=B18)*(komaar2=D18),0),34))","v":""},{"$f":"IF(B18=\"\",\"\",INDEX(Data_kom2,MATCH(1,(komnavn2=B18)*(komaar2=D18),0),35))","v":""},{"$f":"IF(B18=\"\",\"\",INDEX(Data_kom2,MATCH(1,(komnavn2=B18)*(komaar2=D18),0),36))","v":""},{"$f":"IF(B18=\"\",\"\",INDEX(Data_kom2,MATCH(1,(komnavn2=B18)*(komaar2=D18),0),37))","v":""},{"$f":"IF(B18=\"\",\"\",INDEX(Data_kom2,MATCH(1,(komnavn2=B18)*(komaar2=D18),0),38))","v":""}]
[null,{"$f":"'Dine valg'!$G$29","v":""},{"$f":"IF(B19=\"\",\"\",INDEX(Data_kom2,MATCH(1,(komnavn2=B19)*(komaar2=D19),0),2))","v":""},"2022-07-01",{"$f":"IF(B19=\"\",\"\",INDEX(Data_kom2,MATCH(1,(komnavn2=B19)*(komaar2=D19),0),4))","v":""},{"$f":"IF(B19=\"\",\"\",INDEX(Data_kom2,MATCH(1,(komnavn2=B19)*(komaar2=D19),0),5))","v":""},{"$f":"IF(B19=\"\",\"\",INDEX(Data_kom2,MATCH(1,(komnavn2=B19)*(komaar2=D19),0),6))","v":""},{"$f":"IF(B19=\"\",\"\",INDEX(Data_kom2,MATCH(1,(komnavn2=B19)*(komaar2=D19),0),7))","v":""},{"$f":"IF(B19=\"\",\"\",INDEX(Data_kom2,MATCH(1,(komnavn2=B19)*(komaar2=D19),0),8))","v":""},{"$f":"IF(B19=\"\",\"\",INDEX(Data_kom2,MATCH(1,(komnavn2=B19)*(komaar2=D19),0),9))","v":""},{"$f":"IF(B19=\"\",\"\",INDEX(Data_kom2,MATCH(1,(komnavn2=B19)*(komaar2=D19),0),10))","v":""},{"$f":"IF(B19=\"\",\"\",INDEX(Data_kom2,MATCH(1,(komnavn2=B19)*(komaar2=D19),0),11))","v":""},{"$f":"IF(B19=\"\",\"\",INDEX(Data_kom2,MATCH(1,(komnavn2=B19)*(komaar2=D19),0),12))","v":""},{"$f":"IF(B19=\"\",\"\",INDEX(Data_kom2,MATCH(1,(komnavn2=B19)*(komaar2=D19),0),13))","v":""},{"$f":"IF(B19=\"\",\"\",INDEX(Data_kom2,MATCH(1,(komnavn2=B19)*(komaar2=D19),0),14))","v":""},{"$f":"IF(B19=\"\",\"\",INDEX(Data_kom2,MATCH(1,(komnavn2=B19)*(komaar2=D19),0),15))","v":""},{"$f":"IF(B19=\"\",\"\",INDEX(Data_kom2,MATCH(1,(komnavn2=B19)*(komaar2=D19),0),16))","v":""},{"$f":"IF(B19=\"\",\"\",INDEX(Data_kom2,MATCH(1,(komnavn2=B19)*(komaar2=D19),0),17))","v":""},{"$f":"IF(B19=\"\",\"\",INDEX(Data_kom2,MATCH(1,(komnavn2=B19)*(komaar2=D19),0),18))","v":""},{"$f":"IF(B19=\"\",\"\",INDEX(Data_kom2,MATCH(1,(komnavn2=B19)*(komaar2=D19),0),19))","v":""},{"$f":"IF(B19=\"\",\"\",INDEX(Data_kom2,MATCH(1,(komnavn2=B19)*(komaar2=D19),0),20))","v":""},{"$f":"IF(B19=\"\",\"\",INDEX(Data_kom2,MATCH(1,(komnavn2=B19)*(komaar2=D19),0),21))","v":""},{"$f":"IF(B19=\"\",\"\",INDEX(Data_kom2,MATCH(1,(komnavn2=B19)*(komaar2=D19),0),22))","v":""},{"$f":"IF(B19=\"\",\"\",INDEX(Data_kom2,MATCH(1,(komnavn2=B19)*(komaar2=D19),0),23))","v":""},{"$f":"IF(B19=\"\",\"\",INDEX(Data_kom2,MATCH(1,(komnavn2=B19)*(komaar2=D19),0),24))","v":""},{"$f":"IF(B19=\"\",\"\",INDEX(Data_kom2,MATCH(1,(komnavn2=B19)*(komaar2=D19),0),25))","v":""},{"$f":"IF(B19=\"\",\"\",INDEX(Data_kom2,MATCH(1,(komnavn2=B19)*(komaar2=D19),0),26))","v":""},{"$f":"IF(B19=\"\",\"\",INDEX(Data_kom2,MATCH(1,(komnavn2=B19)*(komaar2=D19),0),27))","v":""},{"$f":"IF(B19=\"\",\"\",INDEX(Data_kom2,MATCH(1,(komnavn2=B19)*(komaar2=D19),0),28))","v":""},{"$f":"IF(B19=\"\",\"\",INDEX(Data_kom2,MATCH(1,(komnavn2=B19)*(komaar2=D19),0),29))","v":""},{"$f":"IF(B19=\"\",\"\",INDEX(Data_kom2,MATCH(1,(komnavn2=B19)*(komaar2=D19),0),30))","v":""},{"$f":"IF(B19=\"\",\"\",INDEX(Data_kom2,MATCH(1,(komnavn2=B19)*(komaar2=D19),0),31))","v":""},{"$f":"IF(B19=\"\",\"\",INDEX(Data_kom2,MATCH(1,(komnavn2=B19)*(komaar2=D19),0),32))","v":""},{"$f":"IF(B19=\"\",\"\",INDEX(Data_kom2,MATCH(1,(komnavn2=B19)*(komaar2=D19),0),33))","v":""},{"$f":"IF(B19=\"\",\"\",INDEX(Data_kom2,MATCH(1,(komnavn2=B19)*(komaar2=D19),0),34))","v":""},{"$f":"IF(B19=\"\",\"\",INDEX(Data_kom2,MATCH(1,(komnavn2=B19)*(komaar2=D19),0),35))","v":""},{"$f":"IF(B19=\"\",\"\",INDEX(Data_kom2,MATCH(1,(komnavn2=B19)*(komaar2=D19),0),36))","v":""},{"$f":"IF(B19=\"\",\"\",INDEX(Data_kom2,MATCH(1,(komnavn2=B19)*(komaar2=D19),0),37))","v":""},{"$f":"IF(B19=\"\",\"\",INDEX(Data_kom2,MATCH(1,(komnavn2=B19)*(komaar2=D19),0),38))","v":""}]
[null,{"$f":"'Dine valg'!$G$30","v":""},{"$f":"IF(B20=\"\",\"\",INDEX(Data_kom2,MATCH(1,(komnavn2=B20)*(komaar2=D20),0),2))","v":""},"2022-07-01",{"$f":"IF(B20=\"\",\"\",INDEX(Data_kom2,MATCH(1,(komnavn2=B20)*(komaar2=D20),0),4))","v":""},{"$f":"IF(B20=\"\",\"\",INDEX(Data_kom2,MATCH(1,(komnavn2=B20)*(komaar2=D20),0),5))","v":""},{"$f":"IF(B20=\"\",\"\",INDEX(Data_kom2,MATCH(1,(komnavn2=B20)*(komaar2=D20),0),6))","v":""},{"$f":"IF(B20=\"\",\"\",INDEX(Data_kom2,MATCH(1,(komnavn2=B20)*(komaar2=D20),0),7))","v":""},{"$f":"IF(B20=\"\",\"\",INDEX(Data_kom2,MATCH(1,(komnavn2=B20)*(komaar2=D20),0),8))","v":""},{"$f":"IF(B20=\"\",\"\",INDEX(Data_kom2,MATCH(1,(komnavn2=B20)*(komaar2=D20),0),9))","v":""},{"$f":"IF(B20=\"\",\"\",INDEX(Data_kom2,MATCH(1,(komnavn2=B20)*(komaar2=D20),0),10))","v":""},{"$f":"IF(B20=\"\",\"\",INDEX(Data_kom2,MATCH(1,(komnavn2=B20)*(komaar2=D20),0),11))","v":""},{"$f":"IF(B20=\"\",\"\",INDEX(Data_kom2,MATCH(1,(komnavn2=B20)*(komaar2=D20),0),12))","v":""},{"$f":"IF(B20=\"\",\"\",INDEX(Data_kom2,MATCH(1,(komnavn2=B20)*(komaar2=D20),0),13))","v":""},{"$f":"IF(B20=\"\",\"\",INDEX(Data_kom2,MATCH(1,(komnavn2=B20)*(komaar2=D20),0),14))","v":""},{"$f":"IF(B20=\"\",\"\",INDEX(Data_kom2,MATCH(1,(komnavn2=B20)*(komaar2=D20),0),15))","v":""},{"$f":"IF(B20=\"\",\"\",INDEX(Data_kom2,MATCH(1,(komnavn2=B20)*(komaar2=D20),0),16))","v":""},{"$f":"IF(B20=\"\",\"\",INDEX(Data_kom2,MATCH(1,(komnavn2=B20)*(komaar2=D20),0),17))","v":""},{"$f":"IF(B20=\"\",\"\",INDEX(Data_kom2,MATCH(1,(komnavn2=B20)*(komaar2=D20),0),18))","v":""},{"$f":"IF(B20=\"\",\"\",INDEX(Data_kom2,MATCH(1,(komnavn2=B20)*(komaar2=D20),0),19))","v":""},{"$f":"IF(B20=\"\",\"\",INDEX(Data_kom2,MATCH(1,(komnavn2=B20)*(komaar2=D20),0),20))","v":""},{"$f":"IF(B20=\"\",\"\",INDEX(Data_kom2,MATCH(1,(komnavn2=B20)*(komaar2=D20),0),21))","v":""},{"$f":"IF(B20=\"\",\"\",INDEX(Data_kom2,MATCH(1,(komnavn2=B20)*(komaar2=D20),0),22))","v":""},{"$f":"IF(B20=\"\",\"\",INDEX(Data_kom2,MATCH(1,(komnavn2=B20)*(komaar2=D20),0),23))","v":""},{"$f":"IF(B20=\"\",\"\",INDEX(Data_kom2,MATCH(1,(komnavn2=B20)*(komaar2=D20),0),24))","v":""},{"$f":"IF(B20=\"\",\"\",INDEX(Data_kom2,MATCH(1,(komnavn2=B20)*(komaar2=D20),0),25))","v":""},{"$f":"IF(B20=\"\",\"\",INDEX(Data_kom2,MATCH(1,(komnavn2=B20)*(komaar2=D20),0),26))","v":""},{"$f":"IF(B20=\"\",\"\",INDEX(Data_kom2,MATCH(1,(komnavn2=B20)*(komaar2=D20),0),27))","v":""},{"$f":"IF(B20=\"\",\"\",INDEX(Data_kom2,MATCH(1,(komnavn2=B20)*(komaar2=D20),0),28))","v":""},{"$f":"IF(B20=\"\",\"\",INDEX(Data_kom2,MATCH(1,(komnavn2=B20)*(komaar2=D20),0),29))","v":""},{"$f":"IF(B20=\"\",\"\",INDEX(Data_kom2,MATCH(1,(komnavn2=B20)*(komaar2=D20),0),30))","v":""},{"$f":"IF(B20=\"\",\"\",INDEX(Data_kom2,MATCH(1,(komnavn2=B20)*(komaar2=D20),0),31))","v":""},{"$f":"IF(B20=\"\",\"\",INDEX(Data_kom2,MATCH(1,(komnavn2=B20)*(komaar2=D20),0),32))","v":""},{"$f":"IF(B20=\"\",\"\",INDEX(Data_kom2,MATCH(1,(komnavn2=B20)*(komaar2=D20),0),33))","v":""},{"$f":"IF(B20=\"\",\"\",INDEX(Data_kom2,MATCH(1,(komnavn2=B20)*(komaar2=D20),0),34))","v":""},{"$f":"IF(B20=\"\",\"\",INDEX(Data_kom2,MATCH(1,(komnavn2=B20)*(komaar2=D20),0),35))","v":""},{"$f":"IF(B20=\"\",\"\",INDEX(Data_kom2,MATCH(1,(komnavn2=B20)*(komaar2=D20),0),36))","v":""},{"$f":"IF(B20=\"\",\"\",INDEX(Data_kom2,MATCH(1,(komnavn2=B20)*(komaar2=D20),0),37))","v":""},{"$f":"IF(B20=\"\",\"\",INDEX(Data_kom2,MATCH(1,(komnavn2=B20)*(komaar2=D20),0),38))","v":""}]
[null,{"$f":"'Dine valg'!$G$24","v":"Aarhus"},{"$f":"IF(B21=\"\",\"\",INDEX(Data_kom2,MATCH(1,(komnavn2=B21)*(komaar2=D21),0),2))","v":64049},"2022-01-01",{"$f":"IF(B21=\"\",\"\",INDEX(Data_kom2,MATCH(1,(komnavn2=B21)*(komaar2=D21),0),4))","v":161},{"$f":"IF(B21=\"\",\"\",INDEX(Data_kom2,MATCH(1,(komnavn2=B21)*(komaar2=D21),0),5))","v":109},{"$f":"IF(B21=\"\",\"\",INDEX(Data_kom2,MATCH(1,(komnavn2=B21)*(komaar2=D21),0),6))","v":14},{"$f":"IF(B21=\"\",\"\",INDEX(Data_kom2,MATCH(1,(komnavn2=B21)*(komaar2=D21),0),7))","v":38},{"$f":"IF(B21=\"\",\"\",INDEX(Data_kom2,MATCH(1,(komnavn2=B21)*(komaar2=D21),0),8))","v":176903},{"$f":"IF(B21=\"\",\"\",INDEX(Data_kom2,MATCH(1,(komnavn2=B21)*(komaar2=D21),0),9))","v":153357},{"$f":"IF(B21=\"\",\"\",INDEX(Data_kom2,MATCH(1,(komnavn2=B21)*(komaar2=D21),0),10))","v":3724},{"$f":"IF(B21=\"\",\"\",INDEX(Data_kom2,MATCH(1,(komnavn2=B21)*(komaar2=D21),0),11))","v":19822},{"$f":"IF(B21=\"\",\"\",INDEX(Data_kom2,MATCH(1,(komnavn2=B21)*(komaar2=D21),0),12))","v":214},{"$f":"IF(B21=\"\",\"\",INDEX(Data_kom2,MATCH(1,(komnavn2=B21)*(komaar2=D21),0),13))","v":22},{"$f":"IF(B21=\"\",\"\",INDEX(Data_kom2,MATCH(1,(komnavn2=B21)*(komaar2=D21),0),14))","v":1147},{"$f":"IF(B21=\"\",\"\",INDEX(Data_kom2,MATCH(1,(komnavn2=B21)*(komaar2=D21),0),15))","v":"*"},{"$f":"IF(B21=\"\",\"\",INDEX(Data_kom2,MATCH(1,(komnavn2=B21)*(komaar2=D21),0),16))","v":"*"},{"$f":"IF(B21=\"\",\"\",INDEX(Data_kom2,MATCH(1,(komnavn2=B21)*(komaar2=D21),0),17))","v":1129},{"$f":"IF(B21=\"\",\"\",INDEX(Data_kom2,MATCH(1,(komnavn2=B21)*(komaar2=D21),0),18))","v":15},{"$f":"IF(B21=\"\",\"\",INDEX(Data_kom2,MATCH(1,(komnavn2=B21)*(komaar2=D21),0),19))","v":0},{"$f":"IF(B21=\"\",\"\",INDEX(Data_kom2,MATCH(1,(komnavn2=B21)*(komaar2=D21),0),20))","v":0},{"$f":"IF(B21=\"\",\"\",INDEX(Data_kom2,MATCH(1,(komnavn2=B21)*(komaar2=D21),0),21))","v":0},{"$f":"IF(B21=\"\",\"\",INDEX(Data_kom2,MATCH(1,(komnavn2=B21)*(komaar2=D21),0),22))","v":39},{"$f":"IF(B21=\"\",\"\",INDEX(Data_kom2,MATCH(1,(komnavn2=B21)*(komaar2=D21),0),23))","v":175},{"$f":"IF(B21=\"\",\"\",INDEX(Data_kom2,MATCH(1,(komnavn2=B21)*(komaar2=D21),0),24))","v":0},{"$f":"IF(B21=\"\",\"\",INDEX(Data_kom2,MATCH(1,(komnavn2=B21)*(komaar2=D21),0),25))","v":175},{"$f":"IF(B21=\"\",\"\",INDEX(Data_kom2,MATCH(1,(komnavn2=B21)*(komaar2=D21),0),26))","v":0},{"$f":"IF(B21=\"\",\"\",INDEX(Data_kom2,MATCH(1,(komnavn2=B21)*(komaar2=D21),0),27))","v":175},{"$f":"IF(B21=\"\",\"\",INDEX(Data_kom2,MATCH(1,(komnavn2=B21)*(komaar2=D21),0),28))","v":19},{"$f":"IF(B21=\"\",\"\",INDEX(Data_kom2,MATCH(1,(komnavn2=B21)*(komaar2=D21),0),29))","v":1221},{"$f":"IF(B21=\"\",\"\",INDEX(Data_kom2,MATCH(1,(komnavn2=B21)*(komaar2=D21),0),30))","v":366},{"$f":"IF(B21=\"\",\"\",INDEX(Data_kom2,MATCH(1,(komnavn2=B21)*(komaar2=D21),0),31))","v":1224},{"$f":"IF(B21=\"\",\"\",INDEX(Data_kom2,MATCH(1,(komnavn2=B21)*(komaar2=D21),0),32))","v":0},{"$f":"IF(B21=\"\",\"\",INDEX(Data_kom2,MATCH(1,(komnavn2=B21)*(komaar2=D21),0),33))","v":0},{"$f":"IF(B21=\"\",\"\",INDEX(Data_kom2,MATCH(1,(komnavn2=B21)*(komaar2=D21),0),34))","v":0},{"$f":"IF(B21=\"\",\"\",INDEX(Data_kom2,MATCH(1,(komnavn2=B21)*(komaar2=D21),0),35))","v":0},{"$f":"IF(B21=\"\",\"\",INDEX(Data_kom2,MATCH(1,(komnavn2=B21)*(komaar2=D21),0),36))","v":0},{"$f":"IF(B21=\"\",\"\",INDEX(Data_kom2,MATCH(1,(komnavn2=B21)*(komaar2=D21),0),37))","v":0},{"$f":"IF(B21=\"\",\"\",INDEX(Data_kom2,MATCH(1,(komnavn2=B21)*(komaar2=D21),0),38))","v":"Region Midtjylland"}]
[null,{"$f":"'Dine valg'!$G$25","v":""},{"$f":"IF(B22=\"\",\"\",INDEX(Data_kom2,MATCH(1,(komnavn2=B22)*(komaar2=D22),0),2))","v":""},"2022-01-01",{"$f":"IF(B22=\"\",\"\",INDEX(Data_kom2,MATCH(1,(komnavn2=B22)*(komaar2=D22),0),4))","v":""},{"$f":"IF(B22=\"\",\"\",INDEX(Data_kom2,MATCH(1,(komnavn2=B22)*(komaar2=D22),0),5))","v":""},{"$f":"IF(B22=\"\",\"\",INDEX(Data_kom2,MATCH(1,(komnavn2=B22)*(komaar2=D22),0),6))","v":""},{"$f":"IF(B22=\"\",\"\",INDEX(Data_kom2,MATCH(1,(komnavn2=B22)*(komaar2=D22),0),7))","v":""},{"$f":"IF(B22=\"\",\"\",INDEX(Data_kom2,MATCH(1,(komnavn2=B22)*(komaar2=D22),0),8))","v":""},{"$f":"IF(B22=\"\",\"\",INDEX(Data_kom2,MATCH(1,(komnavn2=B22)*(komaar2=D22),0),9))","v":""},{"$f":"IF(B22=\"\",\"\",INDEX(Data_kom2,MATCH(1,(komnavn2=B22)*(komaar2=D22),0),10))","v":""},{"$f":"IF(B22=\"\",\"\",INDEX(Data_kom2,MATCH(1,(komnavn2=B22)*(komaar2=D22),0),11))","v":""},{"$f":"IF(B22=\"\",\"\",INDEX(Data_kom2,MATCH(1,(komnavn2=B22)*(komaar2=D22),0),12))","v":""},{"$f":"IF(B22=\"\",\"\",INDEX(Data_kom2,MATCH(1,(komnavn2=B22)*(komaar2=D22),0),13))","v":""},{"$f":"IF(B22=\"\",\"\",INDEX(Data_kom2,MATCH(1,(komnavn2=B22)*(komaar2=D22),0),14))","v":""},{"$f":"IF(B22=\"\",\"\",INDEX(Data_kom2,MATCH(1,(komnavn2=B22)*(komaar2=D22),0),15))","v":""},{"$f":"IF(B22=\"\",\"\",INDEX(Data_kom2,MATCH(1,(komnavn2=B22)*(komaar2=D22),0),16))","v":""},{"$f":"IF(B22=\"\",\"\",INDEX(Data_kom2,MATCH(1,(komnavn2=B22)*(komaar2=D22),0),17))","v":""},{"$f":"IF(B22=\"\",\"\",INDEX(Data_kom2,MATCH(1,(komnavn2=B22)*(komaar2=D22),0),18))","v":""},{"$f":"IF(B22=\"\",\"\",INDEX(Data_kom2,MATCH(1,(komnavn2=B22)*(komaar2=D22),0),19))","v":""},{"$f":"IF(B22=\"\",\"\",INDEX(Data_kom2,MATCH(1,(komnavn2=B22)*(komaar2=D22),0),20))","v":""},{"$f":"IF(B22=\"\",\"\",INDEX(Data_kom2,MATCH(1,(komnavn2=B22)*(komaar2=D22),0),21))","v":""},{"$f":"IF(B22=\"\",\"\",INDEX(Data_kom2,MATCH(1,(komnavn2=B22)*(komaar2=D22),0),22))","v":""},{"$f":"IF(B22=\"\",\"\",INDEX(Data_kom2,MATCH(1,(komnavn2=B22)*(komaar2=D22),0),23))","v":""},{"$f":"IF(B22=\"\",\"\",INDEX(Data_kom2,MATCH(1,(komnavn2=B22)*(komaar2=D22),0),24))","v":""},{"$f":"IF(B22=\"\",\"\",INDEX(Data_kom2,MATCH(1,(komnavn2=B22)*(komaar2=D22),0),25))","v":""},{"$f":"IF(B22=\"\",\"\",INDEX(Data_kom2,MATCH(1,(komnavn2=B22)*(komaar2=D22),0),26))","v":""},{"$f":"IF(B22=\"\",\"\",INDEX(Data_kom2,MATCH(1,(komnavn2=B22)*(komaar2=D22),0),27))","v":""},{"$f":"IF(B22=\"\",\"\",INDEX(Data_kom2,MATCH(1,(komnavn2=B22)*(komaar2=D22),0),28))","v":""},{"$f":"IF(B22=\"\",\"\",INDEX(Data_kom2,MATCH(1,(komnavn2=B22)*(komaar2=D22),0),29))","v":""},{"$f":"IF(B22=\"\",\"\",INDEX(Data_kom2,MATCH(1,(komnavn2=B22)*(komaar2=D22),0),30))","v":""},{"$f":"IF(B22=\"\",\"\",INDEX(Data_kom2,MATCH(1,(komnavn2=B22)*(komaar2=D22),0),31))","v":""},{"$f":"IF(B22=\"\",\"\",INDEX(Data_kom2,MATCH(1,(komnavn2=B22)*(komaar2=D22),0),32))","v":""},{"$f":"IF(B22=\"\",\"\",INDEX(Data_kom2,MATCH(1,(komnavn2=B22)*(komaar2=D22),0),33))","v":""},{"$f":"IF(B22=\"\",\"\",INDEX(Data_kom2,MATCH(1,(komnavn2=B22)*(komaar2=D22),0),34))","v":""},{"$f":"IF(B22=\"\",\"\",INDEX(Data_kom2,MATCH(1,(komnavn2=B22)*(komaar2=D22),0),35))","v":""},{"$f":"IF(B22=\"\",\"\",INDEX(Data_kom2,MATCH(1,(komnavn2=B22)*(komaar2=D22),0),36))","v":""},{"$f":"IF(B22=\"\",\"\",INDEX(Data_kom2,MATCH(1,(komnavn2=B22)*(komaar2=D22),0),37))","v":""},{"$f":"IF(B22=\"\",\"\",INDEX(Data_kom2,MATCH(1,(komnavn2=B22)*(komaar2=D22),0),38))","v":""}]
[null,{"$f":"'Dine valg'!$G$26","v":""},{"$f":"IF(B23=\"\",\"\",INDEX(Data_kom2,MATCH(1,(komnavn2=B23)*(komaar2=D23),0),2))","v":""},"2022-01-01",{"$f":"IF(B23=\"\",\"\",INDEX(Data_kom2,MATCH(1,(komnavn2=B23)*(komaar2=D23),0),4))","v":""},{"$f":"IF(B23=\"\",\"\",INDEX(Data_kom2,MATCH(1,(komnavn2=B23)*(komaar2=D23),0),5))","v":""},{"$f":"IF(B23=\"\",\"\",INDEX(Data_kom2,MATCH(1,(komnavn2=B23)*(komaar2=D23),0),6))","v":""},{"$f":"IF(B23=\"\",\"\",INDEX(Data_kom2,MATCH(1,(komnavn2=B23)*(komaar2=D23),0),7))","v":""},{"$f":"IF(B23=\"\",\"\",INDEX(Data_kom2,MATCH(1,(komnavn2=B23)*(komaar2=D23),0),8))","v":""},{"$f":"IF(B23=\"\",\"\",INDEX(Data_kom2,MATCH(1,(komnavn2=B23)*(komaar2=D23),0),9))","v":""},{"$f":"IF(B23=\"\",\"\",INDEX(Data_kom2,MATCH(1,(komnavn2=B23)*(komaar2=D23),0),10))","v":""},{"$f":"IF(B23=\"\",\"\",INDEX(Data_kom2,MATCH(1,(komnavn2=B23)*(komaar2=D23),0),11))","v":""},{"$f":"IF(B23=\"\",\"\",INDEX(Data_kom2,MATCH(1,(komnavn2=B23)*(komaar2=D23),0),12))","v":""},{"$f":"IF(B23=\"\",\"\",INDEX(Data_kom2,MATCH(1,(komnavn2=B23)*(komaar2=D23),0),13))","v":""},{"$f":"IF(B23=\"\",\"\",INDEX(Data_kom2,MATCH(1,(komnavn2=B23)*(komaar2=D23),0),14))","v":""},{"$f":"IF(B23=\"\",\"\",INDEX(Data_kom2,MATCH(1,(komnavn2=B23)*(komaar2=D23),0),15))","v":""},{"$f":"IF(B23=\"\",\"\",INDEX(Data_kom2,MATCH(1,(komnavn2=B23)*(komaar2=D23),0),16))","v":""},{"$f":"IF(B23=\"\",\"\",INDEX(Data_kom2,MATCH(1,(komnavn2=B23)*(komaar2=D23),0),17))","v":""},{"$f":"IF(B23=\"\",\"\",INDEX(Data_kom2,MATCH(1,(komnavn2=B23)*(komaar2=D23),0),18))","v":""},{"$f":"IF(B23=\"\",\"\",INDEX(Data_kom2,MATCH(1,(komnavn2=B23)*(komaar2=D23),0),19))","v":""},{"$f":"IF(B23=\"\",\"\",INDEX(Data_kom2,MATCH(1,(komnavn2=B23)*(komaar2=D23),0),20))","v":""},{"$f":"IF(B23=\"\",\"\",INDEX(Data_kom2,MATCH(1,(komnavn2=B23)*(komaar2=D23),0),21))","v":""},{"$f":"IF(B23=\"\",\"\",INDEX(Data_kom2,MATCH(1,(komnavn2=B23)*(komaar2=D23),0),22))","v":""},{"$f":"IF(B23=\"\",\"\",INDEX(Data_kom2,MATCH(1,(komnavn2=B23)*(komaar2=D23),0),23))","v":""},{"$f":"IF(B23=\"\",\"\",INDEX(Data_kom2,MATCH(1,(komnavn2=B23)*(komaar2=D23),0),24))","v":""},{"$f":"IF(B23=\"\",\"\",INDEX(Data_kom2,MATCH(1,(komnavn2=B23)*(komaar2=D23),0),25))","v":""},{"$f":"IF(B23=\"\",\"\",INDEX(Data_kom2,MATCH(1,(komnavn2=B23)*(komaar2=D23),0),26))","v":""},{"$f":"IF(B23=\"\",\"\",INDEX(Data_kom2,MATCH(1,(komnavn2=B23)*(komaar2=D23),0),27))","v":""},{"$f":"IF(B23=\"\",\"\",INDEX(Data_kom2,MATCH(1,(komnavn2=B23)*(komaar2=D23),0),28))","v":""},{"$f":"IF(B23=\"\",\"\",INDEX(Data_kom2,MATCH(1,(komnavn2=B23)*(komaar2=D23),0),29))","v":""},{"$f":"IF(B23=\"\",\"\",INDEX(Data_kom2,MATCH(1,(komnavn2=B23)*(komaar2=D23),0),30))","v":""},{"$f":"IF(B23=\"\",\"\",INDEX(Data_kom2,MATCH(1,(komnavn2=B23)*(komaar2=D23),0),31))","v":""},{"$f":"IF(B23=\"\",\"\",INDEX(Data_kom2,MATCH(1,(komnavn2=B23)*(komaar2=D23),0),32))","v":""},{"$f":"IF(B23=\"\",\"\",INDEX(Data_kom2,MATCH(1,(komnavn2=B23)*(komaar2=D23),0),33))","v":""},{"$f":"IF(B23=\"\",\"\",INDEX(Data_kom2,MATCH(1,(komnavn2=B23)*(komaar2=D23),0),34))","v":""},{"$f":"IF(B23=\"\",\"\",INDEX(Data_kom2,MATCH(1,(komnavn2=B23)*(komaar2=D23),0),35))","v":""},{"$f":"IF(B23=\"\",\"\",INDEX(Data_kom2,MATCH(1,(komnavn2=B23)*(komaar2=D23),0),36))","v":""},{"$f":"IF(B23=\"\",\"\",INDEX(Data_kom2,MATCH(1,(komnavn2=B23)*(komaar2=D23),0),37))","v":""},{"$f":"IF(B23=\"\",\"\",INDEX(Data_kom2,MATCH(1,(komnavn2=B23)*(komaar2=D23),0),38))","v":""}]
[null,{"$f":"'Dine valg'!$G$27","v":""},{"$f":"IF(B24=\"\",\"\",INDEX(Data_kom2,MATCH(1,(komnavn2=B24)*(komaar2=D24),0),2))","v":""},"2022-01-01",{"$f":"IF(B24=\"\",\"\",INDEX(Data_kom2,MATCH(1,(komnavn2=B24)*(komaar2=D24),0),4))","v":""},{"$f":"IF(B24=\"\",\"\",INDEX(Data_kom2,MATCH(1,(komnavn2=B24)*(komaar2=D24),0),5))","v":""},{"$f":"IF(B24=\"\",\"\",INDEX(Data_kom2,MATCH(1,(komnavn2=B24)*(komaar2=D24),0),6))","v":""},{"$f":"IF(B24=\"\",\"\",INDEX(Data_kom2,MATCH(1,(komnavn2=B24)*(komaar2=D24),0),7))","v":""},{"$f":"IF(B24=\"\",\"\",INDEX(Data_kom2,MATCH(1,(komnavn2=B24)*(komaar2=D24),0),8))","v":""},{"$f":"IF(B24=\"\",\"\",INDEX(Data_kom2,MATCH(1,(komnavn2=B24)*(komaar2=D24),0),9))","v":""},{"$f":"IF(B24=\"\",\"\",INDEX(Data_kom2,MATCH(1,(komnavn2=B24)*(komaar2=D24),0),10))","v":""},{"$f":"IF(B24=\"\",\"\",INDEX(Data_kom2,MATCH(1,(komnavn2=B24)*(komaar2=D24),0),11))","v":""},{"$f":"IF(B24=\"\",\"\",INDEX(Data_kom2,MATCH(1,(komnavn2=B24)*(komaar2=D24),0),12))","v":""},{"$f":"IF(B24=\"\",\"\",INDEX(Data_kom2,MATCH(1,(komnavn2=B24)*(komaar2=D24),0),13))","v":""},{"$f":"IF(B24=\"\",\"\",INDEX(Data_kom2,MATCH(1,(komnavn2=B24)*(komaar2=D24),0),14))","v":""},{"$f":"IF(B24=\"\",\"\",INDEX(Data_kom2,MATCH(1,(komnavn2=B24)*(komaar2=D24),0),15))","v":""},{"$f":"IF(B24=\"\",\"\",INDEX(Data_kom2,MATCH(1,(komnavn2=B24)*(komaar2=D24),0),16))","v":""},{"$f":"IF(B24=\"\",\"\",INDEX(Data_kom2,MATCH(1,(komnavn2=B24)*(komaar2=D24),0),17))","v":""},{"$f":"IF(B24=\"\",\"\",INDEX(Data_kom2,MATCH(1,(komnavn2=B24)*(komaar2=D24),0),18))","v":""},{"$f":"IF(B24=\"\",\"\",INDEX(Data_kom2,MATCH(1,(komnavn2=B24)*(komaar2=D24),0),19))","v":""},{"$f":"IF(B24=\"\",\"\",INDEX(Data_kom2,MATCH(1,(komnavn2=B24)*(komaar2=D24),0),20))","v":""},{"$f":"IF(B24=\"\",\"\",INDEX(Data_kom2,MATCH(1,(komnavn2=B24)*(komaar2=D24),0),21))","v":""},{"$f":"IF(B24=\"\",\"\",INDEX(Data_kom2,MATCH(1,(komnavn2=B24)*(komaar2=D24),0),22))","v":""},{"$f":"IF(B24=\"\",\"\",INDEX(Data_kom2,MATCH(1,(komnavn2=B24)*(komaar2=D24),0),23))","v":""},{"$f":"IF(B24=\"\",\"\",INDEX(Data_kom2,MATCH(1,(komnavn2=B24)*(komaar2=D24),0),24))","v":""},{"$f":"IF(B24=\"\",\"\",INDEX(Data_kom2,MATCH(1,(komnavn2=B24)*(komaar2=D24),0),25))","v":""},{"$f":"IF(B24=\"\",\"\",INDEX(Data_kom2,MATCH(1,(komnavn2=B24)*(komaar2=D24),0),26))","v":""},{"$f":"IF(B24=\"\",\"\",INDEX(Data_kom2,MATCH(1,(komnavn2=B24)*(komaar2=D24),0),27))","v":""},{"$f":"IF(B24=\"\",\"\",INDEX(Data_kom2,MATCH(1,(komnavn2=B24)*(komaar2=D24),0),28))","v":""},{"$f":"IF(B24=\"\",\"\",INDEX(Data_kom2,MATCH(1,(komnavn2=B24)*(komaar2=D24),0),29))","v":""},{"$f":"IF(B24=\"\",\"\",INDEX(Data_kom2,MATCH(1,(komnavn2=B24)*(komaar2=D24),0),30))","v":""},{"$f":"IF(B24=\"\",\"\",INDEX(Data_kom2,MATCH(1,(komnavn2=B24)*(komaar2=D24),0),31))","v":""},{"$f":"IF(B24=\"\",\"\",INDEX(Data_kom2,MATCH(1,(komnavn2=B24)*(komaar2=D24),0),32))","v":""},{"$f":"IF(B24=\"\",\"\",INDEX(Data_kom2,MATCH(1,(komnavn2=B24)*(komaar2=D24),0),33))","v":""},{"$f":"IF(B24=\"\",\"\",INDEX(Data_kom2,MATCH(1,(komnavn2=B24)*(komaar2=D24),0),34))","v":""},{"$f":"IF(B24=\"\",\"\",INDEX(Data_kom2,MATCH(1,(komnavn2=B24)*(komaar2=D24),0),35))","v":""},{"$f":"IF(B24=\"\",\"\",INDEX(Data_kom2,MATCH(1,(komnavn2=B24)*(komaar2=D24),0),36))","v":""},{"$f":"IF(B24=\"\",\"\",INDEX(Data_kom2,MATCH(1,(komnavn2=B24)*(komaar2=D24),0),37))","v":""},{"$f":"IF(B24=\"\",\"\",INDEX(Data_kom2,MATCH(1,(komnavn2=B24)*(komaar2=D24),0),38))","v":""}]
[null,{"$f":"'Dine valg'!$G$28","v":""},{"$f":"IF(B25=\"\",\"\",INDEX(Data_kom2,MATCH(1,(komnavn2=B25)*(komaar2=D25),0),2))","v":""},"2022-01-01",{"$f":"IF(B25=\"\",\"\",INDEX(Data_kom2,MATCH(1,(komnavn2=B25)*(komaar2=D25),0),4))","v":""},{"$f":"IF(B25=\"\",\"\",INDEX(Data_kom2,MATCH(1,(komnavn2=B25)*(komaar2=D25),0),5))","v":""},{"$f":"IF(B25=\"\",\"\",INDEX(Data_kom2,MATCH(1,(komnavn2=B25)*(komaar2=D25),0),6))","v":""},{"$f":"IF(B25=\"\",\"\",INDEX(Data_kom2,MATCH(1,(komnavn2=B25)*(komaar2=D25),0),7))","v":""},{"$f":"IF(B25=\"\",\"\",INDEX(Data_kom2,MATCH(1,(komnavn2=B25)*(komaar2=D25),0),8))","v":""},{"$f":"IF(B25=\"\",\"\",INDEX(Data_kom2,MATCH(1,(komnavn2=B25)*(komaar2=D25),0),9))","v":""},{"$f":"IF(B25=\"\",\"\",INDEX(Data_kom2,MATCH(1,(komnavn2=B25)*(komaar2=D25),0),10))","v":""},{"$f":"IF(B25=\"\",\"\",INDEX(Data_kom2,MATCH(1,(komnavn2=B25)*(komaar2=D25),0),11))","v":""},{"$f":"IF(B25=\"\",\"\",INDEX(Data_kom2,MATCH(1,(komnavn2=B25)*(komaar2=D25),0),12))","v":""},{"$f":"IF(B25=\"\",\"\",INDEX(Data_kom2,MATCH(1,(komnavn2=B25)*(komaar2=D25),0),13))","v":""},{"$f":"IF(B25=\"\",\"\",INDEX(Data_kom2,MATCH(1,(komnavn2=B25)*(komaar2=D25),0),14))","v":""},{"$f":"IF(B25=\"\",\"\",INDEX(Data_kom2,MATCH(1,(komnavn2=B25)*(komaar2=D25),0),15))","v":""},{"$f":"IF(B25=\"\",\"\",INDEX(Data_kom2,MATCH(1,(komnavn2=B25)*(komaar2=D25),0),16))","v":""},{"$f":"IF(B25=\"\",\"\",INDEX(Data_kom2,MATCH(1,(komnavn2=B25)*(komaar2=D25),0),17))","v":""},{"$f":"IF(B25=\"\",\"\",INDEX(Data_kom2,MATCH(1,(komnavn2=B25)*(komaar2=D25),0),18))","v":""},{"$f":"IF(B25=\"\",\"\",INDEX(Data_kom2,MATCH(1,(komnavn2=B25)*(komaar2=D25),0),19))","v":""},{"$f":"IF(B25=\"\",\"\",INDEX(Data_kom2,MATCH(1,(komnavn2=B25)*(komaar2=D25),0),20))","v":""},{"$f":"IF(B25=\"\",\"\",INDEX(Data_kom2,MATCH(1,(komnavn2=B25)*(komaar2=D25),0),21))","v":""},{"$f":"IF(B25=\"\",\"\",INDEX(Data_kom2,MATCH(1,(komnavn2=B25)*(komaar2=D25),0),22))","v":""},{"$f":"IF(B25=\"\",\"\",INDEX(Data_kom2,MATCH(1,(komnavn2=B25)*(komaar2=D25),0),23))","v":""},{"$f":"IF(B25=\"\",\"\",INDEX(Data_kom2,MATCH(1,(komnavn2=B25)*(komaar2=D25),0),24))","v":""},{"$f":"IF(B25=\"\",\"\",INDEX(Data_kom2,MATCH(1,(komnavn2=B25)*(komaar2=D25),0),25))","v":""},{"$f":"IF(B25=\"\",\"\",INDEX(Data_kom2,MATCH(1,(komnavn2=B25)*(komaar2=D25),0),26))","v":""},{"$f":"IF(B25=\"\",\"\",INDEX(Data_kom2,MATCH(1,(komnavn2=B25)*(komaar2=D25),0),27))","v":""},{"$f":"IF(B25=\"\",\"\",INDEX(Data_kom2,MATCH(1,(komnavn2=B25)*(komaar2=D25),0),28))","v":""},{"$f":"IF(B25=\"\",\"\",INDEX(Data_kom2,MATCH(1,(komnavn2=B25)*(komaar2=D25),0),29))","v":""},{"$f":"IF(B25=\"\",\"\",INDEX(Data_kom2,MATCH(1,(komnavn2=B25)*(komaar2=D25),0),30))","v":""},{"$f":"IF(B25=\"\",\"\",INDEX(Data_kom2,MATCH(1,(komnavn2=B25)*(komaar2=D25),0),31))","v":""},{"$f":"IF(B25=\"\",\"\",INDEX(Data_kom2,MATCH(1,(komnavn2=B25)*(komaar2=D25),0),32))","v":""},{"$f":"IF(B25=\"\",\"\",INDEX(Data_kom2,MATCH(1,(komnavn2=B25)*(komaar2=D25),0),33))","v":""},{"$f":"IF(B25=\"\",\"\",INDEX(Data_kom2,MATCH(1,(komnavn2=B25)*(komaar2=D25),0),34))","v":""},{"$f":"IF(B25=\"\",\"\",INDEX(Data_kom2,MATCH(1,(komnavn2=B25)*(komaar2=D25),0),35))","v":""},{"$f":"IF(B25=\"\",\"\",INDEX(Data_kom2,MATCH(1,(komnavn2=B25)*(komaar2=D25),0),36))","v":""},{"$f":"IF(B25=\"\",\"\",INDEX(Data_kom2,MATCH(1,(komnavn2=B25)*(komaar2=D25),0),37))","v":""},{"$f":"IF(B25=\"\",\"\",INDEX(Data_kom2,MATCH(1,(komnavn2=B25)*(komaar2=D25),0),38))","v":""}]
[null,{"$f":"'Dine valg'!$G$29","v":""},{"$f":"IF(B26=\"\",\"\",INDEX(Data_kom2,MATCH(1,(komnavn2=B26)*(komaar2=D26),0),2))","v":""},"2022-01-01",{"$f":"IF(B26=\"\",\"\",INDEX(Data_kom2,MATCH(1,(komnavn2=B26)*(komaar2=D26),0),4))","v":""},{"$f":"IF(B26=\"\",\"\",INDEX(Data_kom2,MATCH(1,(komnavn2=B26)*(komaar2=D26),0),5))","v":""},{"$f":"IF(B26=\"\",\"\",INDEX(Data_kom2,MATCH(1,(komnavn2=B26)*(komaar2=D26),0),6))","v":""},{"$f":"IF(B26=\"\",\"\",INDEX(Data_kom2,MATCH(1,(komnavn2=B26)*(komaar2=D26),0),7))","v":""},{"$f":"IF(B26=\"\",\"\",INDEX(Data_kom2,MATCH(1,(komnavn2=B26)*(komaar2=D26),0),8))","v":""},{"$f":"IF(B26=\"\",\"\",INDEX(Data_kom2,MATCH(1,(komnavn2=B26)*(komaar2=D26),0),9))","v":""},{"$f":"IF(B26=\"\",\"\",INDEX(Data_kom2,MATCH(1,(komnavn2=B26)*(komaar2=D26),0),10))","v":""},{"$f":"IF(B26=\"\",\"\",INDEX(Data_kom2,MATCH(1,(komnavn2=B26)*(komaar2=D26),0),11))","v":""},{"$f":"IF(B26=\"\",\"\",INDEX(Data_kom2,MATCH(1,(komnavn2=B26)*(komaar2=D26),0),12))","v":""},{"$f":"IF(B26=\"\",\"\",INDEX(Data_kom2,MATCH(1,(komnavn2=B26)*(komaar2=D26),0),13))","v":""},{"$f":"IF(B26=\"\",\"\",INDEX(Data_kom2,MATCH(1,(komnavn2=B26)*(komaar2=D26),0),14))","v":""},{"$f":"IF(B26=\"\",\"\",INDEX(Data_kom2,MATCH(1,(komnavn2=B26)*(komaar2=D26),0),15))","v":""},{"$f":"IF(B26=\"\",\"\",INDEX(Data_kom2,MATCH(1,(komnavn2=B26)*(komaar2=D26),0),16))","v":""},{"$f":"IF(B26=\"\",\"\",INDEX(Data_kom2,MATCH(1,(komnavn2=B26)*(komaar2=D26),0),17))","v":""},{"$f":"IF(B26=\"\",\"\",INDEX(Data_kom2,MATCH(1,(komnavn2=B26)*(komaar2=D26),0),18))","v":""},{"$f":"IF(B26=\"\",\"\",INDEX(Data_kom2,MATCH(1,(komnavn2=B26)*(komaar2=D26),0),19))","v":""},{"$f":"IF(B26=\"\",\"\",INDEX(Data_kom2,MATCH(1,(komnavn2=B26)*(komaar2=D26),0),20))","v":""},{"$f":"IF(B26=\"\",\"\",INDEX(Data_kom2,MATCH(1,(komnavn2=B26)*(komaar2=D26),0),21))","v":""},{"$f":"IF(B26=\"\",\"\",INDEX(Data_kom2,MATCH(1,(komnavn2=B26)*(komaar2=D26),0),22))","v":""},{"$f":"IF(B26=\"\",\"\",INDEX(Data_kom2,MATCH(1,(komnavn2=B26)*(komaar2=D26),0),23))","v":""},{"$f":"IF(B26=\"\",\"\",INDEX(Data_kom2,MATCH(1,(komnavn2=B26)*(komaar2=D26),0),24))","v":""},{"$f":"IF(B26=\"\",\"\",INDEX(Data_kom2,MATCH(1,(komnavn2=B26)*(komaar2=D26),0),25))","v":""},{"$f":"IF(B26=\"\",\"\",INDEX(Data_kom2,MATCH(1,(komnavn2=B26)*(komaar2=D26),0),26))","v":""},{"$f":"IF(B26=\"\",\"\",INDEX(Data_kom2,MATCH(1,(komnavn2=B26)*(komaar2=D26),0),27))","v":""},{"$f":"IF(B26=\"\",\"\",INDEX(Data_kom2,MATCH(1,(komnavn2=B26)*(komaar2=D26),0),28))","v":""},{"$f":"IF(B26=\"\",\"\",INDEX(Data_kom2,MATCH(1,(komnavn2=B26)*(komaar2=D26),0),29))","v":""},{"$f":"IF(B26=\"\",\"\",INDEX(Data_kom2,MATCH(1,(komnavn2=B26)*(komaar2=D26),0),30))","v":""},{"$f":"IF(B26=\"\",\"\",INDEX(Data_kom2,MATCH(1,(komnavn2=B26)*(komaar2=D26),0),31))","v":""},{"$f":"IF(B26=\"\",\"\",INDEX(Data_kom2,MATCH(1,(komnavn2=B26)*(komaar2=D26),0),32))","v":""},{"$f":"IF(B26=\"\",\"\",INDEX(Data_kom2,MATCH(1,(komnavn2=B26)*(komaar2=D26),0),33))","v":""},{"$f":"IF(B26=\"\",\"\",INDEX(Data_kom2,MATCH(1,(komnavn2=B26)*(komaar2=D26),0),34))","v":""},{"$f":"IF(B26=\"\",\"\",INDEX(Data_kom2,MATCH(1,(komnavn2=B26)*(komaar2=D26),0),35))","v":""},{"$f":"IF(B26=\"\",\"\",INDEX(Data_kom2,MATCH(1,(komnavn2=B26)*(komaar2=D26),0),36))","v":""},{"$f":"IF(B26=\"\",\"\",INDEX(Data_kom2,MATCH(1,(komnavn2=B26)*(komaar2=D26),0),37))","v":""},{"$f":"IF(B26=\"\",\"\",INDEX(Data_kom2,MATCH(1,(komnavn2=B26)*(komaar2=D26),0),38))","v":""}]
[null,{"$f":"'Dine valg'!$G$30","v":""},{"$f":"IF(B27=\"\",\"\",INDEX(Data_kom2,MATCH(1,(komnavn2=B27)*(komaar2=D27),0),2))","v":""},"2022-01-01",{"$f":"IF(B27=\"\",\"\",INDEX(Data_kom2,MATCH(1,(komnavn2=B27)*(komaar2=D27),0),4))","v":""},{"$f":"IF(B27=\"\",\"\",INDEX(Data_kom2,MATCH(1,(komnavn2=B27)*(komaar2=D27),0),5))","v":""},{"$f":"IF(B27=\"\",\"\",INDEX(Data_kom2,MATCH(1,(komnavn2=B27)*(komaar2=D27),0),6))","v":""},{"$f":"IF(B27=\"\",\"\",INDEX(Data_kom2,MATCH(1,(komnavn2=B27)*(komaar2=D27),0),7))","v":""},{"$f":"IF(B27=\"\",\"\",INDEX(Data_kom2,MATCH(1,(komnavn2=B27)*(komaar2=D27),0),8))","v":""},{"$f":"IF(B27=\"\",\"\",INDEX(Data_kom2,MATCH(1,(komnavn2=B27)*(komaar2=D27),0),9))","v":""},{"$f":"IF(B27=\"\",\"\",INDEX(Data_kom2,MATCH(1,(komnavn2=B27)*(komaar2=D27),0),10))","v":""},{"$f":"IF(B27=\"\",\"\",INDEX(Data_kom2,MATCH(1,(komnavn2=B27)*(komaar2=D27),0),11))","v":""},{"$f":"IF(B27=\"\",\"\",INDEX(Data_kom2,MATCH(1,(komnavn2=B27)*(komaar2=D27),0),12))","v":""},{"$f":"IF(B27=\"\",\"\",INDEX(Data_kom2,MATCH(1,(komnavn2=B27)*(komaar2=D27),0),13))","v":""},{"$f":"IF(B27=\"\",\"\",INDEX(Data_kom2,MATCH(1,(komnavn2=B27)*(komaar2=D27),0),14))","v":""},{"$f":"IF(B27=\"\",\"\",INDEX(Data_kom2,MATCH(1,(komnavn2=B27)*(komaar2=D27),0),15))","v":""},{"$f":"IF(B27=\"\",\"\",INDEX(Data_kom2,MATCH(1,(komnavn2=B27)*(komaar2=D27),0),16))","v":""},{"$f":"IF(B27=\"\",\"\",INDEX(Data_kom2,MATCH(1,(komnavn2=B27)*(komaar2=D27),0),17))","v":""},{"$f":"IF(B27=\"\",\"\",INDEX(Data_kom2,MATCH(1,(komnavn2=B27)*(komaar2=D27),0),18))","v":""},{"$f":"IF(B27=\"\",\"\",INDEX(Data_kom2,MATCH(1,(komnavn2=B27)*(komaar2=D27),0),19))","v":""},{"$f":"IF(B27=\"\",\"\",INDEX(Data_kom2,MATCH(1,(komnavn2=B27)*(komaar2=D27),0),20))","v":""},{"$f":"IF(B27=\"\",\"\",INDEX(Data_kom2,MATCH(1,(komnavn2=B27)*(komaar2=D27),0),21))","v":""},{"$f":"IF(B27=\"\",\"\",INDEX(Data_kom2,MATCH(1,(komnavn2=B27)*(komaar2=D27),0),22))","v":""},{"$f":"IF(B27=\"\",\"\",INDEX(Data_kom2,MATCH(1,(komnavn2=B27)*(komaar2=D27),0),23))","v":""},{"$f":"IF(B27=\"\",\"\",INDEX(Data_kom2,MATCH(1,(komnavn2=B27)*(komaar2=D27),0),24))","v":""},{"$f":"IF(B27=\"\",\"\",INDEX(Data_kom2,MATCH(1,(komnavn2=B27)*(komaar2=D27),0),25))","v":""},{"$f":"IF(B27=\"\",\"\",INDEX(Data_kom2,MATCH(1,(komnavn2=B27)*(komaar2=D27),0),26))","v":""},{"$f":"IF(B27=\"\",\"\",INDEX(Data_kom2,MATCH(1,(komnavn2=B27)*(komaar2=D27),0),27))","v":""},{"$f":"IF(B27=\"\",\"\",INDEX(Data_kom2,MATCH(1,(komnavn2=B27)*(komaar2=D27),0),28))","v":""},{"$f":"IF(B27=\"\",\"\",INDEX(Data_kom2,MATCH(1,(komnavn2=B27)*(komaar2=D27),0),29))","v":""},{"$f":"IF(B27=\"\",\"\",INDEX(Data_kom2,MATCH(1,(komnavn2=B27)*(komaar2=D27),0),30))","v":""},{"$f":"IF(B27=\"\",\"\",INDEX(Data_kom2,MATCH(1,(komnavn2=B27)*(komaar2=D27),0),31))","v":""},{"$f":"IF(B27=\"\",\"\",INDEX(Data_kom2,MATCH(1,(komnavn2=B27)*(komaar2=D27),0),32))","v":""},{"$f":"IF(B27=\"\",\"\",INDEX(Data_kom2,MATCH(1,(komnavn2=B27)*(komaar2=D27),0),33))","v":""},{"$f":"IF(B27=\"\",\"\",INDEX(Data_kom2,MATCH(1,(komnavn2=B27)*(komaar2=D27),0),34))","v":""},{"$f":"IF(B27=\"\",\"\",INDEX(Data_kom2,MATCH(1,(komnavn2=B27)*(komaar2=D27),0),35))","v":""},{"$f":"IF(B27=\"\",\"\",INDEX(Data_kom2,MATCH(1,(komnavn2=B27)*(komaar2=D27),0),36))","v":""},{"$f":"IF(B27=\"\",\"\",INDEX(Data_kom2,MATCH(1,(komnavn2=B27)*(komaar2=D27),0),37))","v":""},{"$f":"IF(B27=\"\",\"\",INDEX(Data_kom2,MATCH(1,(komnavn2=B27)*(komaar2=D27),0),38))","v":""}]
[null,{"$f":"'Dine valg'!$G$24","v":"Aarhus"},{"$f":"IF(B28=\"\",\"\",INDEX(Data_kom2,MATCH(1,(komnavn2=B28)*(komaar2=D28),0),2))","v":64307},"2021-07-01",{"$f":"IF(B28=\"\",\"\",INDEX(Data_kom2,MATCH(1,(komnavn2=B28)*(komaar2=D28),0),4))","v":175},{"$f":"IF(B28=\"\",\"\",INDEX(Data_kom2,MATCH(1,(komnavn2=B28)*(komaar2=D28),0),5))","v":118},{"$f":"IF(B28=\"\",\"\",INDEX(Data_kom2,MATCH(1,(komnavn2=B28)*(komaar2=D28),0),6))","v":14},{"$f":"IF(B28=\"\",\"\",INDEX(Data_kom2,MATCH(1,(komnavn2=B28)*(komaar2=D28),0),7))","v":43},{"$f":"IF(B28=\"\",\"\",INDEX(Data_kom2,MATCH(1,(komnavn2=B28)*(komaar2=D28),0),8))","v":176105},{"$f":"IF(B28=\"\",\"\",INDEX(Data_kom2,MATCH(1,(komnavn2=B28)*(komaar2=D28),0),9))","v":151477},{"$f":"IF(B28=\"\",\"\",INDEX(Data_kom2,MATCH(1,(komnavn2=B28)*(komaar2=D28),0),10))","v":3067},{"$f":"IF(B28=\"\",\"\",INDEX(Data_kom2,MATCH(1,(komnavn2=B28)*(komaar2=D28),0),11))","v":21561},{"$f":"IF(B28=\"\",\"\",INDEX(Data_kom2,MATCH(1,(komnavn2=B28)*(komaar2=D28),0),12))","v":214},{"$f":"IF(B28=\"\",\"\",INDEX(Data_kom2,MATCH(1,(komnavn2=B28)*(komaar2=D28),0),13))","v":25},{"$f":"IF(B28=\"\",\"\",INDEX(Data_kom2,MATCH(1,(komnavn2=B28)*(komaar2=D28),0),14))","v":1224},{"$f":"IF(B28=\"\",\"\",INDEX(Data_kom2,MATCH(1,(komnavn2=B28)*(komaar2=D28),0),15))","v":"*"},{"$f":"IF(B28=\"\",\"\",INDEX(Data_kom2,MATCH(1,(komnavn2=B28)*(komaar2=D28),0),16))","v":"*"},{"$f":"IF(B28=\"\",\"\",INDEX(Data_kom2,MATCH(1,(komnavn2=B28)*(komaar2=D28),0),17))","v":1207},{"$f":"IF(B28=\"\",\"\",INDEX(Data_kom2,MATCH(1,(komnavn2=B28)*(komaar2=D28),0),18))","v":14},{"$f":"IF(B28=\"\",\"\",INDEX(Data_kom2,MATCH(1,(komnavn2=B28)*(komaar2=D28),0),19))","v":0},{"$f":"IF(B28=\"\",\"\",INDEX(Data_kom2,MATCH(1,(komnavn2=B28)*(komaar2=D28),0),20))","v":0},{"$f":"IF(B28=\"\",\"\",INDEX(Data_kom2,MATCH(1,(komnavn2=B28)*(komaar2=D28),0),21))","v":0},{"$f":"IF(B28=\"\",\"\",INDEX(Data_kom2,MATCH(1,(komnavn2=B28)*(komaar2=D28),0),22))","v":31},{"$f":"IF(B28=\"\",\"\",INDEX(Data_kom2,MATCH(1,(komnavn2=B28)*(komaar2=D28),0),23))","v":175},{"$f":"IF(B28=\"\",\"\",INDEX(Data_kom2,MATCH(1,(komnavn2=B28)*(komaar2=D28),0),24))","v":3},{"$f":"IF(B28=\"\",\"\",INDEX(Data_kom2,MATCH(1,(komnavn2=B28)*(komaar2=D28),0),25))","v":175},{"$f":"IF(B28=\"\",\"\",INDEX(Data_kom2,MATCH(1,(komnavn2=B28)*(komaar2=D28),0),26))","v":28},{"$f":"IF(B28=\"\",\"\",INDEX(Data_kom2,MATCH(1,(komnavn2=B28)*(komaar2=D28),0),27))","v":175},{"$f":"IF(B28=\"\",\"\",INDEX(Data_kom2,MATCH(1,(komnavn2=B28)*(komaar2=D28),0),28))","v":25},{"$f":"IF(B28=\"\",\"\",INDEX(Data_kom2,MATCH(1,(komnavn2=B28)*(komaar2=D28),0),29))","v":1248},{"$f":"IF(B28=\"\",\"\",INDEX(Data_kom2,MATCH(1,(komnavn2=B28)*(komaar2=D28),0),30))","v":332},{"$f":"IF(B28=\"\",\"\",INDEX(Data_kom2,MATCH(1,(komnavn2=B28)*(komaar2=D28),0),31))","v":1252},{"$f":"IF(B28=\"\",\"\",INDEX(Data_kom2,MATCH(1,(komnavn2=B28)*(komaar2=D28),0),32))","v":0},{"$f":"IF(B28=\"\",\"\",INDEX(Data_kom2,MATCH(1,(komnavn2=B28)*(komaar2=D28),0),33))","v":0},{"$f":"IF(B28=\"\",\"\",INDEX(Data_kom2,MATCH(1,(komnavn2=B28)*(komaar2=D28),0),34))","v":0},{"$f":"IF(B28=\"\",\"\",INDEX(Data_kom2,MATCH(1,(komnavn2=B28)*(komaar2=D28),0),35))","v":0},{"$f":"IF(B28=\"\",\"\",INDEX(Data_kom2,MATCH(1,(komnavn2=B28)*(komaar2=D28),0),36))","v":0},{"$f":"IF(B28=\"\",\"\",INDEX(Data_kom2,MATCH(1,(komnavn2=B28)*(komaar2=D28),0),37))","v":0},{"$f":"IF(B28=\"\",\"\",INDEX(Data_kom2,MATCH(1,(komnavn2=B28)*(komaar2=D28),0),38))","v":"Region Midtjylland"}]
[null,{"$f":"'Dine valg'!$G$25","v":""},{"$f":"IF(B29=\"\",\"\",INDEX(Data_kom2,MATCH(1,(komnavn2=B29)*(komaar2=D29),0),2))","v":""},"2021-07-01",{"$f":"IF(B29=\"\",\"\",INDEX(Data_kom2,MATCH(1,(komnavn2=B29)*(komaar2=D29),0),4))","v":""},{"$f":"IF(B29=\"\",\"\",INDEX(Data_kom2,MATCH(1,(komnavn2=B29)*(komaar2=D29),0),5))","v":""},{"$f":"IF(B29=\"\",\"\",INDEX(Data_kom2,MATCH(1,(komnavn2=B29)*(komaar2=D29),0),6))","v":""},{"$f":"IF(B29=\"\",\"\",INDEX(Data_kom2,MATCH(1,(komnavn2=B29)*(komaar2=D29),0),7))","v":""},{"$f":"IF(B29=\"\",\"\",INDEX(Data_kom2,MATCH(1,(komnavn2=B29)*(komaar2=D29),0),8))","v":""},{"$f":"IF(B29=\"\",\"\",INDEX(Data_kom2,MATCH(1,(komnavn2=B29)*(komaar2=D29),0),9))","v":""},{"$f":"IF(B29=\"\",\"\",INDEX(Data_kom2,MATCH(1,(komnavn2=B29)*(komaar2=D29),0),10))","v":""},{"$f":"IF(B29=\"\",\"\",INDEX(Data_kom2,MATCH(1,(komnavn2=B29)*(komaar2=D29),0),11))","v":""},{"$f":"IF(B29=\"\",\"\",INDEX(Data_kom2,MATCH(1,(komnavn2=B29)*(komaar2=D29),0),12))","v":""},{"$f":"IF(B29=\"\",\"\",INDEX(Data_kom2,MATCH(1,(komnavn2=B29)*(komaar2=D29),0),13))","v":""},{"$f":"IF(B29=\"\",\"\",INDEX(Data_kom2,MATCH(1,(komnavn2=B29)*(komaar2=D29),0),14))","v":""},{"$f":"IF(B29=\"\",\"\",INDEX(Data_kom2,MATCH(1,(komnavn2=B29)*(komaar2=D29),0),15))","v":""},{"$f":"IF(B29=\"\",\"\",INDEX(Data_kom2,MATCH(1,(komnavn2=B29)*(komaar2=D29),0),16))","v":""},{"$f":"IF(B29=\"\",\"\",INDEX(Data_kom2,MATCH(1,(komnavn2=B29)*(komaar2=D29),0),17))","v":""},{"$f":"IF(B29=\"\",\"\",INDEX(Data_kom2,MATCH(1,(komnavn2=B29)*(komaar2=D29),0),18))","v":""},{"$f":"IF(B29=\"\",\"\",INDEX(Data_kom2,MATCH(1,(komnavn2=B29)*(komaar2=D29),0),19))","v":""},{"$f":"IF(B29=\"\",\"\",INDEX(Data_kom2,MATCH(1,(komnavn2=B29)*(komaar2=D29),0),20))","v":""},{"$f":"IF(B29=\"\",\"\",INDEX(Data_kom2,MATCH(1,(komnavn2=B29)*(komaar2=D29),0),21))","v":""},{"$f":"IF(B29=\"\",\"\",INDEX(Data_kom2,MATCH(1,(komnavn2=B29)*(komaar2=D29),0),22))","v":""},{"$f":"IF(B29=\"\",\"\",INDEX(Data_kom2,MATCH(1,(komnavn2=B29)*(komaar2=D29),0),23))","v":""},{"$f":"IF(B29=\"\",\"\",INDEX(Data_kom2,MATCH(1,(komnavn2=B29)*(komaar2=D29),0),24))","v":""},{"$f":"IF(B29=\"\",\"\",INDEX(Data_kom2,MATCH(1,(komnavn2=B29)*(komaar2=D29),0),25))","v":""},{"$f":"IF(B29=\"\",\"\",INDEX(Data_kom2,MATCH(1,(komnavn2=B29)*(komaar2=D29),0),26))","v":""},{"$f":"IF(B29=\"\",\"\",INDEX(Data_kom2,MATCH(1,(komnavn2=B29)*(komaar2=D29),0),27))","v":""},{"$f":"IF(B29=\"\",\"\",INDEX(Data_kom2,MATCH(1,(komnavn2=B29)*(komaar2=D29),0),28))","v":""},{"$f":"IF(B29=\"\",\"\",INDEX(Data_kom2,MATCH(1,(komnavn2=B29)*(komaar2=D29),0),29))","v":""},{"$f":"IF(B29=\"\",\"\",INDEX(Data_kom2,MATCH(1,(komnavn2=B29)*(komaar2=D29),0),30))","v":""},{"$f":"IF(B29=\"\",\"\",INDEX(Data_kom2,MATCH(1,(komnavn2=B29)*(komaar2=D29),0),31))","v":""},{"$f":"IF(B29=\"\",\"\",INDEX(Data_kom2,MATCH(1,(komnavn2=B29)*(komaar2=D29),0),32))","v":""},{"$f":"IF(B29=\"\",\"\",INDEX(Data_kom2,MATCH(1,(komnavn2=B29)*(komaar2=D29),0),33))","v":""},{"$f":"IF(B29=\"\",\"\",INDEX(Data_kom2,MATCH(1,(komnavn2=B29)*(komaar2=D29),0),34))","v":""},{"$f":"IF(B29=\"\",\"\",INDEX(Data_kom2,MATCH(1,(komnavn2=B29)*(komaar2=D29),0),35))","v":""},{"$f":"IF(B29=\"\",\"\",INDEX(Data_kom2,MATCH(1,(komnavn2=B29)*(komaar2=D29),0),36))","v":""},{"$f":"IF(B29=\"\",\"\",INDEX(Data_kom2,MATCH(1,(komnavn2=B29)*(komaar2=D29),0),37))","v":""},{"$f":"IF(B29=\"\",\"\",INDEX(Data_kom2,MATCH(1,(komnavn2=B29)*(komaar2=D29),0),38))","v":""}]
[null,{"$f":"'Dine valg'!$G$26","v":""},{"$f":"IF(B30=\"\",\"\",INDEX(Data_kom2,MATCH(1,(komnavn2=B30)*(komaar2=D30),0),2))","v":""},"2021-07-01",{"$f":"IF(B30=\"\",\"\",INDEX(Data_kom2,MATCH(1,(komnavn2=B30)*(komaar2=D30),0),4))","v":""},{"$f":"IF(B30=\"\",\"\",INDEX(Data_kom2,MATCH(1,(komnavn2=B30)*(komaar2=D30),0),5))","v":""},{"$f":"IF(B30=\"\",\"\",INDEX(Data_kom2,MATCH(1,(komnavn2=B30)*(komaar2=D30),0),6))","v":""},{"$f":"IF(B30=\"\",\"\",INDEX(Data_kom2,MATCH(1,(komnavn2=B30)*(komaar2=D30),0),7))","v":""},{"$f":"IF(B30=\"\",\"\",INDEX(Data_kom2,MATCH(1,(komnavn2=B30)*(komaar2=D30),0),8))","v":""},{"$f":"IF(B30=\"\",\"\",INDEX(Data_kom2,MATCH(1,(komnavn2=B30)*(komaar2=D30),0),9))","v":""},{"$f":"IF(B30=\"\",\"\",INDEX(Data_kom2,MATCH(1,(komnavn2=B30)*(komaar2=D30),0),10))","v":""},{"$f":"IF(B30=\"\",\"\",INDEX(Data_kom2,MATCH(1,(komnavn2=B30)*(komaar2=D30),0),11))","v":""},{"$f":"IF(B30=\"\",\"\",INDEX(Data_kom2,MATCH(1,(komnavn2=B30)*(komaar2=D30),0),12))","v":""},{"$f":"IF(B30=\"\",\"\",INDEX(Data_kom2,MATCH(1,(komnavn2=B30)*(komaar2=D30),0),13))","v":""},{"$f":"IF(B30=\"\",\"\",INDEX(Data_kom2,MATCH(1,(komnavn2=B30)*(komaar2=D30),0),14))","v":""},{"$f":"IF(B30=\"\",\"\",INDEX(Data_kom2,MATCH(1,(komnavn2=B30)*(komaar2=D30),0),15))","v":""},{"$f":"IF(B30=\"\",\"\",INDEX(Data_kom2,MATCH(1,(komnavn2=B30)*(komaar2=D30),0),16))","v":""},{"$f":"IF(B30=\"\",\"\",INDEX(Data_kom2,MATCH(1,(komnavn2=B30)*(komaar2=D30),0),17))","v":""},{"$f":"IF(B30=\"\",\"\",INDEX(Data_kom2,MATCH(1,(komnavn2=B30)*(komaar2=D30),0),18))","v":""},{"$f":"IF(B30=\"\",\"\",INDEX(Data_kom2,MATCH(1,(komnavn2=B30)*(komaar2=D30),0),19))","v":""},{"$f":"IF(B30=\"\",\"\",INDEX(Data_kom2,MATCH(1,(komnavn2=B30)*(komaar2=D30),0),20))","v":""},{"$f":"IF(B30=\"\",\"\",INDEX(Data_kom2,MATCH(1,(komnavn2=B30)*(komaar2=D30),0),21))","v":""},{"$f":"IF(B30=\"\",\"\",INDEX(Data_kom2,MATCH(1,(komnavn2=B30)*(komaar2=D30),0),22))","v":""},{"$f":"IF(B30=\"\",\"\",INDEX(Data_kom2,MATCH(1,(komnavn2=B30)*(komaar2=D30),0),23))","v":""},{"$f":"IF(B30=\"\",\"\",INDEX(Data_kom2,MATCH(1,(komnavn2=B30)*(komaar2=D30),0),24))","v":""},{"$f":"IF(B30=\"\",\"\",INDEX(Data_kom2,MATCH(1,(komnavn2=B30)*(komaar2=D30),0),25))","v":""},{"$f":"IF(B30=\"\",\"\",INDEX(Data_kom2,MATCH(1,(komnavn2=B30)*(komaar2=D30),0),26))","v":""},{"$f":"IF(B30=\"\",\"\",INDEX(Data_kom2,MATCH(1,(komnavn2=B30)*(komaar2=D30),0),27))","v":""},{"$f":"IF(B30=\"\",\"\",INDEX(Data_kom2,MATCH(1,(komnavn2=B30)*(komaar2=D30),0),28))","v":""},{"$f":"IF(B30=\"\",\"\",INDEX(Data_kom2,MATCH(1,(komnavn2=B30)*(komaar2=D30),0),29))","v":""},{"$f":"IF(B30=\"\",\"\",INDEX(Data_kom2,MATCH(1,(komnavn2=B30)*(komaar2=D30),0),30))","v":""},{"$f":"IF(B30=\"\",\"\",INDEX(Data_kom2,MATCH(1,(komnavn2=B30)*(komaar2=D30),0),31))","v":""},{"$f":"IF(B30=\"\",\"\",INDEX(Data_kom2,MATCH(1,(komnavn2=B30)*(komaar2=D30),0),32))","v":""},{"$f":"IF(B30=\"\",\"\",INDEX(Data_kom2,MATCH(1,(komnavn2=B30)*(komaar2=D30),0),33))","v":""},{"$f":"IF(B30=\"\",\"\",INDEX(Data_kom2,MATCH(1,(komnavn2=B30)*(komaar2=D30),0),34))","v":""},{"$f":"IF(B30=\"\",\"\",INDEX(Data_kom2,MATCH(1,(komnavn2=B30)*(komaar2=D30),0),35))","v":""},{"$f":"IF(B30=\"\",\"\",INDEX(Data_kom2,MATCH(1,(komnavn2=B30)*(komaar2=D30),0),36))","v":""},{"$f":"IF(B30=\"\",\"\",INDEX(Data_kom2,MATCH(1,(komnavn2=B30)*(komaar2=D30),0),37))","v":""},{"$f":"IF(B30=\"\",\"\",INDEX(Data_kom2,MATCH(1,(komnavn2=B30)*(komaar2=D30),0),38))","v":""}]
[null,{"$f":"'Dine valg'!$G$27","v":""},{"$f":"IF(B31=\"\",\"\",INDEX(Data_kom2,MATCH(1,(komnavn2=B31)*(komaar2=D31),0),2))","v":""},"2021-07-01",{"$f":"IF(B31=\"\",\"\",INDEX(Data_kom2,MATCH(1,(komnavn2=B31)*(komaar2=D31),0),4))","v":""},{"$f":"IF(B31=\"\",\"\",INDEX(Data_kom2,MATCH(1,(komnavn2=B31)*(komaar2=D31),0),5))","v":""},{"$f":"IF(B31=\"\",\"\",INDEX(Data_kom2,MATCH(1,(komnavn2=B31)*(komaar2=D31),0),6))","v":""},{"$f":"IF(B31=\"\",\"\",INDEX(Data_kom2,MATCH(1,(komnavn2=B31)*(komaar2=D31),0),7))","v":""},{"$f":"IF(B31=\"\",\"\",INDEX(Data_kom2,MATCH(1,(komnavn2=B31)*(komaar2=D31),0),8))","v":""},{"$f":"IF(B31=\"\",\"\",INDEX(Data_kom2,MATCH(1,(komnavn2=B31)*(komaar2=D31),0),9))","v":""},{"$f":"IF(B31=\"\",\"\",INDEX(Data_kom2,MATCH(1,(komnavn2=B31)*(komaar2=D31),0),10))","v":""},{"$f":"IF(B31=\"\",\"\",INDEX(Data_kom2,MATCH(1,(komnavn2=B31)*(komaar2=D31),0),11))","v":""},{"$f":"IF(B31=\"\",\"\",INDEX(Data_kom2,MATCH(1,(komnavn2=B31)*(komaar2=D31),0),12))","v":""},{"$f":"IF(B31=\"\",\"\",INDEX(Data_kom2,MATCH(1,(komnavn2=B31)*(komaar2=D31),0),13))","v":""},{"$f":"IF(B31=\"\",\"\",INDEX(Data_kom2,MATCH(1,(komnavn2=B31)*(komaar2=D31),0),14))","v":""},{"$f":"IF(B31=\"\",\"\",INDEX(Data_kom2,MATCH(1,(komnavn2=B31)*(komaar2=D31),0),15))","v":""},{"$f":"IF(B31=\"\",\"\",INDEX(Data_kom2,MATCH(1,(komnavn2=B31)*(komaar2=D31),0),16))","v":""},{"$f":"IF(B31=\"\",\"\",INDEX(Data_kom2,MATCH(1,(komnavn2=B31)*(komaar2=D31),0),17))","v":""},{"$f":"IF(B31=\"\",\"\",INDEX(Data_kom2,MATCH(1,(komnavn2=B31)*(komaar2=D31),0),18))","v":""},{"$f":"IF(B31=\"\",\"\",INDEX(Data_kom2,MATCH(1,(komnavn2=B31)*(komaar2=D31),0),19))","v":""},{"$f":"IF(B31=\"\",\"\",INDEX(Data_kom2,MATCH(1,(komnavn2=B31)*(komaar2=D31),0),20))","v":""},{"$f":"IF(B31=\"\",\"\",INDEX(Data_kom2,MATCH(1,(komnavn2=B31)*(komaar2=D31),0),21))","v":""},{"$f":"IF(B31=\"\",\"\",INDEX(Data_kom2,MATCH(1,(komnavn2=B31)*(komaar2=D31),0),22))","v":""},{"$f":"IF(B31=\"\",\"\",INDEX(Data_kom2,MATCH(1,(komnavn2=B31)*(komaar2=D31),0),23))","v":""},{"$f":"IF(B31=\"\",\"\",INDEX(Data_kom2,MATCH(1,(komnavn2=B31)*(komaar2=D31),0),24))","v":""},{"$f":"IF(B31=\"\",\"\",INDEX(Data_kom2,MATCH(1,(komnavn2=B31)*(komaar2=D31),0),25))","v":""},{"$f":"IF(B31=\"\",\"\",INDEX(Data_kom2,MATCH(1,(komnavn2=B31)*(komaar2=D31),0),26))","v":""},{"$f":"IF(B31=\"\",\"\",INDEX(Data_kom2,MATCH(1,(komnavn2=B31)*(komaar2=D31),0),27))","v":""},{"$f":"IF(B31=\"\",\"\",INDEX(Data_kom2,MATCH(1,(komnavn2=B31)*(komaar2=D31),0),28))","v":""},{"$f":"IF(B31=\"\",\"\",INDEX(Data_kom2,MATCH(1,(komnavn2=B31)*(komaar2=D31),0),29))","v":""},{"$f":"IF(B31=\"\",\"\",INDEX(Data_kom2,MATCH(1,(komnavn2=B31)*(komaar2=D31),0),30))","v":""},{"$f":"IF(B31=\"\",\"\",INDEX(Data_kom2,MATCH(1,(komnavn2=B31)*(komaar2=D31),0),31))","v":""},{"$f":"IF(B31=\"\",\"\",INDEX(Data_kom2,MATCH(1,(komnavn2=B31)*(komaar2=D31),0),32))","v":""},{"$f":"IF(B31=\"\",\"\",INDEX(Data_kom2,MATCH(1,(komnavn2=B31)*(komaar2=D31),0),33))","v":""},{"$f":"IF(B31=\"\",\"\",INDEX(Data_kom2,MATCH(1,(komnavn2=B31)*(komaar2=D31),0),34))","v":""},{"$f":"IF(B31=\"\",\"\",INDEX(Data_kom2,MATCH(1,(komnavn2=B31)*(komaar2=D31),0),35))","v":""},{"$f":"IF(B31=\"\",\"\",INDEX(Data_kom2,MATCH(1,(komnavn2=B31)*(komaar2=D31),0),36))","v":""},{"$f":"IF(B31=\"\",\"\",INDEX(Data_kom2,MATCH(1,(komnavn2=B31)*(komaar2=D31),0),37))","v":""},{"$f":"IF(B31=\"\",\"\",INDEX(Data_kom2,MATCH(1,(komnavn2=B31)*(komaar2=D31),0),38))","v":""}]
[null,{"$f":"'Dine valg'!$G$28","v":""},{"$f":"IF(B32=\"\",\"\",INDEX(Data_kom2,MATCH(1,(komnavn2=B32)*(komaar2=D32),0),2))","v":""},"2021-07-01",{"$f":"IF(B32=\"\",\"\",INDEX(Data_kom2,MATCH(1,(komnavn2=B32)*(komaar2=D32),0),4))","v":""},{"$f":"IF(B32=\"\",\"\",INDEX(Data_kom2,MATCH(1,(komnavn2=B32)*(komaar2=D32),0),5))","v":""},{"$f":"IF(B32=\"\",\"\",INDEX(Data_kom2,MATCH(1,(komnavn2=B32)*(komaar2=D32),0),6))","v":""},{"$f":"IF(B32=\"\",\"\",INDEX(Data_kom2,MATCH(1,(komnavn2=B32)*(komaar2=D32),0),7))","v":""},{"$f":"IF(B32=\"\",\"\",INDEX(Data_kom2,MATCH(1,(komnavn2=B32)*(komaar2=D32),0),8))","v":""},{"$f":"IF(B32=\"\",\"\",INDEX(Data_kom2,MATCH(1,(komnavn2=B32)*(komaar2=D32),0),9))","v":""},{"$f":"IF(B32=\"\",\"\",INDEX(Data_kom2,MATCH(1,(komnavn2=B32)*(komaar2=D32),0),10))","v":""},{"$f":"IF(B32=\"\",\"\",INDEX(Data_kom2,MATCH(1,(komnavn2=B32)*(komaar2=D32),0),11))","v":""},{"$f":"IF(B32=\"\",\"\",INDEX(Data_kom2,MATCH(1,(komnavn2=B32)*(komaar2=D32),0),12))","v":""},{"$f":"IF(B32=\"\",\"\",INDEX(Data_kom2,MATCH(1,(komnavn2=B32)*(komaar2=D32),0),13))","v":""},{"$f":"IF(B32=\"\",\"\",INDEX(Data_kom2,MATCH(1,(komnavn2=B32)*(komaar2=D32),0),14))","v":""},{"$f":"IF(B32=\"\",\"\",INDEX(Data_kom2,MATCH(1,(komnavn2=B32)*(komaar2=D32),0),15))","v":""},{"$f":"IF(B32=\"\",\"\",INDEX(Data_kom2,MATCH(1,(komnavn2=B32)*(komaar2=D32),0),16))","v":""},{"$f":"IF(B32=\"\",\"\",INDEX(Data_kom2,MATCH(1,(komnavn2=B32)*(komaar2=D32),0),17))","v":""},{"$f":"IF(B32=\"\",\"\",INDEX(Data_kom2,MATCH(1,(komnavn2=B32)*(komaar2=D32),0),18))","v":""},{"$f":"IF(B32=\"\",\"\",INDEX(Data_kom2,MATCH(1,(komnavn2=B32)*(komaar2=D32),0),19))","v":""},{"$f":"IF(B32=\"\",\"\",INDEX(Data_kom2,MATCH(1,(komnavn2=B32)*(komaar2=D32),0),20))","v":""},{"$f":"IF(B32=\"\",\"\",INDEX(Data_kom2,MATCH(1,(komnavn2=B32)*(komaar2=D32),0),21))","v":""},{"$f":"IF(B32=\"\",\"\",INDEX(Data_kom2,MATCH(1,(komnavn2=B32)*(komaar2=D32),0),22))","v":""},{"$f":"IF(B32=\"\",\"\",INDEX(Data_kom2,MATCH(1,(komnavn2=B32)*(komaar2=D32),0),23))","v":""},{"$f":"IF(B32=\"\",\"\",INDEX(Data_kom2,MATCH(1,(komnavn2=B32)*(komaar2=D32),0),24))","v":""},{"$f":"IF(B32=\"\",\"\",INDEX(Data_kom2,MATCH(1,(komnavn2=B32)*(komaar2=D32),0),25))","v":""},{"$f":"IF(B32=\"\",\"\",INDEX(Data_kom2,MATCH(1,(komnavn2=B32)*(komaar2=D32),0),26))","v":""},{"$f":"IF(B32=\"\",\"\",INDEX(Data_kom2,MATCH(1,(komnavn2=B32)*(komaar2=D32),0),27))","v":""},{"$f":"IF(B32=\"\",\"\",INDEX(Data_kom2,MATCH(1,(komnavn2=B32)*(komaar2=D32),0),28))","v":""},{"$f":"IF(B32=\"\",\"\",INDEX(Data_kom2,MATCH(1,(komnavn2=B32)*(komaar2=D32),0),29))","v":""},{"$f":"IF(B32=\"\",\"\",INDEX(Data_kom2,MATCH(1,(komnavn2=B32)*(komaar2=D32),0),30))","v":""},{"$f":"IF(B32=\"\",\"\",INDEX(Data_kom2,MATCH(1,(komnavn2=B32)*(komaar2=D32),0),31))","v":""},{"$f":"IF(B32=\"\",\"\",INDEX(Data_kom2,MATCH(1,(komnavn2=B32)*(komaar2=D32),0),32))","v":""},{"$f":"IF(B32=\"\",\"\",INDEX(Data_kom2,MATCH(1,(komnavn2=B32)*(komaar2=D32),0),33))","v":""},{"$f":"IF(B32=\"\",\"\",INDEX(Data_kom2,MATCH(1,(komnavn2=B32)*(komaar2=D32),0),34))","v":""},{"$f":"IF(B32=\"\",\"\",INDEX(Data_kom2,MATCH(1,(komnavn2=B32)*(komaar2=D32),0),35))","v":""},{"$f":"IF(B32=\"\",\"\",INDEX(Data_kom2,MATCH(1,(komnavn2=B32)*(komaar2=D32),0),36))","v":""},{"$f":"IF(B32=\"\",\"\",INDEX(Data_kom2,MATCH(1,(komnavn2=B32)*(komaar2=D32),0),37))","v":""},{"$f":"IF(B32=\"\",\"\",INDEX(Data_kom2,MATCH(1,(komnavn2=B32)*(komaar2=D32),0),38))","v":""}]
[null,{"$f":"'Dine valg'!$G$29","v":""},{"$f":"IF(B33=\"\",\"\",INDEX(Data_kom2,MATCH(1,(komnavn2=B33)*(komaar2=D33),0),2))","v":""},"2021-07-01",{"$f":"IF(B33=\"\",\"\",INDEX(Data_kom2,MATCH(1,(komnavn2=B33)*(komaar2=D33),0),4))","v":""},{"$f":"IF(B33=\"\",\"\",INDEX(Data_kom2,MATCH(1,(komnavn2=B33)*(komaar2=D33),0),5))","v":""},{"$f":"IF(B33=\"\",\"\",INDEX(Data_kom2,MATCH(1,(komnavn2=B33)*(komaar2=D33),0),6))","v":""},{"$f":"IF(B33=\"\",\"\",INDEX(Data_kom2,MATCH(1,(komnavn2=B33)*(komaar2=D33),0),7))","v":""},{"$f":"IF(B33=\"\",\"\",INDEX(Data_kom2,MATCH(1,(komnavn2=B33)*(komaar2=D33),0),8))","v":""},{"$f":"IF(B33=\"\",\"\",INDEX(Data_kom2,MATCH(1,(komnavn2=B33)*(komaar2=D33),0),9))","v":""},{"$f":"IF(B33=\"\",\"\",INDEX(Data_kom2,MATCH(1,(komnavn2=B33)*(komaar2=D33),0),10))","v":""},{"$f":"IF(B33=\"\",\"\",INDEX(Data_kom2,MATCH(1,(komnavn2=B33)*(komaar2=D33),0),11))","v":""},{"$f":"IF(B33=\"\",\"\",INDEX(Data_kom2,MATCH(1,(komnavn2=B33)*(komaar2=D33),0),12))","v":""},{"$f":"IF(B33=\"\",\"\",INDEX(Data_kom2,MATCH(1,(komnavn2=B33)*(komaar2=D33),0),13))","v":""},{"$f":"IF(B33=\"\",\"\",INDEX(Data_kom2,MATCH(1,(komnavn2=B33)*(komaar2=D33),0),14))","v":""},{"$f":"IF(B33=\"\",\"\",INDEX(Data_kom2,MATCH(1,(komnavn2=B33)*(komaar2=D33),0),15))","v":""},{"$f":"IF(B33=\"\",\"\",INDEX(Data_kom2,MATCH(1,(komnavn2=B33)*(komaar2=D33),0),16))","v":""},{"$f":"IF(B33=\"\",\"\",INDEX(Data_kom2,MATCH(1,(komnavn2=B33)*(komaar2=D33),0),17))","v":""},{"$f":"IF(B33=\"\",\"\",INDEX(Data_kom2,MATCH(1,(komnavn2=B33)*(komaar2=D33),0),18))","v":""},{"$f":"IF(B33=\"\",\"\",INDEX(Data_kom2,MATCH(1,(komnavn2=B33)*(komaar2=D33),0),19))","v":""},{"$f":"IF(B33=\"\",\"\",INDEX(Data_kom2,MATCH(1,(komnavn2=B33)*(komaar2=D33),0),20))","v":""},{"$f":"IF(B33=\"\",\"\",INDEX(Data_kom2,MATCH(1,(komnavn2=B33)*(komaar2=D33),0),21))","v":""},{"$f":"IF(B33=\"\",\"\",INDEX(Data_kom2,MATCH(1,(komnavn2=B33)*(komaar2=D33),0),22))","v":""},{"$f":"IF(B33=\"\",\"\",INDEX(Data_kom2,MATCH(1,(komnavn2=B33)*(komaar2=D33),0),23))","v":""},{"$f":"IF(B33=\"\",\"\",INDEX(Data_kom2,MATCH(1,(komnavn2=B33)*(komaar2=D33),0),24))","v":""},{"$f":"IF(B33=\"\",\"\",INDEX(Data_kom2,MATCH(1,(komnavn2=B33)*(komaar2=D33),0),25))","v":""},{"$f":"IF(B33=\"\",\"\",INDEX(Data_kom2,MATCH(1,(komnavn2=B33)*(komaar2=D33),0),26))","v":""},{"$f":"IF(B33=\"\",\"\",INDEX(Data_kom2,MATCH(1,(komnavn2=B33)*(komaar2=D33),0),27))","v":""},{"$f":"IF(B33=\"\",\"\",INDEX(Data_kom2,MATCH(1,(komnavn2=B33)*(komaar2=D33),0),28))","v":""},{"$f":"IF(B33=\"\",\"\",INDEX(Data_kom2,MATCH(1,(komnavn2=B33)*(komaar2=D33),0),29))","v":""},{"$f":"IF(B33=\"\",\"\",INDEX(Data_kom2,MATCH(1,(komnavn2=B33)*(komaar2=D33),0),30))","v":""},{"$f":"IF(B33=\"\",\"\",INDEX(Data_kom2,MATCH(1,(komnavn2=B33)*(komaar2=D33),0),31))","v":""},{"$f":"IF(B33=\"\",\"\",INDEX(Data_kom2,MATCH(1,(komnavn2=B33)*(komaar2=D33),0),32))","v":""},{"$f":"IF(B33=\"\",\"\",INDEX(Data_kom2,MATCH(1,(komnavn2=B33)*(komaar2=D33),0),33))","v":""},{"$f":"IF(B33=\"\",\"\",INDEX(Data_kom2,MATCH(1,(komnavn2=B33)*(komaar2=D33),0),34))","v":""},{"$f":"IF(B33=\"\",\"\",INDEX(Data_kom2,MATCH(1,(komnavn2=B33)*(komaar2=D33),0),35))","v":""},{"$f":"IF(B33=\"\",\"\",INDEX(Data_kom2,MATCH(1,(komnavn2=B33)*(komaar2=D33),0),36))","v":""},{"$f":"IF(B33=\"\",\"\",INDEX(Data_kom2,MATCH(1,(komnavn2=B33)*(komaar2=D33),0),37))","v":""},{"$f":"IF(B33=\"\",\"\",INDEX(Data_kom2,MATCH(1,(komnavn2=B33)*(komaar2=D33),0),38))","v":""}]
[null,{"$f":"'Dine valg'!$G$30","v":""},{"$f":"IF(B34=\"\",\"\",INDEX(Data_kom2,MATCH(1,(komnavn2=B34)*(komaar2=D34),0),2))","v":""},"2021-07-01",{"$f":"IF(B34=\"\",\"\",INDEX(Data_kom2,MATCH(1,(komnavn2=B34)*(komaar2=D34),0),4))","v":""},{"$f":"IF(B34=\"\",\"\",INDEX(Data_kom2,MATCH(1,(komnavn2=B34)*(komaar2=D34),0),5))","v":""},{"$f":"IF(B34=\"\",\"\",INDEX(Data_kom2,MATCH(1,(komnavn2=B34)*(komaar2=D34),0),6))","v":""},{"$f":"IF(B34=\"\",\"\",INDEX(Data_kom2,MATCH(1,(komnavn2=B34)*(komaar2=D34),0),7))","v":""},{"$f":"IF(B34=\"\",\"\",INDEX(Data_kom2,MATCH(1,(komnavn2=B34)*(komaar2=D34),0),8))","v":""},{"$f":"IF(B34=\"\",\"\",INDEX(Data_kom2,MATCH(1,(komnavn2=B34)*(komaar2=D34),0),9))","v":""},{"$f":"IF(B34=\"\",\"\",INDEX(Data_kom2,MATCH(1,(komnavn2=B34)*(komaar2=D34),0),10))","v":""},{"$f":"IF(B34=\"\",\"\",INDEX(Data_kom2,MATCH(1,(komnavn2=B34)*(komaar2=D34),0),11))","v":""},{"$f":"IF(B34=\"\",\"\",INDEX(Data_kom2,MATCH(1,(komnavn2=B34)*(komaar2=D34),0),12))","v":""},{"$f":"IF(B34=\"\",\"\",INDEX(Data_kom2,MATCH(1,(komnavn2=B34)*(komaar2=D34),0),13))","v":""},{"$f":"IF(B34=\"\",\"\",INDEX(Data_kom2,MATCH(1,(komnavn2=B34)*(komaar2=D34),0),14))","v":""},{"$f":"IF(B34=\"\",\"\",INDEX(Data_kom2,MATCH(1,(komnavn2=B34)*(komaar2=D34),0),15))","v":""},{"$f":"IF(B34=\"\",\"\",INDEX(Data_kom2,MATCH(1,(komnavn2=B34)*(komaar2=D34),0),16))","v":""},{"$f":"IF(B34=\"\",\"\",INDEX(Data_kom2,MATCH(1,(komnavn2=B34)*(komaar2=D34),0),17))","v":""},{"$f":"IF(B34=\"\",\"\",INDEX(Data_kom2,MATCH(1,(komnavn2=B34)*(komaar2=D34),0),18))","v":""},{"$f":"IF(B34=\"\",\"\",INDEX(Data_kom2,MATCH(1,(komnavn2=B34)*(komaar2=D34),0),19))","v":""},{"$f":"IF(B34=\"\",\"\",INDEX(Data_kom2,MATCH(1,(komnavn2=B34)*(komaar2=D34),0),20))","v":""},{"$f":"IF(B34=\"\",\"\",INDEX(Data_kom2,MATCH(1,(komnavn2=B34)*(komaar2=D34),0),21))","v":""},{"$f":"IF(B34=\"\",\"\",INDEX(Data_kom2,MATCH(1,(komnavn2=B34)*(komaar2=D34),0),22))","v":""},{"$f":"IF(B34=\"\",\"\",INDEX(Data_kom2,MATCH(1,(komnavn2=B34)*(komaar2=D34),0),23))","v":""},{"$f":"IF(B34=\"\",\"\",INDEX(Data_kom2,MATCH(1,(komnavn2=B34)*(komaar2=D34),0),24))","v":""},{"$f":"IF(B34=\"\",\"\",INDEX(Data_kom2,MATCH(1,(komnavn2=B34)*(komaar2=D34),0),25))","v":""},{"$f":"IF(B34=\"\",\"\",INDEX(Data_kom2,MATCH(1,(komnavn2=B34)*(komaar2=D34),0),26))","v":""},{"$f":"IF(B34=\"\",\"\",INDEX(Data_kom2,MATCH(1,(komnavn2=B34)*(komaar2=D34),0),27))","v":""},{"$f":"IF(B34=\"\",\"\",INDEX(Data_kom2,MATCH(1,(komnavn2=B34)*(komaar2=D34),0),28))","v":""},{"$f":"IF(B34=\"\",\"\",INDEX(Data_kom2,MATCH(1,(komnavn2=B34)*(komaar2=D34),0),29))","v":""},{"$f":"IF(B34=\"\",\"\",INDEX(Data_kom2,MATCH(1,(komnavn2=B34)*(komaar2=D34),0),30))","v":""},{"$f":"IF(B34=\"\",\"\",INDEX(Data_kom2,MATCH(1,(komnavn2=B34)*(komaar2=D34),0),31))","v":""},{"$f":"IF(B34=\"\",\"\",INDEX(Data_kom2,MATCH(1,(komnavn2=B34)*(komaar2=D34),0),32))","v":""},{"$f":"IF(B34=\"\",\"\",INDEX(Data_kom2,MATCH(1,(komnavn2=B34)*(komaar2=D34),0),33))","v":""},{"$f":"IF(B34=\"\",\"\",INDEX(Data_kom2,MATCH(1,(komnavn2=B34)*(komaar2=D34),0),34))","v":""},{"$f":"IF(B34=\"\",\"\",INDEX(Data_kom2,MATCH(1,(komnavn2=B34)*(komaar2=D34),0),35))","v":""},{"$f":"IF(B34=\"\",\"\",INDEX(Data_kom2,MATCH(1,(komnavn2=B34)*(komaar2=D34),0),36))","v":""},{"$f":"IF(B34=\"\",\"\",INDEX(Data_kom2,MATCH(1,(komnavn2=B34)*(komaar2=D34),0),37))","v":""},{"$f":"IF(B34=\"\",\"\",INDEX(Data_kom2,MATCH(1,(komnavn2=B34)*(komaar2=D34),0),38))","v":""}]
[null,{"$f":"'Dine valg'!$G$24","v":"Aarhus"},{"$f":"IF(B35=\"\",\"\",INDEX(Data_kom2,MATCH(1,(komnavn2=B35)*(komaar2=D35),0),2))","v":64334},"2021-01-01",{"$f":"IF(B35=\"\",\"\",INDEX(Data_kom2,MATCH(1,(komnavn2=B35)*(komaar2=D35),0),4))","v":175},{"$f":"IF(B35=\"\",\"\",INDEX(Data_kom2,MATCH(1,(komnavn2=B35)*(komaar2=D35),0),5))","v":123},{"$f":"IF(B35=\"\",\"\",INDEX(Data_kom2,MATCH(1,(komnavn2=B35)*(komaar2=D35),0),6))","v":15},{"$f":"IF(B35=\"\",\"\",INDEX(Data_kom2,MATCH(1,(komnavn2=B35)*(komaar2=D35),0),7))","v":37},{"$f":"IF(B35=\"\",\"\",INDEX(Data_kom2,MATCH(1,(komnavn2=B35)*(komaar2=D35),0),8))","v":172915},{"$f":"IF(B35=\"\",\"\",INDEX(Data_kom2,MATCH(1,(komnavn2=B35)*(komaar2=D35),0),9))","v":144465},{"$f":"IF(B35=\"\",\"\",INDEX(Data_kom2,MATCH(1,(komnavn2=B35)*(komaar2=D35),0),10))","v":1831},{"$f":"IF(B35=\"\",\"\",INDEX(Data_kom2,MATCH(1,(komnavn2=B35)*(komaar2=D35),0),11))","v":26619},{"$f":"IF(B35=\"\",\"\",INDEX(Data_kom2,MATCH(1,(komnavn2=B35)*(komaar2=D35),0),12))","v":224},{"$f":"IF(B35=\"\",\"\",INDEX(Data_kom2,MATCH(1,(komnavn2=B35)*(komaar2=D35),0),13))","v":26},{"$f":"IF(B35=\"\",\"\",INDEX(Data_kom2,MATCH(1,(komnavn2=B35)*(komaar2=D35),0),14))","v":1252},{"$f":"IF(B35=\"\",\"\",INDEX(Data_kom2,MATCH(1,(komnavn2=B35)*(komaar2=D35),0),15))","v":"*"},{"$f":"IF(B35=\"\",\"\",INDEX(Data_kom2,MATCH(1,(komnavn2=B35)*(komaar2=D35),0),16))","v":"*"},{"$f":"IF(B35=\"\",\"\",INDEX(Data_kom2,MATCH(1,(komnavn2=B35)*(komaar2=D35),0),17))","v":1233},{"$f":"IF(B35=\"\",\"\",INDEX(Data_kom2,MATCH(1,(komnavn2=B35)*(komaar2=D35),0),18))","v":15},{"$f":"IF(B35=\"\",\"\",INDEX(Data_kom2,MATCH(1,(komnavn2=B35)*(komaar2=D35),0),19))","v":0},{"$f":"IF(B35=\"\",\"\",INDEX(Data_kom2,MATCH(1,(komnavn2=B35)*(komaar2=D35),0),20))","v":0},{"$f":"IF(B35=\"\",\"\",INDEX(Data_kom2,MATCH(1,(komnavn2=B35)*(komaar2=D35),0),21))","v":0},{"$f":"IF(B35=\"\",\"\",INDEX(Data_kom2,MATCH(1,(komnavn2=B35)*(komaar2=D35),0),22))","v":28},{"$f":"IF(B35=\"\",\"\",INDEX(Data_kom2,MATCH(1,(komnavn2=B35)*(komaar2=D35),0),23))","v":173},{"$f":"IF(B35=\"\",\"\",INDEX(Data_kom2,MATCH(1,(komnavn2=B35)*(komaar2=D35),0),24))","v":0},{"$f":"IF(B35=\"\",\"\",INDEX(Data_kom2,MATCH(1,(komnavn2=B35)*(komaar2=D35),0),25))","v":173},{"$f":"IF(B35=\"\",\"\",INDEX(Data_kom2,MATCH(1,(komnavn2=B35)*(komaar2=D35),0),26))","v":28},{"$f":"IF(B35=\"\",\"\",INDEX(Data_kom2,MATCH(1,(komnavn2=B35)*(komaar2=D35),0),27))","v":173},{"$f":"IF(B35=\"\",\"\",INDEX(Data_kom2,MATCH(1,(komnavn2=B35)*(komaar2=D35),0),28))","v":22},{"$f":"IF(B35=\"\",\"\",INDEX(Data_kom2,MATCH(1,(komnavn2=B35)*(komaar2=D35),0),29))","v":1266},{"$f":"IF(B35=\"\",\"\",INDEX(Data_kom2,MATCH(1,(komnavn2=B35)*(komaar2=D35),0),30))","v":355},{"$f":"IF(B35=\"\",\"\",INDEX(Data_kom2,MATCH(1,(komnavn2=B35)*(komaar2=D35),0),31))","v":1270},{"$f":"IF(B35=\"\",\"\",INDEX(Data_kom2,MATCH(1,(komnavn2=B35)*(komaar2=D35),0),32))","v":0},{"$f":"IF(B35=\"\",\"\",INDEX(Data_kom2,MATCH(1,(komnavn2=B35)*(komaar2=D35),0),33))","v":0},{"$f":"IF(B35=\"\",\"\",INDEX(Data_kom2,MATCH(1,(komnavn2=B35)*(komaar2=D35),0),34))","v":0},{"$f":"IF(B35=\"\",\"\",INDEX(Data_kom2,MATCH(1,(komnavn2=B35)*(komaar2=D35),0),35))","v":0},{"$f":"IF(B35=\"\",\"\",INDEX(Data_kom2,MATCH(1,(komnavn2=B35)*(komaar2=D35),0),36))","v":0},{"$f":"IF(B35=\"\",\"\",INDEX(Data_kom2,MATCH(1,(komnavn2=B35)*(komaar2=D35),0),37))","v":0},{"$f":"IF(B35=\"\",\"\",INDEX(Data_kom2,MATCH(1,(komnavn2=B35)*(komaar2=D35),0),38))","v":"Region Midtjylland"}]
[null,{"$f":"'Dine valg'!$G$25","v":""},{"$f":"IF(B36=\"\",\"\",INDEX(Data_kom2,MATCH(1,(komnavn2=B36)*(komaar2=D36),0),2))","v":""},"2021-01-01",{"$f":"IF(B36=\"\",\"\",INDEX(Data_kom2,MATCH(1,(komnavn2=B36)*(komaar2=D36),0),4))","v":""},{"$f":"IF(B36=\"\",\"\",INDEX(Data_kom2,MATCH(1,(komnavn2=B36)*(komaar2=D36),0),5))","v":""},{"$f":"IF(B36=\"\",\"\",INDEX(Data_kom2,MATCH(1,(komnavn2=B36)*(komaar2=D36),0),6))","v":""},{"$f":"IF(B36=\"\",\"\",INDEX(Data_kom2,MATCH(1,(komnavn2=B36)*(komaar2=D36),0),7))","v":""},{"$f":"IF(B36=\"\",\"\",INDEX(Data_kom2,MATCH(1,(komnavn2=B36)*(komaar2=D36),0),8))","v":""},{"$f":"IF(B36=\"\",\"\",INDEX(Data_kom2,MATCH(1,(komnavn2=B36)*(komaar2=D36),0),9))","v":""},{"$f":"IF(B36=\"\",\"\",INDEX(Data_kom2,MATCH(1,(komnavn2=B36)*(komaar2=D36),0),10))","v":""},{"$f":"IF(B36=\"\",\"\",INDEX(Data_kom2,MATCH(1,(komnavn2=B36)*(komaar2=D36),0),11))","v":""},{"$f":"IF(B36=\"\",\"\",INDEX(Data_kom2,MATCH(1,(komnavn2=B36)*(komaar2=D36),0),12))","v":""},{"$f":"IF(B36=\"\",\"\",INDEX(Data_kom2,MATCH(1,(komnavn2=B36)*(komaar2=D36),0),13))","v":""},{"$f":"IF(B36=\"\",\"\",INDEX(Data_kom2,MATCH(1,(komnavn2=B36)*(komaar2=D36),0),14))","v":""},{"$f":"IF(B36=\"\",\"\",INDEX(Data_kom2,MATCH(1,(komnavn2=B36)*(komaar2=D36),0),15))","v":""},{"$f":"IF(B36=\"\",\"\",INDEX(Data_kom2,MATCH(1,(komnavn2=B36)*(komaar2=D36),0),16))","v":""},{"$f":"IF(B36=\"\",\"\",INDEX(Data_kom2,MATCH(1,(komnavn2=B36)*(komaar2=D36),0),17))","v":""},{"$f":"IF(B36=\"\",\"\",INDEX(Data_kom2,MATCH(1,(komnavn2=B36)*(komaar2=D36),0),18))","v":""},{"$f":"IF(B36=\"\",\"\",INDEX(Data_kom2,MATCH(1,(komnavn2=B36)*(komaar2=D36),0),19))","v":""},{"$f":"IF(B36=\"\",\"\",INDEX(Data_kom2,MATCH(1,(komnavn2=B36)*(komaar2=D36),0),20))","v":""},{"$f":"IF(B36=\"\",\"\",INDEX(Data_kom2,MATCH(1,(komnavn2=B36)*(komaar2=D36),0),21))","v":""},{"$f":"IF(B36=\"\",\"\",INDEX(Data_kom2,MATCH(1,(komnavn2=B36)*(komaar2=D36),0),22))","v":""},{"$f":"IF(B36=\"\",\"\",INDEX(Data_kom2,MATCH(1,(komnavn2=B36)*(komaar2=D36),0),23))","v":""},{"$f":"IF(B36=\"\",\"\",INDEX(Data_kom2,MATCH(1,(komnavn2=B36)*(komaar2=D36),0),24))","v":""},{"$f":"IF(B36=\"\",\"\",INDEX(Data_kom2,MATCH(1,(komnavn2=B36)*(komaar2=D36),0),25))","v":""},{"$f":"IF(B36=\"\",\"\",INDEX(Data_kom2,MATCH(1,(komnavn2=B36)*(komaar2=D36),0),26))","v":""},{"$f":"IF(B36=\"\",\"\",INDEX(Data_kom2,MATCH(1,(komnavn2=B36)*(komaar2=D36),0),27))","v":""},{"$f":"IF(B36=\"\",\"\",INDEX(Data_kom2,MATCH(1,(komnavn2=B36)*(komaar2=D36),0),28))","v":""},{"$f":"IF(B36=\"\",\"\",INDEX(Data_kom2,MATCH(1,(komnavn2=B36)*(komaar2=D36),0),29))","v":""},{"$f":"IF(B36=\"\",\"\",INDEX(Data_kom2,MATCH(1,(komnavn2=B36)*(komaar2=D36),0),30))","v":""},{"$f":"IF(B36=\"\",\"\",INDEX(Data_kom2,MATCH(1,(komnavn2=B36)*(komaar2=D36),0),31))","v":""},{"$f":"IF(B36=\"\",\"\",INDEX(Data_kom2,MATCH(1,(komnavn2=B36)*(komaar2=D36),0),32))","v":""},{"$f":"IF(B36=\"\",\"\",INDEX(Data_kom2,MATCH(1,(komnavn2=B36)*(komaar2=D36),0),33))","v":""},{"$f":"IF(B36=\"\",\"\",INDEX(Data_kom2,MATCH(1,(komnavn2=B36)*(komaar2=D36),0),34))","v":""},{"$f":"IF(B36=\"\",\"\",INDEX(Data_kom2,MATCH(1,(komnavn2=B36)*(komaar2=D36),0),35))","v":""},{"$f":"IF(B36=\"\",\"\",INDEX(Data_kom2,MATCH(1,(komnavn2=B36)*(komaar2=D36),0),36))","v":""},{"$f":"IF(B36=\"\",\"\",INDEX(Data_kom2,MATCH(1,(komnavn2=B36)*(komaar2=D36),0),37))","v":""},{"$f":"IF(B36=\"\",\"\",INDEX(Data_kom2,MATCH(1,(komnavn2=B36)*(komaar2=D36),0),38))","v":""}]
[null,{"$f":"'Dine valg'!$G$26","v":""},{"$f":"IF(B37=\"\",\"\",INDEX(Data_kom2,MATCH(1,(komnavn2=B37)*(komaar2=D37),0),2))","v":""},"2021-01-01",{"$f":"IF(B37=\"\",\"\",INDEX(Data_kom2,MATCH(1,(komnavn2=B37)*(komaar2=D37),0),4))","v":""},{"$f":"IF(B37=\"\",\"\",INDEX(Data_kom2,MATCH(1,(komnavn2=B37)*(komaar2=D37),0),5))","v":""},{"$f":"IF(B37=\"\",\"\",INDEX(Data_kom2,MATCH(1,(komnavn2=B37)*(komaar2=D37),0),6))","v":""},{"$f":"IF(B37=\"\",\"\",INDEX(Data_kom2,MATCH(1,(komnavn2=B37)*(komaar2=D37),0),7))","v":""},{"$f":"IF(B37=\"\",\"\",INDEX(Data_kom2,MATCH(1,(komnavn2=B37)*(komaar2=D37),0),8))","v":""},{"$f":"IF(B37=\"\",\"\",INDEX(Data_kom2,MATCH(1,(komnavn2=B37)*(komaar2=D37),0),9))","v":""},{"$f":"IF(B37=\"\",\"\",INDEX(Data_kom2,MATCH(1,(komnavn2=B37)*(komaar2=D37),0),10))","v":""},{"$f":"IF(B37=\"\",\"\",INDEX(Data_kom2,MATCH(1,(komnavn2=B37)*(komaar2=D37),0),11))","v":""},{"$f":"IF(B37=\"\",\"\",INDEX(Data_kom2,MATCH(1,(komnavn2=B37)*(komaar2=D37),0),12))","v":""},{"$f":"IF(B37=\"\",\"\",INDEX(Data_kom2,MATCH(1,(komnavn2=B37)*(komaar2=D37),0),13))","v":""},{"$f":"IF(B37=\"\",\"\",INDEX(Data_kom2,MATCH(1,(komnavn2=B37)*(komaar2=D37),0),14))","v":""},{"$f":"IF(B37=\"\",\"\",INDEX(Data_kom2,MATCH(1,(komnavn2=B37)*(komaar2=D37),0),15))","v":""},{"$f":"IF(B37=\"\",\"\",INDEX(Data_kom2,MATCH(1,(komnavn2=B37)*(komaar2=D37),0),16))","v":""},{"$f":"IF(B37=\"\",\"\",INDEX(Data_kom2,MATCH(1,(komnavn2=B37)*(komaar2=D37),0),17))","v":""},{"$f":"IF(B37=\"\",\"\",INDEX(Data_kom2,MATCH(1,(komnavn2=B37)*(komaar2=D37),0),18))","v":""},{"$f":"IF(B37=\"\",\"\",INDEX(Data_kom2,MATCH(1,(komnavn2=B37)*(komaar2=D37),0),19))","v":""},{"$f":"IF(B37=\"\",\"\",INDEX(Data_kom2,MATCH(1,(komnavn2=B37)*(komaar2=D37),0),20))","v":""},{"$f":"IF(B37=\"\",\"\",INDEX(Data_kom2,MATCH(1,(komnavn2=B37)*(komaar2=D37),0),21))","v":""},{"$f":"IF(B37=\"\",\"\",INDEX(Data_kom2,MATCH(1,(komnavn2=B37)*(komaar2=D37),0),22))","v":""},{"$f":"IF(B37=\"\",\"\",INDEX(Data_kom2,MATCH(1,(komnavn2=B37)*(komaar2=D37),0),23))","v":""},{"$f":"IF(B37=\"\",\"\",INDEX(Data_kom2,MATCH(1,(komnavn2=B37)*(komaar2=D37),0),24))","v":""},{"$f":"IF(B37=\"\",\"\",INDEX(Data_kom2,MATCH(1,(komnavn2=B37)*(komaar2=D37),0),25))","v":""},{"$f":"IF(B37=\"\",\"\",INDEX(Data_kom2,MATCH(1,(komnavn2=B37)*(komaar2=D37),0),26))","v":""},{"$f":"IF(B37=\"\",\"\",INDEX(Data_kom2,MATCH(1,(komnavn2=B37)*(komaar2=D37),0),27))","v":""},{"$f":"IF(B37=\"\",\"\",INDEX(Data_kom2,MATCH(1,(komnavn2=B37)*(komaar2=D37),0),28))","v":""},{"$f":"IF(B37=\"\",\"\",INDEX(Data_kom2,MATCH(1,(komnavn2=B37)*(komaar2=D37),0),29))","v":""},{"$f":"IF(B37=\"\",\"\",INDEX(Data_kom2,MATCH(1,(komnavn2=B37)*(komaar2=D37),0),30))","v":""},{"$f":"IF(B37=\"\",\"\",INDEX(Data_kom2,MATCH(1,(komnavn2=B37)*(komaar2=D37),0),31))","v":""},{"$f":"IF(B37=\"\",\"\",INDEX(Data_kom2,MATCH(1,(komnavn2=B37)*(komaar2=D37),0),32))","v":""},{"$f":"IF(B37=\"\",\"\",INDEX(Data_kom2,MATCH(1,(komnavn2=B37)*(komaar2=D37),0),33))","v":""},{"$f":"IF(B37=\"\",\"\",INDEX(Data_kom2,MATCH(1,(komnavn2=B37)*(komaar2=D37),0),34))","v":""},{"$f":"IF(B37=\"\",\"\",INDEX(Data_kom2,MATCH(1,(komnavn2=B37)*(komaar2=D37),0),35))","v":""},{"$f":"IF(B37=\"\",\"\",INDEX(Data_kom2,MATCH(1,(komnavn2=B37)*(komaar2=D37),0),36))","v":""},{"$f":"IF(B37=\"\",\"\",INDEX(Data_kom2,MATCH(1,(komnavn2=B37)*(komaar2=D37),0),37))","v":""},{"$f":"IF(B37=\"\",\"\",INDEX(Data_kom2,MATCH(1,(komnavn2=B37)*(komaar2=D37),0),38))","v":""}]
[null,{"$f":"'Dine valg'!$G$27","v":""},{"$f":"IF(B38=\"\",\"\",INDEX(Data_kom2,MATCH(1,(komnavn2=B38)*(komaar2=D38),0),2))","v":""},"2021-01-01",{"$f":"IF(B38=\"\",\"\",INDEX(Data_kom2,MATCH(1,(komnavn2=B38)*(komaar2=D38),0),4))","v":""},{"$f":"IF(B38=\"\",\"\",INDEX(Data_kom2,MATCH(1,(komnavn2=B38)*(komaar2=D38),0),5))","v":""},{"$f":"IF(B38=\"\",\"\",INDEX(Data_kom2,MATCH(1,(komnavn2=B38)*(komaar2=D38),0),6))","v":""},{"$f":"IF(B38=\"\",\"\",INDEX(Data_kom2,MATCH(1,(komnavn2=B38)*(komaar2=D38),0),7))","v":""},{"$f":"IF(B38=\"\",\"\",INDEX(Data_kom2,MATCH(1,(komnavn2=B38)*(komaar2=D38),0),8))","v":""},{"$f":"IF(B38=\"\",\"\",INDEX(Data_kom2,MATCH(1,(komnavn2=B38)*(komaar2=D38),0),9))","v":""},{"$f":"IF(B38=\"\",\"\",INDEX(Data_kom2,MATCH(1,(komnavn2=B38)*(komaar2=D38),0),10))","v":""},{"$f":"IF(B38=\"\",\"\",INDEX(Data_kom2,MATCH(1,(komnavn2=B38)*(komaar2=D38),0),11))","v":""},{"$f":"IF(B38=\"\",\"\",INDEX(Data_kom2,MATCH(1,(komnavn2=B38)*(komaar2=D38),0),12))","v":""},{"$f":"IF(B38=\"\",\"\",INDEX(Data_kom2,MATCH(1,(komnavn2=B38)*(komaar2=D38),0),13))","v":""},{"$f":"IF(B38=\"\",\"\",INDEX(Data_kom2,MATCH(1,(komnavn2=B38)*(komaar2=D38),0),14))","v":""},{"$f":"IF(B38=\"\",\"\",INDEX(Data_kom2,MATCH(1,(komnavn2=B38)*(komaar2=D38),0),15))","v":""},{"$f":"IF(B38=\"\",\"\",INDEX(Data_kom2,MATCH(1,(komnavn2=B38)*(komaar2=D38),0),16))","v":""},{"$f":"IF(B38=\"\",\"\",INDEX(Data_kom2,MATCH(1,(komnavn2=B38)*(komaar2=D38),0),17))","v":""},{"$f":"IF(B38=\"\",\"\",INDEX(Data_kom2,MATCH(1,(komnavn2=B38)*(komaar2=D38),0),18))","v":""},{"$f":"IF(B38=\"\",\"\",INDEX(Data_kom2,MATCH(1,(komnavn2=B38)*(komaar2=D38),0),19))","v":""},{"$f":"IF(B38=\"\",\"\",INDEX(Data_kom2,MATCH(1,(komnavn2=B38)*(komaar2=D38),0),20))","v":""},{"$f":"IF(B38=\"\",\"\",INDEX(Data_kom2,MATCH(1,(komnavn2=B38)*(komaar2=D38),0),21))","v":""},{"$f":"IF(B38=\"\",\"\",INDEX(Data_kom2,MATCH(1,(komnavn2=B38)*(komaar2=D38),0),22))","v":""},{"$f":"IF(B38=\"\",\"\",INDEX(Data_kom2,MATCH(1,(komnavn2=B38)*(komaar2=D38),0),23))","v":""},{"$f":"IF(B38=\"\",\"\",INDEX(Data_kom2,MATCH(1,(komnavn2=B38)*(komaar2=D38),0),24))","v":""},{"$f":"IF(B38=\"\",\"\",INDEX(Data_kom2,MATCH(1,(komnavn2=B38)*(komaar2=D38),0),25))","v":""},{"$f":"IF(B38=\"\",\"\",INDEX(Data_kom2,MATCH(1,(komnavn2=B38)*(komaar2=D38),0),26))","v":""},{"$f":"IF(B38=\"\",\"\",INDEX(Data_kom2,MATCH(1,(komnavn2=B38)*(komaar2=D38),0),27))","v":""},{"$f":"IF(B38=\"\",\"\",INDEX(Data_kom2,MATCH(1,(komnavn2=B38)*(komaar2=D38),0),28))","v":""},{"$f":"IF(B38=\"\",\"\",INDEX(Data_kom2,MATCH(1,(komnavn2=B38)*(komaar2=D38),0),29))","v":""},{"$f":"IF(B38=\"\",\"\",INDEX(Data_kom2,MATCH(1,(komnavn2=B38)*(komaar2=D38),0),30))","v":""},{"$f":"IF(B38=\"\",\"\",INDEX(Data_kom2,MATCH(1,(komnavn2=B38)*(komaar2=D38),0),31))","v":""},{"$f":"IF(B38=\"\",\"\",INDEX(Data_kom2,MATCH(1,(komnavn2=B38)*(komaar2=D38),0),32))","v":""},{"$f":"IF(B38=\"\",\"\",INDEX(Data_kom2,MATCH(1,(komnavn2=B38)*(komaar2=D38),0),33))","v":""},{"$f":"IF(B38=\"\",\"\",INDEX(Data_kom2,MATCH(1,(komnavn2=B38)*(komaar2=D38),0),34))","v":""},{"$f":"IF(B38=\"\",\"\",INDEX(Data_kom2,MATCH(1,(komnavn2=B38)*(komaar2=D38),0),35))","v":""},{"$f":"IF(B38=\"\",\"\",INDEX(Data_kom2,MATCH(1,(komnavn2=B38)*(komaar2=D38),0),36))","v":""},{"$f":"IF(B38=\"\",\"\",INDEX(Data_kom2,MATCH(1,(komnavn2=B38)*(komaar2=D38),0),37))","v":""},{"$f":"IF(B38=\"\",\"\",INDEX(Data_kom2,MATCH(1,(komnavn2=B38)*(komaar2=D38),0),38))","v":""}]
[null,{"$f":"'Dine valg'!$G$28","v":""},{"$f":"IF(B39=\"\",\"\",INDEX(Data_kom2,MATCH(1,(komnavn2=B39)*(komaar2=D39),0),2))","v":""},"2021-01-01",{"$f":"IF(B39=\"\",\"\",INDEX(Data_kom2,MATCH(1,(komnavn2=B39)*(komaar2=D39),0),4))","v":""},{"$f":"IF(B39=\"\",\"\",INDEX(Data_kom2,MATCH(1,(komnavn2=B39)*(komaar2=D39),0),5))","v":""},{"$f":"IF(B39=\"\",\"\",INDEX(Data_kom2,MATCH(1,(komnavn2=B39)*(komaar2=D39),0),6))","v":""},{"$f":"IF(B39=\"\",\"\",INDEX(Data_kom2,MATCH(1,(komnavn2=B39)*(komaar2=D39),0),7))","v":""},{"$f":"IF(B39=\"\",\"\",INDEX(Data_kom2,MATCH(1,(komnavn2=B39)*(komaar2=D39),0),8))","v":""},{"$f":"IF(B39=\"\",\"\",INDEX(Data_kom2,MATCH(1,(komnavn2=B39)*(komaar2=D39),0),9))","v":""},{"$f":"IF(B39=\"\",\"\",INDEX(Data_kom2,MATCH(1,(komnavn2=B39)*(komaar2=D39),0),10))","v":""},{"$f":"IF(B39=\"\",\"\",INDEX(Data_kom2,MATCH(1,(komnavn2=B39)*(komaar2=D39),0),11))","v":""},{"$f":"IF(B39=\"\",\"\",INDEX(Data_kom2,MATCH(1,(komnavn2=B39)*(komaar2=D39),0),12))","v":""},{"$f":"IF(B39=\"\",\"\",INDEX(Data_kom2,MATCH(1,(komnavn2=B39)*(komaar2=D39),0),13))","v":""},{"$f":"IF(B39=\"\",\"\",INDEX(Data_kom2,MATCH(1,(komnavn2=B39)*(komaar2=D39),0),14))","v":""},{"$f":"IF(B39=\"\",\"\",INDEX(Data_kom2,MATCH(1,(komnavn2=B39)*(komaar2=D39),0),15))","v":""},{"$f":"IF(B39=\"\",\"\",INDEX(Data_kom2,MATCH(1,(komnavn2=B39)*(komaar2=D39),0),16))","v":""},{"$f":"IF(B39=\"\",\"\",INDEX(Data_kom2,MATCH(1,(komnavn2=B39)*(komaar2=D39),0),17))","v":""},{"$f":"IF(B39=\"\",\"\",INDEX(Data_kom2,MATCH(1,(komnavn2=B39)*(komaar2=D39),0),18))","v":""},{"$f":"IF(B39=\"\",\"\",INDEX(Data_kom2,MATCH(1,(komnavn2=B39)*(komaar2=D39),0),19))","v":""},{"$f":"IF(B39=\"\",\"\",INDEX(Data_kom2,MATCH(1,(komnavn2=B39)*(komaar2=D39),0),20))","v":""},{"$f":"IF(B39=\"\",\"\",INDEX(Data_kom2,MATCH(1,(komnavn2=B39)*(komaar2=D39),0),21))","v":""},{"$f":"IF(B39=\"\",\"\",INDEX(Data_kom2,MATCH(1,(komnavn2=B39)*(komaar2=D39),0),22))","v":""},{"$f":"IF(B39=\"\",\"\",INDEX(Data_kom2,MATCH(1,(komnavn2=B39)*(komaar2=D39),0),23))","v":""},{"$f":"IF(B39=\"\",\"\",INDEX(Data_kom2,MATCH(1,(komnavn2=B39)*(komaar2=D39),0),24))","v":""},{"$f":"IF(B39=\"\",\"\",INDEX(Data_kom2,MATCH(1,(komnavn2=B39)*(komaar2=D39),0),25))","v":""},{"$f":"IF(B39=\"\",\"\",INDEX(Data_kom2,MATCH(1,(komnavn2=B39)*(komaar2=D39),0),26))","v":""},{"$f":"IF(B39=\"\",\"\",INDEX(Data_kom2,MATCH(1,(komnavn2=B39)*(komaar2=D39),0),27))","v":""},{"$f":"IF(B39=\"\",\"\",INDEX(Data_kom2,MATCH(1,(komnavn2=B39)*(komaar2=D39),0),28))","v":""},{"$f":"IF(B39=\"\",\"\",INDEX(Data_kom2,MATCH(1,(komnavn2=B39)*(komaar2=D39),0),29))","v":""},{"$f":"IF(B39=\"\",\"\",INDEX(Data_kom2,MATCH(1,(komnavn2=B39)*(komaar2=D39),0),30))","v":""},{"$f":"IF(B39=\"\",\"\",INDEX(Data_kom2,MATCH(1,(komnavn2=B39)*(komaar2=D39),0),31))","v":""},{"$f":"IF(B39=\"\",\"\",INDEX(Data_kom2,MATCH(1,(komnavn2=B39)*(komaar2=D39),0),32))","v":""},{"$f":"IF(B39=\"\",\"\",INDEX(Data_kom2,MATCH(1,(komnavn2=B39)*(komaar2=D39),0),33))","v":""},{"$f":"IF(B39=\"\",\"\",INDEX(Data_kom2,MATCH(1,(komnavn2=B39)*(komaar2=D39),0),34))","v":""},{"$f":"IF(B39=\"\",\"\",INDEX(Data_kom2,MATCH(1,(komnavn2=B39)*(komaar2=D39),0),35))","v":""},{"$f":"IF(B39=\"\",\"\",INDEX(Data_kom2,MATCH(1,(komnavn2=B39)*(komaar2=D39),0),36))","v":""},{"$f":"IF(B39=\"\",\"\",INDEX(Data_kom2,MATCH(1,(komnavn2=B39)*(komaar2=D39),0),37))","v":""},{"$f":"IF(B39=\"\",\"\",INDEX(Data_kom2,MATCH(1,(komnavn2=B39)*(komaar2=D39),0),38))","v":""}]
[null,{"$f":"'Dine valg'!$G$29","v":""},{"$f":"IF(B40=\"\",\"\",INDEX(Data_kom2,MATCH(1,(komnavn2=B40)*(komaar2=D40),0),2))","v":""},"2021-01-01",{"$f":"IF(B40=\"\",\"\",INDEX(Data_kom2,MATCH(1,(komnavn2=B40)*(komaar2=D40),0),4))","v":""},{"$f":"IF(B40=\"\",\"\",INDEX(Data_kom2,MATCH(1,(komnavn2=B40)*(komaar2=D40),0),5))","v":""},{"$f":"IF(B40=\"\",\"\",INDEX(Data_kom2,MATCH(1,(komnavn2=B40)*(komaar2=D40),0),6))","v":""},{"$f":"IF(B40=\"\",\"\",INDEX(Data_kom2,MATCH(1,(komnavn2=B40)*(komaar2=D40),0),7))","v":""},{"$f":"IF(B40=\"\",\"\",INDEX(Data_kom2,MATCH(1,(komnavn2=B40)*(komaar2=D40),0),8))","v":""},{"$f":"IF(B40=\"\",\"\",INDEX(Data_kom2,MATCH(1,(komnavn2=B40)*(komaar2=D40),0),9))","v":""},{"$f":"IF(B40=\"\",\"\",INDEX(Data_kom2,MATCH(1,(komnavn2=B40)*(komaar2=D40),0),10))","v":""},{"$f":"IF(B40=\"\",\"\",INDEX(Data_kom2,MATCH(1,(komnavn2=B40)*(komaar2=D40),0),11))","v":""},{"$f":"IF(B40=\"\",\"\",INDEX(Data_kom2,MATCH(1,(komnavn2=B40)*(komaar2=D40),0),12))","v":""},{"$f":"IF(B40=\"\",\"\",INDEX(Data_kom2,MATCH(1,(komnavn2=B40)*(komaar2=D40),0),13))","v":""},{"$f":"IF(B40=\"\",\"\",INDEX(Data_kom2,MATCH(1,(komnavn2=B40)*(komaar2=D40),0),14))","v":""},{"$f":"IF(B40=\"\",\"\",INDEX(Data_kom2,MATCH(1,(komnavn2=B40)*(komaar2=D40),0),15))","v":""},{"$f":"IF(B40=\"\",\"\",INDEX(Data_kom2,MATCH(1,(komnavn2=B40)*(komaar2=D40),0),16))","v":""},{"$f":"IF(B40=\"\",\"\",INDEX(Data_kom2,MATCH(1,(komnavn2=B40)*(komaar2=D40),0),17))","v":""},{"$f":"IF(B40=\"\",\"\",INDEX(Data_kom2,MATCH(1,(komnavn2=B40)*(komaar2=D40),0),18))","v":""},{"$f":"IF(B40=\"\",\"\",INDEX(Data_kom2,MATCH(1,(komnavn2=B40)*(komaar2=D40),0),19))","v":""},{"$f":"IF(B40=\"\",\"\",INDEX(Data_kom2,MATCH(1,(komnavn2=B40)*(komaar2=D40),0),20))","v":""},{"$f":"IF(B40=\"\",\"\",INDEX(Data_kom2,MATCH(1,(komnavn2=B40)*(komaar2=D40),0),21))","v":""},{"$f":"IF(B40=\"\",\"\",INDEX(Data_kom2,MATCH(1,(komnavn2=B40)*(komaar2=D40),0),22))","v":""},{"$f":"IF(B40=\"\",\"\",INDEX(Data_kom2,MATCH(1,(komnavn2=B40)*(komaar2=D40),0),23))","v":""},{"$f":"IF(B40=\"\",\"\",INDEX(Data_kom2,MATCH(1,(komnavn2=B40)*(komaar2=D40),0),24))","v":""},{"$f":"IF(B40=\"\",\"\",INDEX(Data_kom2,MATCH(1,(komnavn2=B40)*(komaar2=D40),0),25))","v":""},{"$f":"IF(B40=\"\",\"\",INDEX(Data_kom2,MATCH(1,(komnavn2=B40)*(komaar2=D40),0),26))","v":""},{"$f":"IF(B40=\"\",\"\",INDEX(Data_kom2,MATCH(1,(komnavn2=B40)*(komaar2=D40),0),27))","v":""},{"$f":"IF(B40=\"\",\"\",INDEX(Data_kom2,MATCH(1,(komnavn2=B40)*(komaar2=D40),0),28))","v":""},{"$f":"IF(B40=\"\",\"\",INDEX(Data_kom2,MATCH(1,(komnavn2=B40)*(komaar2=D40),0),29))","v":""},{"$f":"IF(B40=\"\",\"\",INDEX(Data_kom2,MATCH(1,(komnavn2=B40)*(komaar2=D40),0),30))","v":""},{"$f":"IF(B40=\"\",\"\",INDEX(Data_kom2,MATCH(1,(komnavn2=B40)*(komaar2=D40),0),31))","v":""},{"$f":"IF(B40=\"\",\"\",INDEX(Data_kom2,MATCH(1,(komnavn2=B40)*(komaar2=D40),0),32))","v":""},{"$f":"IF(B40=\"\",\"\",INDEX(Data_kom2,MATCH(1,(komnavn2=B40)*(komaar2=D40),0),33))","v":""},{"$f":"IF(B40=\"\",\"\",INDEX(Data_kom2,MATCH(1,(komnavn2=B40)*(komaar2=D40),0),34))","v":""},{"$f":"IF(B40=\"\",\"\",INDEX(Data_kom2,MATCH(1,(komnavn2=B40)*(komaar2=D40),0),35))","v":""},{"$f":"IF(B40=\"\",\"\",INDEX(Data_kom2,MATCH(1,(komnavn2=B40)*(komaar2=D40),0),36))","v":""},{"$f":"IF(B40=\"\",\"\",INDEX(Data_kom2,MATCH(1,(komnavn2=B40)*(komaar2=D40),0),37))","v":""},{"$f":"IF(B40=\"\",\"\",INDEX(Data_kom2,MATCH(1,(komnavn2=B40)*(komaar2=D40),0),38))","v":""}]
[null,{"$f":"'Dine valg'!$G$30","v":""},{"$f":"IF(B41=\"\",\"\",INDEX(Data_kom2,MATCH(1,(komnavn2=B41)*(komaar2=D41),0),2))","v":""},"2021-01-01",{"$f":"IF(B41=\"\",\"\",INDEX(Data_kom2,MATCH(1,(komnavn2=B41)*(komaar2=D41),0),4))","v":""},{"$f":"IF(B41=\"\",\"\",INDEX(Data_kom2,MATCH(1,(komnavn2=B41)*(komaar2=D41),0),5))","v":""},{"$f":"IF(B41=\"\",\"\",INDEX(Data_kom2,MATCH(1,(komnavn2=B41)*(komaar2=D41),0),6))","v":""},{"$f":"IF(B41=\"\",\"\",INDEX(Data_kom2,MATCH(1,(komnavn2=B41)*(komaar2=D41),0),7))","v":""},{"$f":"IF(B41=\"\",\"\",INDEX(Data_kom2,MATCH(1,(komnavn2=B41)*(komaar2=D41),0),8))","v":""},{"$f":"IF(B41=\"\",\"\",INDEX(Data_kom2,MATCH(1,(komnavn2=B41)*(komaar2=D41),0),9))","v":""},{"$f":"IF(B41=\"\",\"\",INDEX(Data_kom2,MATCH(1,(komnavn2=B41)*(komaar2=D41),0),10))","v":""},{"$f":"IF(B41=\"\",\"\",INDEX(Data_kom2,MATCH(1,(komnavn2=B41)*(komaar2=D41),0),11))","v":""},{"$f":"IF(B41=\"\",\"\",INDEX(Data_kom2,MATCH(1,(komnavn2=B41)*(komaar2=D41),0),12))","v":""},{"$f":"IF(B41=\"\",\"\",INDEX(Data_kom2,MATCH(1,(komnavn2=B41)*(komaar2=D41),0),13))","v":""},{"$f":"IF(B41=\"\",\"\",INDEX(Data_kom2,MATCH(1,(komnavn2=B41)*(komaar2=D41),0),14))","v":""},{"$f":"IF(B41=\"\",\"\",INDEX(Data_kom2,MATCH(1,(komnavn2=B41)*(komaar2=D41),0),15))","v":""},{"$f":"IF(B41=\"\",\"\",INDEX(Data_kom2,MATCH(1,(komnavn2=B41)*(komaar2=D41),0),16))","v":""},{"$f":"IF(B41=\"\",\"\",INDEX(Data_kom2,MATCH(1,(komnavn2=B41)*(komaar2=D41),0),17))","v":""},{"$f":"IF(B41=\"\",\"\",INDEX(Data_kom2,MATCH(1,(komnavn2=B41)*(komaar2=D41),0),18))","v":""},{"$f":"IF(B41=\"\",\"\",INDEX(Data_kom2,MATCH(1,(komnavn2=B41)*(komaar2=D41),0),19))","v":""},{"$f":"IF(B41=\"\",\"\",INDEX(Data_kom2,MATCH(1,(komnavn2=B41)*(komaar2=D41),0),20))","v":""},{"$f":"IF(B41=\"\",\"\",INDEX(Data_kom2,MATCH(1,(komnavn2=B41)*(komaar2=D41),0),21))","v":""},{"$f":"IF(B41=\"\",\"\",INDEX(Data_kom2,MATCH(1,(komnavn2=B41)*(komaar2=D41),0),22))","v":""},{"$f":"IF(B41=\"\",\"\",INDEX(Data_kom2,MATCH(1,(komnavn2=B41)*(komaar2=D41),0),23))","v":""},{"$f":"IF(B41=\"\",\"\",INDEX(Data_kom2,MATCH(1,(komnavn2=B41)*(komaar2=D41),0),24))","v":""},{"$f":"IF(B41=\"\",\"\",INDEX(Data_kom2,MATCH(1,(komnavn2=B41)*(komaar2=D41),0),25))","v":""},{"$f":"IF(B41=\"\",\"\",INDEX(Data_kom2,MATCH(1,(komnavn2=B41)*(komaar2=D41),0),26))","v":""},{"$f":"IF(B41=\"\",\"\",INDEX(Data_kom2,MATCH(1,(komnavn2=B41)*(komaar2=D41),0),27))","v":""},{"$f":"IF(B41=\"\",\"\",INDEX(Data_kom2,MATCH(1,(komnavn2=B41)*(komaar2=D41),0),28))","v":""},{"$f":"IF(B41=\"\",\"\",INDEX(Data_kom2,MATCH(1,(komnavn2=B41)*(komaar2=D41),0),29))","v":""},{"$f":"IF(B41=\"\",\"\",INDEX(Data_kom2,MATCH(1,(komnavn2=B41)*(komaar2=D41),0),30))","v":""},{"$f":"IF(B41=\"\",\"\",INDEX(Data_kom2,MATCH(1,(komnavn2=B41)*(komaar2=D41),0),31))","v":""},{"$f":"IF(B41=\"\",\"\",INDEX(Data_kom2,MATCH(1,(komnavn2=B41)*(komaar2=D41),0),32))","v":""},{"$f":"IF(B41=\"\",\"\",INDEX(Data_kom2,MATCH(1,(komnavn2=B41)*(komaar2=D41),0),33))","v":""},{"$f":"IF(B41=\"\",\"\",INDEX(Data_kom2,MATCH(1,(komnavn2=B41)*(komaar2=D41),0),34))","v":""},{"$f":"IF(B41=\"\",\"\",INDEX(Data_kom2,MATCH(1,(komnavn2=B41)*(komaar2=D41),0),35))","v":""},{"$f":"IF(B41=\"\",\"\",INDEX(Data_kom2,MATCH(1,(komnavn2=B41)*(komaar2=D41),0),36))","v":""},{"$f":"IF(B41=\"\",\"\",INDEX(Data_kom2,MATCH(1,(komnavn2=B41)*(komaar2=D41),0),37))","v":""},{"$f":"IF(B41=\"\",\"\",INDEX(Data_kom2,MATCH(1,(komnavn2=B41)*(komaar2=D41),0),38))","v":""}]
[null,{"$f":"'Dine valg'!$G$24","v":"Aarhus"},{"$f":"IF(B42=\"\",\"\",INDEX(Data_kom2,MATCH(1,(komnavn2=B42)*(komaar2=D42),0),2))","v":64128},"2020-07-01",{"$f":"IF(B42=\"\",\"\",INDEX(Data_kom2,MATCH(1,(komnavn2=B42)*(komaar2=D42),0),4))","v":173},{"$f":"IF(B42=\"\",\"\",INDEX(Data_kom2,MATCH(1,(komnavn2=B42)*(komaar2=D42),0),5))","v":127},{"$f":"IF(B42=\"\",\"\",INDEX(Data_kom2,MATCH(1,(komnavn2=B42)*(komaar2=D42),0),6))","v":11},{"$f":"IF(B42=\"\",\"\",INDEX(Data_kom2,MATCH(1,(komnavn2=B42)*(komaar2=D42),0),7))","v":35},{"$f":"IF(B42=\"\",\"\",INDEX(Data_kom2,MATCH(1,(komnavn2=B42)*(komaar2=D42),0),8))","v":165391},{"$f":"IF(B42=\"\",\"\",INDEX(Data_kom2,MATCH(1,(komnavn2=B42)*(komaar2=D42),0),9))","v":139069},{"$f":"IF(B42=\"\",\"\",INDEX(Data_kom2,MATCH(1,(komnavn2=B42)*(komaar2=D42),0),10))","v":1688},{"$f":"IF(B42=\"\",\"\",INDEX(Data_kom2,MATCH(1,(komnavn2=B42)*(komaar2=D42),0),11))","v":24634},{"$f":"IF(B42=\"\",\"\",INDEX(Data_kom2,MATCH(1,(komnavn2=B42)*(komaar2=D42),0),12))","v":233},{"$f":"IF(B42=\"\",\"\",INDEX(Data_kom2,MATCH(1,(komnavn2=B42)*(komaar2=D42),0),13))","v":24},{"$f":"IF(B42=\"\",\"\",INDEX(Data_kom2,MATCH(1,(komnavn2=B42)*(komaar2=D42),0),14))","v":1270},{"$f":"IF(B42=\"\",\"\",INDEX(Data_kom2,MATCH(1,(komnavn2=B42)*(komaar2=D42),0),15))","v":"*"},{"$f":"IF(B42=\"\",\"\",INDEX(Data_kom2,MATCH(1,(komnavn2=B42)*(komaar2=D42),0),16))","v":"*"},{"$f":"IF(B42=\"\",\"\",INDEX(Data_kom2,MATCH(1,(komnavn2=B42)*(komaar2=D42),0),17))","v":1251},{"$f":"IF(B42=\"\",\"\",INDEX(Data_kom2,MATCH(1,(komnavn2=B42)*(komaar2=D42),0),18))","v":15},{"$f":"IF(B42=\"\",\"\",INDEX(Data_kom2,MATCH(1,(komnavn2=B42)*(komaar2=D42),0),19))","v":0},{"$f":"IF(B42=\"\",\"\",INDEX(Data_kom2,MATCH(1,(komnavn2=B42)*(komaar2=D42),0),20))","v":0},{"$f":"IF(B42=\"\",\"\",INDEX(Data_kom2,MATCH(1,(komnavn2=B42)*(komaar2=D42),0),21))","v":0},{"$f":"IF(B42=\"\",\"\",INDEX(Data_kom2,MATCH(1,(komnavn2=B42)*(komaar2=D42),0),22))","v":46},{"$f":"IF(B42=\"\",\"\",INDEX(Data_kom2,MATCH(1,(komnavn2=B42)*(komaar2=D42),0),23))","v":171},{"$f":"IF(B42=\"\",\"\",INDEX(Data_kom2,MATCH(1,(komnavn2=B42)*(komaar2=D42),0),24))","v":4},{"$f":"IF(B42=\"\",\"\",INDEX(Data_kom2,MATCH(1,(komnavn2=B42)*(komaar2=D42),0),25))","v":171},{"$f":"IF(B42=\"\",\"\",INDEX(Data_kom2,MATCH(1,(komnavn2=B42)*(komaar2=D42),0),26))","v":42},{"$f":"IF(B42=\"\",\"\",INDEX(Data_kom2,MATCH(1,(komnavn2=B42)*(komaar2=D42),0),27))","v":171},{"$f":"IF(B42=\"\",\"\",INDEX(Data_kom2,MATCH(1,(komnavn2=B42)*(komaar2=D42),0),28))","v":38},{"$f":"IF(B42=\"\",\"\",INDEX(Data_kom2,MATCH(1,(komnavn2=B42)*(komaar2=D42),0),29))","v":1296},{"$f":"IF(B42=\"\",\"\",INDEX(Data_kom2,MATCH(1,(komnavn2=B42)*(komaar2=D42),0),30))","v":318},{"$f":"IF(B42=\"\",\"\",INDEX(Data_kom2,MATCH(1,(komnavn2=B42)*(komaar2=D42),0),31))","v":1303},{"$f":"IF(B42=\"\",\"\",INDEX(Data_kom2,MATCH(1,(komnavn2=B42)*(komaar2=D42),0),32))","v":0},{"$f":"IF(B42=\"\",\"\",INDEX(Data_kom2,MATCH(1,(komnavn2=B42)*(komaar2=D42),0),33))","v":0},{"$f":"IF(B42=\"\",\"\",INDEX(Data_kom2,MATCH(1,(komnavn2=B42)*(komaar2=D42),0),34))","v":0},{"$f":"IF(B42=\"\",\"\",INDEX(Data_kom2,MATCH(1,(komnavn2=B42)*(komaar2=D42),0),35))","v":0},{"$f":"IF(B42=\"\",\"\",INDEX(Data_kom2,MATCH(1,(komnavn2=B42)*(komaar2=D42),0),36))","v":0},{"$f":"IF(B42=\"\",\"\",INDEX(Data_kom2,MATCH(1,(komnavn2=B42)*(komaar2=D42),0),37))","v":0},{"$f":"IF(B42=\"\",\"\",INDEX(Data_kom2,MATCH(1,(komnavn2=B42)*(komaar2=D42),0),38))","v":"Region Midtjylland"}]
[null,{"$f":"'Dine valg'!$G$25","v":""},{"$f":"IF(B43=\"\",\"\",INDEX(Data_kom2,MATCH(1,(komnavn2=B43)*(komaar2=D43),0),2))","v":""},"2020-07-01",{"$f":"IF(B43=\"\",\"\",INDEX(Data_kom2,MATCH(1,(komnavn2=B43)*(komaar2=D43),0),4))","v":""},{"$f":"IF(B43=\"\",\"\",INDEX(Data_kom2,MATCH(1,(komnavn2=B43)*(komaar2=D43),0),5))","v":""},{"$f":"IF(B43=\"\",\"\",INDEX(Data_kom2,MATCH(1,(komnavn2=B43)*(komaar2=D43),0),6))","v":""},{"$f":"IF(B43=\"\",\"\",INDEX(Data_kom2,MATCH(1,(komnavn2=B43)*(komaar2=D43),0),7))","v":""},{"$f":"IF(B43=\"\",\"\",INDEX(Data_kom2,MATCH(1,(komnavn2=B43)*(komaar2=D43),0),8))","v":""},{"$f":"IF(B43=\"\",\"\",INDEX(Data_kom2,MATCH(1,(komnavn2=B43)*(komaar2=D43),0),9))","v":""},{"$f":"IF(B43=\"\",\"\",INDEX(Data_kom2,MATCH(1,(komnavn2=B43)*(komaar2=D43),0),10))","v":""},{"$f":"IF(B43=\"\",\"\",INDEX(Data_kom2,MATCH(1,(komnavn2=B43)*(komaar2=D43),0),11))","v":""},{"$f":"IF(B43=\"\",\"\",INDEX(Data_kom2,MATCH(1,(komnavn2=B43)*(komaar2=D43),0),12))","v":""},{"$f":"IF(B43=\"\",\"\",INDEX(Data_kom2,MATCH(1,(komnavn2=B43)*(komaar2=D43),0),13))","v":""},{"$f":"IF(B43=\"\",\"\",INDEX(Data_kom2,MATCH(1,(komnavn2=B43)*(komaar2=D43),0),14))","v":""},{"$f":"IF(B43=\"\",\"\",INDEX(Data_kom2,MATCH(1,(komnavn2=B43)*(komaar2=D43),0),15))","v":""},{"$f":"IF(B43=\"\",\"\",INDEX(Data_kom2,MATCH(1,(komnavn2=B43)*(komaar2=D43),0),16))","v":""},{"$f":"IF(B43=\"\",\"\",INDEX(Data_kom2,MATCH(1,(komnavn2=B43)*(komaar2=D43),0),17))","v":""},{"$f":"IF(B43=\"\",\"\",INDEX(Data_kom2,MATCH(1,(komnavn2=B43)*(komaar2=D43),0),18))","v":""},{"$f":"IF(B43=\"\",\"\",INDEX(Data_kom2,MATCH(1,(komnavn2=B43)*(komaar2=D43),0),19))","v":""},{"$f":"IF(B43=\"\",\"\",INDEX(Data_kom2,MATCH(1,(komnavn2=B43)*(komaar2=D43),0),20))","v":""},{"$f":"IF(B43=\"\",\"\",INDEX(Data_kom2,MATCH(1,(komnavn2=B43)*(komaar2=D43),0),21))","v":""},{"$f":"IF(B43=\"\",\"\",INDEX(Data_kom2,MATCH(1,(komnavn2=B43)*(komaar2=D43),0),22))","v":""},{"$f":"IF(B43=\"\",\"\",INDEX(Data_kom2,MATCH(1,(komnavn2=B43)*(komaar2=D43),0),23))","v":""},{"$f":"IF(B43=\"\",\"\",INDEX(Data_kom2,MATCH(1,(komnavn2=B43)*(komaar2=D43),0),24))","v":""},{"$f":"IF(B43=\"\",\"\",INDEX(Data_kom2,MATCH(1,(komnavn2=B43)*(komaar2=D43),0),25))","v":""},{"$f":"IF(B43=\"\",\"\",INDEX(Data_kom2,MATCH(1,(komnavn2=B43)*(komaar2=D43),0),26))","v":""},{"$f":"IF(B43=\"\",\"\",INDEX(Data_kom2,MATCH(1,(komnavn2=B43)*(komaar2=D43),0),27))","v":""},{"$f":"IF(B43=\"\",\"\",INDEX(Data_kom2,MATCH(1,(komnavn2=B43)*(komaar2=D43),0),28))","v":""},{"$f":"IF(B43=\"\",\"\",INDEX(Data_kom2,MATCH(1,(komnavn2=B43)*(komaar2=D43),0),29))","v":""},{"$f":"IF(B43=\"\",\"\",INDEX(Data_kom2,MATCH(1,(komnavn2=B43)*(komaar2=D43),0),30))","v":""},{"$f":"IF(B43=\"\",\"\",INDEX(Data_kom2,MATCH(1,(komnavn2=B43)*(komaar2=D43),0),31))","v":""},{"$f":"IF(B43=\"\",\"\",INDEX(Data_kom2,MATCH(1,(komnavn2=B43)*(komaar2=D43),0),32))","v":""},{"$f":"IF(B43=\"\",\"\",INDEX(Data_kom2,MATCH(1,(komnavn2=B43)*(komaar2=D43),0),33))","v":""},{"$f":"IF(B43=\"\",\"\",INDEX(Data_kom2,MATCH(1,(komnavn2=B43)*(komaar2=D43),0),34))","v":""},{"$f":"IF(B43=\"\",\"\",INDEX(Data_kom2,MATCH(1,(komnavn2=B43)*(komaar2=D43),0),35))","v":""},{"$f":"IF(B43=\"\",\"\",INDEX(Data_kom2,MATCH(1,(komnavn2=B43)*(komaar2=D43),0),36))","v":""},{"$f":"IF(B43=\"\",\"\",INDEX(Data_kom2,MATCH(1,(komnavn2=B43)*(komaar2=D43),0),37))","v":""},{"$f":"IF(B43=\"\",\"\",INDEX(Data_kom2,MATCH(1,(komnavn2=B43)*(komaar2=D43),0),38))","v":""}]
[null,{"$f":"'Dine valg'!$G$26","v":""},{"$f":"IF(B44=\"\",\"\",INDEX(Data_kom2,MATCH(1,(komnavn2=B44)*(komaar2=D44),0),2))","v":""},"2020-07-01",{"$f":"IF(B44=\"\",\"\",INDEX(Data_kom2,MATCH(1,(komnavn2=B44)*(komaar2=D44),0),4))","v":""},{"$f":"IF(B44=\"\",\"\",INDEX(Data_kom2,MATCH(1,(komnavn2=B44)*(komaar2=D44),0),5))","v":""},{"$f":"IF(B44=\"\",\"\",INDEX(Data_kom2,MATCH(1,(komnavn2=B44)*(komaar2=D44),0),6))","v":""},{"$f":"IF(B44=\"\",\"\",INDEX(Data_kom2,MATCH(1,(komnavn2=B44)*(komaar2=D44),0),7))","v":""},{"$f":"IF(B44=\"\",\"\",INDEX(Data_kom2,MATCH(1,(komnavn2=B44)*(komaar2=D44),0),8))","v":""},{"$f":"IF(B44=\"\",\"\",INDEX(Data_kom2,MATCH(1,(komnavn2=B44)*(komaar2=D44),0),9))","v":""},{"$f":"IF(B44=\"\",\"\",INDEX(Data_kom2,MATCH(1,(komnavn2=B44)*(komaar2=D44),0),10))","v":""},{"$f":"IF(B44=\"\",\"\",INDEX(Data_kom2,MATCH(1,(komnavn2=B44)*(komaar2=D44),0),11))","v":""},{"$f":"IF(B44=\"\",\"\",INDEX(Data_kom2,MATCH(1,(komnavn2=B44)*(komaar2=D44),0),12))","v":""},{"$f":"IF(B44=\"\",\"\",INDEX(Data_kom2,MATCH(1,(komnavn2=B44)*(komaar2=D44),0),13))","v":""},{"$f":"IF(B44=\"\",\"\",INDEX(Data_kom2,MATCH(1,(komnavn2=B44)*(komaar2=D44),0),14))","v":""},{"$f":"IF(B44=\"\",\"\",INDEX(Data_kom2,MATCH(1,(komnavn2=B44)*(komaar2=D44),0),15))","v":""},{"$f":"IF(B44=\"\",\"\",INDEX(Data_kom2,MATCH(1,(komnavn2=B44)*(komaar2=D44),0),16))","v":""},{"$f":"IF(B44=\"\",\"\",INDEX(Data_kom2,MATCH(1,(komnavn2=B44)*(komaar2=D44),0),17))","v":""},{"$f":"IF(B44=\"\",\"\",INDEX(Data_kom2,MATCH(1,(komnavn2=B44)*(komaar2=D44),0),18))","v":""},{"$f":"IF(B44=\"\",\"\",INDEX(Data_kom2,MATCH(1,(komnavn2=B44)*(komaar2=D44),0),19))","v":""},{"$f":"IF(B44=\"\",\"\",INDEX(Data_kom2,MATCH(1,(komnavn2=B44)*(komaar2=D44),0),20))","v":""},{"$f":"IF(B44=\"\",\"\",INDEX(Data_kom2,MATCH(1,(komnavn2=B44)*(komaar2=D44),0),21))","v":""},{"$f":"IF(B44=\"\",\"\",INDEX(Data_kom2,MATCH(1,(komnavn2=B44)*(komaar2=D44),0),22))","v":""},{"$f":"IF(B44=\"\",\"\",INDEX(Data_kom2,MATCH(1,(komnavn2=B44)*(komaar2=D44),0),23))","v":""},{"$f":"IF(B44=\"\",\"\",INDEX(Data_kom2,MATCH(1,(komnavn2=B44)*(komaar2=D44),0),24))","v":""},{"$f":"IF(B44=\"\",\"\",INDEX(Data_kom2,MATCH(1,(komnavn2=B44)*(komaar2=D44),0),25))","v":""},{"$f":"IF(B44=\"\",\"\",INDEX(Data_kom2,MATCH(1,(komnavn2=B44)*(komaar2=D44),0),26))","v":""},{"$f":"IF(B44=\"\",\"\",INDEX(Data_kom2,MATCH(1,(komnavn2=B44)*(komaar2=D44),0),27))","v":""},{"$f":"IF(B44=\"\",\"\",INDEX(Data_kom2,MATCH(1,(komnavn2=B44)*(komaar2=D44),0),28))","v":""},{"$f":"IF(B44=\"\",\"\",INDEX(Data_kom2,MATCH(1,(komnavn2=B44)*(komaar2=D44),0),29))","v":""},{"$f":"IF(B44=\"\",\"\",INDEX(Data_kom2,MATCH(1,(komnavn2=B44)*(komaar2=D44),0),30))","v":""},{"$f":"IF(B44=\"\",\"\",INDEX(Data_kom2,MATCH(1,(komnavn2=B44)*(komaar2=D44),0),31))","v":""},{"$f":"IF(B44=\"\",\"\",INDEX(Data_kom2,MATCH(1,(komnavn2=B44)*(komaar2=D44),0),32))","v":""},{"$f":"IF(B44=\"\",\"\",INDEX(Data_kom2,MATCH(1,(komnavn2=B44)*(komaar2=D44),0),33))","v":""},{"$f":"IF(B44=\"\",\"\",INDEX(Data_kom2,MATCH(1,(komnavn2=B44)*(komaar2=D44),0),34))","v":""},{"$f":"IF(B44=\"\",\"\",INDEX(Data_kom2,MATCH(1,(komnavn2=B44)*(komaar2=D44),0),35))","v":""},{"$f":"IF(B44=\"\",\"\",INDEX(Data_kom2,MATCH(1,(komnavn2=B44)*(komaar2=D44),0),36))","v":""},{"$f":"IF(B44=\"\",\"\",INDEX(Data_kom2,MATCH(1,(komnavn2=B44)*(komaar2=D44),0),37))","v":""},{"$f":"IF(B44=\"\",\"\",INDEX(Data_kom2,MATCH(1,(komnavn2=B44)*(komaar2=D44),0),38))","v":""}]
[null,{"$f":"'Dine valg'!$G$27","v":""},{"$f":"IF(B45=\"\",\"\",INDEX(Data_kom2,MATCH(1,(komnavn2=B45)*(komaar2=D45),0),2))","v":""},"2020-07-01",{"$f":"IF(B45=\"\",\"\",INDEX(Data_kom2,MATCH(1,(komnavn2=B45)*(komaar2=D45),0),4))","v":""},{"$f":"IF(B45=\"\",\"\",INDEX(Data_kom2,MATCH(1,(komnavn2=B45)*(komaar2=D45),0),5))","v":""},{"$f":"IF(B45=\"\",\"\",INDEX(Data_kom2,MATCH(1,(komnavn2=B45)*(komaar2=D45),0),6))","v":""},{"$f":"IF(B45=\"\",\"\",INDEX(Data_kom2,MATCH(1,(komnavn2=B45)*(komaar2=D45),0),7))","v":""},{"$f":"IF(B45=\"\",\"\",INDEX(Data_kom2,MATCH(1,(komnavn2=B45)*(komaar2=D45),0),8))","v":""},{"$f":"IF(B45=\"\",\"\",INDEX(Data_kom2,MATCH(1,(komnavn2=B45)*(komaar2=D45),0),9))","v":""},{"$f":"IF(B45=\"\",\"\",INDEX(Data_kom2,MATCH(1,(komnavn2=B45)*(komaar2=D45),0),10))","v":""},{"$f":"IF(B45=\"\",\"\",INDEX(Data_kom2,MATCH(1,(komnavn2=B45)*(komaar2=D45),0),11))","v":""},{"$f":"IF(B45=\"\",\"\",INDEX(Data_kom2,MATCH(1,(komnavn2=B45)*(komaar2=D45),0),12))","v":""},{"$f":"IF(B45=\"\",\"\",INDEX(Data_kom2,MATCH(1,(komnavn2=B45)*(komaar2=D45),0),13))","v":""},{"$f":"IF(B45=\"\",\"\",INDEX(Data_kom2,MATCH(1,(komnavn2=B45)*(komaar2=D45),0),14))","v":""},{"$f":"IF(B45=\"\",\"\",INDEX(Data_kom2,MATCH(1,(komnavn2=B45)*(komaar2=D45),0),15))","v":""},{"$f":"IF(B45=\"\",\"\",INDEX(Data_kom2,MATCH(1,(komnavn2=B45)*(komaar2=D45),0),16))","v":""},{"$f":"IF(B45=\"\",\"\",INDEX(Data_kom2,MATCH(1,(komnavn2=B45)*(komaar2=D45),0),17))","v":""},{"$f":"IF(B45=\"\",\"\",INDEX(Data_kom2,MATCH(1,(komnavn2=B45)*(komaar2=D45),0),18))","v":""},{"$f":"IF(B45=\"\",\"\",INDEX(Data_kom2,MATCH(1,(komnavn2=B45)*(komaar2=D45),0),19))","v":""},{"$f":"IF(B45=\"\",\"\",INDEX(Data_kom2,MATCH(1,(komnavn2=B45)*(komaar2=D45),0),20))","v":""},{"$f":"IF(B45=\"\",\"\",INDEX(Data_kom2,MATCH(1,(komnavn2=B45)*(komaar2=D45),0),21))","v":""},{"$f":"IF(B45=\"\",\"\",INDEX(Data_kom2,MATCH(1,(komnavn2=B45)*(komaar2=D45),0),22))","v":""},{"$f":"IF(B45=\"\",\"\",INDEX(Data_kom2,MATCH(1,(komnavn2=B45)*(komaar2=D45),0),23))","v":""},{"$f":"IF(B45=\"\",\"\",INDEX(Data_kom2,MATCH(1,(komnavn2=B45)*(komaar2=D45),0),24))","v":""},{"$f":"IF(B45=\"\",\"\",INDEX(Data_kom2,MATCH(1,(komnavn2=B45)*(komaar2=D45),0),25))","v":""},{"$f":"IF(B45=\"\",\"\",INDEX(Data_kom2,MATCH(1,(komnavn2=B45)*(komaar2=D45),0),26))","v":""},{"$f":"IF(B45=\"\",\"\",INDEX(Data_kom2,MATCH(1,(komnavn2=B45)*(komaar2=D45),0),27))","v":""},{"$f":"IF(B45=\"\",\"\",INDEX(Data_kom2,MATCH(1,(komnavn2=B45)*(komaar2=D45),0),28))","v":""},{"$f":"IF(B45=\"\",\"\",INDEX(Data_kom2,MATCH(1,(komnavn2=B45)*(komaar2=D45),0),29))","v":""},{"$f":"IF(B45=\"\",\"\",INDEX(Data_kom2,MATCH(1,(komnavn2=B45)*(komaar2=D45),0),30))","v":""},{"$f":"IF(B45=\"\",\"\",INDEX(Data_kom2,MATCH(1,(komnavn2=B45)*(komaar2=D45),0),31))","v":""},{"$f":"IF(B45=\"\",\"\",INDEX(Data_kom2,MATCH(1,(komnavn2=B45)*(komaar2=D45),0),32))","v":""},{"$f":"IF(B45=\"\",\"\",INDEX(Data_kom2,MATCH(1,(komnavn2=B45)*(komaar2=D45),0),33))","v":""},{"$f":"IF(B45=\"\",\"\",INDEX(Data_kom2,MATCH(1,(komnavn2=B45)*(komaar2=D45),0),34))","v":""},{"$f":"IF(B45=\"\",\"\",INDEX(Data_kom2,MATCH(1,(komnavn2=B45)*(komaar2=D45),0),35))","v":""},{"$f":"IF(B45=\"\",\"\",INDEX(Data_kom2,MATCH(1,(komnavn2=B45)*(komaar2=D45),0),36))","v":""},{"$f":"IF(B45=\"\",\"\",INDEX(Data_kom2,MATCH(1,(komnavn2=B45)*(komaar2=D45),0),37))","v":""},{"$f":"IF(B45=\"\",\"\",INDEX(Data_kom2,MATCH(1,(komnavn2=B45)*(komaar2=D45),0),38))","v":""}]
[null,{"$f":"'Dine valg'!$G$28","v":""},{"$f":"IF(B46=\"\",\"\",INDEX(Data_kom2,MATCH(1,(komnavn2=B46)*(komaar2=D46),0),2))","v":""},"2020-07-01",{"$f":"IF(B46=\"\",\"\",INDEX(Data_kom2,MATCH(1,(komnavn2=B46)*(komaar2=D46),0),4))","v":""},{"$f":"IF(B46=\"\",\"\",INDEX(Data_kom2,MATCH(1,(komnavn2=B46)*(komaar2=D46),0),5))","v":""},{"$f":"IF(B46=\"\",\"\",INDEX(Data_kom2,MATCH(1,(komnavn2=B46)*(komaar2=D46),0),6))","v":""},{"$f":"IF(B46=\"\",\"\",INDEX(Data_kom2,MATCH(1,(komnavn2=B46)*(komaar2=D46),0),7))","v":""},{"$f":"IF(B46=\"\",\"\",INDEX(Data_kom2,MATCH(1,(komnavn2=B46)*(komaar2=D46),0),8))","v":""},{"$f":"IF(B46=\"\",\"\",INDEX(Data_kom2,MATCH(1,(komnavn2=B46)*(komaar2=D46),0),9))","v":""},{"$f":"IF(B46=\"\",\"\",INDEX(Data_kom2,MATCH(1,(komnavn2=B46)*(komaar2=D46),0),10))","v":""},{"$f":"IF(B46=\"\",\"\",INDEX(Data_kom2,MATCH(1,(komnavn2=B46)*(komaar2=D46),0),11))","v":""},{"$f":"IF(B46=\"\",\"\",INDEX(Data_kom2,MATCH(1,(komnavn2=B46)*(komaar2=D46),0),12))","v":""},{"$f":"IF(B46=\"\",\"\",INDEX(Data_kom2,MATCH(1,(komnavn2=B46)*(komaar2=D46),0),13))","v":""},{"$f":"IF(B46=\"\",\"\",INDEX(Data_kom2,MATCH(1,(komnavn2=B46)*(komaar2=D46),0),14))","v":""},{"$f":"IF(B46=\"\",\"\",INDEX(Data_kom2,MATCH(1,(komnavn2=B46)*(komaar2=D46),0),15))","v":""},{"$f":"IF(B46=\"\",\"\",INDEX(Data_kom2,MATCH(1,(komnavn2=B46)*(komaar2=D46),0),16))","v":""},{"$f":"IF(B46=\"\",\"\",INDEX(Data_kom2,MATCH(1,(komnavn2=B46)*(komaar2=D46),0),17))","v":""},{"$f":"IF(B46=\"\",\"\",INDEX(Data_kom2,MATCH(1,(komnavn2=B46)*(komaar2=D46),0),18))","v":""},{"$f":"IF(B46=\"\",\"\",INDEX(Data_kom2,MATCH(1,(komnavn2=B46)*(komaar2=D46),0),19))","v":""},{"$f":"IF(B46=\"\",\"\",INDEX(Data_kom2,MATCH(1,(komnavn2=B46)*(komaar2=D46),0),20))","v":""},{"$f":"IF(B46=\"\",\"\",INDEX(Data_kom2,MATCH(1,(komnavn2=B46)*(komaar2=D46),0),21))","v":""},{"$f":"IF(B46=\"\",\"\",INDEX(Data_kom2,MATCH(1,(komnavn2=B46)*(komaar2=D46),0),22))","v":""},{"$f":"IF(B46=\"\",\"\",INDEX(Data_kom2,MATCH(1,(komnavn2=B46)*(komaar2=D46),0),23))","v":""},{"$f":"IF(B46=\"\",\"\",INDEX(Data_kom2,MATCH(1,(komnavn2=B46)*(komaar2=D46),0),24))","v":""},{"$f":"IF(B46=\"\",\"\",INDEX(Data_kom2,MATCH(1,(komnavn2=B46)*(komaar2=D46),0),25))","v":""},{"$f":"IF(B46=\"\",\"\",INDEX(Data_kom2,MATCH(1,(komnavn2=B46)*(komaar2=D46),0),26))","v":""},{"$f":"IF(B46=\"\",\"\",INDEX(Data_kom2,MATCH(1,(komnavn2=B46)*(komaar2=D46),0),27))","v":""},{"$f":"IF(B46=\"\",\"\",INDEX(Data_kom2,MATCH(1,(komnavn2=B46)*(komaar2=D46),0),28))","v":""},{"$f":"IF(B46=\"\",\"\",INDEX(Data_kom2,MATCH(1,(komnavn2=B46)*(komaar2=D46),0),29))","v":""},{"$f":"IF(B46=\"\",\"\",INDEX(Data_kom2,MATCH(1,(komnavn2=B46)*(komaar2=D46),0),30))","v":""},{"$f":"IF(B46=\"\",\"\",INDEX(Data_kom2,MATCH(1,(komnavn2=B46)*(komaar2=D46),0),31))","v":""},{"$f":"IF(B46=\"\",\"\",INDEX(Data_kom2,MATCH(1,(komnavn2=B46)*(komaar2=D46),0),32))","v":""},{"$f":"IF(B46=\"\",\"\",INDEX(Data_kom2,MATCH(1,(komnavn2=B46)*(komaar2=D46),0),33))","v":""},{"$f":"IF(B46=\"\",\"\",INDEX(Data_kom2,MATCH(1,(komnavn2=B46)*(komaar2=D46),0),34))","v":""},{"$f":"IF(B46=\"\",\"\",INDEX(Data_kom2,MATCH(1,(komnavn2=B46)*(komaar2=D46),0),35))","v":""},{"$f":"IF(B46=\"\",\"\",INDEX(Data_kom2,MATCH(1,(komnavn2=B46)*(komaar2=D46),0),36))","v":""},{"$f":"IF(B46=\"\",\"\",INDEX(Data_kom2,MATCH(1,(komnavn2=B46)*(komaar2=D46),0),37))","v":""},{"$f":"IF(B46=\"\",\"\",INDEX(Data_kom2,MATCH(1,(komnavn2=B46)*(komaar2=D46),0),38))","v":""}]
[null,{"$f":"'Dine valg'!$G$29","v":""},{"$f":"IF(B47=\"\",\"\",INDEX(Data_kom2,MATCH(1,(komnavn2=B47)*(komaar2=D47),0),2))","v":""},"2020-07-01",{"$f":"IF(B47=\"\",\"\",INDEX(Data_kom2,MATCH(1,(komnavn2=B47)*(komaar2=D47),0),4))","v":""},{"$f":"IF(B47=\"\",\"\",INDEX(Data_kom2,MATCH(1,(komnavn2=B47)*(komaar2=D47),0),5))","v":""},{"$f":"IF(B47=\"\",\"\",INDEX(Data_kom2,MATCH(1,(komnavn2=B47)*(komaar2=D47),0),6))","v":""},{"$f":"IF(B47=\"\",\"\",INDEX(Data_kom2,MATCH(1,(komnavn2=B47)*(komaar2=D47),0),7))","v":""},{"$f":"IF(B47=\"\",\"\",INDEX(Data_kom2,MATCH(1,(komnavn2=B47)*(komaar2=D47),0),8))","v":""},{"$f":"IF(B47=\"\",\"\",INDEX(Data_kom2,MATCH(1,(komnavn2=B47)*(komaar2=D47),0),9))","v":""},{"$f":"IF(B47=\"\",\"\",INDEX(Data_kom2,MATCH(1,(komnavn2=B47)*(komaar2=D47),0),10))","v":""},{"$f":"IF(B47=\"\",\"\",INDEX(Data_kom2,MATCH(1,(komnavn2=B47)*(komaar2=D47),0),11))","v":""},{"$f":"IF(B47=\"\",\"\",INDEX(Data_kom2,MATCH(1,(komnavn2=B47)*(komaar2=D47),0),12))","v":""},{"$f":"IF(B47=\"\",\"\",INDEX(Data_kom2,MATCH(1,(komnavn2=B47)*(komaar2=D47),0),13))","v":""},{"$f":"IF(B47=\"\",\"\",INDEX(Data_kom2,MATCH(1,(komnavn2=B47)*(komaar2=D47),0),14))","v":""},{"$f":"IF(B47=\"\",\"\",INDEX(Data_kom2,MATCH(1,(komnavn2=B47)*(komaar2=D47),0),15))","v":""},{"$f":"IF(B47=\"\",\"\",INDEX(Data_kom2,MATCH(1,(komnavn2=B47)*(komaar2=D47),0),16))","v":""},{"$f":"IF(B47=\"\",\"\",INDEX(Data_kom2,MATCH(1,(komnavn2=B47)*(komaar2=D47),0),17))","v":""},{"$f":"IF(B47=\"\",\"\",INDEX(Data_kom2,MATCH(1,(komnavn2=B47)*(komaar2=D47),0),18))","v":""},{"$f":"IF(B47=\"\",\"\",INDEX(Data_kom2,MATCH(1,(komnavn2=B47)*(komaar2=D47),0),19))","v":""},{"$f":"IF(B47=\"\",\"\",INDEX(Data_kom2,MATCH(1,(komnavn2=B47)*(komaar2=D47),0),20))","v":""},{"$f":"IF(B47=\"\",\"\",INDEX(Data_kom2,MATCH(1,(komnavn2=B47)*(komaar2=D47),0),21))","v":""},{"$f":"IF(B47=\"\",\"\",INDEX(Data_kom2,MATCH(1,(komnavn2=B47)*(komaar2=D47),0),22))","v":""},{"$f":"IF(B47=\"\",\"\",INDEX(Data_kom2,MATCH(1,(komnavn2=B47)*(komaar2=D47),0),23))","v":""},{"$f":"IF(B47=\"\",\"\",INDEX(Data_kom2,MATCH(1,(komnavn2=B47)*(komaar2=D47),0),24))","v":""},{"$f":"IF(B47=\"\",\"\",INDEX(Data_kom2,MATCH(1,(komnavn2=B47)*(komaar2=D47),0),25))","v":""},{"$f":"IF(B47=\"\",\"\",INDEX(Data_kom2,MATCH(1,(komnavn2=B47)*(komaar2=D47),0),26))","v":""},{"$f":"IF(B47=\"\",\"\",INDEX(Data_kom2,MATCH(1,(komnavn2=B47)*(komaar2=D47),0),27))","v":""},{"$f":"IF(B47=\"\",\"\",INDEX(Data_kom2,MATCH(1,(komnavn2=B47)*(komaar2=D47),0),28))","v":""},{"$f":"IF(B47=\"\",\"\",INDEX(Data_kom2,MATCH(1,(komnavn2=B47)*(komaar2=D47),0),29))","v":""},{"$f":"IF(B47=\"\",\"\",INDEX(Data_kom2,MATCH(1,(komnavn2=B47)*(komaar2=D47),0),30))","v":""},{"$f":"IF(B47=\"\",\"\",INDEX(Data_kom2,MATCH(1,(komnavn2=B47)*(komaar2=D47),0),31))","v":""},{"$f":"IF(B47=\"\",\"\",INDEX(Data_kom2,MATCH(1,(komnavn2=B47)*(komaar2=D47),0),32))","v":""},{"$f":"IF(B47=\"\",\"\",INDEX(Data_kom2,MATCH(1,(komnavn2=B47)*(komaar2=D47),0),33))","v":""},{"$f":"IF(B47=\"\",\"\",INDEX(Data_kom2,MATCH(1,(komnavn2=B47)*(komaar2=D47),0),34))","v":""},{"$f":"IF(B47=\"\",\"\",INDEX(Data_kom2,MATCH(1,(komnavn2=B47)*(komaar2=D47),0),35))","v":""},{"$f":"IF(B47=\"\",\"\",INDEX(Data_kom2,MATCH(1,(komnavn2=B47)*(komaar2=D47),0),36))","v":""},{"$f":"IF(B47=\"\",\"\",INDEX(Data_kom2,MATCH(1,(komnavn2=B47)*(komaar2=D47),0),37))","v":""},{"$f":"IF(B47=\"\",\"\",INDEX(Data_kom2,MATCH(1,(komnavn2=B47)*(komaar2=D47),0),38))","v":""}]
[null,{"$f":"'Dine valg'!$G$30","v":""},{"$f":"IF(B48=\"\",\"\",INDEX(Data_kom2,MATCH(1,(komnavn2=B48)*(komaar2=D48),0),2))","v":""},"2020-07-01",{"$f":"IF(B48=\"\",\"\",INDEX(Data_kom2,MATCH(1,(komnavn2=B48)*(komaar2=D48),0),4))","v":""},{"$f":"IF(B48=\"\",\"\",INDEX(Data_kom2,MATCH(1,(komnavn2=B48)*(komaar2=D48),0),5))","v":""},{"$f":"IF(B48=\"\",\"\",INDEX(Data_kom2,MATCH(1,(komnavn2=B48)*(komaar2=D48),0),6))","v":""},{"$f":"IF(B48=\"\",\"\",INDEX(Data_kom2,MATCH(1,(komnavn2=B48)*(komaar2=D48),0),7))","v":""},{"$f":"IF(B48=\"\",\"\",INDEX(Data_kom2,MATCH(1,(komnavn2=B48)*(komaar2=D48),0),8))","v":""},{"$f":"IF(B48=\"\",\"\",INDEX(Data_kom2,MATCH(1,(komnavn2=B48)*(komaar2=D48),0),9))","v":""},{"$f":"IF(B48=\"\",\"\",INDEX(Data_kom2,MATCH(1,(komnavn2=B48)*(komaar2=D48),0),10))","v":""},{"$f":"IF(B48=\"\",\"\",INDEX(Data_kom2,MATCH(1,(komnavn2=B48)*(komaar2=D48),0),11))","v":""},{"$f":"IF(B48=\"\",\"\",INDEX(Data_kom2,MATCH(1,(komnavn2=B48)*(komaar2=D48),0),12))","v":""},{"$f":"IF(B48=\"\",\"\",INDEX(Data_kom2,MATCH(1,(komnavn2=B48)*(komaar2=D48),0),13))","v":""},{"$f":"IF(B48=\"\",\"\",INDEX(Data_kom2,MATCH(1,(komnavn2=B48)*(komaar2=D48),0),14))","v":""},{"$f":"IF(B48=\"\",\"\",INDEX(Data_kom2,MATCH(1,(komnavn2=B48)*(komaar2=D48),0),15))","v":""},{"$f":"IF(B48=\"\",\"\",INDEX(Data_kom2,MATCH(1,(komnavn2=B48)*(komaar2=D48),0),16))","v":""},{"$f":"IF(B48=\"\",\"\",INDEX(Data_kom2,MATCH(1,(komnavn2=B48)*(komaar2=D48),0),17))","v":""},{"$f":"IF(B48=\"\",\"\",INDEX(Data_kom2,MATCH(1,(komnavn2=B48)*(komaar2=D48),0),18))","v":""},{"$f":"IF(B48=\"\",\"\",INDEX(Data_kom2,MATCH(1,(komnavn2=B48)*(komaar2=D48),0),19))","v":""},{"$f":"IF(B48=\"\",\"\",INDEX(Data_kom2,MATCH(1,(komnavn2=B48)*(komaar2=D48),0),20))","v":""},{"$f":"IF(B48=\"\",\"\",INDEX(Data_kom2,MATCH(1,(komnavn2=B48)*(komaar2=D48),0),21))","v":""},{"$f":"IF(B48=\"\",\"\",INDEX(Data_kom2,MATCH(1,(komnavn2=B48)*(komaar2=D48),0),22))","v":""},{"$f":"IF(B48=\"\",\"\",INDEX(Data_kom2,MATCH(1,(komnavn2=B48)*(komaar2=D48),0),23))","v":""},{"$f":"IF(B48=\"\",\"\",INDEX(Data_kom2,MATCH(1,(komnavn2=B48)*(komaar2=D48),0),24))","v":""},{"$f":"IF(B48=\"\",\"\",INDEX(Data_kom2,MATCH(1,(komnavn2=B48)*(komaar2=D48),0),25))","v":""},{"$f":"IF(B48=\"\",\"\",INDEX(Data_kom2,MATCH(1,(komnavn2=B48)*(komaar2=D48),0),26))","v":""},{"$f":"IF(B48=\"\",\"\",INDEX(Data_kom2,MATCH(1,(komnavn2=B48)*(komaar2=D48),0),27))","v":""},{"$f":"IF(B48=\"\",\"\",INDEX(Data_kom2,MATCH(1,(komnavn2=B48)*(komaar2=D48),0),28))","v":""},{"$f":"IF(B48=\"\",\"\",INDEX(Data_kom2,MATCH(1,(komnavn2=B48)*(komaar2=D48),0),29))","v":""},{"$f":"IF(B48=\"\",\"\",INDEX(Data_kom2,MATCH(1,(komnavn2=B48)*(komaar2=D48),0),30))","v":""},{"$f":"IF(B48=\"\",\"\",INDEX(Data_kom2,MATCH(1,(komnavn2=B48)*(komaar2=D48),0),31))","v":""},{"$f":"IF(B48=\"\",\"\",INDEX(Data_kom2,MATCH(1,(komnavn2=B48)*(komaar2=D48),0),32))","v":""},{"$f":"IF(B48=\"\",\"\",INDEX(Data_kom2,MATCH(1,(komnavn2=B48)*(komaar2=D48),0),33))","v":""},{"$f":"IF(B48=\"\",\"\",INDEX(Data_kom2,MATCH(1,(komnavn2=B48)*(komaar2=D48),0),34))","v":""},{"$f":"IF(B48=\"\",\"\",INDEX(Data_kom2,MATCH(1,(komnavn2=B48)*(komaar2=D48),0),35))","v":""},{"$f":"IF(B48=\"\",\"\",INDEX(Data_kom2,MATCH(1,(komnavn2=B48)*(komaar2=D48),0),36))","v":""},{"$f":"IF(B48=\"\",\"\",INDEX(Data_kom2,MATCH(1,(komnavn2=B48)*(komaar2=D48),0),37))","v":""},{"$f":"IF(B48=\"\",\"\",INDEX(Data_kom2,MATCH(1,(komnavn2=B48)*(komaar2=D48),0),38))","v":""}]
[1,{"$f":"'Dine valg'!$G$24","v":"Aarhus"},{"$f":"IF(B49=\"\",\"\",INDEX(Data_kom2,MATCH(1,(komnavn2=B49)*(komaar2=D49),0),2))","v":63890},"2020-01-01",{"$f":"IF(B49=\"\",\"\",INDEX(Data_kom2,MATCH(1,(komnavn2=B49)*(komaar2=D49),0),4))","v":171},{"$f":"IF(B49=\"\",\"\",INDEX(Data_kom2,MATCH(1,(komnavn2=B49)*(komaar2=D49),0),5))","v":120},{"$f":"IF(B49=\"\",\"\",INDEX(Data_kom2,MATCH(1,(komnavn2=B49)*(komaar2=D49),0),6))","v":16},{"$f":"IF(B49=\"\",\"\",INDEX(Data_kom2,MATCH(1,(komnavn2=B49)*(komaar2=D49),0),7))","v":35},{"$f":"IF(B49=\"\",\"\",INDEX(Data_kom2,MATCH(1,(komnavn2=B49)*(komaar2=D49),0),8))","v":172055},{"$f":"IF(B49=\"\",\"\",INDEX(Data_kom2,MATCH(1,(komnavn2=B49)*(komaar2=D49),0),9))","v":138504},{"$f":"IF(B49=\"\",\"\",INDEX(Data_kom2,MATCH(1,(komnavn2=B49)*(komaar2=D49),0),10))","v":3886},{"$f":"IF(B49=\"\",\"\",INDEX(Data_kom2,MATCH(1,(komnavn2=B49)*(komaar2=D49),0),11))","v":29665},{"$f":"IF(B49=\"\",\"\",INDEX(Data_kom2,MATCH(1,(komnavn2=B49)*(komaar2=D49),0),12))","v":232},{"$f":"IF(B49=\"\",\"\",INDEX(Data_kom2,MATCH(1,(komnavn2=B49)*(komaar2=D49),0),13))","v":22},{"$f":"IF(B49=\"\",\"\",INDEX(Data_kom2,MATCH(1,(komnavn2=B49)*(komaar2=D49),0),14))","v":1303},{"$f":"IF(B49=\"\",\"\",INDEX(Data_kom2,MATCH(1,(komnavn2=B49)*(komaar2=D49),0),15))","v":"*"},{"$f":"IF(B49=\"\",\"\",INDEX(Data_kom2,MATCH(1,(komnavn2=B49)*(komaar2=D49),0),16))","v":"*"},{"$f":"IF(B49=\"\",\"\",INDEX(Data_kom2,MATCH(1,(komnavn2=B49)*(komaar2=D49),0),17))","v":1280},{"$f":"IF(B49=\"\",\"\",INDEX(Data_kom2,MATCH(1,(komnavn2=B49)*(komaar2=D49),0),18))","v":16},{"$f":"IF(B49=\"\",\"\",INDEX(Data_kom2,MATCH(1,(komnavn2=B49)*(komaar2=D49),0),19))","v":0},{"$f":"IF(B49=\"\",\"\",INDEX(Data_kom2,MATCH(1,(komnavn2=B49)*(komaar2=D49),0),20))","v":0},{"$f":"IF(B49=\"\",\"\",INDEX(Data_kom2,MATCH(1,(komnavn2=B49)*(komaar2=D49),0),21))","v":0},{"$f":"IF(B49=\"\",\"\",INDEX(Data_kom2,MATCH(1,(komnavn2=B49)*(komaar2=D49),0),22))","v":31},{"$f":"IF(B49=\"\",\"\",INDEX(Data_kom2,MATCH(1,(komnavn2=B49)*(komaar2=D49),0),23))","v":178},{"$f":"IF(B49=\"\",\"\",INDEX(Data_kom2,MATCH(1,(komnavn2=B49)*(komaar2=D49),0),24))","v":0},{"$f":"IF(B49=\"\",\"\",INDEX(Data_kom2,MATCH(1,(komnavn2=B49)*(komaar2=D49),0),25))","v":178},{"$f":"IF(B49=\"\",\"\",INDEX(Data_kom2,MATCH(1,(komnavn2=B49)*(komaar2=D49),0),26))","v":31},{"$f":"IF(B49=\"\",\"\",INDEX(Data_kom2,MATCH(1,(komnavn2=B49)*(komaar2=D49),0),27))","v":178},{"$f":"IF(B49=\"\",\"\",INDEX(Data_kom2,MATCH(1,(komnavn2=B49)*(komaar2=D49),0),28))","v":23},{"$f":"IF(B49=\"\",\"\",INDEX(Data_kom2,MATCH(1,(komnavn2=B49)*(komaar2=D49),0),29))","v":1292},{"$f":"IF(B49=\"\",\"\",INDEX(Data_kom2,MATCH(1,(komnavn2=B49)*(komaar2=D49),0),30))","v":374},{"$f":"IF(B49=\"\",\"\",INDEX(Data_kom2,MATCH(1,(komnavn2=B49)*(komaar2=D49),0),31))","v":1297},{"$f":"IF(B49=\"\",\"\",INDEX(Data_kom2,MATCH(1,(komnavn2=B49)*(komaar2=D49),0),32))","v":0},{"$f":"IF(B49=\"\",\"\",INDEX(Data_kom2,MATCH(1,(komnavn2=B49)*(komaar2=D49),0),33))","v":0},{"$f":"IF(B49=\"\",\"\",INDEX(Data_kom2,MATCH(1,(komnavn2=B49)*(komaar2=D49),0),34))","v":0},{"$f":"IF(B49=\"\",\"\",INDEX(Data_kom2,MATCH(1,(komnavn2=B49)*(komaar2=D49),0),35))","v":0},{"$f":"IF(B49=\"\",\"\",INDEX(Data_kom2,MATCH(1,(komnavn2=B49)*(komaar2=D49),0),36))","v":0},{"$f":"IF(B49=\"\",\"\",INDEX(Data_kom2,MATCH(1,(komnavn2=B49)*(komaar2=D49),0),37))","v":0},{"$f":"IF(B49=\"\",\"\",INDEX(Data_kom2,MATCH(1,(komnavn2=B49)*(komaar2=D49),0),38))","v":"Region Midtjylland"}]
[2,{"$f":"'Dine valg'!$G$25","v":""},{"$f":"IF(B50=\"\",\"\",INDEX(Data_kom2,MATCH(1,(komnavn2=B50)*(komaar2=D50),0),2))","v":""},"2020-01-01",{"$f":"IF(B50=\"\",\"\",INDEX(Data_kom2,MATCH(1,(komnavn2=B50)*(komaar2=D50),0),4))","v":""},{"$f":"IF(B50=\"\",\"\",INDEX(Data_kom2,MATCH(1,(komnavn2=B50)*(komaar2=D50),0),5))","v":""},{"$f":"IF(B50=\"\",\"\",INDEX(Data_kom2,MATCH(1,(komnavn2=B50)*(komaar2=D50),0),6))","v":""},{"$f":"IF(B50=\"\",\"\",INDEX(Data_kom2,MATCH(1,(komnavn2=B50)*(komaar2=D50),0),7))","v":""},{"$f":"IF(B50=\"\",\"\",INDEX(Data_kom2,MATCH(1,(komnavn2=B50)*(komaar2=D50),0),8))","v":""},{"$f":"IF(B50=\"\",\"\",INDEX(Data_kom2,MATCH(1,(komnavn2=B50)*(komaar2=D50),0),9))","v":""},{"$f":"IF(B50=\"\",\"\",INDEX(Data_kom2,MATCH(1,(komnavn2=B50)*(komaar2=D50),0),10))","v":""},{"$f":"IF(B50=\"\",\"\",INDEX(Data_kom2,MATCH(1,(komnavn2=B50)*(komaar2=D50),0),11))","v":""},{"$f":"IF(B50=\"\",\"\",INDEX(Data_kom2,MATCH(1,(komnavn2=B50)*(komaar2=D50),0),12))","v":""},{"$f":"IF(B50=\"\",\"\",INDEX(Data_kom2,MATCH(1,(komnavn2=B50)*(komaar2=D50),0),13))","v":""},{"$f":"IF(B50=\"\",\"\",INDEX(Data_kom2,MATCH(1,(komnavn2=B50)*(komaar2=D50),0),14))","v":""},{"$f":"IF(B50=\"\",\"\",INDEX(Data_kom2,MATCH(1,(komnavn2=B50)*(komaar2=D50),0),15))","v":""},{"$f":"IF(B50=\"\",\"\",INDEX(Data_kom2,MATCH(1,(komnavn2=B50)*(komaar2=D50),0),16))","v":""},{"$f":"IF(B50=\"\",\"\",INDEX(Data_kom2,MATCH(1,(komnavn2=B50)*(komaar2=D50),0),17))","v":""},{"$f":"IF(B50=\"\",\"\",INDEX(Data_kom2,MATCH(1,(komnavn2=B50)*(komaar2=D50),0),18))","v":""},{"$f":"IF(B50=\"\",\"\",INDEX(Data_kom2,MATCH(1,(komnavn2=B50)*(komaar2=D50),0),19))","v":""},{"$f":"IF(B50=\"\",\"\",INDEX(Data_kom2,MATCH(1,(komnavn2=B50)*(komaar2=D50),0),20))","v":""},{"$f":"IF(B50=\"\",\"\",INDEX(Data_kom2,MATCH(1,(komnavn2=B50)*(komaar2=D50),0),21))","v":""},{"$f":"IF(B50=\"\",\"\",INDEX(Data_kom2,MATCH(1,(komnavn2=B50)*(komaar2=D50),0),22))","v":""},{"$f":"IF(B50=\"\",\"\",INDEX(Data_kom2,MATCH(1,(komnavn2=B50)*(komaar2=D50),0),23))","v":""},{"$f":"IF(B50=\"\",\"\",INDEX(Data_kom2,MATCH(1,(komnavn2=B50)*(komaar2=D50),0),24))","v":""},{"$f":"IF(B50=\"\",\"\",INDEX(Data_kom2,MATCH(1,(komnavn2=B50)*(komaar2=D50),0),25))","v":""},{"$f":"IF(B50=\"\",\"\",INDEX(Data_kom2,MATCH(1,(komnavn2=B50)*(komaar2=D50),0),26))","v":""},{"$f":"IF(B50=\"\",\"\",INDEX(Data_kom2,MATCH(1,(komnavn2=B50)*(komaar2=D50),0),27))","v":""},{"$f":"IF(B50=\"\",\"\",INDEX(Data_kom2,MATCH(1,(komnavn2=B50)*(komaar2=D50),0),28))","v":""},{"$f":"IF(B50=\"\",\"\",INDEX(Data_kom2,MATCH(1,(komnavn2=B50)*(komaar2=D50),0),29))","v":""},{"$f":"IF(B50=\"\",\"\",INDEX(Data_kom2,MATCH(1,(komnavn2=B50)*(komaar2=D50),0),30))","v":""},{"$f":"IF(B50=\"\",\"\",INDEX(Data_kom2,MATCH(1,(komnavn2=B50)*(komaar2=D50),0),31))","v":""},{"$f":"IF(B50=\"\",\"\",INDEX(Data_kom2,MATCH(1,(komnavn2=B50)*(komaar2=D50),0),32))","v":""},{"$f":"IF(B50=\"\",\"\",INDEX(Data_kom2,MATCH(1,(komnavn2=B50)*(komaar2=D50),0),33))","v":""},{"$f":"IF(B50=\"\",\"\",INDEX(Data_kom2,MATCH(1,(komnavn2=B50)*(komaar2=D50),0),34))","v":""},{"$f":"IF(B50=\"\",\"\",INDEX(Data_kom2,MATCH(1,(komnavn2=B50)*(komaar2=D50),0),35))","v":""},{"$f":"IF(B50=\"\",\"\",INDEX(Data_kom2,MATCH(1,(komnavn2=B50)*(komaar2=D50),0),36))","v":""},{"$f":"IF(B50=\"\",\"\",INDEX(Data_kom2,MATCH(1,(komnavn2=B50)*(komaar2=D50),0),37))","v":""},{"$f":"IF(B50=\"\",\"\",INDEX(Data_kom2,MATCH(1,(komnavn2=B50)*(komaar2=D50),0),38))","v":""}]
[3,{"$f":"'Dine valg'!$G$26","v":""},{"$f":"IF(B51=\"\",\"\",INDEX(Data_kom2,MATCH(1,(komnavn2=B51)*(komaar2=D51),0),2))","v":""},"2020-01-01",{"$f":"IF(B51=\"\",\"\",INDEX(Data_kom2,MATCH(1,(komnavn2=B51)*(komaar2=D51),0),4))","v":""},{"$f":"IF(B51=\"\",\"\",INDEX(Data_kom2,MATCH(1,(komnavn2=B51)*(komaar2=D51),0),5))","v":""},{"$f":"IF(B51=\"\",\"\",INDEX(Data_kom2,MATCH(1,(komnavn2=B51)*(komaar2=D51),0),6))","v":""},{"$f":"IF(B51=\"\",\"\",INDEX(Data_kom2,MATCH(1,(komnavn2=B51)*(komaar2=D51),0),7))","v":""},{"$f":"IF(B51=\"\",\"\",INDEX(Data_kom2,MATCH(1,(komnavn2=B51)*(komaar2=D51),0),8))","v":""},{"$f":"IF(B51=\"\",\"\",INDEX(Data_kom2,MATCH(1,(komnavn2=B51)*(komaar2=D51),0),9))","v":""},{"$f":"IF(B51=\"\",\"\",INDEX(Data_kom2,MATCH(1,(komnavn2=B51)*(komaar2=D51),0),10))","v":""},{"$f":"IF(B51=\"\",\"\",INDEX(Data_kom2,MATCH(1,(komnavn2=B51)*(komaar2=D51),0),11))","v":""},{"$f":"IF(B51=\"\",\"\",INDEX(Data_kom2,MATCH(1,(komnavn2=B51)*(komaar2=D51),0),12))","v":""},{"$f":"IF(B51=\"\",\"\",INDEX(Data_kom2,MATCH(1,(komnavn2=B51)*(komaar2=D51),0),13))","v":""},{"$f":"IF(B51=\"\",\"\",INDEX(Data_kom2,MATCH(1,(komnavn2=B51)*(komaar2=D51),0),14))","v":""},{"$f":"IF(B51=\"\",\"\",INDEX(Data_kom2,MATCH(1,(komnavn2=B51)*(komaar2=D51),0),15))","v":""},{"$f":"IF(B51=\"\",\"\",INDEX(Data_kom2,MATCH(1,(komnavn2=B51)*(komaar2=D51),0),16))","v":""},{"$f":"IF(B51=\"\",\"\",INDEX(Data_kom2,MATCH(1,(komnavn2=B51)*(komaar2=D51),0),17))","v":""},{"$f":"IF(B51=\"\",\"\",INDEX(Data_kom2,MATCH(1,(komnavn2=B51)*(komaar2=D51),0),18))","v":""},{"$f":"IF(B51=\"\",\"\",INDEX(Data_kom2,MATCH(1,(komnavn2=B51)*(komaar2=D51),0),19))","v":""},{"$f":"IF(B51=\"\",\"\",INDEX(Data_kom2,MATCH(1,(komnavn2=B51)*(komaar2=D51),0),20))","v":""},{"$f":"IF(B51=\"\",\"\",INDEX(Data_kom2,MATCH(1,(komnavn2=B51)*(komaar2=D51),0),21))","v":""},{"$f":"IF(B51=\"\",\"\",INDEX(Data_kom2,MATCH(1,(komnavn2=B51)*(komaar2=D51),0),22))","v":""},{"$f":"IF(B51=\"\",\"\",INDEX(Data_kom2,MATCH(1,(komnavn2=B51)*(komaar2=D51),0),23))","v":""},{"$f":"IF(B51=\"\",\"\",INDEX(Data_kom2,MATCH(1,(komnavn2=B51)*(komaar2=D51),0),24))","v":""},{"$f":"IF(B51=\"\",\"\",INDEX(Data_kom2,MATCH(1,(komnavn2=B51)*(komaar2=D51),0),25))","v":""},{"$f":"IF(B51=\"\",\"\",INDEX(Data_kom2,MATCH(1,(komnavn2=B51)*(komaar2=D51),0),26))","v":""},{"$f":"IF(B51=\"\",\"\",INDEX(Data_kom2,MATCH(1,(komnavn2=B51)*(komaar2=D51),0),27))","v":""},{"$f":"IF(B51=\"\",\"\",INDEX(Data_kom2,MATCH(1,(komnavn2=B51)*(komaar2=D51),0),28))","v":""},{"$f":"IF(B51=\"\",\"\",INDEX(Data_kom2,MATCH(1,(komnavn2=B51)*(komaar2=D51),0),29))","v":""},{"$f":"IF(B51=\"\",\"\",INDEX(Data_kom2,MATCH(1,(komnavn2=B51)*(komaar2=D51),0),30))","v":""},{"$f":"IF(B51=\"\",\"\",INDEX(Data_kom2,MATCH(1,(komnavn2=B51)*(komaar2=D51),0),31))","v":""},{"$f":"IF(B51=\"\",\"\",INDEX(Data_kom2,MATCH(1,(komnavn2=B51)*(komaar2=D51),0),32))","v":""},{"$f":"IF(B51=\"\",\"\",INDEX(Data_kom2,MATCH(1,(komnavn2=B51)*(komaar2=D51),0),33))","v":""},{"$f":"IF(B51=\"\",\"\",INDEX(Data_kom2,MATCH(1,(komnavn2=B51)*(komaar2=D51),0),34))","v":""},{"$f":"IF(B51=\"\",\"\",INDEX(Data_kom2,MATCH(1,(komnavn2=B51)*(komaar2=D51),0),35))","v":""},{"$f":"IF(B51=\"\",\"\",INDEX(Data_kom2,MATCH(1,(komnavn2=B51)*(komaar2=D51),0),36))","v":""},{"$f":"IF(B51=\"\",\"\",INDEX(Data_kom2,MATCH(1,(komnavn2=B51)*(komaar2=D51),0),37))","v":""},{"$f":"IF(B51=\"\",\"\",INDEX(Data_kom2,MATCH(1,(komnavn2=B51)*(komaar2=D51),0),38))","v":""}]
[4,{"$f":"'Dine valg'!$G$27","v":""},{"$f":"IF(B52=\"\",\"\",INDEX(Data_kom2,MATCH(1,(komnavn2=B52)*(komaar2=D52),0),2))","v":""},"2020-01-01",{"$f":"IF(B52=\"\",\"\",INDEX(Data_kom2,MATCH(1,(komnavn2=B52)*(komaar2=D52),0),4))","v":""},{"$f":"IF(B52=\"\",\"\",INDEX(Data_kom2,MATCH(1,(komnavn2=B52)*(komaar2=D52),0),5))","v":""},{"$f":"IF(B52=\"\",\"\",INDEX(Data_kom2,MATCH(1,(komnavn2=B52)*(komaar2=D52),0),6))","v":""},{"$f":"IF(B52=\"\",\"\",INDEX(Data_kom2,MATCH(1,(komnavn2=B52)*(komaar2=D52),0),7))","v":""},{"$f":"IF(B52=\"\",\"\",INDEX(Data_kom2,MATCH(1,(komnavn2=B52)*(komaar2=D52),0),8))","v":""},{"$f":"IF(B52=\"\",\"\",INDEX(Data_kom2,MATCH(1,(komnavn2=B52)*(komaar2=D52),0),9))","v":""},{"$f":"IF(B52=\"\",\"\",INDEX(Data_kom2,MATCH(1,(komnavn2=B52)*(komaar2=D52),0),10))","v":""},{"$f":"IF(B52=\"\",\"\",INDEX(Data_kom2,MATCH(1,(komnavn2=B52)*(komaar2=D52),0),11))","v":""},{"$f":"IF(B52=\"\",\"\",INDEX(Data_kom2,MATCH(1,(komnavn2=B52)*(komaar2=D52),0),12))","v":""},{"$f":"IF(B52=\"\",\"\",INDEX(Data_kom2,MATCH(1,(komnavn2=B52)*(komaar2=D52),0),13))","v":""},{"$f":"IF(B52=\"\",\"\",INDEX(Data_kom2,MATCH(1,(komnavn2=B52)*(komaar2=D52),0),14))","v":""},{"$f":"IF(B52=\"\",\"\",INDEX(Data_kom2,MATCH(1,(komnavn2=B52)*(komaar2=D52),0),15))","v":""},{"$f":"IF(B52=\"\",\"\",INDEX(Data_kom2,MATCH(1,(komnavn2=B52)*(komaar2=D52),0),16))","v":""},{"$f":"IF(B52=\"\",\"\",INDEX(Data_kom2,MATCH(1,(komnavn2=B52)*(komaar2=D52),0),17))","v":""},{"$f":"IF(B52=\"\",\"\",INDEX(Data_kom2,MATCH(1,(komnavn2=B52)*(komaar2=D52),0),18))","v":""},{"$f":"IF(B52=\"\",\"\",INDEX(Data_kom2,MATCH(1,(komnavn2=B52)*(komaar2=D52),0),19))","v":""},{"$f":"IF(B52=\"\",\"\",INDEX(Data_kom2,MATCH(1,(komnavn2=B52)*(komaar2=D52),0),20))","v":""},{"$f":"IF(B52=\"\",\"\",INDEX(Data_kom2,MATCH(1,(komnavn2=B52)*(komaar2=D52),0),21))","v":""},{"$f":"IF(B52=\"\",\"\",INDEX(Data_kom2,MATCH(1,(komnavn2=B52)*(komaar2=D52),0),22))","v":""},{"$f":"IF(B52=\"\",\"\",INDEX(Data_kom2,MATCH(1,(komnavn2=B52)*(komaar2=D52),0),23))","v":""},{"$f":"IF(B52=\"\",\"\",INDEX(Data_kom2,MATCH(1,(komnavn2=B52)*(komaar2=D52),0),24))","v":""},{"$f":"IF(B52=\"\",\"\",INDEX(Data_kom2,MATCH(1,(komnavn2=B52)*(komaar2=D52),0),25))","v":""},{"$f":"IF(B52=\"\",\"\",INDEX(Data_kom2,MATCH(1,(komnavn2=B52)*(komaar2=D52),0),26))","v":""},{"$f":"IF(B52=\"\",\"\",INDEX(Data_kom2,MATCH(1,(komnavn2=B52)*(komaar2=D52),0),27))","v":""},{"$f":"IF(B52=\"\",\"\",INDEX(Data_kom2,MATCH(1,(komnavn2=B52)*(komaar2=D52),0),28))","v":""},{"$f":"IF(B52=\"\",\"\",INDEX(Data_kom2,MATCH(1,(komnavn2=B52)*(komaar2=D52),0),29))","v":""},{"$f":"IF(B52=\"\",\"\",INDEX(Data_kom2,MATCH(1,(komnavn2=B52)*(komaar2=D52),0),30))","v":""},{"$f":"IF(B52=\"\",\"\",INDEX(Data_kom2,MATCH(1,(komnavn2=B52)*(komaar2=D52),0),31))","v":""},{"$f":"IF(B52=\"\",\"\",INDEX(Data_kom2,MATCH(1,(komnavn2=B52)*(komaar2=D52),0),32))","v":""},{"$f":"IF(B52=\"\",\"\",INDEX(Data_kom2,MATCH(1,(komnavn2=B52)*(komaar2=D52),0),33))","v":""},{"$f":"IF(B52=\"\",\"\",INDEX(Data_kom2,MATCH(1,(komnavn2=B52)*(komaar2=D52),0),34))","v":""},{"$f":"IF(B52=\"\",\"\",INDEX(Data_kom2,MATCH(1,(komnavn2=B52)*(komaar2=D52),0),35))","v":""},{"$f":"IF(B52=\"\",\"\",INDEX(Data_kom2,MATCH(1,(komnavn2=B52)*(komaar2=D52),0),36))","v":""},{"$f":"IF(B52=\"\",\"\",INDEX(Data_kom2,MATCH(1,(komnavn2=B52)*(komaar2=D52),0),37))","v":""},{"$f":"IF(B52=\"\",\"\",INDEX(Data_kom2,MATCH(1,(komnavn2=B52)*(komaar2=D52),0),38))","v":""}]
[5,{"$f":"'Dine valg'!$G$28","v":""},{"$f":"IF(B53=\"\",\"\",INDEX(Data_kom2,MATCH(1,(komnavn2=B53)*(komaar2=D53),0),2))","v":""},"2020-01-01",{"$f":"IF(B53=\"\",\"\",INDEX(Data_kom2,MATCH(1,(komnavn2=B53)*(komaar2=D53),0),4))","v":""},{"$f":"IF(B53=\"\",\"\",INDEX(Data_kom2,MATCH(1,(komnavn2=B53)*(komaar2=D53),0),5))","v":""},{"$f":"IF(B53=\"\",\"\",INDEX(Data_kom2,MATCH(1,(komnavn2=B53)*(komaar2=D53),0),6))","v":""},{"$f":"IF(B53=\"\",\"\",INDEX(Data_kom2,MATCH(1,(komnavn2=B53)*(komaar2=D53),0),7))","v":""},{"$f":"IF(B53=\"\",\"\",INDEX(Data_kom2,MATCH(1,(komnavn2=B53)*(komaar2=D53),0),8))","v":""},{"$f":"IF(B53=\"\",\"\",INDEX(Data_kom2,MATCH(1,(komnavn2=B53)*(komaar2=D53),0),9))","v":""},{"$f":"IF(B53=\"\",\"\",INDEX(Data_kom2,MATCH(1,(komnavn2=B53)*(komaar2=D53),0),10))","v":""},{"$f":"IF(B53=\"\",\"\",INDEX(Data_kom2,MATCH(1,(komnavn2=B53)*(komaar2=D53),0),11))","v":""},{"$f":"IF(B53=\"\",\"\",INDEX(Data_kom2,MATCH(1,(komnavn2=B53)*(komaar2=D53),0),12))","v":""},{"$f":"IF(B53=\"\",\"\",INDEX(Data_kom2,MATCH(1,(komnavn2=B53)*(komaar2=D53),0),13))","v":""},{"$f":"IF(B53=\"\",\"\",INDEX(Data_kom2,MATCH(1,(komnavn2=B53)*(komaar2=D53),0),14))","v":""},{"$f":"IF(B53=\"\",\"\",INDEX(Data_kom2,MATCH(1,(komnavn2=B53)*(komaar2=D53),0),15))","v":""},{"$f":"IF(B53=\"\",\"\",INDEX(Data_kom2,MATCH(1,(komnavn2=B53)*(komaar2=D53),0),16))","v":""},{"$f":"IF(B53=\"\",\"\",INDEX(Data_kom2,MATCH(1,(komnavn2=B53)*(komaar2=D53),0),17))","v":""},{"$f":"IF(B53=\"\",\"\",INDEX(Data_kom2,MATCH(1,(komnavn2=B53)*(komaar2=D53),0),18))","v":""},{"$f":"IF(B53=\"\",\"\",INDEX(Data_kom2,MATCH(1,(komnavn2=B53)*(komaar2=D53),0),19))","v":""},{"$f":"IF(B53=\"\",\"\",INDEX(Data_kom2,MATCH(1,(komnavn2=B53)*(komaar2=D53),0),20))","v":""},{"$f":"IF(B53=\"\",\"\",INDEX(Data_kom2,MATCH(1,(komnavn2=B53)*(komaar2=D53),0),21))","v":""},{"$f":"IF(B53=\"\",\"\",INDEX(Data_kom2,MATCH(1,(komnavn2=B53)*(komaar2=D53),0),22))","v":""},{"$f":"IF(B53=\"\",\"\",INDEX(Data_kom2,MATCH(1,(komnavn2=B53)*(komaar2=D53),0),23))","v":""},{"$f":"IF(B53=\"\",\"\",INDEX(Data_kom2,MATCH(1,(komnavn2=B53)*(komaar2=D53),0),24))","v":""},{"$f":"IF(B53=\"\",\"\",INDEX(Data_kom2,MATCH(1,(komnavn2=B53)*(komaar2=D53),0),25))","v":""},{"$f":"IF(B53=\"\",\"\",INDEX(Data_kom2,MATCH(1,(komnavn2=B53)*(komaar2=D53),0),26))","v":""},{"$f":"IF(B53=\"\",\"\",INDEX(Data_kom2,MATCH(1,(komnavn2=B53)*(komaar2=D53),0),27))","v":""},{"$f":"IF(B53=\"\",\"\",INDEX(Data_kom2,MATCH(1,(komnavn2=B53)*(komaar2=D53),0),28))","v":""},{"$f":"IF(B53=\"\",\"\",INDEX(Data_kom2,MATCH(1,(komnavn2=B53)*(komaar2=D53),0),29))","v":""},{"$f":"IF(B53=\"\",\"\",INDEX(Data_kom2,MATCH(1,(komnavn2=B53)*(komaar2=D53),0),30))","v":""},{"$f":"IF(B53=\"\",\"\",INDEX(Data_kom2,MATCH(1,(komnavn2=B53)*(komaar2=D53),0),31))","v":""},{"$f":"IF(B53=\"\",\"\",INDEX(Data_kom2,MATCH(1,(komnavn2=B53)*(komaar2=D53),0),32))","v":""},{"$f":"IF(B53=\"\",\"\",INDEX(Data_kom2,MATCH(1,(komnavn2=B53)*(komaar2=D53),0),33))","v":""},{"$f":"IF(B53=\"\",\"\",INDEX(Data_kom2,MATCH(1,(komnavn2=B53)*(komaar2=D53),0),34))","v":""},{"$f":"IF(B53=\"\",\"\",INDEX(Data_kom2,MATCH(1,(komnavn2=B53)*(komaar2=D53),0),35))","v":""},{"$f":"IF(B53=\"\",\"\",INDEX(Data_kom2,MATCH(1,(komnavn2=B53)*(komaar2=D53),0),36))","v":""},{"$f":"IF(B53=\"\",\"\",INDEX(Data_kom2,MATCH(1,(komnavn2=B53)*(komaar2=D53),0),37))","v":""},{"$f":"IF(B53=\"\",\"\",INDEX(Data_kom2,MATCH(1,(komnavn2=B53)*(komaar2=D53),0),38))","v":""}]
[6,{"$f":"'Dine valg'!$G$29","v":""},{"$f":"IF(B54=\"\",\"\",INDEX(Data_kom2,MATCH(1,(komnavn2=B54)*(komaar2=D54),0),2))","v":""},"2020-01-01",{"$f":"IF(B54=\"\",\"\",INDEX(Data_kom2,MATCH(1,(komnavn2=B54)*(komaar2=D54),0),4))","v":""},{"$f":"IF(B54=\"\",\"\",INDEX(Data_kom2,MATCH(1,(komnavn2=B54)*(komaar2=D54),0),5))","v":""},{"$f":"IF(B54=\"\",\"\",INDEX(Data_kom2,MATCH(1,(komnavn2=B54)*(komaar2=D54),0),6))","v":""},{"$f":"IF(B54=\"\",\"\",INDEX(Data_kom2,MATCH(1,(komnavn2=B54)*(komaar2=D54),0),7))","v":""},{"$f":"IF(B54=\"\",\"\",INDEX(Data_kom2,MATCH(1,(komnavn2=B54)*(komaar2=D54),0),8))","v":""},{"$f":"IF(B54=\"\",\"\",INDEX(Data_kom2,MATCH(1,(komnavn2=B54)*(komaar2=D54),0),9))","v":""},{"$f":"IF(B54=\"\",\"\",INDEX(Data_kom2,MATCH(1,(komnavn2=B54)*(komaar2=D54),0),10))","v":""},{"$f":"IF(B54=\"\",\"\",INDEX(Data_kom2,MATCH(1,(komnavn2=B54)*(komaar2=D54),0),11))","v":""},{"$f":"IF(B54=\"\",\"\",INDEX(Data_kom2,MATCH(1,(komnavn2=B54)*(komaar2=D54),0),12))","v":""},{"$f":"IF(B54=\"\",\"\",INDEX(Data_kom2,MATCH(1,(komnavn2=B54)*(komaar2=D54),0),13))","v":""},{"$f":"IF(B54=\"\",\"\",INDEX(Data_kom2,MATCH(1,(komnavn2=B54)*(komaar2=D54),0),14))","v":""},{"$f":"IF(B54=\"\",\"\",INDEX(Data_kom2,MATCH(1,(komnavn2=B54)*(komaar2=D54),0),15))","v":""},{"$f":"IF(B54=\"\",\"\",INDEX(Data_kom2,MATCH(1,(komnavn2=B54)*(komaar2=D54),0),16))","v":""},{"$f":"IF(B54=\"\",\"\",INDEX(Data_kom2,MATCH(1,(komnavn2=B54)*(komaar2=D54),0),17))","v":""},{"$f":"IF(B54=\"\",\"\",INDEX(Data_kom2,MATCH(1,(komnavn2=B54)*(komaar2=D54),0),18))","v":""},{"$f":"IF(B54=\"\",\"\",INDEX(Data_kom2,MATCH(1,(komnavn2=B54)*(komaar2=D54),0),19))","v":""},{"$f":"IF(B54=\"\",\"\",INDEX(Data_kom2,MATCH(1,(komnavn2=B54)*(komaar2=D54),0),20))","v":""},{"$f":"IF(B54=\"\",\"\",INDEX(Data_kom2,MATCH(1,(komnavn2=B54)*(komaar2=D54),0),21))","v":""},{"$f":"IF(B54=\"\",\"\",INDEX(Data_kom2,MATCH(1,(komnavn2=B54)*(komaar2=D54),0),22))","v":""},{"$f":"IF(B54=\"\",\"\",INDEX(Data_kom2,MATCH(1,(komnavn2=B54)*(komaar2=D54),0),23))","v":""},{"$f":"IF(B54=\"\",\"\",INDEX(Data_kom2,MATCH(1,(komnavn2=B54)*(komaar2=D54),0),24))","v":""},{"$f":"IF(B54=\"\",\"\",INDEX(Data_kom2,MATCH(1,(komnavn2=B54)*(komaar2=D54),0),25))","v":""},{"$f":"IF(B54=\"\",\"\",INDEX(Data_kom2,MATCH(1,(komnavn2=B54)*(komaar2=D54),0),26))","v":""},{"$f":"IF(B54=\"\",\"\",INDEX(Data_kom2,MATCH(1,(komnavn2=B54)*(komaar2=D54),0),27))","v":""},{"$f":"IF(B54=\"\",\"\",INDEX(Data_kom2,MATCH(1,(komnavn2=B54)*(komaar2=D54),0),28))","v":""},{"$f":"IF(B54=\"\",\"\",INDEX(Data_kom2,MATCH(1,(komnavn2=B54)*(komaar2=D54),0),29))","v":""},{"$f":"IF(B54=\"\",\"\",INDEX(Data_kom2,MATCH(1,(komnavn2=B54)*(komaar2=D54),0),30))","v":""},{"$f":"IF(B54=\"\",\"\",INDEX(Data_kom2,MATCH(1,(komnavn2=B54)*(komaar2=D54),0),31))","v":""},{"$f":"IF(B54=\"\",\"\",INDEX(Data_kom2,MATCH(1,(komnavn2=B54)*(komaar2=D54),0),32))","v":""},{"$f":"IF(B54=\"\",\"\",INDEX(Data_kom2,MATCH(1,(komnavn2=B54)*(komaar2=D54),0),33))","v":""},{"$f":"IF(B54=\"\",\"\",INDEX(Data_kom2,MATCH(1,(komnavn2=B54)*(komaar2=D54),0),34))","v":""},{"$f":"IF(B54=\"\",\"\",INDEX(Data_kom2,MATCH(1,(komnavn2=B54)*(komaar2=D54),0),35))","v":""},{"$f":"IF(B54=\"\",\"\",INDEX(Data_kom2,MATCH(1,(komnavn2=B54)*(komaar2=D54),0),36))","v":""},{"$f":"IF(B54=\"\",\"\",INDEX(Data_kom2,MATCH(1,(komnavn2=B54)*(komaar2=D54),0),37))","v":""},{"$f":"IF(B54=\"\",\"\",INDEX(Data_kom2,MATCH(1,(komnavn2=B54)*(komaar2=D54),0),38))","v":""}]
[7,{"$f":"'Dine valg'!$G$30","v":""},{"$f":"IF(B55=\"\",\"\",INDEX(Data_kom2,MATCH(1,(komnavn2=B55)*(komaar2=D55),0),2))","v":""},"2020-01-01",{"$f":"IF(B55=\"\",\"\",INDEX(Data_kom2,MATCH(1,(komnavn2=B55)*(komaar2=D55),0),4))","v":""},{"$f":"IF(B55=\"\",\"\",INDEX(Data_kom2,MATCH(1,(komnavn2=B55)*(komaar2=D55),0),5))","v":""},{"$f":"IF(B55=\"\",\"\",INDEX(Data_kom2,MATCH(1,(komnavn2=B55)*(komaar2=D55),0),6))","v":""},{"$f":"IF(B55=\"\",\"\",INDEX(Data_kom2,MATCH(1,(komnavn2=B55)*(komaar2=D55),0),7))","v":""},{"$f":"IF(B55=\"\",\"\",INDEX(Data_kom2,MATCH(1,(komnavn2=B55)*(komaar2=D55),0),8))","v":""},{"$f":"IF(B55=\"\",\"\",INDEX(Data_kom2,MATCH(1,(komnavn2=B55)*(komaar2=D55),0),9))","v":""},{"$f":"IF(B55=\"\",\"\",INDEX(Data_kom2,MATCH(1,(komnavn2=B55)*(komaar2=D55),0),10))","v":""},{"$f":"IF(B55=\"\",\"\",INDEX(Data_kom2,MATCH(1,(komnavn2=B55)*(komaar2=D55),0),11))","v":""},{"$f":"IF(B55=\"\",\"\",INDEX(Data_kom2,MATCH(1,(komnavn2=B55)*(komaar2=D55),0),12))","v":""},{"$f":"IF(B55=\"\",\"\",INDEX(Data_kom2,MATCH(1,(komnavn2=B55)*(komaar2=D55),0),13))","v":""},{"$f":"IF(B55=\"\",\"\",INDEX(Data_kom2,MATCH(1,(komnavn2=B55)*(komaar2=D55),0),14))","v":""},{"$f":"IF(B55=\"\",\"\",INDEX(Data_kom2,MATCH(1,(komnavn2=B55)*(komaar2=D55),0),15))","v":""},{"$f":"IF(B55=\"\",\"\",INDEX(Data_kom2,MATCH(1,(komnavn2=B55)*(komaar2=D55),0),16))","v":""},{"$f":"IF(B55=\"\",\"\",INDEX(Data_kom2,MATCH(1,(komnavn2=B55)*(komaar2=D55),0),17))","v":""},{"$f":"IF(B55=\"\",\"\",INDEX(Data_kom2,MATCH(1,(komnavn2=B55)*(komaar2=D55),0),18))","v":""},{"$f":"IF(B55=\"\",\"\",INDEX(Data_kom2,MATCH(1,(komnavn2=B55)*(komaar2=D55),0),19))","v":""},{"$f":"IF(B55=\"\",\"\",INDEX(Data_kom2,MATCH(1,(komnavn2=B55)*(komaar2=D55),0),20))","v":""},{"$f":"IF(B55=\"\",\"\",INDEX(Data_kom2,MATCH(1,(komnavn2=B55)*(komaar2=D55),0),21))","v":""},{"$f":"IF(B55=\"\",\"\",INDEX(Data_kom2,MATCH(1,(komnavn2=B55)*(komaar2=D55),0),22))","v":""},{"$f":"IF(B55=\"\",\"\",INDEX(Data_kom2,MATCH(1,(komnavn2=B55)*(komaar2=D55),0),23))","v":""},{"$f":"IF(B55=\"\",\"\",INDEX(Data_kom2,MATCH(1,(komnavn2=B55)*(komaar2=D55),0),24))","v":""},{"$f":"IF(B55=\"\",\"\",INDEX(Data_kom2,MATCH(1,(komnavn2=B55)*(komaar2=D55),0),25))","v":""},{"$f":"IF(B55=\"\",\"\",INDEX(Data_kom2,MATCH(1,(komnavn2=B55)*(komaar2=D55),0),26))","v":""},{"$f":"IF(B55=\"\",\"\",INDEX(Data_kom2,MATCH(1,(komnavn2=B55)*(komaar2=D55),0),27))","v":""},{"$f":"IF(B55=\"\",\"\",INDEX(Data_kom2,MATCH(1,(komnavn2=B55)*(komaar2=D55),0),28))","v":""},{"$f":"IF(B55=\"\",\"\",INDEX(Data_kom2,MATCH(1,(komnavn2=B55)*(komaar2=D55),0),29))","v":""},{"$f":"IF(B55=\"\",\"\",INDEX(Data_kom2,MATCH(1,(komnavn2=B55)*(komaar2=D55),0),30))","v":""},{"$f":"IF(B55=\"\",\"\",INDEX(Data_kom2,MATCH(1,(komnavn2=B55)*(komaar2=D55),0),31))","v":""},{"$f":"IF(B55=\"\",\"\",INDEX(Data_kom2,MATCH(1,(komnavn2=B55)*(komaar2=D55),0),32))","v":""},{"$f":"IF(B55=\"\",\"\",INDEX(Data_kom2,MATCH(1,(komnavn2=B55)*(komaar2=D55),0),33))","v":""},{"$f":"IF(B55=\"\",\"\",INDEX(Data_kom2,MATCH(1,(komnavn2=B55)*(komaar2=D55),0),34))","v":""},{"$f":"IF(B55=\"\",\"\",INDEX(Data_kom2,MATCH(1,(komnavn2=B55)*(komaar2=D55),0),35))","v":""},{"$f":"IF(B55=\"\",\"\",INDEX(Data_kom2,MATCH(1,(komnavn2=B55)*(komaar2=D55),0),36))","v":""},{"$f":"IF(B55=\"\",\"\",INDEX(Data_kom2,MATCH(1,(komnavn2=B55)*(komaar2=D55),0),37))","v":""},{"$f":"IF(B55=\"\",\"\",INDEX(Data_kom2,MATCH(1,(komnavn2=B55)*(komaar2=D55),0),38))","v":""}]
[1,{"$f":"'Dine valg'!$G$24","v":"Aarhus"},{"$f":"IF(B56=\"\",\"\",INDEX(Data_kom2,MATCH(1,(komnavn2=B56)*(komaar2=D56),0),2))","v":63704},"2019-07-01",{"$f":"IF(B56=\"\",\"\",INDEX(Data_kom2,MATCH(1,(komnavn2=B56)*(komaar2=D56),0),4))","v":178},{"$f":"IF(B56=\"\",\"\",INDEX(Data_kom2,MATCH(1,(komnavn2=B56)*(komaar2=D56),0),5))","v":127},{"$f":"IF(B56=\"\",\"\",INDEX(Data_kom2,MATCH(1,(komnavn2=B56)*(komaar2=D56),0),6))","v":9},{"$f":"IF(B56=\"\",\"\",INDEX(Data_kom2,MATCH(1,(komnavn2=B56)*(komaar2=D56),0),7))","v":42},{"$f":"IF(B56=\"\",\"\",INDEX(Data_kom2,MATCH(1,(komnavn2=B56)*(komaar2=D56),0),8))","v":173246},{"$f":"IF(B56=\"\",\"\",INDEX(Data_kom2,MATCH(1,(komnavn2=B56)*(komaar2=D56),0),9))","v":136572},{"$f":"IF(B56=\"\",\"\",INDEX(Data_kom2,MATCH(1,(komnavn2=B56)*(komaar2=D56),0),10))","v":2514},{"$f":"IF(B56=\"\",\"\",INDEX(Data_kom2,MATCH(1,(komnavn2=B56)*(komaar2=D56),0),11))","v":34160},{"$f":"IF(B56=\"\",\"\",INDEX(Data_kom2,MATCH(1,(komnavn2=B56)*(komaar2=D56),0),12))","v":234},{"$f":"IF(B56=\"\",\"\",INDEX(Data_kom2,MATCH(1,(komnavn2=B56)*(komaar2=D56),0),13))","v":24},{"$f":"IF(B56=\"\",\"\",INDEX(Data_kom2,MATCH(1,(komnavn2=B56)*(komaar2=D56),0),14))","v":1297},{"$f":"IF(B56=\"\",\"\",INDEX(Data_kom2,MATCH(1,(komnavn2=B56)*(komaar2=D56),0),15))","v":0},{"$f":"IF(B56=\"\",\"\",INDEX(Data_kom2,MATCH(1,(komnavn2=B56)*(komaar2=D56),0),16))","v":5},{"$f":"IF(B56=\"\",\"\",INDEX(Data_kom2,MATCH(1,(komnavn2=B56)*(komaar2=D56),0),17))","v":1278},{"$f":"IF(B56=\"\",\"\",INDEX(Data_kom2,MATCH(1,(komnavn2=B56)*(komaar2=D56),0),18))","v":14},{"$f":"IF(B56=\"\",\"\",INDEX(Data_kom2,MATCH(1,(komnavn2=B56)*(komaar2=D56),0),19))","v":0},{"$f":"IF(B56=\"\",\"\",INDEX(Data_kom2,MATCH(1,(komnavn2=B56)*(komaar2=D56),0),20))","v":0},{"$f":"IF(B56=\"\",\"\",INDEX(Data_kom2,MATCH(1,(komnavn2=B56)*(komaar2=D56),0),21))","v":0},{"$f":"IF(B56=\"\",\"\",INDEX(Data_kom2,MATCH(1,(komnavn2=B56)*(komaar2=D56),0),22))","v":25},{"$f":"IF(B56=\"\",\"\",INDEX(Data_kom2,MATCH(1,(komnavn2=B56)*(komaar2=D56),0),23))","v":174},{"$f":"IF(B56=\"\",\"\",INDEX(Data_kom2,MATCH(1,(komnavn2=B56)*(komaar2=D56),0),24))","v":0},{"$f":"IF(B56=\"\",\"\",INDEX(Data_kom2,MATCH(1,(komnavn2=B56)*(komaar2=D56),0),25))","v":174},{"$f":"IF(B56=\"\",\"\",INDEX(Data_kom2,MATCH(1,(komnavn2=B56)*(komaar2=D56),0),26))","v":25},{"$f":"IF(B56=\"\",\"\",INDEX(Data_kom2,MATCH(1,(komnavn2=B56)*(komaar2=D56),0),27))","v":174},{"$f":"IF(B56=\"\",\"\",INDEX(Data_kom2,MATCH(1,(komnavn2=B56)*(komaar2=D56),0),28))","v":24},{"$f":"IF(B56=\"\",\"\",INDEX(Data_kom2,MATCH(1,(komnavn2=B56)*(komaar2=D56),0),29))","v":1293},{"$f":"IF(B56=\"\",\"\",INDEX(Data_kom2,MATCH(1,(komnavn2=B56)*(komaar2=D56),0),30))","v":376},{"$f":"IF(B56=\"\",\"\",INDEX(Data_kom2,MATCH(1,(komnavn2=B56)*(komaar2=D56),0),31))","v":1303},{"$f":"IF(B56=\"\",\"\",INDEX(Data_kom2,MATCH(1,(komnavn2=B56)*(komaar2=D56),0),32))","v":0},{"$f":"IF(B56=\"\",\"\",INDEX(Data_kom2,MATCH(1,(komnavn2=B56)*(komaar2=D56),0),33))","v":0},{"$f":"IF(B56=\"\",\"\",INDEX(Data_kom2,MATCH(1,(komnavn2=B56)*(komaar2=D56),0),34))","v":0},{"$f":"IF(B56=\"\",\"\",INDEX(Data_kom2,MATCH(1,(komnavn2=B56)*(komaar2=D56),0),35))","v":0},{"$f":"IF(B56=\"\",\"\",INDEX(Data_kom2,MATCH(1,(komnavn2=B56)*(komaar2=D56),0),36))","v":0},{"$f":"IF(B56=\"\",\"\",INDEX(Data_kom2,MATCH(1,(komnavn2=B56)*(komaar2=D56),0),37))","v":0},{"$f":"IF(B56=\"\",\"\",INDEX(Data_kom2,MATCH(1,(komnavn2=B56)*(komaar2=D56),0),38))","v":"Region Midtjylland"}]
[2,{"$f":"'Dine valg'!$G$25","v":""},{"$f":"IF(B57=\"\",\"\",INDEX(Data_kom2,MATCH(1,(komnavn2=B57)*(komaar2=D57),0),2))","v":""},"2019-07-01",{"$f":"IF(B57=\"\",\"\",INDEX(Data_kom2,MATCH(1,(komnavn2=B57)*(komaar2=D57),0),4))","v":""},{"$f":"IF(B57=\"\",\"\",INDEX(Data_kom2,MATCH(1,(komnavn2=B57)*(komaar2=D57),0),5))","v":""},{"$f":"IF(B57=\"\",\"\",INDEX(Data_kom2,MATCH(1,(komnavn2=B57)*(komaar2=D57),0),6))","v":""},{"$f":"IF(B57=\"\",\"\",INDEX(Data_kom2,MATCH(1,(komnavn2=B57)*(komaar2=D57),0),7))","v":""},{"$f":"IF(B57=\"\",\"\",INDEX(Data_kom2,MATCH(1,(komnavn2=B57)*(komaar2=D57),0),8))","v":""},{"$f":"IF(B57=\"\",\"\",INDEX(Data_kom2,MATCH(1,(komnavn2=B57)*(komaar2=D57),0),9))","v":""},{"$f":"IF(B57=\"\",\"\",INDEX(Data_kom2,MATCH(1,(komnavn2=B57)*(komaar2=D57),0),10))","v":""},{"$f":"IF(B57=\"\",\"\",INDEX(Data_kom2,MATCH(1,(komnavn2=B57)*(komaar2=D57),0),11))","v":""},{"$f":"IF(B57=\"\",\"\",INDEX(Data_kom2,MATCH(1,(komnavn2=B57)*(komaar2=D57),0),12))","v":""},{"$f":"IF(B57=\"\",\"\",INDEX(Data_kom2,MATCH(1,(komnavn2=B57)*(komaar2=D57),0),13))","v":""},{"$f":"IF(B57=\"\",\"\",INDEX(Data_kom2,MATCH(1,(komnavn2=B57)*(komaar2=D57),0),14))","v":""},{"$f":"IF(B57=\"\",\"\",INDEX(Data_kom2,MATCH(1,(komnavn2=B57)*(komaar2=D57),0),15))","v":""},{"$f":"IF(B57=\"\",\"\",INDEX(Data_kom2,MATCH(1,(komnavn2=B57)*(komaar2=D57),0),16))","v":""},{"$f":"IF(B57=\"\",\"\",INDEX(Data_kom2,MATCH(1,(komnavn2=B57)*(komaar2=D57),0),17))","v":""},{"$f":"IF(B57=\"\",\"\",INDEX(Data_kom2,MATCH(1,(komnavn2=B57)*(komaar2=D57),0),18))","v":""},{"$f":"IF(B57=\"\",\"\",INDEX(Data_kom2,MATCH(1,(komnavn2=B57)*(komaar2=D57),0),19))","v":""},{"$f":"IF(B57=\"\",\"\",INDEX(Data_kom2,MATCH(1,(komnavn2=B57)*(komaar2=D57),0),20))","v":""},{"$f":"IF(B57=\"\",\"\",INDEX(Data_kom2,MATCH(1,(komnavn2=B57)*(komaar2=D57),0),21))","v":""},{"$f":"IF(B57=\"\",\"\",INDEX(Data_kom2,MATCH(1,(komnavn2=B57)*(komaar2=D57),0),22))","v":""},{"$f":"IF(B57=\"\",\"\",INDEX(Data_kom2,MATCH(1,(komnavn2=B57)*(komaar2=D57),0),23))","v":""},{"$f":"IF(B57=\"\",\"\",INDEX(Data_kom2,MATCH(1,(komnavn2=B57)*(komaar2=D57),0),24))","v":""},{"$f":"IF(B57=\"\",\"\",INDEX(Data_kom2,MATCH(1,(komnavn2=B57)*(komaar2=D57),0),25))","v":""},{"$f":"IF(B57=\"\",\"\",INDEX(Data_kom2,MATCH(1,(komnavn2=B57)*(komaar2=D57),0),26))","v":""},{"$f":"IF(B57=\"\",\"\",INDEX(Data_kom2,MATCH(1,(komnavn2=B57)*(komaar2=D57),0),27))","v":""},{"$f":"IF(B57=\"\",\"\",INDEX(Data_kom2,MATCH(1,(komnavn2=B57)*(komaar2=D57),0),28))","v":""},{"$f":"IF(B57=\"\",\"\",INDEX(Data_kom2,MATCH(1,(komnavn2=B57)*(komaar2=D57),0),29))","v":""},{"$f":"IF(B57=\"\",\"\",INDEX(Data_kom2,MATCH(1,(komnavn2=B57)*(komaar2=D57),0),30))","v":""},{"$f":"IF(B57=\"\",\"\",INDEX(Data_kom2,MATCH(1,(komnavn2=B57)*(komaar2=D57),0),31))","v":""},{"$f":"IF(B57=\"\",\"\",INDEX(Data_kom2,MATCH(1,(komnavn2=B57)*(komaar2=D57),0),32))","v":""},{"$f":"IF(B57=\"\",\"\",INDEX(Data_kom2,MATCH(1,(komnavn2=B57)*(komaar2=D57),0),33))","v":""},{"$f":"IF(B57=\"\",\"\",INDEX(Data_kom2,MATCH(1,(komnavn2=B57)*(komaar2=D57),0),34))","v":""},{"$f":"IF(B57=\"\",\"\",INDEX(Data_kom2,MATCH(1,(komnavn2=B57)*(komaar2=D57),0),35))","v":""},{"$f":"IF(B57=\"\",\"\",INDEX(Data_kom2,MATCH(1,(komnavn2=B57)*(komaar2=D57),0),36))","v":""},{"$f":"IF(B57=\"\",\"\",INDEX(Data_kom2,MATCH(1,(komnavn2=B57)*(komaar2=D57),0),37))","v":""},{"$f":"IF(B57=\"\",\"\",INDEX(Data_kom2,MATCH(1,(komnavn2=B57)*(komaar2=D57),0),38))","v":""}]
[3,{"$f":"'Dine valg'!$G$26","v":""},{"$f":"IF(B58=\"\",\"\",INDEX(Data_kom2,MATCH(1,(komnavn2=B58)*(komaar2=D58),0),2))","v":""},"2019-07-01",{"$f":"IF(B58=\"\",\"\",INDEX(Data_kom2,MATCH(1,(komnavn2=B58)*(komaar2=D58),0),4))","v":""},{"$f":"IF(B58=\"\",\"\",INDEX(Data_kom2,MATCH(1,(komnavn2=B58)*(komaar2=D58),0),5))","v":""},{"$f":"IF(B58=\"\",\"\",INDEX(Data_kom2,MATCH(1,(komnavn2=B58)*(komaar2=D58),0),6))","v":""},{"$f":"IF(B58=\"\",\"\",INDEX(Data_kom2,MATCH(1,(komnavn2=B58)*(komaar2=D58),0),7))","v":""},{"$f":"IF(B58=\"\",\"\",INDEX(Data_kom2,MATCH(1,(komnavn2=B58)*(komaar2=D58),0),8))","v":""},{"$f":"IF(B58=\"\",\"\",INDEX(Data_kom2,MATCH(1,(komnavn2=B58)*(komaar2=D58),0),9))","v":""},{"$f":"IF(B58=\"\",\"\",INDEX(Data_kom2,MATCH(1,(komnavn2=B58)*(komaar2=D58),0),10))","v":""},{"$f":"IF(B58=\"\",\"\",INDEX(Data_kom2,MATCH(1,(komnavn2=B58)*(komaar2=D58),0),11))","v":""},{"$f":"IF(B58=\"\",\"\",INDEX(Data_kom2,MATCH(1,(komnavn2=B58)*(komaar2=D58),0),12))","v":""},{"$f":"IF(B58=\"\",\"\",INDEX(Data_kom2,MATCH(1,(komnavn2=B58)*(komaar2=D58),0),13))","v":""},{"$f":"IF(B58=\"\",\"\",INDEX(Data_kom2,MATCH(1,(komnavn2=B58)*(komaar2=D58),0),14))","v":""},{"$f":"IF(B58=\"\",\"\",INDEX(Data_kom2,MATCH(1,(komnavn2=B58)*(komaar2=D58),0),15))","v":""},{"$f":"IF(B58=\"\",\"\",INDEX(Data_kom2,MATCH(1,(komnavn2=B58)*(komaar2=D58),0),16))","v":""},{"$f":"IF(B58=\"\",\"\",INDEX(Data_kom2,MATCH(1,(komnavn2=B58)*(komaar2=D58),0),17))","v":""},{"$f":"IF(B58=\"\",\"\",INDEX(Data_kom2,MATCH(1,(komnavn2=B58)*(komaar2=D58),0),18))","v":""},{"$f":"IF(B58=\"\",\"\",INDEX(Data_kom2,MATCH(1,(komnavn2=B58)*(komaar2=D58),0),19))","v":""},{"$f":"IF(B58=\"\",\"\",INDEX(Data_kom2,MATCH(1,(komnavn2=B58)*(komaar2=D58),0),20))","v":""},{"$f":"IF(B58=\"\",\"\",INDEX(Data_kom2,MATCH(1,(komnavn2=B58)*(komaar2=D58),0),21))","v":""},{"$f":"IF(B58=\"\",\"\",INDEX(Data_kom2,MATCH(1,(komnavn2=B58)*(komaar2=D58),0),22))","v":""},{"$f":"IF(B58=\"\",\"\",INDEX(Data_kom2,MATCH(1,(komnavn2=B58)*(komaar2=D58),0),23))","v":""},{"$f":"IF(B58=\"\",\"\",INDEX(Data_kom2,MATCH(1,(komnavn2=B58)*(komaar2=D58),0),24))","v":""},{"$f":"IF(B58=\"\",\"\",INDEX(Data_kom2,MATCH(1,(komnavn2=B58)*(komaar2=D58),0),25))","v":""},{"$f":"IF(B58=\"\",\"\",INDEX(Data_kom2,MATCH(1,(komnavn2=B58)*(komaar2=D58),0),26))","v":""},{"$f":"IF(B58=\"\",\"\",INDEX(Data_kom2,MATCH(1,(komnavn2=B58)*(komaar2=D58),0),27))","v":""},{"$f":"IF(B58=\"\",\"\",INDEX(Data_kom2,MATCH(1,(komnavn2=B58)*(komaar2=D58),0),28))","v":""},{"$f":"IF(B58=\"\",\"\",INDEX(Data_kom2,MATCH(1,(komnavn2=B58)*(komaar2=D58),0),29))","v":""},{"$f":"IF(B58=\"\",\"\",INDEX(Data_kom2,MATCH(1,(komnavn2=B58)*(komaar2=D58),0),30))","v":""},{"$f":"IF(B58=\"\",\"\",INDEX(Data_kom2,MATCH(1,(komnavn2=B58)*(komaar2=D58),0),31))","v":""},{"$f":"IF(B58=\"\",\"\",INDEX(Data_kom2,MATCH(1,(komnavn2=B58)*(komaar2=D58),0),32))","v":""},{"$f":"IF(B58=\"\",\"\",INDEX(Data_kom2,MATCH(1,(komnavn2=B58)*(komaar2=D58),0),33))","v":""},{"$f":"IF(B58=\"\",\"\",INDEX(Data_kom2,MATCH(1,(komnavn2=B58)*(komaar2=D58),0),34))","v":""},{"$f":"IF(B58=\"\",\"\",INDEX(Data_kom2,MATCH(1,(komnavn2=B58)*(komaar2=D58),0),35))","v":""},{"$f":"IF(B58=\"\",\"\",INDEX(Data_kom2,MATCH(1,(komnavn2=B58)*(komaar2=D58),0),36))","v":""},{"$f":"IF(B58=\"\",\"\",INDEX(Data_kom2,MATCH(1,(komnavn2=B58)*(komaar2=D58),0),37))","v":""},{"$f":"IF(B58=\"\",\"\",INDEX(Data_kom2,MATCH(1,(komnavn2=B58)*(komaar2=D58),0),38))","v":""}]
[4,{"$f":"'Dine valg'!$G$27","v":""},{"$f":"IF(B59=\"\",\"\",INDEX(Data_kom2,MATCH(1,(komnavn2=B59)*(komaar2=D59),0),2))","v":""},"2019-07-01",{"$f":"IF(B59=\"\",\"\",INDEX(Data_kom2,MATCH(1,(komnavn2=B59)*(komaar2=D59),0),4))","v":""},{"$f":"IF(B59=\"\",\"\",INDEX(Data_kom2,MATCH(1,(komnavn2=B59)*(komaar2=D59),0),5))","v":""},{"$f":"IF(B59=\"\",\"\",INDEX(Data_kom2,MATCH(1,(komnavn2=B59)*(komaar2=D59),0),6))","v":""},{"$f":"IF(B59=\"\",\"\",INDEX(Data_kom2,MATCH(1,(komnavn2=B59)*(komaar2=D59),0),7))","v":""},{"$f":"IF(B59=\"\",\"\",INDEX(Data_kom2,MATCH(1,(komnavn2=B59)*(komaar2=D59),0),8))","v":""},{"$f":"IF(B59=\"\",\"\",INDEX(Data_kom2,MATCH(1,(komnavn2=B59)*(komaar2=D59),0),9))","v":""},{"$f":"IF(B59=\"\",\"\",INDEX(Data_kom2,MATCH(1,(komnavn2=B59)*(komaar2=D59),0),10))","v":""},{"$f":"IF(B59=\"\",\"\",INDEX(Data_kom2,MATCH(1,(komnavn2=B59)*(komaar2=D59),0),11))","v":""},{"$f":"IF(B59=\"\",\"\",INDEX(Data_kom2,MATCH(1,(komnavn2=B59)*(komaar2=D59),0),12))","v":""},{"$f":"IF(B59=\"\",\"\",INDEX(Data_kom2,MATCH(1,(komnavn2=B59)*(komaar2=D59),0),13))","v":""},{"$f":"IF(B59=\"\",\"\",INDEX(Data_kom2,MATCH(1,(komnavn2=B59)*(komaar2=D59),0),14))","v":""},{"$f":"IF(B59=\"\",\"\",INDEX(Data_kom2,MATCH(1,(komnavn2=B59)*(komaar2=D59),0),15))","v":""},{"$f":"IF(B59=\"\",\"\",INDEX(Data_kom2,MATCH(1,(komnavn2=B59)*(komaar2=D59),0),16))","v":""},{"$f":"IF(B59=\"\",\"\",INDEX(Data_kom2,MATCH(1,(komnavn2=B59)*(komaar2=D59),0),17))","v":""},{"$f":"IF(B59=\"\",\"\",INDEX(Data_kom2,MATCH(1,(komnavn2=B59)*(komaar2=D59),0),18))","v":""},{"$f":"IF(B59=\"\",\"\",INDEX(Data_kom2,MATCH(1,(komnavn2=B59)*(komaar2=D59),0),19))","v":""},{"$f":"IF(B59=\"\",\"\",INDEX(Data_kom2,MATCH(1,(komnavn2=B59)*(komaar2=D59),0),20))","v":""},{"$f":"IF(B59=\"\",\"\",INDEX(Data_kom2,MATCH(1,(komnavn2=B59)*(komaar2=D59),0),21))","v":""},{"$f":"IF(B59=\"\",\"\",INDEX(Data_kom2,MATCH(1,(komnavn2=B59)*(komaar2=D59),0),22))","v":""},{"$f":"IF(B59=\"\",\"\",INDEX(Data_kom2,MATCH(1,(komnavn2=B59)*(komaar2=D59),0),23))","v":""},{"$f":"IF(B59=\"\",\"\",INDEX(Data_kom2,MATCH(1,(komnavn2=B59)*(komaar2=D59),0),24))","v":""},{"$f":"IF(B59=\"\",\"\",INDEX(Data_kom2,MATCH(1,(komnavn2=B59)*(komaar2=D59),0),25))","v":""},{"$f":"IF(B59=\"\",\"\",INDEX(Data_kom2,MATCH(1,(komnavn2=B59)*(komaar2=D59),0),26))","v":""},{"$f":"IF(B59=\"\",\"\",INDEX(Data_kom2,MATCH(1,(komnavn2=B59)*(komaar2=D59),0),27))","v":""},{"$f":"IF(B59=\"\",\"\",INDEX(Data_kom2,MATCH(1,(komnavn2=B59)*(komaar2=D59),0),28))","v":""},{"$f":"IF(B59=\"\",\"\",INDEX(Data_kom2,MATCH(1,(komnavn2=B59)*(komaar2=D59),0),29))","v":""},{"$f":"IF(B59=\"\",\"\",INDEX(Data_kom2,MATCH(1,(komnavn2=B59)*(komaar2=D59),0),30))","v":""},{"$f":"IF(B59=\"\",\"\",INDEX(Data_kom2,MATCH(1,(komnavn2=B59)*(komaar2=D59),0),31))","v":""},{"$f":"IF(B59=\"\",\"\",INDEX(Data_kom2,MATCH(1,(komnavn2=B59)*(komaar2=D59),0),32))","v":""},{"$f":"IF(B59=\"\",\"\",INDEX(Data_kom2,MATCH(1,(komnavn2=B59)*(komaar2=D59),0),33))","v":""},{"$f":"IF(B59=\"\",\"\",INDEX(Data_kom2,MATCH(1,(komnavn2=B59)*(komaar2=D59),0),34))","v":""},{"$f":"IF(B59=\"\",\"\",INDEX(Data_kom2,MATCH(1,(komnavn2=B59)*(komaar2=D59),0),35))","v":""},{"$f":"IF(B59=\"\",\"\",INDEX(Data_kom2,MATCH(1,(komnavn2=B59)*(komaar2=D59),0),36))","v":""},{"$f":"IF(B59=\"\",\"\",INDEX(Data_kom2,MATCH(1,(komnavn2=B59)*(komaar2=D59),0),37))","v":""},{"$f":"IF(B59=\"\",\"\",INDEX(Data_kom2,MATCH(1,(komnavn2=B59)*(komaar2=D59),0),38))","v":""}]
[5,{"$f":"'Dine valg'!$G$28","v":""},{"$f":"IF(B60=\"\",\"\",INDEX(Data_kom2,MATCH(1,(komnavn2=B60)*(komaar2=D60),0),2))","v":""},"2019-07-01",{"$f":"IF(B60=\"\",\"\",INDEX(Data_kom2,MATCH(1,(komnavn2=B60)*(komaar2=D60),0),4))","v":""},{"$f":"IF(B60=\"\",\"\",INDEX(Data_kom2,MATCH(1,(komnavn2=B60)*(komaar2=D60),0),5))","v":""},{"$f":"IF(B60=\"\",\"\",INDEX(Data_kom2,MATCH(1,(komnavn2=B60)*(komaar2=D60),0),6))","v":""},{"$f":"IF(B60=\"\",\"\",INDEX(Data_kom2,MATCH(1,(komnavn2=B60)*(komaar2=D60),0),7))","v":""},{"$f":"IF(B60=\"\",\"\",INDEX(Data_kom2,MATCH(1,(komnavn2=B60)*(komaar2=D60),0),8))","v":""},{"$f":"IF(B60=\"\",\"\",INDEX(Data_kom2,MATCH(1,(komnavn2=B60)*(komaar2=D60),0),9))","v":""},{"$f":"IF(B60=\"\",\"\",INDEX(Data_kom2,MATCH(1,(komnavn2=B60)*(komaar2=D60),0),10))","v":""},{"$f":"IF(B60=\"\",\"\",INDEX(Data_kom2,MATCH(1,(komnavn2=B60)*(komaar2=D60),0),11))","v":""},{"$f":"IF(B60=\"\",\"\",INDEX(Data_kom2,MATCH(1,(komnavn2=B60)*(komaar2=D60),0),12))","v":""},{"$f":"IF(B60=\"\",\"\",INDEX(Data_kom2,MATCH(1,(komnavn2=B60)*(komaar2=D60),0),13))","v":""},{"$f":"IF(B60=\"\",\"\",INDEX(Data_kom2,MATCH(1,(komnavn2=B60)*(komaar2=D60),0),14))","v":""},{"$f":"IF(B60=\"\",\"\",INDEX(Data_kom2,MATCH(1,(komnavn2=B60)*(komaar2=D60),0),15))","v":""},{"$f":"IF(B60=\"\",\"\",INDEX(Data_kom2,MATCH(1,(komnavn2=B60)*(komaar2=D60),0),16))","v":""},{"$f":"IF(B60=\"\",\"\",INDEX(Data_kom2,MATCH(1,(komnavn2=B60)*(komaar2=D60),0),17))","v":""},{"$f":"IF(B60=\"\",\"\",INDEX(Data_kom2,MATCH(1,(komnavn2=B60)*(komaar2=D60),0),18))","v":""},{"$f":"IF(B60=\"\",\"\",INDEX(Data_kom2,MATCH(1,(komnavn2=B60)*(komaar2=D60),0),19))","v":""},{"$f":"IF(B60=\"\",\"\",INDEX(Data_kom2,MATCH(1,(komnavn2=B60)*(komaar2=D60),0),20))","v":""},{"$f":"IF(B60=\"\",\"\",INDEX(Data_kom2,MATCH(1,(komnavn2=B60)*(komaar2=D60),0),21))","v":""},{"$f":"IF(B60=\"\",\"\",INDEX(Data_kom2,MATCH(1,(komnavn2=B60)*(komaar2=D60),0),22))","v":""},{"$f":"IF(B60=\"\",\"\",INDEX(Data_kom2,MATCH(1,(komnavn2=B60)*(komaar2=D60),0),23))","v":""},{"$f":"IF(B60=\"\",\"\",INDEX(Data_kom2,MATCH(1,(komnavn2=B60)*(komaar2=D60),0),24))","v":""},{"$f":"IF(B60=\"\",\"\",INDEX(Data_kom2,MATCH(1,(komnavn2=B60)*(komaar2=D60),0),25))","v":""},{"$f":"IF(B60=\"\",\"\",INDEX(Data_kom2,MATCH(1,(komnavn2=B60)*(komaar2=D60),0),26))","v":""},{"$f":"IF(B60=\"\",\"\",INDEX(Data_kom2,MATCH(1,(komnavn2=B60)*(komaar2=D60),0),27))","v":""},{"$f":"IF(B60=\"\",\"\",INDEX(Data_kom2,MATCH(1,(komnavn2=B60)*(komaar2=D60),0),28))","v":""},{"$f":"IF(B60=\"\",\"\",INDEX(Data_kom2,MATCH(1,(komnavn2=B60)*(komaar2=D60),0),29))","v":""},{"$f":"IF(B60=\"\",\"\",INDEX(Data_kom2,MATCH(1,(komnavn2=B60)*(komaar2=D60),0),30))","v":""},{"$f":"IF(B60=\"\",\"\",INDEX(Data_kom2,MATCH(1,(komnavn2=B60)*(komaar2=D60),0),31))","v":""},{"$f":"IF(B60=\"\",\"\",INDEX(Data_kom2,MATCH(1,(komnavn2=B60)*(komaar2=D60),0),32))","v":""},{"$f":"IF(B60=\"\",\"\",INDEX(Data_kom2,MATCH(1,(komnavn2=B60)*(komaar2=D60),0),33))","v":""},{"$f":"IF(B60=\"\",\"\",INDEX(Data_kom2,MATCH(1,(komnavn2=B60)*(komaar2=D60),0),34))","v":""},{"$f":"IF(B60=\"\",\"\",INDEX(Data_kom2,MATCH(1,(komnavn2=B60)*(komaar2=D60),0),35))","v":""},{"$f":"IF(B60=\"\",\"\",INDEX(Data_kom2,MATCH(1,(komnavn2=B60)*(komaar2=D60),0),36))","v":""},{"$f":"IF(B60=\"\",\"\",INDEX(Data_kom2,MATCH(1,(komnavn2=B60)*(komaar2=D60),0),37))","v":""},{"$f":"IF(B60=\"\",\"\",INDEX(Data_kom2,MATCH(1,(komnavn2=B60)*(komaar2=D60),0),38))","v":""}]
[6,{"$f":"'Dine valg'!$G$29","v":""},{"$f":"IF(B61=\"\",\"\",INDEX(Data_kom2,MATCH(1,(komnavn2=B61)*(komaar2=D61),0),2))","v":""},"2019-07-01",{"$f":"IF(B61=\"\",\"\",INDEX(Data_kom2,MATCH(1,(komnavn2=B61)*(komaar2=D61),0),4))","v":""},{"$f":"IF(B61=\"\",\"\",INDEX(Data_kom2,MATCH(1,(komnavn2=B61)*(komaar2=D61),0),5))","v":""},{"$f":"IF(B61=\"\",\"\",INDEX(Data_kom2,MATCH(1,(komnavn2=B61)*(komaar2=D61),0),6))","v":""},{"$f":"IF(B61=\"\",\"\",INDEX(Data_kom2,MATCH(1,(komnavn2=B61)*(komaar2=D61),0),7))","v":""},{"$f":"IF(B61=\"\",\"\",INDEX(Data_kom2,MATCH(1,(komnavn2=B61)*(komaar2=D61),0),8))","v":""},{"$f":"IF(B61=\"\",\"\",INDEX(Data_kom2,MATCH(1,(komnavn2=B61)*(komaar2=D61),0),9))","v":""},{"$f":"IF(B61=\"\",\"\",INDEX(Data_kom2,MATCH(1,(komnavn2=B61)*(komaar2=D61),0),10))","v":""},{"$f":"IF(B61=\"\",\"\",INDEX(Data_kom2,MATCH(1,(komnavn2=B61)*(komaar2=D61),0),11))","v":""},{"$f":"IF(B61=\"\",\"\",INDEX(Data_kom2,MATCH(1,(komnavn2=B61)*(komaar2=D61),0),12))","v":""},{"$f":"IF(B61=\"\",\"\",INDEX(Data_kom2,MATCH(1,(komnavn2=B61)*(komaar2=D61),0),13))","v":""},{"$f":"IF(B61=\"\",\"\",INDEX(Data_kom2,MATCH(1,(komnavn2=B61)*(komaar2=D61),0),14))","v":""},{"$f":"IF(B61=\"\",\"\",INDEX(Data_kom2,MATCH(1,(komnavn2=B61)*(komaar2=D61),0),15))","v":""},{"$f":"IF(B61=\"\",\"\",INDEX(Data_kom2,MATCH(1,(komnavn2=B61)*(komaar2=D61),0),16))","v":""},{"$f":"IF(B61=\"\",\"\",INDEX(Data_kom2,MATCH(1,(komnavn2=B61)*(komaar2=D61),0),17))","v":""},{"$f":"IF(B61=\"\",\"\",INDEX(Data_kom2,MATCH(1,(komnavn2=B61)*(komaar2=D61),0),18))","v":""},{"$f":"IF(B61=\"\",\"\",INDEX(Data_kom2,MATCH(1,(komnavn2=B61)*(komaar2=D61),0),19))","v":""},{"$f":"IF(B61=\"\",\"\",INDEX(Data_kom2,MATCH(1,(komnavn2=B61)*(komaar2=D61),0),20))","v":""},{"$f":"IF(B61=\"\",\"\",INDEX(Data_kom2,MATCH(1,(komnavn2=B61)*(komaar2=D61),0),21))","v":""},{"$f":"IF(B61=\"\",\"\",INDEX(Data_kom2,MATCH(1,(komnavn2=B61)*(komaar2=D61),0),22))","v":""},{"$f":"IF(B61=\"\",\"\",INDEX(Data_kom2,MATCH(1,(komnavn2=B61)*(komaar2=D61),0),23))","v":""},{"$f":"IF(B61=\"\",\"\",INDEX(Data_kom2,MATCH(1,(komnavn2=B61)*(komaar2=D61),0),24))","v":""},{"$f":"IF(B61=\"\",\"\",INDEX(Data_kom2,MATCH(1,(komnavn2=B61)*(komaar2=D61),0),25))","v":""},{"$f":"IF(B61=\"\",\"\",INDEX(Data_kom2,MATCH(1,(komnavn2=B61)*(komaar2=D61),0),26))","v":""},{"$f":"IF(B61=\"\",\"\",INDEX(Data_kom2,MATCH(1,(komnavn2=B61)*(komaar2=D61),0),27))","v":""},{"$f":"IF(B61=\"\",\"\",INDEX(Data_kom2,MATCH(1,(komnavn2=B61)*(komaar2=D61),0),28))","v":""},{"$f":"IF(B61=\"\",\"\",INDEX(Data_kom2,MATCH(1,(komnavn2=B61)*(komaar2=D61),0),29))","v":""},{"$f":"IF(B61=\"\",\"\",INDEX(Data_kom2,MATCH(1,(komnavn2=B61)*(komaar2=D61),0),30))","v":""},{"$f":"IF(B61=\"\",\"\",INDEX(Data_kom2,MATCH(1,(komnavn2=B61)*(komaar2=D61),0),31))","v":""},{"$f":"IF(B61=\"\",\"\",INDEX(Data_kom2,MATCH(1,(komnavn2=B61)*(komaar2=D61),0),32))","v":""},{"$f":"IF(B61=\"\",\"\",INDEX(Data_kom2,MATCH(1,(komnavn2=B61)*(komaar2=D61),0),33))","v":""},{"$f":"IF(B61=\"\",\"\",INDEX(Data_kom2,MATCH(1,(komnavn2=B61)*(komaar2=D61),0),34))","v":""},{"$f":"IF(B61=\"\",\"\",INDEX(Data_kom2,MATCH(1,(komnavn2=B61)*(komaar2=D61),0),35))","v":""},{"$f":"IF(B61=\"\",\"\",INDEX(Data_kom2,MATCH(1,(komnavn2=B61)*(komaar2=D61),0),36))","v":""},{"$f":"IF(B61=\"\",\"\",INDEX(Data_kom2,MATCH(1,(komnavn2=B61)*(komaar2=D61),0),37))","v":""},{"$f":"IF(B61=\"\",\"\",INDEX(Data_kom2,MATCH(1,(komnavn2=B61)*(komaar2=D61),0),38))","v":""}]
[7,{"$f":"'Dine valg'!$G$30","v":""},{"$f":"IF(B62=\"\",\"\",INDEX(Data_kom2,MATCH(1,(komnavn2=B62)*(komaar2=D62),0),2))","v":""},"2019-07-01",{"$f":"IF(B62=\"\",\"\",INDEX(Data_kom2,MATCH(1,(komnavn2=B62)*(komaar2=D62),0),4))","v":""},{"$f":"IF(B62=\"\",\"\",INDEX(Data_kom2,MATCH(1,(komnavn2=B62)*(komaar2=D62),0),5))","v":""},{"$f":"IF(B62=\"\",\"\",INDEX(Data_kom2,MATCH(1,(komnavn2=B62)*(komaar2=D62),0),6))","v":""},{"$f":"IF(B62=\"\",\"\",INDEX(Data_kom2,MATCH(1,(komnavn2=B62)*(komaar2=D62),0),7))","v":""},{"$f":"IF(B62=\"\",\"\",INDEX(Data_kom2,MATCH(1,(komnavn2=B62)*(komaar2=D62),0),8))","v":""},{"$f":"IF(B62=\"\",\"\",INDEX(Data_kom2,MATCH(1,(komnavn2=B62)*(komaar2=D62),0),9))","v":""},{"$f":"IF(B62=\"\",\"\",INDEX(Data_kom2,MATCH(1,(komnavn2=B62)*(komaar2=D62),0),10))","v":""},{"$f":"IF(B62=\"\",\"\",INDEX(Data_kom2,MATCH(1,(komnavn2=B62)*(komaar2=D62),0),11))","v":""},{"$f":"IF(B62=\"\",\"\",INDEX(Data_kom2,MATCH(1,(komnavn2=B62)*(komaar2=D62),0),12))","v":""},{"$f":"IF(B62=\"\",\"\",INDEX(Data_kom2,MATCH(1,(komnavn2=B62)*(komaar2=D62),0),13))","v":""},{"$f":"IF(B62=\"\",\"\",INDEX(Data_kom2,MATCH(1,(komnavn2=B62)*(komaar2=D62),0),14))","v":""},{"$f":"IF(B62=\"\",\"\",INDEX(Data_kom2,MATCH(1,(komnavn2=B62)*(komaar2=D62),0),15))","v":""},{"$f":"IF(B62=\"\",\"\",INDEX(Data_kom2,MATCH(1,(komnavn2=B62)*(komaar2=D62),0),16))","v":""},{"$f":"IF(B62=\"\",\"\",INDEX(Data_kom2,MATCH(1,(komnavn2=B62)*(komaar2=D62),0),17))","v":""},{"$f":"IF(B62=\"\",\"\",INDEX(Data_kom2,MATCH(1,(komnavn2=B62)*(komaar2=D62),0),18))","v":""},{"$f":"IF(B62=\"\",\"\",INDEX(Data_kom2,MATCH(1,(komnavn2=B62)*(komaar2=D62),0),19))","v":""},{"$f":"IF(B62=\"\",\"\",INDEX(Data_kom2,MATCH(1,(komnavn2=B62)*(komaar2=D62),0),20))","v":""},{"$f":"IF(B62=\"\",\"\",INDEX(Data_kom2,MATCH(1,(komnavn2=B62)*(komaar2=D62),0),21))","v":""},{"$f":"IF(B62=\"\",\"\",INDEX(Data_kom2,MATCH(1,(komnavn2=B62)*(komaar2=D62),0),22))","v":""},{"$f":"IF(B62=\"\",\"\",INDEX(Data_kom2,MATCH(1,(komnavn2=B62)*(komaar2=D62),0),23))","v":""},{"$f":"IF(B62=\"\",\"\",INDEX(Data_kom2,MATCH(1,(komnavn2=B62)*(komaar2=D62),0),24))","v":""},{"$f":"IF(B62=\"\",\"\",INDEX(Data_kom2,MATCH(1,(komnavn2=B62)*(komaar2=D62),0),25))","v":""},{"$f":"IF(B62=\"\",\"\",INDEX(Data_kom2,MATCH(1,(komnavn2=B62)*(komaar2=D62),0),26))","v":""},{"$f":"IF(B62=\"\",\"\",INDEX(Data_kom2,MATCH(1,(komnavn2=B62)*(komaar2=D62),0),27))","v":""},{"$f":"IF(B62=\"\",\"\",INDEX(Data_kom2,MATCH(1,(komnavn2=B62)*(komaar2=D62),0),28))","v":""},{"$f":"IF(B62=\"\",\"\",INDEX(Data_kom2,MATCH(1,(komnavn2=B62)*(komaar2=D62),0),29))","v":""},{"$f":"IF(B62=\"\",\"\",INDEX(Data_kom2,MATCH(1,(komnavn2=B62)*(komaar2=D62),0),30))","v":""},{"$f":"IF(B62=\"\",\"\",INDEX(Data_kom2,MATCH(1,(komnavn2=B62)*(komaar2=D62),0),31))","v":""},{"$f":"IF(B62=\"\",\"\",INDEX(Data_kom2,MATCH(1,(komnavn2=B62)*(komaar2=D62),0),32))","v":""},{"$f":"IF(B62=\"\",\"\",INDEX(Data_kom2,MATCH(1,(komnavn2=B62)*(komaar2=D62),0),33))","v":""},{"$f":"IF(B62=\"\",\"\",INDEX(Data_kom2,MATCH(1,(komnavn2=B62)*(komaar2=D62),0),34))","v":""},{"$f":"IF(B62=\"\",\"\",INDEX(Data_kom2,MATCH(1,(komnavn2=B62)*(komaar2=D62),0),35))","v":""},{"$f":"IF(B62=\"\",\"\",INDEX(Data_kom2,MATCH(1,(komnavn2=B62)*(komaar2=D62),0),36))","v":""},{"$f":"IF(B62=\"\",\"\",INDEX(Data_kom2,MATCH(1,(komnavn2=B62)*(komaar2=D62),0),37))","v":""},{"$f":"IF(B62=\"\",\"\",INDEX(Data_kom2,MATCH(1,(komnavn2=B62)*(komaar2=D62),0),38))","v":""}]
[1,{"$f":"'Dine valg'!$G$24","v":"Aarhus"},{"$f":"IF(B63=\"\",\"\",INDEX(Data_kom2,MATCH(1,(komnavn2=B63)*(komaar2=D63),0),2))","v":63607},"2019-01-01",{"$f":"IF(B63=\"\",\"\",INDEX(Data_kom2,MATCH(1,(komnavn2=B63)*(komaar2=D63),0),4))","v":174},{"$f":"IF(B63=\"\",\"\",INDEX(Data_kom2,MATCH(1,(komnavn2=B63)*(komaar2=D63),0),5))","v":118},{"$f":"IF(B63=\"\",\"\",INDEX(Data_kom2,MATCH(1,(komnavn2=B63)*(komaar2=D63),0),6))","v":10},{"$f":"IF(B63=\"\",\"\",INDEX(Data_kom2,MATCH(1,(komnavn2=B63)*(komaar2=D63),0),7))","v":46},{"$f":"IF(B63=\"\",\"\",INDEX(Data_kom2,MATCH(1,(komnavn2=B63)*(komaar2=D63),0),8))","v":159152},{"$f":"IF(B63=\"\",\"\",INDEX(Data_kom2,MATCH(1,(komnavn2=B63)*(komaar2=D63),0),9))","v":124068},{"$f":"IF(B63=\"\",\"\",INDEX(Data_kom2,MATCH(1,(komnavn2=B63)*(komaar2=D63),0),10))","v":1195},{"$f":"IF(B63=\"\",\"\",INDEX(Data_kom2,MATCH(1,(komnavn2=B63)*(komaar2=D63),0),11))","v":33889},{"$f":"IF(B63=\"\",\"\",INDEX(Data_kom2,MATCH(1,(komnavn2=B63)*(komaar2=D63),0),12))","v":239},{"$f":"IF(B63=\"\",\"\",INDEX(Data_kom2,MATCH(1,(komnavn2=B63)*(komaar2=D63),0),13))","v":25},{"$f":"IF(B63=\"\",\"\",INDEX(Data_kom2,MATCH(1,(komnavn2=B63)*(komaar2=D63),0),14))","v":1303},{"$f":"IF(B63=\"\",\"\",INDEX(Data_kom2,MATCH(1,(komnavn2=B63)*(komaar2=D63),0),15))","v":3},{"$f":"IF(B63=\"\",\"\",INDEX(Data_kom2,MATCH(1,(komnavn2=B63)*(komaar2=D63),0),16))","v":7},{"$f":"IF(B63=\"\",\"\",INDEX(Data_kom2,MATCH(1,(komnavn2=B63)*(komaar2=D63),0),17))","v":1280},{"$f":"IF(B63=\"\",\"\",INDEX(Data_kom2,MATCH(1,(komnavn2=B63)*(komaar2=D63),0),18))","v":13},{"$f":"IF(B63=\"\",\"\",INDEX(Data_kom2,MATCH(1,(komnavn2=B63)*(komaar2=D63),0),19))","v":0},{"$f":"IF(B63=\"\",\"\",INDEX(Data_kom2,MATCH(1,(komnavn2=B63)*(komaar2=D63),0),20))","v":0},{"$f":"IF(B63=\"\",\"\",INDEX(Data_kom2,MATCH(1,(komnavn2=B63)*(komaar2=D63),0),21))","v":0},{"$f":"IF(B63=\"\",\"\",INDEX(Data_kom2,MATCH(1,(komnavn2=B63)*(komaar2=D63),0),22))","v":28},{"$f":"IF(B63=\"\",\"\",INDEX(Data_kom2,MATCH(1,(komnavn2=B63)*(komaar2=D63),0),23))","v":168},{"$f":"IF(B63=\"\",\"\",INDEX(Data_kom2,MATCH(1,(komnavn2=B63)*(komaar2=D63),0),24))","v":0},{"$f":"IF(B63=\"\",\"\",INDEX(Data_kom2,MATCH(1,(komnavn2=B63)*(komaar2=D63),0),25))","v":168},{"$f":"IF(B63=\"\",\"\",INDEX(Data_kom2,MATCH(1,(komnavn2=B63)*(komaar2=D63),0),26))","v":0},{"$f":"IF(B63=\"\",\"\",INDEX(Data_kom2,MATCH(1,(komnavn2=B63)*(komaar2=D63),0),27))","v":168},{"$f":"IF(B63=\"\",\"\",INDEX(Data_kom2,MATCH(1,(komnavn2=B63)*(komaar2=D63),0),28))","v":31},{"$f":"IF(B63=\"\",\"\",INDEX(Data_kom2,MATCH(1,(komnavn2=B63)*(komaar2=D63),0),29))","v":1190},{"$f":"IF(B63=\"\",\"\",INDEX(Data_kom2,MATCH(1,(komnavn2=B63)*(komaar2=D63),0),30))","v":310},{"$f":"IF(B63=\"\",\"\",INDEX(Data_kom2,MATCH(1,(komnavn2=B63)*(komaar2=D63),0),31))","v":1202},{"$f":"IF(B63=\"\",\"\",INDEX(Data_kom2,MATCH(1,(komnavn2=B63)*(komaar2=D63),0),32))","v":0},{"$f":"IF(B63=\"\",\"\",INDEX(Data_kom2,MATCH(1,(komnavn2=B63)*(komaar2=D63),0),33))","v":0},{"$f":"IF(B63=\"\",\"\",INDEX(Data_kom2,MATCH(1,(komnavn2=B63)*(komaar2=D63),0),34))","v":0},{"$f":"IF(B63=\"\",\"\",INDEX(Data_kom2,MATCH(1,(komnavn2=B63)*(komaar2=D63),0),35))","v":0},{"$f":"IF(B63=\"\",\"\",INDEX(Data_kom2,MATCH(1,(komnavn2=B63)*(komaar2=D63),0),36))","v":0},{"$f":"IF(B63=\"\",\"\",INDEX(Data_kom2,MATCH(1,(komnavn2=B63)*(komaar2=D63),0),37))","v":0},{"$f":"IF(B63=\"\",\"\",INDEX(Data_kom2,MATCH(1,(komnavn2=B63)*(komaar2=D63),0),38))","v":"Region Midtjylland"}]
[2,{"$f":"'Dine valg'!$G$25","v":""},{"$f":"IF(B64=\"\",\"\",INDEX(Data_kom2,MATCH(1,(komnavn2=B64)*(komaar2=D64),0),2))","v":""},"2019-01-01",{"$f":"IF(B64=\"\",\"\",INDEX(Data_kom2,MATCH(1,(komnavn2=B64)*(komaar2=D64),0),4))","v":""},{"$f":"IF(B64=\"\",\"\",INDEX(Data_kom2,MATCH(1,(komnavn2=B64)*(komaar2=D64),0),5))","v":""},{"$f":"IF(B64=\"\",\"\",INDEX(Data_kom2,MATCH(1,(komnavn2=B64)*(komaar2=D64),0),6))","v":""},{"$f":"IF(B64=\"\",\"\",INDEX(Data_kom2,MATCH(1,(komnavn2=B64)*(komaar2=D64),0),7))","v":""},{"$f":"IF(B64=\"\",\"\",INDEX(Data_kom2,MATCH(1,(komnavn2=B64)*(komaar2=D64),0),8))","v":""},{"$f":"IF(B64=\"\",\"\",INDEX(Data_kom2,MATCH(1,(komnavn2=B64)*(komaar2=D64),0),9))","v":""},{"$f":"IF(B64=\"\",\"\",INDEX(Data_kom2,MATCH(1,(komnavn2=B64)*(komaar2=D64),0),10))","v":""},{"$f":"IF(B64=\"\",\"\",INDEX(Data_kom2,MATCH(1,(komnavn2=B64)*(komaar2=D64),0),11))","v":""},{"$f":"IF(B64=\"\",\"\",INDEX(Data_kom2,MATCH(1,(komnavn2=B64)*(komaar2=D64),0),12))","v":""},{"$f":"IF(B64=\"\",\"\",INDEX(Data_kom2,MATCH(1,(komnavn2=B64)*(komaar2=D64),0),13))","v":""},{"$f":"IF(B64=\"\",\"\",INDEX(Data_kom2,MATCH(1,(komnavn2=B64)*(komaar2=D64),0),14))","v":""},{"$f":"IF(B64=\"\",\"\",INDEX(Data_kom2,MATCH(1,(komnavn2=B64)*(komaar2=D64),0),15))","v":""},{"$f":"IF(B64=\"\",\"\",INDEX(Data_kom2,MATCH(1,(komnavn2=B64)*(komaar2=D64),0),16))","v":""},{"$f":"IF(B64=\"\",\"\",INDEX(Data_kom2,MATCH(1,(komnavn2=B64)*(komaar2=D64),0),17))","v":""},{"$f":"IF(B64=\"\",\"\",INDEX(Data_kom2,MATCH(1,(komnavn2=B64)*(komaar2=D64),0),18))","v":""},{"$f":"IF(B64=\"\",\"\",INDEX(Data_kom2,MATCH(1,(komnavn2=B64)*(komaar2=D64),0),19))","v":""},{"$f":"IF(B64=\"\",\"\",INDEX(Data_kom2,MATCH(1,(komnavn2=B64)*(komaar2=D64),0),20))","v":""},{"$f":"IF(B64=\"\",\"\",INDEX(Data_kom2,MATCH(1,(komnavn2=B64)*(komaar2=D64),0),21))","v":""},{"$f":"IF(B64=\"\",\"\",INDEX(Data_kom2,MATCH(1,(komnavn2=B64)*(komaar2=D64),0),22))","v":""},{"$f":"IF(B64=\"\",\"\",INDEX(Data_kom2,MATCH(1,(komnavn2=B64)*(komaar2=D64),0),23))","v":""},{"$f":"IF(B64=\"\",\"\",INDEX(Data_kom2,MATCH(1,(komnavn2=B64)*(komaar2=D64),0),24))","v":""},{"$f":"IF(B64=\"\",\"\",INDEX(Data_kom2,MATCH(1,(komnavn2=B64)*(komaar2=D64),0),25))","v":""},{"$f":"IF(B64=\"\",\"\",INDEX(Data_kom2,MATCH(1,(komnavn2=B64)*(komaar2=D64),0),26))","v":""},{"$f":"IF(B64=\"\",\"\",INDEX(Data_kom2,MATCH(1,(komnavn2=B64)*(komaar2=D64),0),27))","v":""},{"$f":"IF(B64=\"\",\"\",INDEX(Data_kom2,MATCH(1,(komnavn2=B64)*(komaar2=D64),0),28))","v":""},{"$f":"IF(B64=\"\",\"\",INDEX(Data_kom2,MATCH(1,(komnavn2=B64)*(komaar2=D64),0),29))","v":""},{"$f":"IF(B64=\"\",\"\",INDEX(Data_kom2,MATCH(1,(komnavn2=B64)*(komaar2=D64),0),30))","v":""},{"$f":"IF(B64=\"\",\"\",INDEX(Data_kom2,MATCH(1,(komnavn2=B64)*(komaar2=D64),0),31))","v":""},{"$f":"IF(B64=\"\",\"\",INDEX(Data_kom2,MATCH(1,(komnavn2=B64)*(komaar2=D64),0),32))","v":""},{"$f":"IF(B64=\"\",\"\",INDEX(Data_kom2,MATCH(1,(komnavn2=B64)*(komaar2=D64),0),33))","v":""},{"$f":"IF(B64=\"\",\"\",INDEX(Data_kom2,MATCH(1,(komnavn2=B64)*(komaar2=D64),0),34))","v":""},{"$f":"IF(B64=\"\",\"\",INDEX(Data_kom2,MATCH(1,(komnavn2=B64)*(komaar2=D64),0),35))","v":""},{"$f":"IF(B64=\"\",\"\",INDEX(Data_kom2,MATCH(1,(komnavn2=B64)*(komaar2=D64),0),36))","v":""},{"$f":"IF(B64=\"\",\"\",INDEX(Data_kom2,MATCH(1,(komnavn2=B64)*(komaar2=D64),0),37))","v":""},{"$f":"IF(B64=\"\",\"\",INDEX(Data_kom2,MATCH(1,(komnavn2=B64)*(komaar2=D64),0),38))","v":""}]
[3,{"$f":"'Dine valg'!$G$26","v":""},{"$f":"IF(B65=\"\",\"\",INDEX(Data_kom2,MATCH(1,(komnavn2=B65)*(komaar2=D65),0),2))","v":""},"2019-01-01",{"$f":"IF(B65=\"\",\"\",INDEX(Data_kom2,MATCH(1,(komnavn2=B65)*(komaar2=D65),0),4))","v":""},{"$f":"IF(B65=\"\",\"\",INDEX(Data_kom2,MATCH(1,(komnavn2=B65)*(komaar2=D65),0),5))","v":""},{"$f":"IF(B65=\"\",\"\",INDEX(Data_kom2,MATCH(1,(komnavn2=B65)*(komaar2=D65),0),6))","v":""},{"$f":"IF(B65=\"\",\"\",INDEX(Data_kom2,MATCH(1,(komnavn2=B65)*(komaar2=D65),0),7))","v":""},{"$f":"IF(B65=\"\",\"\",INDEX(Data_kom2,MATCH(1,(komnavn2=B65)*(komaar2=D65),0),8))","v":""},{"$f":"IF(B65=\"\",\"\",INDEX(Data_kom2,MATCH(1,(komnavn2=B65)*(komaar2=D65),0),9))","v":""},{"$f":"IF(B65=\"\",\"\",INDEX(Data_kom2,MATCH(1,(komnavn2=B65)*(komaar2=D65),0),10))","v":""},{"$f":"IF(B65=\"\",\"\",INDEX(Data_kom2,MATCH(1,(komnavn2=B65)*(komaar2=D65),0),11))","v":""},{"$f":"IF(B65=\"\",\"\",INDEX(Data_kom2,MATCH(1,(komnavn2=B65)*(komaar2=D65),0),12))","v":""},{"$f":"IF(B65=\"\",\"\",INDEX(Data_kom2,MATCH(1,(komnavn2=B65)*(komaar2=D65),0),13))","v":""},{"$f":"IF(B65=\"\",\"\",INDEX(Data_kom2,MATCH(1,(komnavn2=B65)*(komaar2=D65),0),14))","v":""},{"$f":"IF(B65=\"\",\"\",INDEX(Data_kom2,MATCH(1,(komnavn2=B65)*(komaar2=D65),0),15))","v":""},{"$f":"IF(B65=\"\",\"\",INDEX(Data_kom2,MATCH(1,(komnavn2=B65)*(komaar2=D65),0),16))","v":""},{"$f":"IF(B65=\"\",\"\",INDEX(Data_kom2,MATCH(1,(komnavn2=B65)*(komaar2=D65),0),17))","v":""},{"$f":"IF(B65=\"\",\"\",INDEX(Data_kom2,MATCH(1,(komnavn2=B65)*(komaar2=D65),0),18))","v":""},{"$f":"IF(B65=\"\",\"\",INDEX(Data_kom2,MATCH(1,(komnavn2=B65)*(komaar2=D65),0),19))","v":""},{"$f":"IF(B65=\"\",\"\",INDEX(Data_kom2,MATCH(1,(komnavn2=B65)*(komaar2=D65),0),20))","v":""},{"$f":"IF(B65=\"\",\"\",INDEX(Data_kom2,MATCH(1,(komnavn2=B65)*(komaar2=D65),0),21))","v":""},{"$f":"IF(B65=\"\",\"\",INDEX(Data_kom2,MATCH(1,(komnavn2=B65)*(komaar2=D65),0),22))","v":""},{"$f":"IF(B65=\"\",\"\",INDEX(Data_kom2,MATCH(1,(komnavn2=B65)*(komaar2=D65),0),23))","v":""},{"$f":"IF(B65=\"\",\"\",INDEX(Data_kom2,MATCH(1,(komnavn2=B65)*(komaar2=D65),0),24))","v":""},{"$f":"IF(B65=\"\",\"\",INDEX(Data_kom2,MATCH(1,(komnavn2=B65)*(komaar2=D65),0),25))","v":""},{"$f":"IF(B65=\"\",\"\",INDEX(Data_kom2,MATCH(1,(komnavn2=B65)*(komaar2=D65),0),26))","v":""},{"$f":"IF(B65=\"\",\"\",INDEX(Data_kom2,MATCH(1,(komnavn2=B65)*(komaar2=D65),0),27))","v":""},{"$f":"IF(B65=\"\",\"\",INDEX(Data_kom2,MATCH(1,(komnavn2=B65)*(komaar2=D65),0),28))","v":""},{"$f":"IF(B65=\"\",\"\",INDEX(Data_kom2,MATCH(1,(komnavn2=B65)*(komaar2=D65),0),29))","v":""},{"$f":"IF(B65=\"\",\"\",INDEX(Data_kom2,MATCH(1,(komnavn2=B65)*(komaar2=D65),0),30))","v":""},{"$f":"IF(B65=\"\",\"\",INDEX(Data_kom2,MATCH(1,(komnavn2=B65)*(komaar2=D65),0),31))","v":""},{"$f":"IF(B65=\"\",\"\",INDEX(Data_kom2,MATCH(1,(komnavn2=B65)*(komaar2=D65),0),32))","v":""},{"$f":"IF(B65=\"\",\"\",INDEX(Data_kom2,MATCH(1,(komnavn2=B65)*(komaar2=D65),0),33))","v":""},{"$f":"IF(B65=\"\",\"\",INDEX(Data_kom2,MATCH(1,(komnavn2=B65)*(komaar2=D65),0),34))","v":""},{"$f":"IF(B65=\"\",\"\",INDEX(Data_kom2,MATCH(1,(komnavn2=B65)*(komaar2=D65),0),35))","v":""},{"$f":"IF(B65=\"\",\"\",INDEX(Data_kom2,MATCH(1,(komnavn2=B65)*(komaar2=D65),0),36))","v":""},{"$f":"IF(B65=\"\",\"\",INDEX(Data_kom2,MATCH(1,(komnavn2=B65)*(komaar2=D65),0),37))","v":""},{"$f":"IF(B65=\"\",\"\",INDEX(Data_kom2,MATCH(1,(komnavn2=B65)*(komaar2=D65),0),38))","v":""}]
[4,{"$f":"'Dine valg'!$G$27","v":""},{"$f":"IF(B66=\"\",\"\",INDEX(Data_kom2,MATCH(1,(komnavn2=B66)*(komaar2=D66),0),2))","v":""},"2019-01-01",{"$f":"IF(B66=\"\",\"\",INDEX(Data_kom2,MATCH(1,(komnavn2=B66)*(komaar2=D66),0),4))","v":""},{"$f":"IF(B66=\"\",\"\",INDEX(Data_kom2,MATCH(1,(komnavn2=B66)*(komaar2=D66),0),5))","v":""},{"$f":"IF(B66=\"\",\"\",INDEX(Data_kom2,MATCH(1,(komnavn2=B66)*(komaar2=D66),0),6))","v":""},{"$f":"IF(B66=\"\",\"\",INDEX(Data_kom2,MATCH(1,(komnavn2=B66)*(komaar2=D66),0),7))","v":""},{"$f":"IF(B66=\"\",\"\",INDEX(Data_kom2,MATCH(1,(komnavn2=B66)*(komaar2=D66),0),8))","v":""},{"$f":"IF(B66=\"\",\"\",INDEX(Data_kom2,MATCH(1,(komnavn2=B66)*(komaar2=D66),0),9))","v":""},{"$f":"IF(B66=\"\",\"\",INDEX(Data_kom2,MATCH(1,(komnavn2=B66)*(komaar2=D66),0),10))","v":""},{"$f":"IF(B66=\"\",\"\",INDEX(Data_kom2,MATCH(1,(komnavn2=B66)*(komaar2=D66),0),11))","v":""},{"$f":"IF(B66=\"\",\"\",INDEX(Data_kom2,MATCH(1,(komnavn2=B66)*(komaar2=D66),0),12))","v":""},{"$f":"IF(B66=\"\",\"\",INDEX(Data_kom2,MATCH(1,(komnavn2=B66)*(komaar2=D66),0),13))","v":""},{"$f":"IF(B66=\"\",\"\",INDEX(Data_kom2,MATCH(1,(komnavn2=B66)*(komaar2=D66),0),14))","v":""},{"$f":"IF(B66=\"\",\"\",INDEX(Data_kom2,MATCH(1,(komnavn2=B66)*(komaar2=D66),0),15))","v":""},{"$f":"IF(B66=\"\",\"\",INDEX(Data_kom2,MATCH(1,(komnavn2=B66)*(komaar2=D66),0),16))","v":""},{"$f":"IF(B66=\"\",\"\",INDEX(Data_kom2,MATCH(1,(komnavn2=B66)*(komaar2=D66),0),17))","v":""},{"$f":"IF(B66=\"\",\"\",INDEX(Data_kom2,MATCH(1,(komnavn2=B66)*(komaar2=D66),0),18))","v":""},{"$f":"IF(B66=\"\",\"\",INDEX(Data_kom2,MATCH(1,(komnavn2=B66)*(komaar2=D66),0),19))","v":""},{"$f":"IF(B66=\"\",\"\",INDEX(Data_kom2,MATCH(1,(komnavn2=B66)*(komaar2=D66),0),20))","v":""},{"$f":"IF(B66=\"\",\"\",INDEX(Data_kom2,MATCH(1,(komnavn2=B66)*(komaar2=D66),0),21))","v":""},{"$f":"IF(B66=\"\",\"\",INDEX(Data_kom2,MATCH(1,(komnavn2=B66)*(komaar2=D66),0),22))","v":""},{"$f":"IF(B66=\"\",\"\",INDEX(Data_kom2,MATCH(1,(komnavn2=B66)*(komaar2=D66),0),23))","v":""},{"$f":"IF(B66=\"\",\"\",INDEX(Data_kom2,MATCH(1,(komnavn2=B66)*(komaar2=D66),0),24))","v":""},{"$f":"IF(B66=\"\",\"\",INDEX(Data_kom2,MATCH(1,(komnavn2=B66)*(komaar2=D66),0),25))","v":""},{"$f":"IF(B66=\"\",\"\",INDEX(Data_kom2,MATCH(1,(komnavn2=B66)*(komaar2=D66),0),26))","v":""},{"$f":"IF(B66=\"\",\"\",INDEX(Data_kom2,MATCH(1,(komnavn2=B66)*(komaar2=D66),0),27))","v":""},{"$f":"IF(B66=\"\",\"\",INDEX(Data_kom2,MATCH(1,(komnavn2=B66)*(komaar2=D66),0),28))","v":""},{"$f":"IF(B66=\"\",\"\",INDEX(Data_kom2,MATCH(1,(komnavn2=B66)*(komaar2=D66),0),29))","v":""},{"$f":"IF(B66=\"\",\"\",INDEX(Data_kom2,MATCH(1,(komnavn2=B66)*(komaar2=D66),0),30))","v":""},{"$f":"IF(B66=\"\",\"\",INDEX(Data_kom2,MATCH(1,(komnavn2=B66)*(komaar2=D66),0),31))","v":""},{"$f":"IF(B66=\"\",\"\",INDEX(Data_kom2,MATCH(1,(komnavn2=B66)*(komaar2=D66),0),32))","v":""},{"$f":"IF(B66=\"\",\"\",INDEX(Data_kom2,MATCH(1,(komnavn2=B66)*(komaar2=D66),0),33))","v":""},{"$f":"IF(B66=\"\",\"\",INDEX(Data_kom2,MATCH(1,(komnavn2=B66)*(komaar2=D66),0),34))","v":""},{"$f":"IF(B66=\"\",\"\",INDEX(Data_kom2,MATCH(1,(komnavn2=B66)*(komaar2=D66),0),35))","v":""},{"$f":"IF(B66=\"\",\"\",INDEX(Data_kom2,MATCH(1,(komnavn2=B66)*(komaar2=D66),0),36))","v":""},{"$f":"IF(B66=\"\",\"\",INDEX(Data_kom2,MATCH(1,(komnavn2=B66)*(komaar2=D66),0),37))","v":""},{"$f":"IF(B66=\"\",\"\",INDEX(Data_kom2,MATCH(1,(komnavn2=B66)*(komaar2=D66),0),38))","v":""}]
[5,{"$f":"'Dine valg'!$G$28","v":""},{"$f":"IF(B67=\"\",\"\",INDEX(Data_kom2,MATCH(1,(komnavn2=B67)*(komaar2=D67),0),2))","v":""},"2019-01-01",{"$f":"IF(B67=\"\",\"\",INDEX(Data_kom2,MATCH(1,(komnavn2=B67)*(komaar2=D67),0),4))","v":""},{"$f":"IF(B67=\"\",\"\",INDEX(Data_kom2,MATCH(1,(komnavn2=B67)*(komaar2=D67),0),5))","v":""},{"$f":"IF(B67=\"\",\"\",INDEX(Data_kom2,MATCH(1,(komnavn2=B67)*(komaar2=D67),0),6))","v":""},{"$f":"IF(B67=\"\",\"\",INDEX(Data_kom2,MATCH(1,(komnavn2=B67)*(komaar2=D67),0),7))","v":""},{"$f":"IF(B67=\"\",\"\",INDEX(Data_kom2,MATCH(1,(komnavn2=B67)*(komaar2=D67),0),8))","v":""},{"$f":"IF(B67=\"\",\"\",INDEX(Data_kom2,MATCH(1,(komnavn2=B67)*(komaar2=D67),0),9))","v":""},{"$f":"IF(B67=\"\",\"\",INDEX(Data_kom2,MATCH(1,(komnavn2=B67)*(komaar2=D67),0),10))","v":""},{"$f":"IF(B67=\"\",\"\",INDEX(Data_kom2,MATCH(1,(komnavn2=B67)*(komaar2=D67),0),11))","v":""},{"$f":"IF(B67=\"\",\"\",INDEX(Data_kom2,MATCH(1,(komnavn2=B67)*(komaar2=D67),0),12))","v":""},{"$f":"IF(B67=\"\",\"\",INDEX(Data_kom2,MATCH(1,(komnavn2=B67)*(komaar2=D67),0),13))","v":""},{"$f":"IF(B67=\"\",\"\",INDEX(Data_kom2,MATCH(1,(komnavn2=B67)*(komaar2=D67),0),14))","v":""},{"$f":"IF(B67=\"\",\"\",INDEX(Data_kom2,MATCH(1,(komnavn2=B67)*(komaar2=D67),0),15))","v":""},{"$f":"IF(B67=\"\",\"\",INDEX(Data_kom2,MATCH(1,(komnavn2=B67)*(komaar2=D67),0),16))","v":""},{"$f":"IF(B67=\"\",\"\",INDEX(Data_kom2,MATCH(1,(komnavn2=B67)*(komaar2=D67),0),17))","v":""},{"$f":"IF(B67=\"\",\"\",INDEX(Data_kom2,MATCH(1,(komnavn2=B67)*(komaar2=D67),0),18))","v":""},{"$f":"IF(B67=\"\",\"\",INDEX(Data_kom2,MATCH(1,(komnavn2=B67)*(komaar2=D67),0),19))","v":""},{"$f":"IF(B67=\"\",\"\",INDEX(Data_kom2,MATCH(1,(komnavn2=B67)*(komaar2=D67),0),20))","v":""},{"$f":"IF(B67=\"\",\"\",INDEX(Data_kom2,MATCH(1,(komnavn2=B67)*(komaar2=D67),0),21))","v":""},{"$f":"IF(B67=\"\",\"\",INDEX(Data_kom2,MATCH(1,(komnavn2=B67)*(komaar2=D67),0),22))","v":""},{"$f":"IF(B67=\"\",\"\",INDEX(Data_kom2,MATCH(1,(komnavn2=B67)*(komaar2=D67),0),23))","v":""},{"$f":"IF(B67=\"\",\"\",INDEX(Data_kom2,MATCH(1,(komnavn2=B67)*(komaar2=D67),0),24))","v":""},{"$f":"IF(B67=\"\",\"\",INDEX(Data_kom2,MATCH(1,(komnavn2=B67)*(komaar2=D67),0),25))","v":""},{"$f":"IF(B67=\"\",\"\",INDEX(Data_kom2,MATCH(1,(komnavn2=B67)*(komaar2=D67),0),26))","v":""},{"$f":"IF(B67=\"\",\"\",INDEX(Data_kom2,MATCH(1,(komnavn2=B67)*(komaar2=D67),0),27))","v":""},{"$f":"IF(B67=\"\",\"\",INDEX(Data_kom2,MATCH(1,(komnavn2=B67)*(komaar2=D67),0),28))","v":""},{"$f":"IF(B67=\"\",\"\",INDEX(Data_kom2,MATCH(1,(komnavn2=B67)*(komaar2=D67),0),29))","v":""},{"$f":"IF(B67=\"\",\"\",INDEX(Data_kom2,MATCH(1,(komnavn2=B67)*(komaar2=D67),0),30))","v":""},{"$f":"IF(B67=\"\",\"\",INDEX(Data_kom2,MATCH(1,(komnavn2=B67)*(komaar2=D67),0),31))","v":""},{"$f":"IF(B67=\"\",\"\",INDEX(Data_kom2,MATCH(1,(komnavn2=B67)*(komaar2=D67),0),32))","v":""},{"$f":"IF(B67=\"\",\"\",INDEX(Data_kom2,MATCH(1,(komnavn2=B67)*(komaar2=D67),0),33))","v":""},{"$f":"IF(B67=\"\",\"\",INDEX(Data_kom2,MATCH(1,(komnavn2=B67)*(komaar2=D67),0),34))","v":""},{"$f":"IF(B67=\"\",\"\",INDEX(Data_kom2,MATCH(1,(komnavn2=B67)*(komaar2=D67),0),35))","v":""},{"$f":"IF(B67=\"\",\"\",INDEX(Data_kom2,MATCH(1,(komnavn2=B67)*(komaar2=D67),0),36))","v":""},{"$f":"IF(B67=\"\",\"\",INDEX(Data_kom2,MATCH(1,(komnavn2=B67)*(komaar2=D67),0),37))","v":""},{"$f":"IF(B67=\"\",\"\",INDEX(Data_kom2,MATCH(1,(komnavn2=B67)*(komaar2=D67),0),38))","v":""}]
[6,{"$f":"'Dine valg'!$G$29","v":""},{"$f":"IF(B68=\"\",\"\",INDEX(Data_kom2,MATCH(1,(komnavn2=B68)*(komaar2=D68),0),2))","v":""},"2019-01-01",{"$f":"IF(B68=\"\",\"\",INDEX(Data_kom2,MATCH(1,(komnavn2=B68)*(komaar2=D68),0),4))","v":""},{"$f":"IF(B68=\"\",\"\",INDEX(Data_kom2,MATCH(1,(komnavn2=B68)*(komaar2=D68),0),5))","v":""},{"$f":"IF(B68=\"\",\"\",INDEX(Data_kom2,MATCH(1,(komnavn2=B68)*(komaar2=D68),0),6))","v":""},{"$f":"IF(B68=\"\",\"\",INDEX(Data_kom2,MATCH(1,(komnavn2=B68)*(komaar2=D68),0),7))","v":""},{"$f":"IF(B68=\"\",\"\",INDEX(Data_kom2,MATCH(1,(komnavn2=B68)*(komaar2=D68),0),8))","v":""},{"$f":"IF(B68=\"\",\"\",INDEX(Data_kom2,MATCH(1,(komnavn2=B68)*(komaar2=D68),0),9))","v":""},{"$f":"IF(B68=\"\",\"\",INDEX(Data_kom2,MATCH(1,(komnavn2=B68)*(komaar2=D68),0),10))","v":""},{"$f":"IF(B68=\"\",\"\",INDEX(Data_kom2,MATCH(1,(komnavn2=B68)*(komaar2=D68),0),11))","v":""},{"$f":"IF(B68=\"\",\"\",INDEX(Data_kom2,MATCH(1,(komnavn2=B68)*(komaar2=D68),0),12))","v":""},{"$f":"IF(B68=\"\",\"\",INDEX(Data_kom2,MATCH(1,(komnavn2=B68)*(komaar2=D68),0),13))","v":""},{"$f":"IF(B68=\"\",\"\",INDEX(Data_kom2,MATCH(1,(komnavn2=B68)*(komaar2=D68),0),14))","v":""},{"$f":"IF(B68=\"\",\"\",INDEX(Data_kom2,MATCH(1,(komnavn2=B68)*(komaar2=D68),0),15))","v":""},{"$f":"IF(B68=\"\",\"\",INDEX(Data_kom2,MATCH(1,(komnavn2=B68)*(komaar2=D68),0),16))","v":""},{"$f":"IF(B68=\"\",\"\",INDEX(Data_kom2,MATCH(1,(komnavn2=B68)*(komaar2=D68),0),17))","v":""},{"$f":"IF(B68=\"\",\"\",INDEX(Data_kom2,MATCH(1,(komnavn2=B68)*(komaar2=D68),0),18))","v":""},{"$f":"IF(B68=\"\",\"\",INDEX(Data_kom2,MATCH(1,(komnavn2=B68)*(komaar2=D68),0),19))","v":""},{"$f":"IF(B68=\"\",\"\",INDEX(Data_kom2,MATCH(1,(komnavn2=B68)*(komaar2=D68),0),20))","v":""},{"$f":"IF(B68=\"\",\"\",INDEX(Data_kom2,MATCH(1,(komnavn2=B68)*(komaar2=D68),0),21))","v":""},{"$f":"IF(B68=\"\",\"\",INDEX(Data_kom2,MATCH(1,(komnavn2=B68)*(komaar2=D68),0),22))","v":""},{"$f":"IF(B68=\"\",\"\",INDEX(Data_kom2,MATCH(1,(komnavn2=B68)*(komaar2=D68),0),23))","v":""},{"$f":"IF(B68=\"\",\"\",INDEX(Data_kom2,MATCH(1,(komnavn2=B68)*(komaar2=D68),0),24))","v":""},{"$f":"IF(B68=\"\",\"\",INDEX(Data_kom2,MATCH(1,(komnavn2=B68)*(komaar2=D68),0),25))","v":""},{"$f":"IF(B68=\"\",\"\",INDEX(Data_kom2,MATCH(1,(komnavn2=B68)*(komaar2=D68),0),26))","v":""},{"$f":"IF(B68=\"\",\"\",INDEX(Data_kom2,MATCH(1,(komnavn2=B68)*(komaar2=D68),0),27))","v":""},{"$f":"IF(B68=\"\",\"\",INDEX(Data_kom2,MATCH(1,(komnavn2=B68)*(komaar2=D68),0),28))","v":""},{"$f":"IF(B68=\"\",\"\",INDEX(Data_kom2,MATCH(1,(komnavn2=B68)*(komaar2=D68),0),29))","v":""},{"$f":"IF(B68=\"\",\"\",INDEX(Data_kom2,MATCH(1,(komnavn2=B68)*(komaar2=D68),0),30))","v":""},{"$f":"IF(B68=\"\",\"\",INDEX(Data_kom2,MATCH(1,(komnavn2=B68)*(komaar2=D68),0),31))","v":""},{"$f":"IF(B68=\"\",\"\",INDEX(Data_kom2,MATCH(1,(komnavn2=B68)*(komaar2=D68),0),32))","v":""},{"$f":"IF(B68=\"\",\"\",INDEX(Data_kom2,MATCH(1,(komnavn2=B68)*(komaar2=D68),0),33))","v":""},{"$f":"IF(B68=\"\",\"\",INDEX(Data_kom2,MATCH(1,(komnavn2=B68)*(komaar2=D68),0),34))","v":""},{"$f":"IF(B68=\"\",\"\",INDEX(Data_kom2,MATCH(1,(komnavn2=B68)*(komaar2=D68),0),35))","v":""},{"$f":"IF(B68=\"\",\"\",INDEX(Data_kom2,MATCH(1,(komnavn2=B68)*(komaar2=D68),0),36))","v":""},{"$f":"IF(B68=\"\",\"\",INDEX(Data_kom2,MATCH(1,(komnavn2=B68)*(komaar2=D68),0),37))","v":""},{"$f":"IF(B68=\"\",\"\",INDEX(Data_kom2,MATCH(1,(komnavn2=B68)*(komaar2=D68),0),38))","v":""}]
[7,{"$f":"'Dine valg'!$G$30","v":""},{"$f":"IF(B69=\"\",\"\",INDEX(Data_kom2,MATCH(1,(komnavn2=B69)*(komaar2=D69),0),2))","v":""},"2019-01-01",{"$f":"IF(B69=\"\",\"\",INDEX(Data_kom2,MATCH(1,(komnavn2=B69)*(komaar2=D69),0),4))","v":""},{"$f":"IF(B69=\"\",\"\",INDEX(Data_kom2,MATCH(1,(komnavn2=B69)*(komaar2=D69),0),5))","v":""},{"$f":"IF(B69=\"\",\"\",INDEX(Data_kom2,MATCH(1,(komnavn2=B69)*(komaar2=D69),0),6))","v":""},{"$f":"IF(B69=\"\",\"\",INDEX(Data_kom2,MATCH(1,(komnavn2=B69)*(komaar2=D69),0),7))","v":""},{"$f":"IF(B69=\"\",\"\",INDEX(Data_kom2,MATCH(1,(komnavn2=B69)*(komaar2=D69),0),8))","v":""},{"$f":"IF(B69=\"\",\"\",INDEX(Data_kom2,MATCH(1,(komnavn2=B69)*(komaar2=D69),0),9))","v":""},{"$f":"IF(B69=\"\",\"\",INDEX(Data_kom2,MATCH(1,(komnavn2=B69)*(komaar2=D69),0),10))","v":""},{"$f":"IF(B69=\"\",\"\",INDEX(Data_kom2,MATCH(1,(komnavn2=B69)*(komaar2=D69),0),11))","v":""},{"$f":"IF(B69=\"\",\"\",INDEX(Data_kom2,MATCH(1,(komnavn2=B69)*(komaar2=D69),0),12))","v":""},{"$f":"IF(B69=\"\",\"\",INDEX(Data_kom2,MATCH(1,(komnavn2=B69)*(komaar2=D69),0),13))","v":""},{"$f":"IF(B69=\"\",\"\",INDEX(Data_kom2,MATCH(1,(komnavn2=B69)*(komaar2=D69),0),14))","v":""},{"$f":"IF(B69=\"\",\"\",INDEX(Data_kom2,MATCH(1,(komnavn2=B69)*(komaar2=D69),0),15))","v":""},{"$f":"IF(B69=\"\",\"\",INDEX(Data_kom2,MATCH(1,(komnavn2=B69)*(komaar2=D69),0),16))","v":""},{"$f":"IF(B69=\"\",\"\",INDEX(Data_kom2,MATCH(1,(komnavn2=B69)*(komaar2=D69),0),17))","v":""},{"$f":"IF(B69=\"\",\"\",INDEX(Data_kom2,MATCH(1,(komnavn2=B69)*(komaar2=D69),0),18))","v":""},{"$f":"IF(B69=\"\",\"\",INDEX(Data_kom2,MATCH(1,(komnavn2=B69)*(komaar2=D69),0),19))","v":""},{"$f":"IF(B69=\"\",\"\",INDEX(Data_kom2,MATCH(1,(komnavn2=B69)*(komaar2=D69),0),20))","v":""},{"$f":"IF(B69=\"\",\"\",INDEX(Data_kom2,MATCH(1,(komnavn2=B69)*(komaar2=D69),0),21))","v":""},{"$f":"IF(B69=\"\",\"\",INDEX(Data_kom2,MATCH(1,(komnavn2=B69)*(komaar2=D69),0),22))","v":""},{"$f":"IF(B69=\"\",\"\",INDEX(Data_kom2,MATCH(1,(komnavn2=B69)*(komaar2=D69),0),23))","v":""},{"$f":"IF(B69=\"\",\"\",INDEX(Data_kom2,MATCH(1,(komnavn2=B69)*(komaar2=D69),0),24))","v":""},{"$f":"IF(B69=\"\",\"\",INDEX(Data_kom2,MATCH(1,(komnavn2=B69)*(komaar2=D69),0),25))","v":""},{"$f":"IF(B69=\"\",\"\",INDEX(Data_kom2,MATCH(1,(komnavn2=B69)*(komaar2=D69),0),26))","v":""},{"$f":"IF(B69=\"\",\"\",INDEX(Data_kom2,MATCH(1,(komnavn2=B69)*(komaar2=D69),0),27))","v":""},{"$f":"IF(B69=\"\",\"\",INDEX(Data_kom2,MATCH(1,(komnavn2=B69)*(komaar2=D69),0),28))","v":""},{"$f":"IF(B69=\"\",\"\",INDEX(Data_kom2,MATCH(1,(komnavn2=B69)*(komaar2=D69),0),29))","v":""},{"$f":"IF(B69=\"\",\"\",INDEX(Data_kom2,MATCH(1,(komnavn2=B69)*(komaar2=D69),0),30))","v":""},{"$f":"IF(B69=\"\",\"\",INDEX(Data_kom2,MATCH(1,(komnavn2=B69)*(komaar2=D69),0),31))","v":""},{"$f":"IF(B69=\"\",\"\",INDEX(Data_kom2,MATCH(1,(komnavn2=B69)*(komaar2=D69),0),32))","v":""},{"$f":"IF(B69=\"\",\"\",INDEX(Data_kom2,MATCH(1,(komnavn2=B69)*(komaar2=D69),0),33))","v":""},{"$f":"IF(B69=\"\",\"\",INDEX(Data_kom2,MATCH(1,(komnavn2=B69)*(komaar2=D69),0),34))","v":""},{"$f":"IF(B69=\"\",\"\",INDEX(Data_kom2,MATCH(1,(komnavn2=B69)*(komaar2=D69),0),35))","v":""},{"$f":"IF(B69=\"\",\"\",INDEX(Data_kom2,MATCH(1,(komnavn2=B69)*(komaar2=D69),0),36))","v":""},{"$f":"IF(B69=\"\",\"\",INDEX(Data_kom2,MATCH(1,(komnavn2=B69)*(komaar2=D69),0),37))","v":""},{"$f":"IF(B69=\"\",\"\",INDEX(Data_kom2,MATCH(1,(komnavn2=B69)*(komaar2=D69),0),38))","v":""}]
[1,{"$f":"'Dine valg'!$G$24","v":"Aarhus"},{"$f":"IF(B70=\"\",\"\",INDEX(Data_kom2,MATCH(1,(komnavn2=B70)*(komaar2=D70),0),2))","v":63510},"2018-07-01",{"$f":"IF(B70=\"\",\"\",INDEX(Data_kom2,MATCH(1,(komnavn2=B70)*(komaar2=D70),0),4))","v":168},{"$f":"IF(B70=\"\",\"\",INDEX(Data_kom2,MATCH(1,(komnavn2=B70)*(komaar2=D70),0),5))","v":116},{"$f":"IF(B70=\"\",\"\",INDEX(Data_kom2,MATCH(1,(komnavn2=B70)*(komaar2=D70),0),6))","v":7},{"$f":"IF(B70=\"\",\"\",INDEX(Data_kom2,MATCH(1,(komnavn2=B70)*(komaar2=D70),0),7))","v":45},{"$f":"IF(B70=\"\",\"\",INDEX(Data_kom2,MATCH(1,(komnavn2=B70)*(komaar2=D70),0),8))","v":170529},{"$f":"IF(B70=\"\",\"\",INDEX(Data_kom2,MATCH(1,(komnavn2=B70)*(komaar2=D70),0),9))","v":132428},{"$f":"IF(B70=\"\",\"\",INDEX(Data_kom2,MATCH(1,(komnavn2=B70)*(komaar2=D70),0),10))","v":902},{"$f":"IF(B70=\"\",\"\",INDEX(Data_kom2,MATCH(1,(komnavn2=B70)*(komaar2=D70),0),11))","v":37199},{"$f":"IF(B70=\"\",\"\",INDEX(Data_kom2,MATCH(1,(komnavn2=B70)*(komaar2=D70),0),12))","v":240},{"$f":"IF(B70=\"\",\"\",INDEX(Data_kom2,MATCH(1,(komnavn2=B70)*(komaar2=D70),0),13))","v":27},{"$f":"IF(B70=\"\",\"\",INDEX(Data_kom2,MATCH(1,(komnavn2=B70)*(komaar2=D70),0),14))","v":1202},{"$f":"IF(B70=\"\",\"\",INDEX(Data_kom2,MATCH(1,(komnavn2=B70)*(komaar2=D70),0),15))","v":"*"},{"$f":"IF(B70=\"\",\"\",INDEX(Data_kom2,MATCH(1,(komnavn2=B70)*(komaar2=D70),0),16))","v":"*"},{"$f":"IF(B70=\"\",\"\",INDEX(Data_kom2,MATCH(1,(komnavn2=B70)*(komaar2=D70),0),17))","v":1174},{"$f":"IF(B70=\"\",\"\",INDEX(Data_kom2,MATCH(1,(komnavn2=B70)*(komaar2=D70),0),18))","v":16},{"$f":"IF(B70=\"\",\"\",INDEX(Data_kom2,MATCH(1,(komnavn2=B70)*(komaar2=D70),0),19))","v":0},{"$f":"IF(B70=\"\",\"\",INDEX(Data_kom2,MATCH(1,(komnavn2=B70)*(komaar2=D70),0),20))","v":0},{"$f":"IF(B70=\"\",\"\",INDEX(Data_kom2,MATCH(1,(komnavn2=B70)*(komaar2=D70),0),21))","v":0},{"$f":"IF(B70=\"\",\"\",INDEX(Data_kom2,MATCH(1,(komnavn2=B70)*(komaar2=D70),0),22))","v":37},{"$f":"IF(B70=\"\",\"\",INDEX(Data_kom2,MATCH(1,(komnavn2=B70)*(komaar2=D70),0),23))","v":180},{"$f":"IF(B70=\"\",\"\",INDEX(Data_kom2,MATCH(1,(komnavn2=B70)*(komaar2=D70),0),24))","v":0},{"$f":"IF(B70=\"\",\"\",INDEX(Data_kom2,MATCH(1,(komnavn2=B70)*(komaar2=D70),0),25))","v":180},{"$f":"IF(B70=\"\",\"\",INDEX(Data_kom2,MATCH(1,(komnavn2=B70)*(komaar2=D70),0),26))","v":0},{"$f":"IF(B70=\"\",\"\",INDEX(Data_kom2,MATCH(1,(komnavn2=B70)*(komaar2=D70),0),27))","v":180},{"$f":"IF(B70=\"\",\"\",INDEX(Data_kom2,MATCH(1,(komnavn2=B70)*(komaar2=D70),0),28))","v":0},{"$f":"IF(B70=\"\",\"\",INDEX(Data_kom2,MATCH(1,(komnavn2=B70)*(komaar2=D70),0),29))","v":0},{"$f":"IF(B70=\"\",\"\",INDEX(Data_kom2,MATCH(1,(komnavn2=B70)*(komaar2=D70),0),30))","v":300},{"$f":"IF(B70=\"\",\"\",INDEX(Data_kom2,MATCH(1,(komnavn2=B70)*(komaar2=D70),0),31))","v":1164},{"$f":"IF(B70=\"\",\"\",INDEX(Data_kom2,MATCH(1,(komnavn2=B70)*(komaar2=D70),0),32))","v":0},{"$f":"IF(B70=\"\",\"\",INDEX(Data_kom2,MATCH(1,(komnavn2=B70)*(komaar2=D70),0),33))","v":0},{"$f":"IF(B70=\"\",\"\",INDEX(Data_kom2,MATCH(1,(komnavn2=B70)*(komaar2=D70),0),34))","v":0},{"$f":"IF(B70=\"\",\"\",INDEX(Data_kom2,MATCH(1,(komnavn2=B70)*(komaar2=D70),0),35))","v":0},{"$f":"IF(B70=\"\",\"\",INDEX(Data_kom2,MATCH(1,(komnavn2=B70)*(komaar2=D70),0),36))","v":0},{"$f":"IF(B70=\"\",\"\",INDEX(Data_kom2,MATCH(1,(komnavn2=B70)*(komaar2=D70),0),37))","v":0},{"$f":"IF(B70=\"\",\"\",INDEX(Data_kom2,MATCH(1,(komnavn2=B70)*(komaar2=D70),0),38))","v":"Region Midtjylland"}]
[2,{"$f":"'Dine valg'!$G$25","v":""},{"$f":"IF(B71=\"\",\"\",INDEX(Data_kom2,MATCH(1,(komnavn2=B71)*(komaar2=D71),0),2))","v":""},"2018-07-01",{"$f":"IF(B71=\"\",\"\",INDEX(Data_kom2,MATCH(1,(komnavn2=B71)*(komaar2=D71),0),4))","v":""},{"$f":"IF(B71=\"\",\"\",INDEX(Data_kom2,MATCH(1,(komnavn2=B71)*(komaar2=D71),0),5))","v":""},{"$f":"IF(B71=\"\",\"\",INDEX(Data_kom2,MATCH(1,(komnavn2=B71)*(komaar2=D71),0),6))","v":""},{"$f":"IF(B71=\"\",\"\",INDEX(Data_kom2,MATCH(1,(komnavn2=B71)*(komaar2=D71),0),7))","v":""},{"$f":"IF(B71=\"\",\"\",INDEX(Data_kom2,MATCH(1,(komnavn2=B71)*(komaar2=D71),0),8))","v":""},{"$f":"IF(B71=\"\",\"\",INDEX(Data_kom2,MATCH(1,(komnavn2=B71)*(komaar2=D71),0),9))","v":""},{"$f":"IF(B71=\"\",\"\",INDEX(Data_kom2,MATCH(1,(komnavn2=B71)*(komaar2=D71),0),10))","v":""},{"$f":"IF(B71=\"\",\"\",INDEX(Data_kom2,MATCH(1,(komnavn2=B71)*(komaar2=D71),0),11))","v":""},{"$f":"IF(B71=\"\",\"\",INDEX(Data_kom2,MATCH(1,(komnavn2=B71)*(komaar2=D71),0),12))","v":""},{"$f":"IF(B71=\"\",\"\",INDEX(Data_kom2,MATCH(1,(komnavn2=B71)*(komaar2=D71),0),13))","v":""},{"$f":"IF(B71=\"\",\"\",INDEX(Data_kom2,MATCH(1,(komnavn2=B71)*(komaar2=D71),0),14))","v":""},{"$f":"IF(B71=\"\",\"\",INDEX(Data_kom2,MATCH(1,(komnavn2=B71)*(komaar2=D71),0),15))","v":""},{"$f":"IF(B71=\"\",\"\",INDEX(Data_kom2,MATCH(1,(komnavn2=B71)*(komaar2=D71),0),16))","v":""},{"$f":"IF(B71=\"\",\"\",INDEX(Data_kom2,MATCH(1,(komnavn2=B71)*(komaar2=D71),0),17))","v":""},{"$f":"IF(B71=\"\",\"\",INDEX(Data_kom2,MATCH(1,(komnavn2=B71)*(komaar2=D71),0),18))","v":""},{"$f":"IF(B71=\"\",\"\",INDEX(Data_kom2,MATCH(1,(komnavn2=B71)*(komaar2=D71),0),19))","v":""},{"$f":"IF(B71=\"\",\"\",INDEX(Data_kom2,MATCH(1,(komnavn2=B71)*(komaar2=D71),0),20))","v":""},{"$f":"IF(B71=\"\",\"\",INDEX(Data_kom2,MATCH(1,(komnavn2=B71)*(komaar2=D71),0),21))","v":""},{"$f":"IF(B71=\"\",\"\",INDEX(Data_kom2,MATCH(1,(komnavn2=B71)*(komaar2=D71),0),22))","v":""},{"$f":"IF(B71=\"\",\"\",INDEX(Data_kom2,MATCH(1,(komnavn2=B71)*(komaar2=D71),0),23))","v":""},{"$f":"IF(B71=\"\",\"\",INDEX(Data_kom2,MATCH(1,(komnavn2=B71)*(komaar2=D71),0),24))","v":""},{"$f":"IF(B71=\"\",\"\",INDEX(Data_kom2,MATCH(1,(komnavn2=B71)*(komaar2=D71),0),25))","v":""},{"$f":"IF(B71=\"\",\"\",INDEX(Data_kom2,MATCH(1,(komnavn2=B71)*(komaar2=D71),0),26))","v":""},{"$f":"IF(B71=\"\",\"\",INDEX(Data_kom2,MATCH(1,(komnavn2=B71)*(komaar2=D71),0),27))","v":""},{"$f":"IF(B71=\"\",\"\",INDEX(Data_kom2,MATCH(1,(komnavn2=B71)*(komaar2=D71),0),28))","v":""},{"$f":"IF(B71=\"\",\"\",INDEX(Data_kom2,MATCH(1,(komnavn2=B71)*(komaar2=D71),0),29))","v":""},{"$f":"IF(B71=\"\",\"\",INDEX(Data_kom2,MATCH(1,(komnavn2=B71)*(komaar2=D71),0),30))","v":""},{"$f":"IF(B71=\"\",\"\",INDEX(Data_kom2,MATCH(1,(komnavn2=B71)*(komaar2=D71),0),31))","v":""},{"$f":"IF(B71=\"\",\"\",INDEX(Data_kom2,MATCH(1,(komnavn2=B71)*(komaar2=D71),0),32))","v":""},{"$f":"IF(B71=\"\",\"\",INDEX(Data_kom2,MATCH(1,(komnavn2=B71)*(komaar2=D71),0),33))","v":""},{"$f":"IF(B71=\"\",\"\",INDEX(Data_kom2,MATCH(1,(komnavn2=B71)*(komaar2=D71),0),34))","v":""},{"$f":"IF(B71=\"\",\"\",INDEX(Data_kom2,MATCH(1,(komnavn2=B71)*(komaar2=D71),0),35))","v":""},{"$f":"IF(B71=\"\",\"\",INDEX(Data_kom2,MATCH(1,(komnavn2=B71)*(komaar2=D71),0),36))","v":""},{"$f":"IF(B71=\"\",\"\",INDEX(Data_kom2,MATCH(1,(komnavn2=B71)*(komaar2=D71),0),37))","v":""},{"$f":"IF(B71=\"\",\"\",INDEX(Data_kom2,MATCH(1,(komnavn2=B71)*(komaar2=D71),0),38))","v":""}]
[3,{"$f":"'Dine valg'!$G$26","v":""},{"$f":"IF(B72=\"\",\"\",INDEX(Data_kom2,MATCH(1,(komnavn2=B72)*(komaar2=D72),0),2))","v":""},"2018-07-01",{"$f":"IF(B72=\"\",\"\",INDEX(Data_kom2,MATCH(1,(komnavn2=B72)*(komaar2=D72),0),4))","v":""},{"$f":"IF(B72=\"\",\"\",INDEX(Data_kom2,MATCH(1,(komnavn2=B72)*(komaar2=D72),0),5))","v":""},{"$f":"IF(B72=\"\",\"\",INDEX(Data_kom2,MATCH(1,(komnavn2=B72)*(komaar2=D72),0),6))","v":""},{"$f":"IF(B72=\"\",\"\",INDEX(Data_kom2,MATCH(1,(komnavn2=B72)*(komaar2=D72),0),7))","v":""},{"$f":"IF(B72=\"\",\"\",INDEX(Data_kom2,MATCH(1,(komnavn2=B72)*(komaar2=D72),0),8))","v":""},{"$f":"IF(B72=\"\",\"\",INDEX(Data_kom2,MATCH(1,(komnavn2=B72)*(komaar2=D72),0),9))","v":""},{"$f":"IF(B72=\"\",\"\",INDEX(Data_kom2,MATCH(1,(komnavn2=B72)*(komaar2=D72),0),10))","v":""},{"$f":"IF(B72=\"\",\"\",INDEX(Data_kom2,MATCH(1,(komnavn2=B72)*(komaar2=D72),0),11))","v":""},{"$f":"IF(B72=\"\",\"\",INDEX(Data_kom2,MATCH(1,(komnavn2=B72)*(komaar2=D72),0),12))","v":""},{"$f":"IF(B72=\"\",\"\",INDEX(Data_kom2,MATCH(1,(komnavn2=B72)*(komaar2=D72),0),13))","v":""},{"$f":"IF(B72=\"\",\"\",INDEX(Data_kom2,MATCH(1,(komnavn2=B72)*(komaar2=D72),0),14))","v":""},{"$f":"IF(B72=\"\",\"\",INDEX(Data_kom2,MATCH(1,(komnavn2=B72)*(komaar2=D72),0),15))","v":""},{"$f":"IF(B72=\"\",\"\",INDEX(Data_kom2,MATCH(1,(komnavn2=B72)*(komaar2=D72),0),16))","v":""},{"$f":"IF(B72=\"\",\"\",INDEX(Data_kom2,MATCH(1,(komnavn2=B72)*(komaar2=D72),0),17))","v":""},{"$f":"IF(B72=\"\",\"\",INDEX(Data_kom2,MATCH(1,(komnavn2=B72)*(komaar2=D72),0),18))","v":""},{"$f":"IF(B72=\"\",\"\",INDEX(Data_kom2,MATCH(1,(komnavn2=B72)*(komaar2=D72),0),19))","v":""},{"$f":"IF(B72=\"\",\"\",INDEX(Data_kom2,MATCH(1,(komnavn2=B72)*(komaar2=D72),0),20))","v":""},{"$f":"IF(B72=\"\",\"\",INDEX(Data_kom2,MATCH(1,(komnavn2=B72)*(komaar2=D72),0),21))","v":""},{"$f":"IF(B72=\"\",\"\",INDEX(Data_kom2,MATCH(1,(komnavn2=B72)*(komaar2=D72),0),22))","v":""},{"$f":"IF(B72=\"\",\"\",INDEX(Data_kom2,MATCH(1,(komnavn2=B72)*(komaar2=D72),0),23))","v":""},{"$f":"IF(B72=\"\",\"\",INDEX(Data_kom2,MATCH(1,(komnavn2=B72)*(komaar2=D72),0),24))","v":""},{"$f":"IF(B72=\"\",\"\",INDEX(Data_kom2,MATCH(1,(komnavn2=B72)*(komaar2=D72),0),25))","v":""},{"$f":"IF(B72=\"\",\"\",INDEX(Data_kom2,MATCH(1,(komnavn2=B72)*(komaar2=D72),0),26))","v":""},{"$f":"IF(B72=\"\",\"\",INDEX(Data_kom2,MATCH(1,(komnavn2=B72)*(komaar2=D72),0),27))","v":""},{"$f":"IF(B72=\"\",\"\",INDEX(Data_kom2,MATCH(1,(komnavn2=B72)*(komaar2=D72),0),28))","v":""},{"$f":"IF(B72=\"\",\"\",INDEX(Data_kom2,MATCH(1,(komnavn2=B72)*(komaar2=D72),0),29))","v":""},{"$f":"IF(B72=\"\",\"\",INDEX(Data_kom2,MATCH(1,(komnavn2=B72)*(komaar2=D72),0),30))","v":""},{"$f":"IF(B72=\"\",\"\",INDEX(Data_kom2,MATCH(1,(komnavn2=B72)*(komaar2=D72),0),31))","v":""},{"$f":"IF(B72=\"\",\"\",INDEX(Data_kom2,MATCH(1,(komnavn2=B72)*(komaar2=D72),0),32))","v":""},{"$f":"IF(B72=\"\",\"\",INDEX(Data_kom2,MATCH(1,(komnavn2=B72)*(komaar2=D72),0),33))","v":""},{"$f":"IF(B72=\"\",\"\",INDEX(Data_kom2,MATCH(1,(komnavn2=B72)*(komaar2=D72),0),34))","v":""},{"$f":"IF(B72=\"\",\"\",INDEX(Data_kom2,MATCH(1,(komnavn2=B72)*(komaar2=D72),0),35))","v":""},{"$f":"IF(B72=\"\",\"\",INDEX(Data_kom2,MATCH(1,(komnavn2=B72)*(komaar2=D72),0),36))","v":""},{"$f":"IF(B72=\"\",\"\",INDEX(Data_kom2,MATCH(1,(komnavn2=B72)*(komaar2=D72),0),37))","v":""},{"$f":"IF(B72=\"\",\"\",INDEX(Data_kom2,MATCH(1,(komnavn2=B72)*(komaar2=D72),0),38))","v":""}]
[4,{"$f":"'Dine valg'!$G$27","v":""},{"$f":"IF(B73=\"\",\"\",INDEX(Data_kom2,MATCH(1,(komnavn2=B73)*(komaar2=D73),0),2))","v":""},"2018-07-01",{"$f":"IF(B73=\"\",\"\",INDEX(Data_kom2,MATCH(1,(komnavn2=B73)*(komaar2=D73),0),4))","v":""},{"$f":"IF(B73=\"\",\"\",INDEX(Data_kom2,MATCH(1,(komnavn2=B73)*(komaar2=D73),0),5))","v":""},{"$f":"IF(B73=\"\",\"\",INDEX(Data_kom2,MATCH(1,(komnavn2=B73)*(komaar2=D73),0),6))","v":""},{"$f":"IF(B73=\"\",\"\",INDEX(Data_kom2,MATCH(1,(komnavn2=B73)*(komaar2=D73),0),7))","v":""},{"$f":"IF(B73=\"\",\"\",INDEX(Data_kom2,MATCH(1,(komnavn2=B73)*(komaar2=D73),0),8))","v":""},{"$f":"IF(B73=\"\",\"\",INDEX(Data_kom2,MATCH(1,(komnavn2=B73)*(komaar2=D73),0),9))","v":""},{"$f":"IF(B73=\"\",\"\",INDEX(Data_kom2,MATCH(1,(komnavn2=B73)*(komaar2=D73),0),10))","v":""},{"$f":"IF(B73=\"\",\"\",INDEX(Data_kom2,MATCH(1,(komnavn2=B73)*(komaar2=D73),0),11))","v":""},{"$f":"IF(B73=\"\",\"\",INDEX(Data_kom2,MATCH(1,(komnavn2=B73)*(komaar2=D73),0),12))","v":""},{"$f":"IF(B73=\"\",\"\",INDEX(Data_kom2,MATCH(1,(komnavn2=B73)*(komaar2=D73),0),13))","v":""},{"$f":"IF(B73=\"\",\"\",INDEX(Data_kom2,MATCH(1,(komnavn2=B73)*(komaar2=D73),0),14))","v":""},{"$f":"IF(B73=\"\",\"\",INDEX(Data_kom2,MATCH(1,(komnavn2=B73)*(komaar2=D73),0),15))","v":""},{"$f":"IF(B73=\"\",\"\",INDEX(Data_kom2,MATCH(1,(komnavn2=B73)*(komaar2=D73),0),16))","v":""},{"$f":"IF(B73=\"\",\"\",INDEX(Data_kom2,MATCH(1,(komnavn2=B73)*(komaar2=D73),0),17))","v":""},{"$f":"IF(B73=\"\",\"\",INDEX(Data_kom2,MATCH(1,(komnavn2=B73)*(komaar2=D73),0),18))","v":""},{"$f":"IF(B73=\"\",\"\",INDEX(Data_kom2,MATCH(1,(komnavn2=B73)*(komaar2=D73),0),19))","v":""},{"$f":"IF(B73=\"\",\"\",INDEX(Data_kom2,MATCH(1,(komnavn2=B73)*(komaar2=D73),0),20))","v":""},{"$f":"IF(B73=\"\",\"\",INDEX(Data_kom2,MATCH(1,(komnavn2=B73)*(komaar2=D73),0),21))","v":""},{"$f":"IF(B73=\"\",\"\",INDEX(Data_kom2,MATCH(1,(komnavn2=B73)*(komaar2=D73),0),22))","v":""},{"$f":"IF(B73=\"\",\"\",INDEX(Data_kom2,MATCH(1,(komnavn2=B73)*(komaar2=D73),0),23))","v":""},{"$f":"IF(B73=\"\",\"\",INDEX(Data_kom2,MATCH(1,(komnavn2=B73)*(komaar2=D73),0),24))","v":""},{"$f":"IF(B73=\"\",\"\",INDEX(Data_kom2,MATCH(1,(komnavn2=B73)*(komaar2=D73),0),25))","v":""},{"$f":"IF(B73=\"\",\"\",INDEX(Data_kom2,MATCH(1,(komnavn2=B73)*(komaar2=D73),0),26))","v":""},{"$f":"IF(B73=\"\",\"\",INDEX(Data_kom2,MATCH(1,(komnavn2=B73)*(komaar2=D73),0),27))","v":""},{"$f":"IF(B73=\"\",\"\",INDEX(Data_kom2,MATCH(1,(komnavn2=B73)*(komaar2=D73),0),28))","v":""},{"$f":"IF(B73=\"\",\"\",INDEX(Data_kom2,MATCH(1,(komnavn2=B73)*(komaar2=D73),0),29))","v":""},{"$f":"IF(B73=\"\",\"\",INDEX(Data_kom2,MATCH(1,(komnavn2=B73)*(komaar2=D73),0),30))","v":""},{"$f":"IF(B73=\"\",\"\",INDEX(Data_kom2,MATCH(1,(komnavn2=B73)*(komaar2=D73),0),31))","v":""},{"$f":"IF(B73=\"\",\"\",INDEX(Data_kom2,MATCH(1,(komnavn2=B73)*(komaar2=D73),0),32))","v":""},{"$f":"IF(B73=\"\",\"\",INDEX(Data_kom2,MATCH(1,(komnavn2=B73)*(komaar2=D73),0),33))","v":""},{"$f":"IF(B73=\"\",\"\",INDEX(Data_kom2,MATCH(1,(komnavn2=B73)*(komaar2=D73),0),34))","v":""},{"$f":"IF(B73=\"\",\"\",INDEX(Data_kom2,MATCH(1,(komnavn2=B73)*(komaar2=D73),0),35))","v":""},{"$f":"IF(B73=\"\",\"\",INDEX(Data_kom2,MATCH(1,(komnavn2=B73)*(komaar2=D73),0),36))","v":""},{"$f":"IF(B73=\"\",\"\",INDEX(Data_kom2,MATCH(1,(komnavn2=B73)*(komaar2=D73),0),37))","v":""},{"$f":"IF(B73=\"\",\"\",INDEX(Data_kom2,MATCH(1,(komnavn2=B73)*(komaar2=D73),0),38))","v":""}]
[5,{"$f":"'Dine valg'!$G$28","v":""},{"$f":"IF(B74=\"\",\"\",INDEX(Data_kom2,MATCH(1,(komnavn2=B74)*(komaar2=D74),0),2))","v":""},"2018-07-01",{"$f":"IF(B74=\"\",\"\",INDEX(Data_kom2,MATCH(1,(komnavn2=B74)*(komaar2=D74),0),4))","v":""},{"$f":"IF(B74=\"\",\"\",INDEX(Data_kom2,MATCH(1,(komnavn2=B74)*(komaar2=D74),0),5))","v":""},{"$f":"IF(B74=\"\",\"\",INDEX(Data_kom2,MATCH(1,(komnavn2=B74)*(komaar2=D74),0),6))","v":""},{"$f":"IF(B74=\"\",\"\",INDEX(Data_kom2,MATCH(1,(komnavn2=B74)*(komaar2=D74),0),7))","v":""},{"$f":"IF(B74=\"\",\"\",INDEX(Data_kom2,MATCH(1,(komnavn2=B74)*(komaar2=D74),0),8))","v":""},{"$f":"IF(B74=\"\",\"\",INDEX(Data_kom2,MATCH(1,(komnavn2=B74)*(komaar2=D74),0),9))","v":""},{"$f":"IF(B74=\"\",\"\",INDEX(Data_kom2,MATCH(1,(komnavn2=B74)*(komaar2=D74),0),10))","v":""},{"$f":"IF(B74=\"\",\"\",INDEX(Data_kom2,MATCH(1,(komnavn2=B74)*(komaar2=D74),0),11))","v":""},{"$f":"IF(B74=\"\",\"\",INDEX(Data_kom2,MATCH(1,(komnavn2=B74)*(komaar2=D74),0),12))","v":""},{"$f":"IF(B74=\"\",\"\",INDEX(Data_kom2,MATCH(1,(komnavn2=B74)*(komaar2=D74),0),13))","v":""},{"$f":"IF(B74=\"\",\"\",INDEX(Data_kom2,MATCH(1,(komnavn2=B74)*(komaar2=D74),0),14))","v":""},{"$f":"IF(B74=\"\",\"\",INDEX(Data_kom2,MATCH(1,(komnavn2=B74)*(komaar2=D74),0),15))","v":""},{"$f":"IF(B74=\"\",\"\",INDEX(Data_kom2,MATCH(1,(komnavn2=B74)*(komaar2=D74),0),16))","v":""},{"$f":"IF(B74=\"\",\"\",INDEX(Data_kom2,MATCH(1,(komnavn2=B74)*(komaar2=D74),0),17))","v":""},{"$f":"IF(B74=\"\",\"\",INDEX(Data_kom2,MATCH(1,(komnavn2=B74)*(komaar2=D74),0),18))","v":""},{"$f":"IF(B74=\"\",\"\",INDEX(Data_kom2,MATCH(1,(komnavn2=B74)*(komaar2=D74),0),19))","v":""},{"$f":"IF(B74=\"\",\"\",INDEX(Data_kom2,MATCH(1,(komnavn2=B74)*(komaar2=D74),0),20))","v":""},{"$f":"IF(B74=\"\",\"\",INDEX(Data_kom2,MATCH(1,(komnavn2=B74)*(komaar2=D74),0),21))","v":""},{"$f":"IF(B74=\"\",\"\",INDEX(Data_kom2,MATCH(1,(komnavn2=B74)*(komaar2=D74),0),22))","v":""},{"$f":"IF(B74=\"\",\"\",INDEX(Data_kom2,MATCH(1,(komnavn2=B74)*(komaar2=D74),0),23))","v":""},{"$f":"IF(B74=\"\",\"\",INDEX(Data_kom2,MATCH(1,(komnavn2=B74)*(komaar2=D74),0),24))","v":""},{"$f":"IF(B74=\"\",\"\",INDEX(Data_kom2,MATCH(1,(komnavn2=B74)*(komaar2=D74),0),25))","v":""},{"$f":"IF(B74=\"\",\"\",INDEX(Data_kom2,MATCH(1,(komnavn2=B74)*(komaar2=D74),0),26))","v":""},{"$f":"IF(B74=\"\",\"\",INDEX(Data_kom2,MATCH(1,(komnavn2=B74)*(komaar2=D74),0),27))","v":""},{"$f":"IF(B74=\"\",\"\",INDEX(Data_kom2,MATCH(1,(komnavn2=B74)*(komaar2=D74),0),28))","v":""},{"$f":"IF(B74=\"\",\"\",INDEX(Data_kom2,MATCH(1,(komnavn2=B74)*(komaar2=D74),0),29))","v":""},{"$f":"IF(B74=\"\",\"\",INDEX(Data_kom2,MATCH(1,(komnavn2=B74)*(komaar2=D74),0),30))","v":""},{"$f":"IF(B74=\"\",\"\",INDEX(Data_kom2,MATCH(1,(komnavn2=B74)*(komaar2=D74),0),31))","v":""},{"$f":"IF(B74=\"\",\"\",INDEX(Data_kom2,MATCH(1,(komnavn2=B74)*(komaar2=D74),0),32))","v":""},{"$f":"IF(B74=\"\",\"\",INDEX(Data_kom2,MATCH(1,(komnavn2=B74)*(komaar2=D74),0),33))","v":""},{"$f":"IF(B74=\"\",\"\",INDEX(Data_kom2,MATCH(1,(komnavn2=B74)*(komaar2=D74),0),34))","v":""},{"$f":"IF(B74=\"\",\"\",INDEX(Data_kom2,MATCH(1,(komnavn2=B74)*(komaar2=D74),0),35))","v":""},{"$f":"IF(B74=\"\",\"\",INDEX(Data_kom2,MATCH(1,(komnavn2=B74)*(komaar2=D74),0),36))","v":""},{"$f":"IF(B74=\"\",\"\",INDEX(Data_kom2,MATCH(1,(komnavn2=B74)*(komaar2=D74),0),37))","v":""},{"$f":"IF(B74=\"\",\"\",INDEX(Data_kom2,MATCH(1,(komnavn2=B74)*(komaar2=D74),0),38))","v":""}]
[6,{"$f":"'Dine valg'!$G$29","v":""},{"$f":"IF(B75=\"\",\"\",INDEX(Data_kom2,MATCH(1,(komnavn2=B75)*(komaar2=D75),0),2))","v":""},"2018-07-01",{"$f":"IF(B75=\"\",\"\",INDEX(Data_kom2,MATCH(1,(komnavn2=B75)*(komaar2=D75),0),4))","v":""},{"$f":"IF(B75=\"\",\"\",INDEX(Data_kom2,MATCH(1,(komnavn2=B75)*(komaar2=D75),0),5))","v":""},{"$f":"IF(B75=\"\",\"\",INDEX(Data_kom2,MATCH(1,(komnavn2=B75)*(komaar2=D75),0),6))","v":""},{"$f":"IF(B75=\"\",\"\",INDEX(Data_kom2,MATCH(1,(komnavn2=B75)*(komaar2=D75),0),7))","v":""},{"$f":"IF(B75=\"\",\"\",INDEX(Data_kom2,MATCH(1,(komnavn2=B75)*(komaar2=D75),0),8))","v":""},{"$f":"IF(B75=\"\",\"\",INDEX(Data_kom2,MATCH(1,(komnavn2=B75)*(komaar2=D75),0),9))","v":""},{"$f":"IF(B75=\"\",\"\",INDEX(Data_kom2,MATCH(1,(komnavn2=B75)*(komaar2=D75),0),10))","v":""},{"$f":"IF(B75=\"\",\"\",INDEX(Data_kom2,MATCH(1,(komnavn2=B75)*(komaar2=D75),0),11))","v":""},{"$f":"IF(B75=\"\",\"\",INDEX(Data_kom2,MATCH(1,(komnavn2=B75)*(komaar2=D75),0),12))","v":""},{"$f":"IF(B75=\"\",\"\",INDEX(Data_kom2,MATCH(1,(komnavn2=B75)*(komaar2=D75),0),13))","v":""},{"$f":"IF(B75=\"\",\"\",INDEX(Data_kom2,MATCH(1,(komnavn2=B75)*(komaar2=D75),0),14))","v":""},{"$f":"IF(B75=\"\",\"\",INDEX(Data_kom2,MATCH(1,(komnavn2=B75)*(komaar2=D75),0),15))","v":""},{"$f":"IF(B75=\"\",\"\",INDEX(Data_kom2,MATCH(1,(komnavn2=B75)*(komaar2=D75),0),16))","v":""},{"$f":"IF(B75=\"\",\"\",INDEX(Data_kom2,MATCH(1,(komnavn2=B75)*(komaar2=D75),0),17))","v":""},{"$f":"IF(B75=\"\",\"\",INDEX(Data_kom2,MATCH(1,(komnavn2=B75)*(komaar2=D75),0),18))","v":""},{"$f":"IF(B75=\"\",\"\",INDEX(Data_kom2,MATCH(1,(komnavn2=B75)*(komaar2=D75),0),19))","v":""},{"$f":"IF(B75=\"\",\"\",INDEX(Data_kom2,MATCH(1,(komnavn2=B75)*(komaar2=D75),0),20))","v":""},{"$f":"IF(B75=\"\",\"\",INDEX(Data_kom2,MATCH(1,(komnavn2=B75)*(komaar2=D75),0),21))","v":""},{"$f":"IF(B75=\"\",\"\",INDEX(Data_kom2,MATCH(1,(komnavn2=B75)*(komaar2=D75),0),22))","v":""},{"$f":"IF(B75=\"\",\"\",INDEX(Data_kom2,MATCH(1,(komnavn2=B75)*(komaar2=D75),0),23))","v":""},{"$f":"IF(B75=\"\",\"\",INDEX(Data_kom2,MATCH(1,(komnavn2=B75)*(komaar2=D75),0),24))","v":""},{"$f":"IF(B75=\"\",\"\",INDEX(Data_kom2,MATCH(1,(komnavn2=B75)*(komaar2=D75),0),25))","v":""},{"$f":"IF(B75=\"\",\"\",INDEX(Data_kom2,MATCH(1,(komnavn2=B75)*(komaar2=D75),0),26))","v":""},{"$f":"IF(B75=\"\",\"\",INDEX(Data_kom2,MATCH(1,(komnavn2=B75)*(komaar2=D75),0),27))","v":""},{"$f":"IF(B75=\"\",\"\",INDEX(Data_kom2,MATCH(1,(komnavn2=B75)*(komaar2=D75),0),28))","v":""},{"$f":"IF(B75=\"\",\"\",INDEX(Data_kom2,MATCH(1,(komnavn2=B75)*(komaar2=D75),0),29))","v":""},{"$f":"IF(B75=\"\",\"\",INDEX(Data_kom2,MATCH(1,(komnavn2=B75)*(komaar2=D75),0),30))","v":""},{"$f":"IF(B75=\"\",\"\",INDEX(Data_kom2,MATCH(1,(komnavn2=B75)*(komaar2=D75),0),31))","v":""},{"$f":"IF(B75=\"\",\"\",INDEX(Data_kom2,MATCH(1,(komnavn2=B75)*(komaar2=D75),0),32))","v":""},{"$f":"IF(B75=\"\",\"\",INDEX(Data_kom2,MATCH(1,(komnavn2=B75)*(komaar2=D75),0),33))","v":""},{"$f":"IF(B75=\"\",\"\",INDEX(Data_kom2,MATCH(1,(komnavn2=B75)*(komaar2=D75),0),34))","v":""},{"$f":"IF(B75=\"\",\"\",INDEX(Data_kom2,MATCH(1,(komnavn2=B75)*(komaar2=D75),0),35))","v":""},{"$f":"IF(B75=\"\",\"\",INDEX(Data_kom2,MATCH(1,(komnavn2=B75)*(komaar2=D75),0),36))","v":""},{"$f":"IF(B75=\"\",\"\",INDEX(Data_kom2,MATCH(1,(komnavn2=B75)*(komaar2=D75),0),37))","v":""},{"$f":"IF(B75=\"\",\"\",INDEX(Data_kom2,MATCH(1,(komnavn2=B75)*(komaar2=D75),0),38))","v":""}]
[7,{"$f":"'Dine valg'!$G$30","v":""},{"$f":"IF(B76=\"\",\"\",INDEX(Data_kom2,MATCH(1,(komnavn2=B76)*(komaar2=D76),0),2))","v":""},"2018-07-01",{"$f":"IF(B76=\"\",\"\",INDEX(Data_kom2,MATCH(1,(komnavn2=B76)*(komaar2=D76),0),4))","v":""},{"$f":"IF(B76=\"\",\"\",INDEX(Data_kom2,MATCH(1,(komnavn2=B76)*(komaar2=D76),0),5))","v":""},{"$f":"IF(B76=\"\",\"\",INDEX(Data_kom2,MATCH(1,(komnavn2=B76)*(komaar2=D76),0),6))","v":""},{"$f":"IF(B76=\"\",\"\",INDEX(Data_kom2,MATCH(1,(komnavn2=B76)*(komaar2=D76),0),7))","v":""},{"$f":"IF(B76=\"\",\"\",INDEX(Data_kom2,MATCH(1,(komnavn2=B76)*(komaar2=D76),0),8))","v":""},{"$f":"IF(B76=\"\",\"\",INDEX(Data_kom2,MATCH(1,(komnavn2=B76)*(komaar2=D76),0),9))","v":""},{"$f":"IF(B76=\"\",\"\",INDEX(Data_kom2,MATCH(1,(komnavn2=B76)*(komaar2=D76),0),10))","v":""},{"$f":"IF(B76=\"\",\"\",INDEX(Data_kom2,MATCH(1,(komnavn2=B76)*(komaar2=D76),0),11))","v":""},{"$f":"IF(B76=\"\",\"\",INDEX(Data_kom2,MATCH(1,(komnavn2=B76)*(komaar2=D76),0),12))","v":""},{"$f":"IF(B76=\"\",\"\",INDEX(Data_kom2,MATCH(1,(komnavn2=B76)*(komaar2=D76),0),13))","v":""},{"$f":"IF(B76=\"\",\"\",INDEX(Data_kom2,MATCH(1,(komnavn2=B76)*(komaar2=D76),0),14))","v":""},{"$f":"IF(B76=\"\",\"\",INDEX(Data_kom2,MATCH(1,(komnavn2=B76)*(komaar2=D76),0),15))","v":""},{"$f":"IF(B76=\"\",\"\",INDEX(Data_kom2,MATCH(1,(komnavn2=B76)*(komaar2=D76),0),16))","v":""},{"$f":"IF(B76=\"\",\"\",INDEX(Data_kom2,MATCH(1,(komnavn2=B76)*(komaar2=D76),0),17))","v":""},{"$f":"IF(B76=\"\",\"\",INDEX(Data_kom2,MATCH(1,(komnavn2=B76)*(komaar2=D76),0),18))","v":""},{"$f":"IF(B76=\"\",\"\",INDEX(Data_kom2,MATCH(1,(komnavn2=B76)*(komaar2=D76),0),19))","v":""},{"$f":"IF(B76=\"\",\"\",INDEX(Data_kom2,MATCH(1,(komnavn2=B76)*(komaar2=D76),0),20))","v":""},{"$f":"IF(B76=\"\",\"\",INDEX(Data_kom2,MATCH(1,(komnavn2=B76)*(komaar2=D76),0),21))","v":""},{"$f":"IF(B76=\"\",\"\",INDEX(Data_kom2,MATCH(1,(komnavn2=B76)*(komaar2=D76),0),22))","v":""},{"$f":"IF(B76=\"\",\"\",INDEX(Data_kom2,MATCH(1,(komnavn2=B76)*(komaar2=D76),0),23))","v":""},{"$f":"IF(B76=\"\",\"\",INDEX(Data_kom2,MATCH(1,(komnavn2=B76)*(komaar2=D76),0),24))","v":""},{"$f":"IF(B76=\"\",\"\",INDEX(Data_kom2,MATCH(1,(komnavn2=B76)*(komaar2=D76),0),25))","v":""},{"$f":"IF(B76=\"\",\"\",INDEX(Data_kom2,MATCH(1,(komnavn2=B76)*(komaar2=D76),0),26))","v":""},{"$f":"IF(B76=\"\",\"\",INDEX(Data_kom2,MATCH(1,(komnavn2=B76)*(komaar2=D76),0),27))","v":""},{"$f":"IF(B76=\"\",\"\",INDEX(Data_kom2,MATCH(1,(komnavn2=B76)*(komaar2=D76),0),28))","v":""},{"$f":"IF(B76=\"\",\"\",INDEX(Data_kom2,MATCH(1,(komnavn2=B76)*(komaar2=D76),0),29))","v":""},{"$f":"IF(B76=\"\",\"\",INDEX(Data_kom2,MATCH(1,(komnavn2=B76)*(komaar2=D76),0),30))","v":""},{"$f":"IF(B76=\"\",\"\",INDEX(Data_kom2,MATCH(1,(komnavn2=B76)*(komaar2=D76),0),31))","v":""},{"$f":"IF(B76=\"\",\"\",INDEX(Data_kom2,MATCH(1,(komnavn2=B76)*(komaar2=D76),0),32))","v":""},{"$f":"IF(B76=\"\",\"\",INDEX(Data_kom2,MATCH(1,(komnavn2=B76)*(komaar2=D76),0),33))","v":""},{"$f":"IF(B76=\"\",\"\",INDEX(Data_kom2,MATCH(1,(komnavn2=B76)*(komaar2=D76),0),34))","v":""},{"$f":"IF(B76=\"\",\"\",INDEX(Data_kom2,MATCH(1,(komnavn2=B76)*(komaar2=D76),0),35))","v":""},{"$f":"IF(B76=\"\",\"\",INDEX(Data_kom2,MATCH(1,(komnavn2=B76)*(komaar2=D76),0),36))","v":""},{"$f":"IF(B76=\"\",\"\",INDEX(Data_kom2,MATCH(1,(komnavn2=B76)*(komaar2=D76),0),37))","v":""},{"$f":"IF(B76=\"\",\"\",INDEX(Data_kom2,MATCH(1,(komnavn2=B76)*(komaar2=D76),0),38))","v":""}]
[1,{"$f":"'Dine valg'!$G$24","v":"Aarhus"},{"$f":"IF(B77=\"\",\"\",INDEX(Data_kom2,MATCH(1,(komnavn2=B77)*(komaar2=D77),0),2))","v":63245},"2018-01-01",{"$f":"IF(B77=\"\",\"\",INDEX(Data_kom2,MATCH(1,(komnavn2=B77)*(komaar2=D77),0),4))","v":180},{"$f":"IF(B77=\"\",\"\",INDEX(Data_kom2,MATCH(1,(komnavn2=B77)*(komaar2=D77),0),5))","v":119},{"$f":"IF(B77=\"\",\"\",INDEX(Data_kom2,MATCH(1,(komnavn2=B77)*(komaar2=D77),0),6))","v":4},{"$f":"IF(B77=\"\",\"\",INDEX(Data_kom2,MATCH(1,(komnavn2=B77)*(komaar2=D77),0),7))","v":57},{"$f":"IF(B77=\"\",\"\",INDEX(Data_kom2,MATCH(1,(komnavn2=B77)*(komaar2=D77),0),8))","v":194184},{"$f":"IF(B77=\"\",\"\",INDEX(Data_kom2,MATCH(1,(komnavn2=B77)*(komaar2=D77),0),9))","v":148645},{"$f":"IF(B77=\"\",\"\",INDEX(Data_kom2,MATCH(1,(komnavn2=B77)*(komaar2=D77),0),10))","v":"*"},{"$f":"IF(B77=\"\",\"\",INDEX(Data_kom2,MATCH(1,(komnavn2=B77)*(komaar2=D77),0),11))","v":"*"},{"$f":"IF(B77=\"\",\"\",INDEX(Data_kom2,MATCH(1,(komnavn2=B77)*(komaar2=D77),0),12))","v":228},{"$f":"IF(B77=\"\",\"\",INDEX(Data_kom2,MATCH(1,(komnavn2=B77)*(komaar2=D77),0),13))","v":33},{"$f":"IF(B77=\"\",\"\",INDEX(Data_kom2,MATCH(1,(komnavn2=B77)*(komaar2=D77),0),14))","v":1164},{"$f":"IF(B77=\"\",\"\",INDEX(Data_kom2,MATCH(1,(komnavn2=B77)*(komaar2=D77),0),15))","v":"*"},{"$f":"IF(B77=\"\",\"\",INDEX(Data_kom2,MATCH(1,(komnavn2=B77)*(komaar2=D77),0),16))","v":18},{"$f":"IF(B77=\"\",\"\",INDEX(Data_kom2,MATCH(1,(komnavn2=B77)*(komaar2=D77),0),17))","v":1133},{"$f":"IF(B77=\"\",\"\",INDEX(Data_kom2,MATCH(1,(komnavn2=B77)*(komaar2=D77),0),18))","v":"*"},{"$f":"IF(B77=\"\",\"\",INDEX(Data_kom2,MATCH(1,(komnavn2=B77)*(komaar2=D77),0),19))","v":0},{"$f":"IF(B77=\"\",\"\",INDEX(Data_kom2,MATCH(1,(komnavn2=B77)*(komaar2=D77),0),20))","v":0},{"$f":"IF(B77=\"\",\"\",INDEX(Data_kom2,MATCH(1,(komnavn2=B77)*(komaar2=D77),0),21))","v":0},{"$f":"IF(B77=\"\",\"\",INDEX(Data_kom2,MATCH(1,(komnavn2=B77)*(komaar2=D77),0),22))","v":35},{"$f":"IF(B77=\"\",\"\",INDEX(Data_kom2,MATCH(1,(komnavn2=B77)*(komaar2=D77),0),23))","v":190},{"$f":"IF(B77=\"\",\"\",INDEX(Data_kom2,MATCH(1,(komnavn2=B77)*(komaar2=D77),0),24))","v":5},{"$f":"IF(B77=\"\",\"\",INDEX(Data_kom2,MATCH(1,(komnavn2=B77)*(komaar2=D77),0),25))","v":190},{"$f":"IF(B77=\"\",\"\",INDEX(Data_kom2,MATCH(1,(komnavn2=B77)*(komaar2=D77),0),26))","v":30},{"$f":"IF(B77=\"\",\"\",INDEX(Data_kom2,MATCH(1,(komnavn2=B77)*(komaar2=D77),0),27))","v":190},{"$f":"IF(B77=\"\",\"\",INDEX(Data_kom2,MATCH(1,(komnavn2=B77)*(komaar2=D77),0),28))","v":0},{"$f":"IF(B77=\"\",\"\",INDEX(Data_kom2,MATCH(1,(komnavn2=B77)*(komaar2=D77),0),29))","v":0},{"$f":"IF(B77=\"\",\"\",INDEX(Data_kom2,MATCH(1,(komnavn2=B77)*(komaar2=D77),0),30))","v":269},{"$f":"IF(B77=\"\",\"\",INDEX(Data_kom2,MATCH(1,(komnavn2=B77)*(komaar2=D77),0),31))","v":1080},{"$f":"IF(B77=\"\",\"\",INDEX(Data_kom2,MATCH(1,(komnavn2=B77)*(komaar2=D77),0),32))","v":0},{"$f":"IF(B77=\"\",\"\",INDEX(Data_kom2,MATCH(1,(komnavn2=B77)*(komaar2=D77),0),33))","v":0},{"$f":"IF(B77=\"\",\"\",INDEX(Data_kom2,MATCH(1,(komnavn2=B77)*(komaar2=D77),0),34))","v":0},{"$f":"IF(B77=\"\",\"\",INDEX(Data_kom2,MATCH(1,(komnavn2=B77)*(komaar2=D77),0),35))","v":0},{"$f":"IF(B77=\"\",\"\",INDEX(Data_kom2,MATCH(1,(komnavn2=B77)*(komaar2=D77),0),36))","v":0},{"$f":"IF(B77=\"\",\"\",INDEX(Data_kom2,MATCH(1,(komnavn2=B77)*(komaar2=D77),0),37))","v":0},{"$f":"IF(B77=\"\",\"\",INDEX(Data_kom2,MATCH(1,(komnavn2=B77)*(komaar2=D77),0),38))","v":"Region Midtjylland"}]
[2,{"$f":"'Dine valg'!$G$25","v":""},{"$f":"IF(B78=\"\",\"\",INDEX(Data_kom2,MATCH(1,(komnavn2=B78)*(komaar2=D78),0),2))","v":""},"2018-01-01",{"$f":"IF(B78=\"\",\"\",INDEX(Data_kom2,MATCH(1,(komnavn2=B78)*(komaar2=D78),0),4))","v":""},{"$f":"IF(B78=\"\",\"\",INDEX(Data_kom2,MATCH(1,(komnavn2=B78)*(komaar2=D78),0),5))","v":""},{"$f":"IF(B78=\"\",\"\",INDEX(Data_kom2,MATCH(1,(komnavn2=B78)*(komaar2=D78),0),6))","v":""},{"$f":"IF(B78=\"\",\"\",INDEX(Data_kom2,MATCH(1,(komnavn2=B78)*(komaar2=D78),0),7))","v":""},{"$f":"IF(B78=\"\",\"\",INDEX(Data_kom2,MATCH(1,(komnavn2=B78)*(komaar2=D78),0),8))","v":""},{"$f":"IF(B78=\"\",\"\",INDEX(Data_kom2,MATCH(1,(komnavn2=B78)*(komaar2=D78),0),9))","v":""},{"$f":"IF(B78=\"\",\"\",INDEX(Data_kom2,MATCH(1,(komnavn2=B78)*(komaar2=D78),0),10))","v":""},{"$f":"IF(B78=\"\",\"\",INDEX(Data_kom2,MATCH(1,(komnavn2=B78)*(komaar2=D78),0),11))","v":""},{"$f":"IF(B78=\"\",\"\",INDEX(Data_kom2,MATCH(1,(komnavn2=B78)*(komaar2=D78),0),12))","v":""},{"$f":"IF(B78=\"\",\"\",INDEX(Data_kom2,MATCH(1,(komnavn2=B78)*(komaar2=D78),0),13))","v":""},{"$f":"IF(B78=\"\",\"\",INDEX(Data_kom2,MATCH(1,(komnavn2=B78)*(komaar2=D78),0),14))","v":""},{"$f":"IF(B78=\"\",\"\",INDEX(Data_kom2,MATCH(1,(komnavn2=B78)*(komaar2=D78),0),15))","v":""},{"$f":"IF(B78=\"\",\"\",INDEX(Data_kom2,MATCH(1,(komnavn2=B78)*(komaar2=D78),0),16))","v":""},{"$f":"IF(B78=\"\",\"\",INDEX(Data_kom2,MATCH(1,(komnavn2=B78)*(komaar2=D78),0),17))","v":""},{"$f":"IF(B78=\"\",\"\",INDEX(Data_kom2,MATCH(1,(komnavn2=B78)*(komaar2=D78),0),18))","v":""},{"$f":"IF(B78=\"\",\"\",INDEX(Data_kom2,MATCH(1,(komnavn2=B78)*(komaar2=D78),0),19))","v":""},{"$f":"IF(B78=\"\",\"\",INDEX(Data_kom2,MATCH(1,(komnavn2=B78)*(komaar2=D78),0),20))","v":""},{"$f":"IF(B78=\"\",\"\",INDEX(Data_kom2,MATCH(1,(komnavn2=B78)*(komaar2=D78),0),21))","v":""},{"$f":"IF(B78=\"\",\"\",INDEX(Data_kom2,MATCH(1,(komnavn2=B78)*(komaar2=D78),0),22))","v":""},{"$f":"IF(B78=\"\",\"\",INDEX(Data_kom2,MATCH(1,(komnavn2=B78)*(komaar2=D78),0),23))","v":""},{"$f":"IF(B78=\"\",\"\",INDEX(Data_kom2,MATCH(1,(komnavn2=B78)*(komaar2=D78),0),24))","v":""},{"$f":"IF(B78=\"\",\"\",INDEX(Data_kom2,MATCH(1,(komnavn2=B78)*(komaar2=D78),0),25))","v":""},{"$f":"IF(B78=\"\",\"\",INDEX(Data_kom2,MATCH(1,(komnavn2=B78)*(komaar2=D78),0),26))","v":""},{"$f":"IF(B78=\"\",\"\",INDEX(Data_kom2,MATCH(1,(komnavn2=B78)*(komaar2=D78),0),27))","v":""},{"$f":"IF(B78=\"\",\"\",INDEX(Data_kom2,MATCH(1,(komnavn2=B78)*(komaar2=D78),0),28))","v":""},{"$f":"IF(B78=\"\",\"\",INDEX(Data_kom2,MATCH(1,(komnavn2=B78)*(komaar2=D78),0),29))","v":""},{"$f":"IF(B78=\"\",\"\",INDEX(Data_kom2,MATCH(1,(komnavn2=B78)*(komaar2=D78),0),30))","v":""},{"$f":"IF(B78=\"\",\"\",INDEX(Data_kom2,MATCH(1,(komnavn2=B78)*(komaar2=D78),0),31))","v":""},{"$f":"IF(B78=\"\",\"\",INDEX(Data_kom2,MATCH(1,(komnavn2=B78)*(komaar2=D78),0),32))","v":""},{"$f":"IF(B78=\"\",\"\",INDEX(Data_kom2,MATCH(1,(komnavn2=B78)*(komaar2=D78),0),33))","v":""},{"$f":"IF(B78=\"\",\"\",INDEX(Data_kom2,MATCH(1,(komnavn2=B78)*(komaar2=D78),0),34))","v":""},{"$f":"IF(B78=\"\",\"\",INDEX(Data_kom2,MATCH(1,(komnavn2=B78)*(komaar2=D78),0),35))","v":""},{"$f":"IF(B78=\"\",\"\",INDEX(Data_kom2,MATCH(1,(komnavn2=B78)*(komaar2=D78),0),36))","v":""},{"$f":"IF(B78=\"\",\"\",INDEX(Data_kom2,MATCH(1,(komnavn2=B78)*(komaar2=D78),0),37))","v":""},{"$f":"IF(B78=\"\",\"\",INDEX(Data_kom2,MATCH(1,(komnavn2=B78)*(komaar2=D78),0),38))","v":""}]
[3,{"$f":"'Dine valg'!$G$26","v":""},{"$f":"IF(B79=\"\",\"\",INDEX(Data_kom2,MATCH(1,(komnavn2=B79)*(komaar2=D79),0),2))","v":""},"2018-01-01",{"$f":"IF(B79=\"\",\"\",INDEX(Data_kom2,MATCH(1,(komnavn2=B79)*(komaar2=D79),0),4))","v":""},{"$f":"IF(B79=\"\",\"\",INDEX(Data_kom2,MATCH(1,(komnavn2=B79)*(komaar2=D79),0),5))","v":""},{"$f":"IF(B79=\"\",\"\",INDEX(Data_kom2,MATCH(1,(komnavn2=B79)*(komaar2=D79),0),6))","v":""},{"$f":"IF(B79=\"\",\"\",INDEX(Data_kom2,MATCH(1,(komnavn2=B79)*(komaar2=D79),0),7))","v":""},{"$f":"IF(B79=\"\",\"\",INDEX(Data_kom2,MATCH(1,(komnavn2=B79)*(komaar2=D79),0),8))","v":""},{"$f":"IF(B79=\"\",\"\",INDEX(Data_kom2,MATCH(1,(komnavn2=B79)*(komaar2=D79),0),9))","v":""},{"$f":"IF(B79=\"\",\"\",INDEX(Data_kom2,MATCH(1,(komnavn2=B79)*(komaar2=D79),0),10))","v":""},{"$f":"IF(B79=\"\",\"\",INDEX(Data_kom2,MATCH(1,(komnavn2=B79)*(komaar2=D79),0),11))","v":""},{"$f":"IF(B79=\"\",\"\",INDEX(Data_kom2,MATCH(1,(komnavn2=B79)*(komaar2=D79),0),12))","v":""},{"$f":"IF(B79=\"\",\"\",INDEX(Data_kom2,MATCH(1,(komnavn2=B79)*(komaar2=D79),0),13))","v":""},{"$f":"IF(B79=\"\",\"\",INDEX(Data_kom2,MATCH(1,(komnavn2=B79)*(komaar2=D79),0),14))","v":""},{"$f":"IF(B79=\"\",\"\",INDEX(Data_kom2,MATCH(1,(komnavn2=B79)*(komaar2=D79),0),15))","v":""},{"$f":"IF(B79=\"\",\"\",INDEX(Data_kom2,MATCH(1,(komnavn2=B79)*(komaar2=D79),0),16))","v":""},{"$f":"IF(B79=\"\",\"\",INDEX(Data_kom2,MATCH(1,(komnavn2=B79)*(komaar2=D79),0),17))","v":""},{"$f":"IF(B79=\"\",\"\",INDEX(Data_kom2,MATCH(1,(komnavn2=B79)*(komaar2=D79),0),18))","v":""},{"$f":"IF(B79=\"\",\"\",INDEX(Data_kom2,MATCH(1,(komnavn2=B79)*(komaar2=D79),0),19))","v":""},{"$f":"IF(B79=\"\",\"\",INDEX(Data_kom2,MATCH(1,(komnavn2=B79)*(komaar2=D79),0),20))","v":""},{"$f":"IF(B79=\"\",\"\",INDEX(Data_kom2,MATCH(1,(komnavn2=B79)*(komaar2=D79),0),21))","v":""},{"$f":"IF(B79=\"\",\"\",INDEX(Data_kom2,MATCH(1,(komnavn2=B79)*(komaar2=D79),0),22))","v":""},{"$f":"IF(B79=\"\",\"\",INDEX(Data_kom2,MATCH(1,(komnavn2=B79)*(komaar2=D79),0),23))","v":""},{"$f":"IF(B79=\"\",\"\",INDEX(Data_kom2,MATCH(1,(komnavn2=B79)*(komaar2=D79),0),24))","v":""},{"$f":"IF(B79=\"\",\"\",INDEX(Data_kom2,MATCH(1,(komnavn2=B79)*(komaar2=D79),0),25))","v":""},{"$f":"IF(B79=\"\",\"\",INDEX(Data_kom2,MATCH(1,(komnavn2=B79)*(komaar2=D79),0),26))","v":""},{"$f":"IF(B79=\"\",\"\",INDEX(Data_kom2,MATCH(1,(komnavn2=B79)*(komaar2=D79),0),27))","v":""},{"$f":"IF(B79=\"\",\"\",INDEX(Data_kom2,MATCH(1,(komnavn2=B79)*(komaar2=D79),0),28))","v":""},{"$f":"IF(B79=\"\",\"\",INDEX(Data_kom2,MATCH(1,(komnavn2=B79)*(komaar2=D79),0),29))","v":""},{"$f":"IF(B79=\"\",\"\",INDEX(Data_kom2,MATCH(1,(komnavn2=B79)*(komaar2=D79),0),30))","v":""},{"$f":"IF(B79=\"\",\"\",INDEX(Data_kom2,MATCH(1,(komnavn2=B79)*(komaar2=D79),0),31))","v":""},{"$f":"IF(B79=\"\",\"\",INDEX(Data_kom2,MATCH(1,(komnavn2=B79)*(komaar2=D79),0),32))","v":""},{"$f":"IF(B79=\"\",\"\",INDEX(Data_kom2,MATCH(1,(komnavn2=B79)*(komaar2=D79),0),33))","v":""},{"$f":"IF(B79=\"\",\"\",INDEX(Data_kom2,MATCH(1,(komnavn2=B79)*(komaar2=D79),0),34))","v":""},{"$f":"IF(B79=\"\",\"\",INDEX(Data_kom2,MATCH(1,(komnavn2=B79)*(komaar2=D79),0),35))","v":""},{"$f":"IF(B79=\"\",\"\",INDEX(Data_kom2,MATCH(1,(komnavn2=B79)*(komaar2=D79),0),36))","v":""},{"$f":"IF(B79=\"\",\"\",INDEX(Data_kom2,MATCH(1,(komnavn2=B79)*(komaar2=D79),0),37))","v":""},{"$f":"IF(B79=\"\",\"\",INDEX(Data_kom2,MATCH(1,(komnavn2=B79)*(komaar2=D79),0),38))","v":""}]
[4,{"$f":"'Dine valg'!$G$27","v":""},{"$f":"IF(B80=\"\",\"\",INDEX(Data_kom2,MATCH(1,(komnavn2=B80)*(komaar2=D80),0),2))","v":""},"2018-01-01",{"$f":"IF(B80=\"\",\"\",INDEX(Data_kom2,MATCH(1,(komnavn2=B80)*(komaar2=D80),0),4))","v":""},{"$f":"IF(B80=\"\",\"\",INDEX(Data_kom2,MATCH(1,(komnavn2=B80)*(komaar2=D80),0),5))","v":""},{"$f":"IF(B80=\"\",\"\",INDEX(Data_kom2,MATCH(1,(komnavn2=B80)*(komaar2=D80),0),6))","v":""},{"$f":"IF(B80=\"\",\"\",INDEX(Data_kom2,MATCH(1,(komnavn2=B80)*(komaar2=D80),0),7))","v":""},{"$f":"IF(B80=\"\",\"\",INDEX(Data_kom2,MATCH(1,(komnavn2=B80)*(komaar2=D80),0),8))","v":""},{"$f":"IF(B80=\"\",\"\",INDEX(Data_kom2,MATCH(1,(komnavn2=B80)*(komaar2=D80),0),9))","v":""},{"$f":"IF(B80=\"\",\"\",INDEX(Data_kom2,MATCH(1,(komnavn2=B80)*(komaar2=D80),0),10))","v":""},{"$f":"IF(B80=\"\",\"\",INDEX(Data_kom2,MATCH(1,(komnavn2=B80)*(komaar2=D80),0),11))","v":""},{"$f":"IF(B80=\"\",\"\",INDEX(Data_kom2,MATCH(1,(komnavn2=B80)*(komaar2=D80),0),12))","v":""},{"$f":"IF(B80=\"\",\"\",INDEX(Data_kom2,MATCH(1,(komnavn2=B80)*(komaar2=D80),0),13))","v":""},{"$f":"IF(B80=\"\",\"\",INDEX(Data_kom2,MATCH(1,(komnavn2=B80)*(komaar2=D80),0),14))","v":""},{"$f":"IF(B80=\"\",\"\",INDEX(Data_kom2,MATCH(1,(komnavn2=B80)*(komaar2=D80),0),15))","v":""},{"$f":"IF(B80=\"\",\"\",INDEX(Data_kom2,MATCH(1,(komnavn2=B80)*(komaar2=D80),0),16))","v":""},{"$f":"IF(B80=\"\",\"\",INDEX(Data_kom2,MATCH(1,(komnavn2=B80)*(komaar2=D80),0),17))","v":""},{"$f":"IF(B80=\"\",\"\",INDEX(Data_kom2,MATCH(1,(komnavn2=B80)*(komaar2=D80),0),18))","v":""},{"$f":"IF(B80=\"\",\"\",INDEX(Data_kom2,MATCH(1,(komnavn2=B80)*(komaar2=D80),0),19))","v":""},{"$f":"IF(B80=\"\",\"\",INDEX(Data_kom2,MATCH(1,(komnavn2=B80)*(komaar2=D80),0),20))","v":""},{"$f":"IF(B80=\"\",\"\",INDEX(Data_kom2,MATCH(1,(komnavn2=B80)*(komaar2=D80),0),21))","v":""},{"$f":"IF(B80=\"\",\"\",INDEX(Data_kom2,MATCH(1,(komnavn2=B80)*(komaar2=D80),0),22))","v":""},{"$f":"IF(B80=\"\",\"\",INDEX(Data_kom2,MATCH(1,(komnavn2=B80)*(komaar2=D80),0),23))","v":""},{"$f":"IF(B80=\"\",\"\",INDEX(Data_kom2,MATCH(1,(komnavn2=B80)*(komaar2=D80),0),24))","v":""},{"$f":"IF(B80=\"\",\"\",INDEX(Data_kom2,MATCH(1,(komnavn2=B80)*(komaar2=D80),0),25))","v":""},{"$f":"IF(B80=\"\",\"\",INDEX(Data_kom2,MATCH(1,(komnavn2=B80)*(komaar2=D80),0),26))","v":""},{"$f":"IF(B80=\"\",\"\",INDEX(Data_kom2,MATCH(1,(komnavn2=B80)*(komaar2=D80),0),27))","v":""},{"$f":"IF(B80=\"\",\"\",INDEX(Data_kom2,MATCH(1,(komnavn2=B80)*(komaar2=D80),0),28))","v":""},{"$f":"IF(B80=\"\",\"\",INDEX(Data_kom2,MATCH(1,(komnavn2=B80)*(komaar2=D80),0),29))","v":""},{"$f":"IF(B80=\"\",\"\",INDEX(Data_kom2,MATCH(1,(komnavn2=B80)*(komaar2=D80),0),30))","v":""},{"$f":"IF(B80=\"\",\"\",INDEX(Data_kom2,MATCH(1,(komnavn2=B80)*(komaar2=D80),0),31))","v":""},{"$f":"IF(B80=\"\",\"\",INDEX(Data_kom2,MATCH(1,(komnavn2=B80)*(komaar2=D80),0),32))","v":""},{"$f":"IF(B80=\"\",\"\",INDEX(Data_kom2,MATCH(1,(komnavn2=B80)*(komaar2=D80),0),33))","v":""},{"$f":"IF(B80=\"\",\"\",INDEX(Data_kom2,MATCH(1,(komnavn2=B80)*(komaar2=D80),0),34))","v":""},{"$f":"IF(B80=\"\",\"\",INDEX(Data_kom2,MATCH(1,(komnavn2=B80)*(komaar2=D80),0),35))","v":""},{"$f":"IF(B80=\"\",\"\",INDEX(Data_kom2,MATCH(1,(komnavn2=B80)*(komaar2=D80),0),36))","v":""},{"$f":"IF(B80=\"\",\"\",INDEX(Data_kom2,MATCH(1,(komnavn2=B80)*(komaar2=D80),0),37))","v":""},{"$f":"IF(B80=\"\",\"\",INDEX(Data_kom2,MATCH(1,(komnavn2=B80)*(komaar2=D80),0),38))","v":""}]
[5,{"$f":"'Dine valg'!$G$28","v":""},{"$f":"IF(B81=\"\",\"\",INDEX(Data_kom2,MATCH(1,(komnavn2=B81)*(komaar2=D81),0),2))","v":""},"2018-01-01",{"$f":"IF(B81=\"\",\"\",INDEX(Data_kom2,MATCH(1,(komnavn2=B81)*(komaar2=D81),0),4))","v":""},{"$f":"IF(B81=\"\",\"\",INDEX(Data_kom2,MATCH(1,(komnavn2=B81)*(komaar2=D81),0),5))","v":""},{"$f":"IF(B81=\"\",\"\",INDEX(Data_kom2,MATCH(1,(komnavn2=B81)*(komaar2=D81),0),6))","v":""},{"$f":"IF(B81=\"\",\"\",INDEX(Data_kom2,MATCH(1,(komnavn2=B81)*(komaar2=D81),0),7))","v":""},{"$f":"IF(B81=\"\",\"\",INDEX(Data_kom2,MATCH(1,(komnavn2=B81)*(komaar2=D81),0),8))","v":""},{"$f":"IF(B81=\"\",\"\",INDEX(Data_kom2,MATCH(1,(komnavn2=B81)*(komaar2=D81),0),9))","v":""},{"$f":"IF(B81=\"\",\"\",INDEX(Data_kom2,MATCH(1,(komnavn2=B81)*(komaar2=D81),0),10))","v":""},{"$f":"IF(B81=\"\",\"\",INDEX(Data_kom2,MATCH(1,(komnavn2=B81)*(komaar2=D81),0),11))","v":""},{"$f":"IF(B81=\"\",\"\",INDEX(Data_kom2,MATCH(1,(komnavn2=B81)*(komaar2=D81),0),12))","v":""},{"$f":"IF(B81=\"\",\"\",INDEX(Data_kom2,MATCH(1,(komnavn2=B81)*(komaar2=D81),0),13))","v":""},{"$f":"IF(B81=\"\",\"\",INDEX(Data_kom2,MATCH(1,(komnavn2=B81)*(komaar2=D81),0),14))","v":""},{"$f":"IF(B81=\"\",\"\",INDEX(Data_kom2,MATCH(1,(komnavn2=B81)*(komaar2=D81),0),15))","v":""},{"$f":"IF(B81=\"\",\"\",INDEX(Data_kom2,MATCH(1,(komnavn2=B81)*(komaar2=D81),0),16))","v":""},{"$f":"IF(B81=\"\",\"\",INDEX(Data_kom2,MATCH(1,(komnavn2=B81)*(komaar2=D81),0),17))","v":""},{"$f":"IF(B81=\"\",\"\",INDEX(Data_kom2,MATCH(1,(komnavn2=B81)*(komaar2=D81),0),18))","v":""},{"$f":"IF(B81=\"\",\"\",INDEX(Data_kom2,MATCH(1,(komnavn2=B81)*(komaar2=D81),0),19))","v":""},{"$f":"IF(B81=\"\",\"\",INDEX(Data_kom2,MATCH(1,(komnavn2=B81)*(komaar2=D81),0),20))","v":""},{"$f":"IF(B81=\"\",\"\",INDEX(Data_kom2,MATCH(1,(komnavn2=B81)*(komaar2=D81),0),21))","v":""},{"$f":"IF(B81=\"\",\"\",INDEX(Data_kom2,MATCH(1,(komnavn2=B81)*(komaar2=D81),0),22))","v":""},{"$f":"IF(B81=\"\",\"\",INDEX(Data_kom2,MATCH(1,(komnavn2=B81)*(komaar2=D81),0),23))","v":""},{"$f":"IF(B81=\"\",\"\",INDEX(Data_kom2,MATCH(1,(komnavn2=B81)*(komaar2=D81),0),24))","v":""},{"$f":"IF(B81=\"\",\"\",INDEX(Data_kom2,MATCH(1,(komnavn2=B81)*(komaar2=D81),0),25))","v":""},{"$f":"IF(B81=\"\",\"\",INDEX(Data_kom2,MATCH(1,(komnavn2=B81)*(komaar2=D81),0),26))","v":""},{"$f":"IF(B81=\"\",\"\",INDEX(Data_kom2,MATCH(1,(komnavn2=B81)*(komaar2=D81),0),27))","v":""},{"$f":"IF(B81=\"\",\"\",INDEX(Data_kom2,MATCH(1,(komnavn2=B81)*(komaar2=D81),0),28))","v":""},{"$f":"IF(B81=\"\",\"\",INDEX(Data_kom2,MATCH(1,(komnavn2=B81)*(komaar2=D81),0),29))","v":""},{"$f":"IF(B81=\"\",\"\",INDEX(Data_kom2,MATCH(1,(komnavn2=B81)*(komaar2=D81),0),30))","v":""},{"$f":"IF(B81=\"\",\"\",INDEX(Data_kom2,MATCH(1,(komnavn2=B81)*(komaar2=D81),0),31))","v":""},{"$f":"IF(B81=\"\",\"\",INDEX(Data_kom2,MATCH(1,(komnavn2=B81)*(komaar2=D81),0),32))","v":""},{"$f":"IF(B81=\"\",\"\",INDEX(Data_kom2,MATCH(1,(komnavn2=B81)*(komaar2=D81),0),33))","v":""},{"$f":"IF(B81=\"\",\"\",INDEX(Data_kom2,MATCH(1,(komnavn2=B81)*(komaar2=D81),0),34))","v":""},{"$f":"IF(B81=\"\",\"\",INDEX(Data_kom2,MATCH(1,(komnavn2=B81)*(komaar2=D81),0),35))","v":""},{"$f":"IF(B81=\"\",\"\",INDEX(Data_kom2,MATCH(1,(komnavn2=B81)*(komaar2=D81),0),36))","v":""},{"$f":"IF(B81=\"\",\"\",INDEX(Data_kom2,MATCH(1,(komnavn2=B81)*(komaar2=D81),0),37))","v":""},{"$f":"IF(B81=\"\",\"\",INDEX(Data_kom2,MATCH(1,(komnavn2=B81)*(komaar2=D81),0),38))","v":""}]
[6,{"$f":"'Dine valg'!$G$29","v":""},{"$f":"IF(B82=\"\",\"\",INDEX(Data_kom2,MATCH(1,(komnavn2=B82)*(komaar2=D82),0),2))","v":""},"2018-01-01",{"$f":"IF(B82=\"\",\"\",INDEX(Data_kom2,MATCH(1,(komnavn2=B82)*(komaar2=D82),0),4))","v":""},{"$f":"IF(B82=\"\",\"\",INDEX(Data_kom2,MATCH(1,(komnavn2=B82)*(komaar2=D82),0),5))","v":""},{"$f":"IF(B82=\"\",\"\",INDEX(Data_kom2,MATCH(1,(komnavn2=B82)*(komaar2=D82),0),6))","v":""},{"$f":"IF(B82=\"\",\"\",INDEX(Data_kom2,MATCH(1,(komnavn2=B82)*(komaar2=D82),0),7))","v":""},{"$f":"IF(B82=\"\",\"\",INDEX(Data_kom2,MATCH(1,(komnavn2=B82)*(komaar2=D82),0),8))","v":""},{"$f":"IF(B82=\"\",\"\",INDEX(Data_kom2,MATCH(1,(komnavn2=B82)*(komaar2=D82),0),9))","v":""},{"$f":"IF(B82=\"\",\"\",INDEX(Data_kom2,MATCH(1,(komnavn2=B82)*(komaar2=D82),0),10))","v":""},{"$f":"IF(B82=\"\",\"\",INDEX(Data_kom2,MATCH(1,(komnavn2=B82)*(komaar2=D82),0),11))","v":""},{"$f":"IF(B82=\"\",\"\",INDEX(Data_kom2,MATCH(1,(komnavn2=B82)*(komaar2=D82),0),12))","v":""},{"$f":"IF(B82=\"\",\"\",INDEX(Data_kom2,MATCH(1,(komnavn2=B82)*(komaar2=D82),0),13))","v":""},{"$f":"IF(B82=\"\",\"\",INDEX(Data_kom2,MATCH(1,(komnavn2=B82)*(komaar2=D82),0),14))","v":""},{"$f":"IF(B82=\"\",\"\",INDEX(Data_kom2,MATCH(1,(komnavn2=B82)*(komaar2=D82),0),15))","v":""},{"$f":"IF(B82=\"\",\"\",INDEX(Data_kom2,MATCH(1,(komnavn2=B82)*(komaar2=D82),0),16))","v":""},{"$f":"IF(B82=\"\",\"\",INDEX(Data_kom2,MATCH(1,(komnavn2=B82)*(komaar2=D82),0),17))","v":""},{"$f":"IF(B82=\"\",\"\",INDEX(Data_kom2,MATCH(1,(komnavn2=B82)*(komaar2=D82),0),18))","v":""},{"$f":"IF(B82=\"\",\"\",INDEX(Data_kom2,MATCH(1,(komnavn2=B82)*(komaar2=D82),0),19))","v":""},{"$f":"IF(B82=\"\",\"\",INDEX(Data_kom2,MATCH(1,(komnavn2=B82)*(komaar2=D82),0),20))","v":""},{"$f":"IF(B82=\"\",\"\",INDEX(Data_kom2,MATCH(1,(komnavn2=B82)*(komaar2=D82),0),21))","v":""},{"$f":"IF(B82=\"\",\"\",INDEX(Data_kom2,MATCH(1,(komnavn2=B82)*(komaar2=D82),0),22))","v":""},{"$f":"IF(B82=\"\",\"\",INDEX(Data_kom2,MATCH(1,(komnavn2=B82)*(komaar2=D82),0),23))","v":""},{"$f":"IF(B82=\"\",\"\",INDEX(Data_kom2,MATCH(1,(komnavn2=B82)*(komaar2=D82),0),24))","v":""},{"$f":"IF(B82=\"\",\"\",INDEX(Data_kom2,MATCH(1,(komnavn2=B82)*(komaar2=D82),0),25))","v":""},{"$f":"IF(B82=\"\",\"\",INDEX(Data_kom2,MATCH(1,(komnavn2=B82)*(komaar2=D82),0),26))","v":""},{"$f":"IF(B82=\"\",\"\",INDEX(Data_kom2,MATCH(1,(komnavn2=B82)*(komaar2=D82),0),27))","v":""},{"$f":"IF(B82=\"\",\"\",INDEX(Data_kom2,MATCH(1,(komnavn2=B82)*(komaar2=D82),0),28))","v":""},{"$f":"IF(B82=\"\",\"\",INDEX(Data_kom2,MATCH(1,(komnavn2=B82)*(komaar2=D82),0),29))","v":""},{"$f":"IF(B82=\"\",\"\",INDEX(Data_kom2,MATCH(1,(komnavn2=B82)*(komaar2=D82),0),30))","v":""},{"$f":"IF(B82=\"\",\"\",INDEX(Data_kom2,MATCH(1,(komnavn2=B82)*(komaar2=D82),0),31))","v":""},{"$f":"IF(B82=\"\",\"\",INDEX(Data_kom2,MATCH(1,(komnavn2=B82)*(komaar2=D82),0),32))","v":""},{"$f":"IF(B82=\"\",\"\",INDEX(Data_kom2,MATCH(1,(komnavn2=B82)*(komaar2=D82),0),33))","v":""},{"$f":"IF(B82=\"\",\"\",INDEX(Data_kom2,MATCH(1,(komnavn2=B82)*(komaar2=D82),0),34))","v":""},{"$f":"IF(B82=\"\",\"\",INDEX(Data_kom2,MATCH(1,(komnavn2=B82)*(komaar2=D82),0),35))","v":""},{"$f":"IF(B82=\"\",\"\",INDEX(Data_kom2,MATCH(1,(komnavn2=B82)*(komaar2=D82),0),36))","v":""},{"$f":"IF(B82=\"\",\"\",INDEX(Data_kom2,MATCH(1,(komnavn2=B82)*(komaar2=D82),0),37))","v":""},{"$f":"IF(B82=\"\",\"\",INDEX(Data_kom2,MATCH(1,(komnavn2=B82)*(komaar2=D82),0),38))","v":""}]
[7,{"$f":"'Dine valg'!$G$30","v":""},{"$f":"IF(B83=\"\",\"\",INDEX(Data_kom2,MATCH(1,(komnavn2=B83)*(komaar2=D83),0),2))","v":""},"2018-01-01",{"$f":"IF(B83=\"\",\"\",INDEX(Data_kom2,MATCH(1,(komnavn2=B83)*(komaar2=D83),0),4))","v":""},{"$f":"IF(B83=\"\",\"\",INDEX(Data_kom2,MATCH(1,(komnavn2=B83)*(komaar2=D83),0),5))","v":""},{"$f":"IF(B83=\"\",\"\",INDEX(Data_kom2,MATCH(1,(komnavn2=B83)*(komaar2=D83),0),6))","v":""},{"$f":"IF(B83=\"\",\"\",INDEX(Data_kom2,MATCH(1,(komnavn2=B83)*(komaar2=D83),0),7))","v":""},{"$f":"IF(B83=\"\",\"\",INDEX(Data_kom2,MATCH(1,(komnavn2=B83)*(komaar2=D83),0),8))","v":""},{"$f":"IF(B83=\"\",\"\",INDEX(Data_kom2,MATCH(1,(komnavn2=B83)*(komaar2=D83),0),9))","v":""},{"$f":"IF(B83=\"\",\"\",INDEX(Data_kom2,MATCH(1,(komnavn2=B83)*(komaar2=D83),0),10))","v":""},{"$f":"IF(B83=\"\",\"\",INDEX(Data_kom2,MATCH(1,(komnavn2=B83)*(komaar2=D83),0),11))","v":""},{"$f":"IF(B83=\"\",\"\",INDEX(Data_kom2,MATCH(1,(komnavn2=B83)*(komaar2=D83),0),12))","v":""},{"$f":"IF(B83=\"\",\"\",INDEX(Data_kom2,MATCH(1,(komnavn2=B83)*(komaar2=D83),0),13))","v":""},{"$f":"IF(B83=\"\",\"\",INDEX(Data_kom2,MATCH(1,(komnavn2=B83)*(komaar2=D83),0),14))","v":""},{"$f":"IF(B83=\"\",\"\",INDEX(Data_kom2,MATCH(1,(komnavn2=B83)*(komaar2=D83),0),15))","v":""},{"$f":"IF(B83=\"\",\"\",INDEX(Data_kom2,MATCH(1,(komnavn2=B83)*(komaar2=D83),0),16))","v":""},{"$f":"IF(B83=\"\",\"\",INDEX(Data_kom2,MATCH(1,(komnavn2=B83)*(komaar2=D83),0),17))","v":""},{"$f":"IF(B83=\"\",\"\",INDEX(Data_kom2,MATCH(1,(komnavn2=B83)*(komaar2=D83),0),18))","v":""},{"$f":"IF(B83=\"\",\"\",INDEX(Data_kom2,MATCH(1,(komnavn2=B83)*(komaar2=D83),0),19))","v":""},{"$f":"IF(B83=\"\",\"\",INDEX(Data_kom2,MATCH(1,(komnavn2=B83)*(komaar2=D83),0),20))","v":""},{"$f":"IF(B83=\"\",\"\",INDEX(Data_kom2,MATCH(1,(komnavn2=B83)*(komaar2=D83),0),21))","v":""},{"$f":"IF(B83=\"\",\"\",INDEX(Data_kom2,MATCH(1,(komnavn2=B83)*(komaar2=D83),0),22))","v":""},{"$f":"IF(B83=\"\",\"\",INDEX(Data_kom2,MATCH(1,(komnavn2=B83)*(komaar2=D83),0),23))","v":""},{"$f":"IF(B83=\"\",\"\",INDEX(Data_kom2,MATCH(1,(komnavn2=B83)*(komaar2=D83),0),24))","v":""},{"$f":"IF(B83=\"\",\"\",INDEX(Data_kom2,MATCH(1,(komnavn2=B83)*(komaar2=D83),0),25))","v":""},{"$f":"IF(B83=\"\",\"\",INDEX(Data_kom2,MATCH(1,(komnavn2=B83)*(komaar2=D83),0),26))","v":""},{"$f":"IF(B83=\"\",\"\",INDEX(Data_kom2,MATCH(1,(komnavn2=B83)*(komaar2=D83),0),27))","v":""},{"$f":"IF(B83=\"\",\"\",INDEX(Data_kom2,MATCH(1,(komnavn2=B83)*(komaar2=D83),0),28))","v":""},{"$f":"IF(B83=\"\",\"\",INDEX(Data_kom2,MATCH(1,(komnavn2=B83)*(komaar2=D83),0),29))","v":""},{"$f":"IF(B83=\"\",\"\",INDEX(Data_kom2,MATCH(1,(komnavn2=B83)*(komaar2=D83),0),30))","v":""},{"$f":"IF(B83=\"\",\"\",INDEX(Data_kom2,MATCH(1,(komnavn2=B83)*(komaar2=D83),0),31))","v":""},{"$f":"IF(B83=\"\",\"\",INDEX(Data_kom2,MATCH(1,(komnavn2=B83)*(komaar2=D83),0),32))","v":""},{"$f":"IF(B83=\"\",\"\",INDEX(Data_kom2,MATCH(1,(komnavn2=B83)*(komaar2=D83),0),33))","v":""},{"$f":"IF(B83=\"\",\"\",INDEX(Data_kom2,MATCH(1,(komnavn2=B83)*(komaar2=D83),0),34))","v":""},{"$f":"IF(B83=\"\",\"\",INDEX(Data_kom2,MATCH(1,(komnavn2=B83)*(komaar2=D83),0),35))","v":""},{"$f":"IF(B83=\"\",\"\",INDEX(Data_kom2,MATCH(1,(komnavn2=B83)*(komaar2=D83),0),36))","v":""},{"$f":"IF(B83=\"\",\"\",INDEX(Data_kom2,MATCH(1,(komnavn2=B83)*(komaar2=D83),0),37))","v":""},{"$f":"IF(B83=\"\",\"\",INDEX(Data_kom2,MATCH(1,(komnavn2=B83)*(komaar2=D83),0),38))","v":""}]
[1,{"$f":"'Dine valg'!$G$24","v":"Aarhus"},{"$f":"IF(B84=\"\",\"\",INDEX(Data_kom2,MATCH(1,(komnavn2=B84)*(komaar2=D84),0),2))","v":63077},"2017-07-01",{"$f":"IF(B84=\"\",\"\",INDEX(Data_kom2,MATCH(1,(komnavn2=B84)*(komaar2=D84),0),4))","v":190},{"$f":"IF(B84=\"\",\"\",INDEX(Data_kom2,MATCH(1,(komnavn2=B84)*(komaar2=D84),0),5))","v":133},{"$f":"IF(B84=\"\",\"\",INDEX(Data_kom2,MATCH(1,(komnavn2=B84)*(komaar2=D84),0),6))","v":4},{"$f":"IF(B84=\"\",\"\",INDEX(Data_kom2,MATCH(1,(komnavn2=B84)*(komaar2=D84),0),7))","v":53},{"$f":"IF(B84=\"\",\"\",INDEX(Data_kom2,MATCH(1,(komnavn2=B84)*(komaar2=D84),0),8))","v":206091},{"$f":"IF(B84=\"\",\"\",INDEX(Data_kom2,MATCH(1,(komnavn2=B84)*(komaar2=D84),0),9))","v":163378},{"$f":"IF(B84=\"\",\"\",INDEX(Data_kom2,MATCH(1,(komnavn2=B84)*(komaar2=D84),0),10))","v":"*"},{"$f":"IF(B84=\"\",\"\",INDEX(Data_kom2,MATCH(1,(komnavn2=B84)*(komaar2=D84),0),11))","v":"*"},{"$f":"IF(B84=\"\",\"\",INDEX(Data_kom2,MATCH(1,(komnavn2=B84)*(komaar2=D84),0),12))","v":225},{"$f":"IF(B84=\"\",\"\",INDEX(Data_kom2,MATCH(1,(komnavn2=B84)*(komaar2=D84),0),13))","v":37},{"$f":"IF(B84=\"\",\"\",INDEX(Data_kom2,MATCH(1,(komnavn2=B84)*(komaar2=D84),0),14))","v":1080},{"$f":"IF(B84=\"\",\"\",INDEX(Data_kom2,MATCH(1,(komnavn2=B84)*(komaar2=D84),0),15))","v":"*"},{"$f":"IF(B84=\"\",\"\",INDEX(Data_kom2,MATCH(1,(komnavn2=B84)*(komaar2=D84),0),16))","v":25},{"$f":"IF(B84=\"\",\"\",INDEX(Data_kom2,MATCH(1,(komnavn2=B84)*(komaar2=D84),0),17))","v":1043},{"$f":"IF(B84=\"\",\"\",INDEX(Data_kom2,MATCH(1,(komnavn2=B84)*(komaar2=D84),0),18))","v":"*"},{"$f":"IF(B84=\"\",\"\",INDEX(Data_kom2,MATCH(1,(komnavn2=B84)*(komaar2=D84),0),19))","v":0},{"$f":"IF(B84=\"\",\"\",INDEX(Data_kom2,MATCH(1,(komnavn2=B84)*(komaar2=D84),0),20))","v":0},{"$f":"IF(B84=\"\",\"\",INDEX(Data_kom2,MATCH(1,(komnavn2=B84)*(komaar2=D84),0),21))","v":0},{"$f":"IF(B84=\"\",\"\",INDEX(Data_kom2,MATCH(1,(komnavn2=B84)*(komaar2=D84),0),22))","v":35},{"$f":"IF(B84=\"\",\"\",INDEX(Data_kom2,MATCH(1,(komnavn2=B84)*(komaar2=D84),0),23))","v":191},{"$f":"IF(B84=\"\",\"\",INDEX(Data_kom2,MATCH(1,(komnavn2=B84)*(komaar2=D84),0),24))","v":0},{"$f":"IF(B84=\"\",\"\",INDEX(Data_kom2,MATCH(1,(komnavn2=B84)*(komaar2=D84),0),25))","v":191},{"$f":"IF(B84=\"\",\"\",INDEX(Data_kom2,MATCH(1,(komnavn2=B84)*(komaar2=D84),0),26))","v":35},{"$f":"IF(B84=\"\",\"\",INDEX(Data_kom2,MATCH(1,(komnavn2=B84)*(komaar2=D84),0),27))","v":191},{"$f":"IF(B84=\"\",\"\",INDEX(Data_kom2,MATCH(1,(komnavn2=B84)*(komaar2=D84),0),28))","v":0},{"$f":"IF(B84=\"\",\"\",INDEX(Data_kom2,MATCH(1,(komnavn2=B84)*(komaar2=D84),0),29))","v":0},{"$f":"IF(B84=\"\",\"\",INDEX(Data_kom2,MATCH(1,(komnavn2=B84)*(komaar2=D84),0),30))","v":298},{"$f":"IF(B84=\"\",\"\",INDEX(Data_kom2,MATCH(1,(komnavn2=B84)*(komaar2=D84),0),31))","v":1132},{"$f":"IF(B84=\"\",\"\",INDEX(Data_kom2,MATCH(1,(komnavn2=B84)*(komaar2=D84),0),32))","v":0},{"$f":"IF(B84=\"\",\"\",INDEX(Data_kom2,MATCH(1,(komnavn2=B84)*(komaar2=D84),0),33))","v":0},{"$f":"IF(B84=\"\",\"\",INDEX(Data_kom2,MATCH(1,(komnavn2=B84)*(komaar2=D84),0),34))","v":0},{"$f":"IF(B84=\"\",\"\",INDEX(Data_kom2,MATCH(1,(komnavn2=B84)*(komaar2=D84),0),35))","v":0},{"$f":"IF(B84=\"\",\"\",INDEX(Data_kom2,MATCH(1,(komnavn2=B84)*(komaar2=D84),0),36))","v":0},{"$f":"IF(B84=\"\",\"\",INDEX(Data_kom2,MATCH(1,(komnavn2=B84)*(komaar2=D84),0),37))","v":0},{"$f":"IF(B84=\"\",\"\",INDEX(Data_kom2,MATCH(1,(komnavn2=B84)*(komaar2=D84),0),38))","v":"Region Midtjylland"}]
[2,{"$f":"'Dine valg'!$G$25","v":""},{"$f":"IF(B85=\"\",\"\",INDEX(Data_kom2,MATCH(1,(komnavn2=B85)*(komaar2=D85),0),2))","v":""},"2017-07-01",{"$f":"IF(B85=\"\",\"\",INDEX(Data_kom2,MATCH(1,(komnavn2=B85)*(komaar2=D85),0),4))","v":""},{"$f":"IF(B85=\"\",\"\",INDEX(Data_kom2,MATCH(1,(komnavn2=B85)*(komaar2=D85),0),5))","v":""},{"$f":"IF(B85=\"\",\"\",INDEX(Data_kom2,MATCH(1,(komnavn2=B85)*(komaar2=D85),0),6))","v":""},{"$f":"IF(B85=\"\",\"\",INDEX(Data_kom2,MATCH(1,(komnavn2=B85)*(komaar2=D85),0),7))","v":""},{"$f":"IF(B85=\"\",\"\",INDEX(Data_kom2,MATCH(1,(komnavn2=B85)*(komaar2=D85),0),8))","v":""},{"$f":"IF(B85=\"\",\"\",INDEX(Data_kom2,MATCH(1,(komnavn2=B85)*(komaar2=D85),0),9))","v":""},{"$f":"IF(B85=\"\",\"\",INDEX(Data_kom2,MATCH(1,(komnavn2=B85)*(komaar2=D85),0),10))","v":""},{"$f":"IF(B85=\"\",\"\",INDEX(Data_kom2,MATCH(1,(komnavn2=B85)*(komaar2=D85),0),11))","v":""},{"$f":"IF(B85=\"\",\"\",INDEX(Data_kom2,MATCH(1,(komnavn2=B85)*(komaar2=D85),0),12))","v":""},{"$f":"IF(B85=\"\",\"\",INDEX(Data_kom2,MATCH(1,(komnavn2=B85)*(komaar2=D85),0),13))","v":""},{"$f":"IF(B85=\"\",\"\",INDEX(Data_kom2,MATCH(1,(komnavn2=B85)*(komaar2=D85),0),14))","v":""},{"$f":"IF(B85=\"\",\"\",INDEX(Data_kom2,MATCH(1,(komnavn2=B85)*(komaar2=D85),0),15))","v":""},{"$f":"IF(B85=\"\",\"\",INDEX(Data_kom2,MATCH(1,(komnavn2=B85)*(komaar2=D85),0),16))","v":""},{"$f":"IF(B85=\"\",\"\",INDEX(Data_kom2,MATCH(1,(komnavn2=B85)*(komaar2=D85),0),17))","v":""},{"$f":"IF(B85=\"\",\"\",INDEX(Data_kom2,MATCH(1,(komnavn2=B85)*(komaar2=D85),0),18))","v":""},{"$f":"IF(B85=\"\",\"\",INDEX(Data_kom2,MATCH(1,(komnavn2=B85)*(komaar2=D85),0),19))","v":""},{"$f":"IF(B85=\"\",\"\",INDEX(Data_kom2,MATCH(1,(komnavn2=B85)*(komaar2=D85),0),20))","v":""},{"$f":"IF(B85=\"\",\"\",INDEX(Data_kom2,MATCH(1,(komnavn2=B85)*(komaar2=D85),0),21))","v":""},{"$f":"IF(B85=\"\",\"\",INDEX(Data_kom2,MATCH(1,(komnavn2=B85)*(komaar2=D85),0),22))","v":""},{"$f":"IF(B85=\"\",\"\",INDEX(Data_kom2,MATCH(1,(komnavn2=B85)*(komaar2=D85),0),23))","v":""},{"$f":"IF(B85=\"\",\"\",INDEX(Data_kom2,MATCH(1,(komnavn2=B85)*(komaar2=D85),0),24))","v":""},{"$f":"IF(B85=\"\",\"\",INDEX(Data_kom2,MATCH(1,(komnavn2=B85)*(komaar2=D85),0),25))","v":""},{"$f":"IF(B85=\"\",\"\",INDEX(Data_kom2,MATCH(1,(komnavn2=B85)*(komaar2=D85),0),26))","v":""},{"$f":"IF(B85=\"\",\"\",INDEX(Data_kom2,MATCH(1,(komnavn2=B85)*(komaar2=D85),0),27))","v":""},{"$f":"IF(B85=\"\",\"\",INDEX(Data_kom2,MATCH(1,(komnavn2=B85)*(komaar2=D85),0),28))","v":""},{"$f":"IF(B85=\"\",\"\",INDEX(Data_kom2,MATCH(1,(komnavn2=B85)*(komaar2=D85),0),29))","v":""},{"$f":"IF(B85=\"\",\"\",INDEX(Data_kom2,MATCH(1,(komnavn2=B85)*(komaar2=D85),0),30))","v":""},{"$f":"IF(B85=\"\",\"\",INDEX(Data_kom2,MATCH(1,(komnavn2=B85)*(komaar2=D85),0),31))","v":""},{"$f":"IF(B85=\"\",\"\",INDEX(Data_kom2,MATCH(1,(komnavn2=B85)*(komaar2=D85),0),32))","v":""},{"$f":"IF(B85=\"\",\"\",INDEX(Data_kom2,MATCH(1,(komnavn2=B85)*(komaar2=D85),0),33))","v":""},{"$f":"IF(B85=\"\",\"\",INDEX(Data_kom2,MATCH(1,(komnavn2=B85)*(komaar2=D85),0),34))","v":""},{"$f":"IF(B85=\"\",\"\",INDEX(Data_kom2,MATCH(1,(komnavn2=B85)*(komaar2=D85),0),35))","v":""},{"$f":"IF(B85=\"\",\"\",INDEX(Data_kom2,MATCH(1,(komnavn2=B85)*(komaar2=D85),0),36))","v":""},{"$f":"IF(B85=\"\",\"\",INDEX(Data_kom2,MATCH(1,(komnavn2=B85)*(komaar2=D85),0),37))","v":""},{"$f":"IF(B85=\"\",\"\",INDEX(Data_kom2,MATCH(1,(komnavn2=B85)*(komaar2=D85),0),38))","v":""}]
[3,{"$f":"'Dine valg'!$G$26","v":""},{"$f":"IF(B86=\"\",\"\",INDEX(Data_kom2,MATCH(1,(komnavn2=B86)*(komaar2=D86),0),2))","v":""},"2017-07-01",{"$f":"IF(B86=\"\",\"\",INDEX(Data_kom2,MATCH(1,(komnavn2=B86)*(komaar2=D86),0),4))","v":""},{"$f":"IF(B86=\"\",\"\",INDEX(Data_kom2,MATCH(1,(komnavn2=B86)*(komaar2=D86),0),5))","v":""},{"$f":"IF(B86=\"\",\"\",INDEX(Data_kom2,MATCH(1,(komnavn2=B86)*(komaar2=D86),0),6))","v":""},{"$f":"IF(B86=\"\",\"\",INDEX(Data_kom2,MATCH(1,(komnavn2=B86)*(komaar2=D86),0),7))","v":""},{"$f":"IF(B86=\"\",\"\",INDEX(Data_kom2,MATCH(1,(komnavn2=B86)*(komaar2=D86),0),8))","v":""},{"$f":"IF(B86=\"\",\"\",INDEX(Data_kom2,MATCH(1,(komnavn2=B86)*(komaar2=D86),0),9))","v":""},{"$f":"IF(B86=\"\",\"\",INDEX(Data_kom2,MATCH(1,(komnavn2=B86)*(komaar2=D86),0),10))","v":""},{"$f":"IF(B86=\"\",\"\",INDEX(Data_kom2,MATCH(1,(komnavn2=B86)*(komaar2=D86),0),11))","v":""},{"$f":"IF(B86=\"\",\"\",INDEX(Data_kom2,MATCH(1,(komnavn2=B86)*(komaar2=D86),0),12))","v":""},{"$f":"IF(B86=\"\",\"\",INDEX(Data_kom2,MATCH(1,(komnavn2=B86)*(komaar2=D86),0),13))","v":""},{"$f":"IF(B86=\"\",\"\",INDEX(Data_kom2,MATCH(1,(komnavn2=B86)*(komaar2=D86),0),14))","v":""},{"$f":"IF(B86=\"\",\"\",INDEX(Data_kom2,MATCH(1,(komnavn2=B86)*(komaar2=D86),0),15))","v":""},{"$f":"IF(B86=\"\",\"\",INDEX(Data_kom2,MATCH(1,(komnavn2=B86)*(komaar2=D86),0),16))","v":""},{"$f":"IF(B86=\"\",\"\",INDEX(Data_kom2,MATCH(1,(komnavn2=B86)*(komaar2=D86),0),17))","v":""},{"$f":"IF(B86=\"\",\"\",INDEX(Data_kom2,MATCH(1,(komnavn2=B86)*(komaar2=D86),0),18))","v":""},{"$f":"IF(B86=\"\",\"\",INDEX(Data_kom2,MATCH(1,(komnavn2=B86)*(komaar2=D86),0),19))","v":""},{"$f":"IF(B86=\"\",\"\",INDEX(Data_kom2,MATCH(1,(komnavn2=B86)*(komaar2=D86),0),20))","v":""},{"$f":"IF(B86=\"\",\"\",INDEX(Data_kom2,MATCH(1,(komnavn2=B86)*(komaar2=D86),0),21))","v":""},{"$f":"IF(B86=\"\",\"\",INDEX(Data_kom2,MATCH(1,(komnavn2=B86)*(komaar2=D86),0),22))","v":""},{"$f":"IF(B86=\"\",\"\",INDEX(Data_kom2,MATCH(1,(komnavn2=B86)*(komaar2=D86),0),23))","v":""},{"$f":"IF(B86=\"\",\"\",INDEX(Data_kom2,MATCH(1,(komnavn2=B86)*(komaar2=D86),0),24))","v":""},{"$f":"IF(B86=\"\",\"\",INDEX(Data_kom2,MATCH(1,(komnavn2=B86)*(komaar2=D86),0),25))","v":""},{"$f":"IF(B86=\"\",\"\",INDEX(Data_kom2,MATCH(1,(komnavn2=B86)*(komaar2=D86),0),26))","v":""},{"$f":"IF(B86=\"\",\"\",INDEX(Data_kom2,MATCH(1,(komnavn2=B86)*(komaar2=D86),0),27))","v":""},{"$f":"IF(B86=\"\",\"\",INDEX(Data_kom2,MATCH(1,(komnavn2=B86)*(komaar2=D86),0),28))","v":""},{"$f":"IF(B86=\"\",\"\",INDEX(Data_kom2,MATCH(1,(komnavn2=B86)*(komaar2=D86),0),29))","v":""},{"$f":"IF(B86=\"\",\"\",INDEX(Data_kom2,MATCH(1,(komnavn2=B86)*(komaar2=D86),0),30))","v":""},{"$f":"IF(B86=\"\",\"\",INDEX(Data_kom2,MATCH(1,(komnavn2=B86)*(komaar2=D86),0),31))","v":""},{"$f":"IF(B86=\"\",\"\",INDEX(Data_kom2,MATCH(1,(komnavn2=B86)*(komaar2=D86),0),32))","v":""},{"$f":"IF(B86=\"\",\"\",INDEX(Data_kom2,MATCH(1,(komnavn2=B86)*(komaar2=D86),0),33))","v":""},{"$f":"IF(B86=\"\",\"\",INDEX(Data_kom2,MATCH(1,(komnavn2=B86)*(komaar2=D86),0),34))","v":""},{"$f":"IF(B86=\"\",\"\",INDEX(Data_kom2,MATCH(1,(komnavn2=B86)*(komaar2=D86),0),35))","v":""},{"$f":"IF(B86=\"\",\"\",INDEX(Data_kom2,MATCH(1,(komnavn2=B86)*(komaar2=D86),0),36))","v":""},{"$f":"IF(B86=\"\",\"\",INDEX(Data_kom2,MATCH(1,(komnavn2=B86)*(komaar2=D86),0),37))","v":""},{"$f":"IF(B86=\"\",\"\",INDEX(Data_kom2,MATCH(1,(komnavn2=B86)*(komaar2=D86),0),38))","v":""}]
[4,{"$f":"'Dine valg'!$G$27","v":""},{"$f":"IF(B87=\"\",\"\",INDEX(Data_kom2,MATCH(1,(komnavn2=B87)*(komaar2=D87),0),2))","v":""},"2017-07-01",{"$f":"IF(B87=\"\",\"\",INDEX(Data_kom2,MATCH(1,(komnavn2=B87)*(komaar2=D87),0),4))","v":""},{"$f":"IF(B87=\"\",\"\",INDEX(Data_kom2,MATCH(1,(komnavn2=B87)*(komaar2=D87),0),5))","v":""},{"$f":"IF(B87=\"\",\"\",INDEX(Data_kom2,MATCH(1,(komnavn2=B87)*(komaar2=D87),0),6))","v":""},{"$f":"IF(B87=\"\",\"\",INDEX(Data_kom2,MATCH(1,(komnavn2=B87)*(komaar2=D87),0),7))","v":""},{"$f":"IF(B87=\"\",\"\",INDEX(Data_kom2,MATCH(1,(komnavn2=B87)*(komaar2=D87),0),8))","v":""},{"$f":"IF(B87=\"\",\"\",INDEX(Data_kom2,MATCH(1,(komnavn2=B87)*(komaar2=D87),0),9))","v":""},{"$f":"IF(B87=\"\",\"\",INDEX(Data_kom2,MATCH(1,(komnavn2=B87)*(komaar2=D87),0),10))","v":""},{"$f":"IF(B87=\"\",\"\",INDEX(Data_kom2,MATCH(1,(komnavn2=B87)*(komaar2=D87),0),11))","v":""},{"$f":"IF(B87=\"\",\"\",INDEX(Data_kom2,MATCH(1,(komnavn2=B87)*(komaar2=D87),0),12))","v":""},{"$f":"IF(B87=\"\",\"\",INDEX(Data_kom2,MATCH(1,(komnavn2=B87)*(komaar2=D87),0),13))","v":""},{"$f":"IF(B87=\"\",\"\",INDEX(Data_kom2,MATCH(1,(komnavn2=B87)*(komaar2=D87),0),14))","v":""},{"$f":"IF(B87=\"\",\"\",INDEX(Data_kom2,MATCH(1,(komnavn2=B87)*(komaar2=D87),0),15))","v":""},{"$f":"IF(B87=\"\",\"\",INDEX(Data_kom2,MATCH(1,(komnavn2=B87)*(komaar2=D87),0),16))","v":""},{"$f":"IF(B87=\"\",\"\",INDEX(Data_kom2,MATCH(1,(komnavn2=B87)*(komaar2=D87),0),17))","v":""},{"$f":"IF(B87=\"\",\"\",INDEX(Data_kom2,MATCH(1,(komnavn2=B87)*(komaar2=D87),0),18))","v":""},{"$f":"IF(B87=\"\",\"\",INDEX(Data_kom2,MATCH(1,(komnavn2=B87)*(komaar2=D87),0),19))","v":""},{"$f":"IF(B87=\"\",\"\",INDEX(Data_kom2,MATCH(1,(komnavn2=B87)*(komaar2=D87),0),20))","v":""},{"$f":"IF(B87=\"\",\"\",INDEX(Data_kom2,MATCH(1,(komnavn2=B87)*(komaar2=D87),0),21))","v":""},{"$f":"IF(B87=\"\",\"\",INDEX(Data_kom2,MATCH(1,(komnavn2=B87)*(komaar2=D87),0),22))","v":""},{"$f":"IF(B87=\"\",\"\",INDEX(Data_kom2,MATCH(1,(komnavn2=B87)*(komaar2=D87),0),23))","v":""},{"$f":"IF(B87=\"\",\"\",INDEX(Data_kom2,MATCH(1,(komnavn2=B87)*(komaar2=D87),0),24))","v":""},{"$f":"IF(B87=\"\",\"\",INDEX(Data_kom2,MATCH(1,(komnavn2=B87)*(komaar2=D87),0),25))","v":""},{"$f":"IF(B87=\"\",\"\",INDEX(Data_kom2,MATCH(1,(komnavn2=B87)*(komaar2=D87),0),26))","v":""},{"$f":"IF(B87=\"\",\"\",INDEX(Data_kom2,MATCH(1,(komnavn2=B87)*(komaar2=D87),0),27))","v":""},{"$f":"IF(B87=\"\",\"\",INDEX(Data_kom2,MATCH(1,(komnavn2=B87)*(komaar2=D87),0),28))","v":""},{"$f":"IF(B87=\"\",\"\",INDEX(Data_kom2,MATCH(1,(komnavn2=B87)*(komaar2=D87),0),29))","v":""},{"$f":"IF(B87=\"\",\"\",INDEX(Data_kom2,MATCH(1,(komnavn2=B87)*(komaar2=D87),0),30))","v":""},{"$f":"IF(B87=\"\",\"\",INDEX(Data_kom2,MATCH(1,(komnavn2=B87)*(komaar2=D87),0),31))","v":""},{"$f":"IF(B87=\"\",\"\",INDEX(Data_kom2,MATCH(1,(komnavn2=B87)*(komaar2=D87),0),32))","v":""},{"$f":"IF(B87=\"\",\"\",INDEX(Data_kom2,MATCH(1,(komnavn2=B87)*(komaar2=D87),0),33))","v":""},{"$f":"IF(B87=\"\",\"\",INDEX(Data_kom2,MATCH(1,(komnavn2=B87)*(komaar2=D87),0),34))","v":""},{"$f":"IF(B87=\"\",\"\",INDEX(Data_kom2,MATCH(1,(komnavn2=B87)*(komaar2=D87),0),35))","v":""},{"$f":"IF(B87=\"\",\"\",INDEX(Data_kom2,MATCH(1,(komnavn2=B87)*(komaar2=D87),0),36))","v":""},{"$f":"IF(B87=\"\",\"\",INDEX(Data_kom2,MATCH(1,(komnavn2=B87)*(komaar2=D87),0),37))","v":""},{"$f":"IF(B87=\"\",\"\",INDEX(Data_kom2,MATCH(1,(komnavn2=B87)*(komaar2=D87),0),38))","v":""}]
[5,{"$f":"'Dine valg'!$G$28","v":""},{"$f":"IF(B88=\"\",\"\",INDEX(Data_kom2,MATCH(1,(komnavn2=B88)*(komaar2=D88),0),2))","v":""},"2017-07-01",{"$f":"IF(B88=\"\",\"\",INDEX(Data_kom2,MATCH(1,(komnavn2=B88)*(komaar2=D88),0),4))","v":""},{"$f":"IF(B88=\"\",\"\",INDEX(Data_kom2,MATCH(1,(komnavn2=B88)*(komaar2=D88),0),5))","v":""},{"$f":"IF(B88=\"\",\"\",INDEX(Data_kom2,MATCH(1,(komnavn2=B88)*(komaar2=D88),0),6))","v":""},{"$f":"IF(B88=\"\",\"\",INDEX(Data_kom2,MATCH(1,(komnavn2=B88)*(komaar2=D88),0),7))","v":""},{"$f":"IF(B88=\"\",\"\",INDEX(Data_kom2,MATCH(1,(komnavn2=B88)*(komaar2=D88),0),8))","v":""},{"$f":"IF(B88=\"\",\"\",INDEX(Data_kom2,MATCH(1,(komnavn2=B88)*(komaar2=D88),0),9))","v":""},{"$f":"IF(B88=\"\",\"\",INDEX(Data_kom2,MATCH(1,(komnavn2=B88)*(komaar2=D88),0),10))","v":""},{"$f":"IF(B88=\"\",\"\",INDEX(Data_kom2,MATCH(1,(komnavn2=B88)*(komaar2=D88),0),11))","v":""},{"$f":"IF(B88=\"\",\"\",INDEX(Data_kom2,MATCH(1,(komnavn2=B88)*(komaar2=D88),0),12))","v":""},{"$f":"IF(B88=\"\",\"\",INDEX(Data_kom2,MATCH(1,(komnavn2=B88)*(komaar2=D88),0),13))","v":""},{"$f":"IF(B88=\"\",\"\",INDEX(Data_kom2,MATCH(1,(komnavn2=B88)*(komaar2=D88),0),14))","v":""},{"$f":"IF(B88=\"\",\"\",INDEX(Data_kom2,MATCH(1,(komnavn2=B88)*(komaar2=D88),0),15))","v":""},{"$f":"IF(B88=\"\",\"\",INDEX(Data_kom2,MATCH(1,(komnavn2=B88)*(komaar2=D88),0),16))","v":""},{"$f":"IF(B88=\"\",\"\",INDEX(Data_kom2,MATCH(1,(komnavn2=B88)*(komaar2=D88),0),17))","v":""},{"$f":"IF(B88=\"\",\"\",INDEX(Data_kom2,MATCH(1,(komnavn2=B88)*(komaar2=D88),0),18))","v":""},{"$f":"IF(B88=\"\",\"\",INDEX(Data_kom2,MATCH(1,(komnavn2=B88)*(komaar2=D88),0),19))","v":""},{"$f":"IF(B88=\"\",\"\",INDEX(Data_kom2,MATCH(1,(komnavn2=B88)*(komaar2=D88),0),20))","v":""},{"$f":"IF(B88=\"\",\"\",INDEX(Data_kom2,MATCH(1,(komnavn2=B88)*(komaar2=D88),0),21))","v":""},{"$f":"IF(B88=\"\",\"\",INDEX(Data_kom2,MATCH(1,(komnavn2=B88)*(komaar2=D88),0),22))","v":""},{"$f":"IF(B88=\"\",\"\",INDEX(Data_kom2,MATCH(1,(komnavn2=B88)*(komaar2=D88),0),23))","v":""},{"$f":"IF(B88=\"\",\"\",INDEX(Data_kom2,MATCH(1,(komnavn2=B88)*(komaar2=D88),0),24))","v":""},{"$f":"IF(B88=\"\",\"\",INDEX(Data_kom2,MATCH(1,(komnavn2=B88)*(komaar2=D88),0),25))","v":""},{"$f":"IF(B88=\"\",\"\",INDEX(Data_kom2,MATCH(1,(komnavn2=B88)*(komaar2=D88),0),26))","v":""},{"$f":"IF(B88=\"\",\"\",INDEX(Data_kom2,MATCH(1,(komnavn2=B88)*(komaar2=D88),0),27))","v":""},{"$f":"IF(B88=\"\",\"\",INDEX(Data_kom2,MATCH(1,(komnavn2=B88)*(komaar2=D88),0),28))","v":""},{"$f":"IF(B88=\"\",\"\",INDEX(Data_kom2,MATCH(1,(komnavn2=B88)*(komaar2=D88),0),29))","v":""},{"$f":"IF(B88=\"\",\"\",INDEX(Data_kom2,MATCH(1,(komnavn2=B88)*(komaar2=D88),0),30))","v":""},{"$f":"IF(B88=\"\",\"\",INDEX(Data_kom2,MATCH(1,(komnavn2=B88)*(komaar2=D88),0),31))","v":""},{"$f":"IF(B88=\"\",\"\",INDEX(Data_kom2,MATCH(1,(komnavn2=B88)*(komaar2=D88),0),32))","v":""},{"$f":"IF(B88=\"\",\"\",INDEX(Data_kom2,MATCH(1,(komnavn2=B88)*(komaar2=D88),0),33))","v":""},{"$f":"IF(B88=\"\",\"\",INDEX(Data_kom2,MATCH(1,(komnavn2=B88)*(komaar2=D88),0),34))","v":""},{"$f":"IF(B88=\"\",\"\",INDEX(Data_kom2,MATCH(1,(komnavn2=B88)*(komaar2=D88),0),35))","v":""},{"$f":"IF(B88=\"\",\"\",INDEX(Data_kom2,MATCH(1,(komnavn2=B88)*(komaar2=D88),0),36))","v":""},{"$f":"IF(B88=\"\",\"\",INDEX(Data_kom2,MATCH(1,(komnavn2=B88)*(komaar2=D88),0),37))","v":""},{"$f":"IF(B88=\"\",\"\",INDEX(Data_kom2,MATCH(1,(komnavn2=B88)*(komaar2=D88),0),38))","v":""}]
[6,{"$f":"'Dine valg'!$G$29","v":""},{"$f":"IF(B89=\"\",\"\",INDEX(Data_kom2,MATCH(1,(komnavn2=B89)*(komaar2=D89),0),2))","v":""},"2017-07-01",{"$f":"IF(B89=\"\",\"\",INDEX(Data_kom2,MATCH(1,(komnavn2=B89)*(komaar2=D89),0),4))","v":""},{"$f":"IF(B89=\"\",\"\",INDEX(Data_kom2,MATCH(1,(komnavn2=B89)*(komaar2=D89),0),5))","v":""},{"$f":"IF(B89=\"\",\"\",INDEX(Data_kom2,MATCH(1,(komnavn2=B89)*(komaar2=D89),0),6))","v":""},{"$f":"IF(B89=\"\",\"\",INDEX(Data_kom2,MATCH(1,(komnavn2=B89)*(komaar2=D89),0),7))","v":""},{"$f":"IF(B89=\"\",\"\",INDEX(Data_kom2,MATCH(1,(komnavn2=B89)*(komaar2=D89),0),8))","v":""},{"$f":"IF(B89=\"\",\"\",INDEX(Data_kom2,MATCH(1,(komnavn2=B89)*(komaar2=D89),0),9))","v":""},{"$f":"IF(B89=\"\",\"\",INDEX(Data_kom2,MATCH(1,(komnavn2=B89)*(komaar2=D89),0),10))","v":""},{"$f":"IF(B89=\"\",\"\",INDEX(Data_kom2,MATCH(1,(komnavn2=B89)*(komaar2=D89),0),11))","v":""},{"$f":"IF(B89=\"\",\"\",INDEX(Data_kom2,MATCH(1,(komnavn2=B89)*(komaar2=D89),0),12))","v":""},{"$f":"IF(B89=\"\",\"\",INDEX(Data_kom2,MATCH(1,(komnavn2=B89)*(komaar2=D89),0),13))","v":""},{"$f":"IF(B89=\"\",\"\",INDEX(Data_kom2,MATCH(1,(komnavn2=B89)*(komaar2=D89),0),14))","v":""},{"$f":"IF(B89=\"\",\"\",INDEX(Data_kom2,MATCH(1,(komnavn2=B89)*(komaar2=D89),0),15))","v":""},{"$f":"IF(B89=\"\",\"\",INDEX(Data_kom2,MATCH(1,(komnavn2=B89)*(komaar2=D89),0),16))","v":""},{"$f":"IF(B89=\"\",\"\",INDEX(Data_kom2,MATCH(1,(komnavn2=B89)*(komaar2=D89),0),17))","v":""},{"$f":"IF(B89=\"\",\"\",INDEX(Data_kom2,MATCH(1,(komnavn2=B89)*(komaar2=D89),0),18))","v":""},{"$f":"IF(B89=\"\",\"\",INDEX(Data_kom2,MATCH(1,(komnavn2=B89)*(komaar2=D89),0),19))","v":""},{"$f":"IF(B89=\"\",\"\",INDEX(Data_kom2,MATCH(1,(komnavn2=B89)*(komaar2=D89),0),20))","v":""},{"$f":"IF(B89=\"\",\"\",INDEX(Data_kom2,MATCH(1,(komnavn2=B89)*(komaar2=D89),0),21))","v":""},{"$f":"IF(B89=\"\",\"\",INDEX(Data_kom2,MATCH(1,(komnavn2=B89)*(komaar2=D89),0),22))","v":""},{"$f":"IF(B89=\"\",\"\",INDEX(Data_kom2,MATCH(1,(komnavn2=B89)*(komaar2=D89),0),23))","v":""},{"$f":"IF(B89=\"\",\"\",INDEX(Data_kom2,MATCH(1,(komnavn2=B89)*(komaar2=D89),0),24))","v":""},{"$f":"IF(B89=\"\",\"\",INDEX(Data_kom2,MATCH(1,(komnavn2=B89)*(komaar2=D89),0),25))","v":""},{"$f":"IF(B89=\"\",\"\",INDEX(Data_kom2,MATCH(1,(komnavn2=B89)*(komaar2=D89),0),26))","v":""},{"$f":"IF(B89=\"\",\"\",INDEX(Data_kom2,MATCH(1,(komnavn2=B89)*(komaar2=D89),0),27))","v":""},{"$f":"IF(B89=\"\",\"\",INDEX(Data_kom2,MATCH(1,(komnavn2=B89)*(komaar2=D89),0),28))","v":""},{"$f":"IF(B89=\"\",\"\",INDEX(Data_kom2,MATCH(1,(komnavn2=B89)*(komaar2=D89),0),29))","v":""},{"$f":"IF(B89=\"\",\"\",INDEX(Data_kom2,MATCH(1,(komnavn2=B89)*(komaar2=D89),0),30))","v":""},{"$f":"IF(B89=\"\",\"\",INDEX(Data_kom2,MATCH(1,(komnavn2=B89)*(komaar2=D89),0),31))","v":""},{"$f":"IF(B89=\"\",\"\",INDEX(Data_kom2,MATCH(1,(komnavn2=B89)*(komaar2=D89),0),32))","v":""},{"$f":"IF(B89=\"\",\"\",INDEX(Data_kom2,MATCH(1,(komnavn2=B89)*(komaar2=D89),0),33))","v":""},{"$f":"IF(B89=\"\",\"\",INDEX(Data_kom2,MATCH(1,(komnavn2=B89)*(komaar2=D89),0),34))","v":""},{"$f":"IF(B89=\"\",\"\",INDEX(Data_kom2,MATCH(1,(komnavn2=B89)*(komaar2=D89),0),35))","v":""},{"$f":"IF(B89=\"\",\"\",INDEX(Data_kom2,MATCH(1,(komnavn2=B89)*(komaar2=D89),0),36))","v":""},{"$f":"IF(B89=\"\",\"\",INDEX(Data_kom2,MATCH(1,(komnavn2=B89)*(komaar2=D89),0),37))","v":""},{"$f":"IF(B89=\"\",\"\",INDEX(Data_kom2,MATCH(1,(komnavn2=B89)*(komaar2=D89),0),38))","v":""}]
[7,{"$f":"'Dine valg'!$G$30","v":""},{"$f":"IF(B90=\"\",\"\",INDEX(Data_kom2,MATCH(1,(komnavn2=B90)*(komaar2=D90),0),2))","v":""},"2017-07-01",{"$f":"IF(B90=\"\",\"\",INDEX(Data_kom2,MATCH(1,(komnavn2=B90)*(komaar2=D90),0),4))","v":""},{"$f":"IF(B90=\"\",\"\",INDEX(Data_kom2,MATCH(1,(komnavn2=B90)*(komaar2=D90),0),5))","v":""},{"$f":"IF(B90=\"\",\"\",INDEX(Data_kom2,MATCH(1,(komnavn2=B90)*(komaar2=D90),0),6))","v":""},{"$f":"IF(B90=\"\",\"\",INDEX(Data_kom2,MATCH(1,(komnavn2=B90)*(komaar2=D90),0),7))","v":""},{"$f":"IF(B90=\"\",\"\",INDEX(Data_kom2,MATCH(1,(komnavn2=B90)*(komaar2=D90),0),8))","v":""},{"$f":"IF(B90=\"\",\"\",INDEX(Data_kom2,MATCH(1,(komnavn2=B90)*(komaar2=D90),0),9))","v":""},{"$f":"IF(B90=\"\",\"\",INDEX(Data_kom2,MATCH(1,(komnavn2=B90)*(komaar2=D90),0),10))","v":""},{"$f":"IF(B90=\"\",\"\",INDEX(Data_kom2,MATCH(1,(komnavn2=B90)*(komaar2=D90),0),11))","v":""},{"$f":"IF(B90=\"\",\"\",INDEX(Data_kom2,MATCH(1,(komnavn2=B90)*(komaar2=D90),0),12))","v":""},{"$f":"IF(B90=\"\",\"\",INDEX(Data_kom2,MATCH(1,(komnavn2=B90)*(komaar2=D90),0),13))","v":""},{"$f":"IF(B90=\"\",\"\",INDEX(Data_kom2,MATCH(1,(komnavn2=B90)*(komaar2=D90),0),14))","v":""},{"$f":"IF(B90=\"\",\"\",INDEX(Data_kom2,MATCH(1,(komnavn2=B90)*(komaar2=D90),0),15))","v":""},{"$f":"IF(B90=\"\",\"\",INDEX(Data_kom2,MATCH(1,(komnavn2=B90)*(komaar2=D90),0),16))","v":""},{"$f":"IF(B90=\"\",\"\",INDEX(Data_kom2,MATCH(1,(komnavn2=B90)*(komaar2=D90),0),17))","v":""},{"$f":"IF(B90=\"\",\"\",INDEX(Data_kom2,MATCH(1,(komnavn2=B90)*(komaar2=D90),0),18))","v":""},{"$f":"IF(B90=\"\",\"\",INDEX(Data_kom2,MATCH(1,(komnavn2=B90)*(komaar2=D90),0),19))","v":""},{"$f":"IF(B90=\"\",\"\",INDEX(Data_kom2,MATCH(1,(komnavn2=B90)*(komaar2=D90),0),20))","v":""},{"$f":"IF(B90=\"\",\"\",INDEX(Data_kom2,MATCH(1,(komnavn2=B90)*(komaar2=D90),0),21))","v":""},{"$f":"IF(B90=\"\",\"\",INDEX(Data_kom2,MATCH(1,(komnavn2=B90)*(komaar2=D90),0),22))","v":""},{"$f":"IF(B90=\"\",\"\",INDEX(Data_kom2,MATCH(1,(komnavn2=B90)*(komaar2=D90),0),23))","v":""},{"$f":"IF(B90=\"\",\"\",INDEX(Data_kom2,MATCH(1,(komnavn2=B90)*(komaar2=D90),0),24))","v":""},{"$f":"IF(B90=\"\",\"\",INDEX(Data_kom2,MATCH(1,(komnavn2=B90)*(komaar2=D90),0),25))","v":""},{"$f":"IF(B90=\"\",\"\",INDEX(Data_kom2,MATCH(1,(komnavn2=B90)*(komaar2=D90),0),26))","v":""},{"$f":"IF(B90=\"\",\"\",INDEX(Data_kom2,MATCH(1,(komnavn2=B90)*(komaar2=D90),0),27))","v":""},{"$f":"IF(B90=\"\",\"\",INDEX(Data_kom2,MATCH(1,(komnavn2=B90)*(komaar2=D90),0),28))","v":""},{"$f":"IF(B90=\"\",\"\",INDEX(Data_kom2,MATCH(1,(komnavn2=B90)*(komaar2=D90),0),29))","v":""},{"$f":"IF(B90=\"\",\"\",INDEX(Data_kom2,MATCH(1,(komnavn2=B90)*(komaar2=D90),0),30))","v":""},{"$f":"IF(B90=\"\",\"\",INDEX(Data_kom2,MATCH(1,(komnavn2=B90)*(komaar2=D90),0),31))","v":""},{"$f":"IF(B90=\"\",\"\",INDEX(Data_kom2,MATCH(1,(komnavn2=B90)*(komaar2=D90),0),32))","v":""},{"$f":"IF(B90=\"\",\"\",INDEX(Data_kom2,MATCH(1,(komnavn2=B90)*(komaar2=D90),0),33))","v":""},{"$f":"IF(B90=\"\",\"\",INDEX(Data_kom2,MATCH(1,(komnavn2=B90)*(komaar2=D90),0),34))","v":""},{"$f":"IF(B90=\"\",\"\",INDEX(Data_kom2,MATCH(1,(komnavn2=B90)*(komaar2=D90),0),35))","v":""},{"$f":"IF(B90=\"\",\"\",INDEX(Data_kom2,MATCH(1,(komnavn2=B90)*(komaar2=D90),0),36))","v":""},{"$f":"IF(B90=\"\",\"\",INDEX(Data_kom2,MATCH(1,(komnavn2=B90)*(komaar2=D90),0),37))","v":""},{"$f":"IF(B90=\"\",\"\",INDEX(Data_kom2,MATCH(1,(komnavn2=B90)*(komaar2=D90),0),38))","v":""}]
[1,{"$f":"'Dine valg'!$G$24","v":"Aarhus"},{"$f":"IF(B91=\"\",\"\",INDEX(Data_kom2,MATCH(1,(komnavn2=B91)*(komaar2=D91),0),2))","v":62903},"2017-01-01",{"$f":"IF(B91=\"\",\"\",INDEX(Data_kom2,MATCH(1,(komnavn2=B91)*(komaar2=D91),0),4))","v":191},{"$f":"IF(B91=\"\",\"\",INDEX(Data_kom2,MATCH(1,(komnavn2=B91)*(komaar2=D91),0),5))","v":133},{"$f":"IF(B91=\"\",\"\",INDEX(Data_kom2,MATCH(1,(komnavn2=B91)*(komaar2=D91),0),6))","v":3},{"$f":"IF(B91=\"\",\"\",INDEX(Data_kom2,MATCH(1,(komnavn2=B91)*(komaar2=D91),0),7))","v":55},{"$f":"IF(B91=\"\",\"\",INDEX(Data_kom2,MATCH(1,(komnavn2=B91)*(komaar2=D91),0),8))","v":208831},{"$f":"IF(B91=\"\",\"\",INDEX(Data_kom2,MATCH(1,(komnavn2=B91)*(komaar2=D91),0),9))","v":162866},{"$f":"IF(B91=\"\",\"\",INDEX(Data_kom2,MATCH(1,(komnavn2=B91)*(komaar2=D91),0),10))","v":"*"},{"$f":"IF(B91=\"\",\"\",INDEX(Data_kom2,MATCH(1,(komnavn2=B91)*(komaar2=D91),0),11))","v":"*"},{"$f":"IF(B91=\"\",\"\",INDEX(Data_kom2,MATCH(1,(komnavn2=B91)*(komaar2=D91),0),12))","v":221},{"$f":"IF(B91=\"\",\"\",INDEX(Data_kom2,MATCH(1,(komnavn2=B91)*(komaar2=D91),0),13))","v":42},{"$f":"IF(B91=\"\",\"\",INDEX(Data_kom2,MATCH(1,(komnavn2=B91)*(komaar2=D91),0),14))","v":1132},{"$f":"IF(B91=\"\",\"\",INDEX(Data_kom2,MATCH(1,(komnavn2=B91)*(komaar2=D91),0),15))","v":"*"},{"$f":"IF(B91=\"\",\"\",INDEX(Data_kom2,MATCH(1,(komnavn2=B91)*(komaar2=D91),0),16))","v":24},{"$f":"IF(B91=\"\",\"\",INDEX(Data_kom2,MATCH(1,(komnavn2=B91)*(komaar2=D91),0),17))","v":1098},{"$f":"IF(B91=\"\",\"\",INDEX(Data_kom2,MATCH(1,(komnavn2=B91)*(komaar2=D91),0),18))","v":"*"},{"$f":"IF(B91=\"\",\"\",INDEX(Data_kom2,MATCH(1,(komnavn2=B91)*(komaar2=D91),0),19))","v":0},{"$f":"IF(B91=\"\",\"\",INDEX(Data_kom2,MATCH(1,(komnavn2=B91)*(komaar2=D91),0),20))","v":0},{"$f":"IF(B91=\"\",\"\",INDEX(Data_kom2,MATCH(1,(komnavn2=B91)*(komaar2=D91),0),21))","v":0},{"$f":"IF(B91=\"\",\"\",INDEX(Data_kom2,MATCH(1,(komnavn2=B91)*(komaar2=D91),0),22))","v":36},{"$f":"IF(B91=\"\",\"\",INDEX(Data_kom2,MATCH(1,(komnavn2=B91)*(komaar2=D91),0),23))","v":203},{"$f":"IF(B91=\"\",\"\",INDEX(Data_kom2,MATCH(1,(komnavn2=B91)*(komaar2=D91),0),24))","v":6},{"$f":"IF(B91=\"\",\"\",INDEX(Data_kom2,MATCH(1,(komnavn2=B91)*(komaar2=D91),0),25))","v":203},{"$f":"IF(B91=\"\",\"\",INDEX(Data_kom2,MATCH(1,(komnavn2=B91)*(komaar2=D91),0),26))","v":30},{"$f":"IF(B91=\"\",\"\",INDEX(Data_kom2,MATCH(1,(komnavn2=B91)*(komaar2=D91),0),27))","v":203},{"$f":"IF(B91=\"\",\"\",INDEX(Data_kom2,MATCH(1,(komnavn2=B91)*(komaar2=D91),0),28))","v":0},{"$f":"IF(B91=\"\",\"\",INDEX(Data_kom2,MATCH(1,(komnavn2=B91)*(komaar2=D91),0),29))","v":0},{"$f":"IF(B91=\"\",\"\",INDEX(Data_kom2,MATCH(1,(komnavn2=B91)*(komaar2=D91),0),30))","v":314},{"$f":"IF(B91=\"\",\"\",INDEX(Data_kom2,MATCH(1,(komnavn2=B91)*(komaar2=D91),0),31))","v":1145},{"$f":"IF(B91=\"\",\"\",INDEX(Data_kom2,MATCH(1,(komnavn2=B91)*(komaar2=D91),0),32))","v":0},{"$f":"IF(B91=\"\",\"\",INDEX(Data_kom2,MATCH(1,(komnavn2=B91)*(komaar2=D91),0),33))","v":0},{"$f":"IF(B91=\"\",\"\",INDEX(Data_kom2,MATCH(1,(komnavn2=B91)*(komaar2=D91),0),34))","v":0},{"$f":"IF(B91=\"\",\"\",INDEX(Data_kom2,MATCH(1,(komnavn2=B91)*(komaar2=D91),0),35))","v":0},{"$f":"IF(B91=\"\",\"\",INDEX(Data_kom2,MATCH(1,(komnavn2=B91)*(komaar2=D91),0),36))","v":0},{"$f":"IF(B91=\"\",\"\",INDEX(Data_kom2,MATCH(1,(komnavn2=B91)*(komaar2=D91),0),37))","v":0},{"$f":"IF(B91=\"\",\"\",INDEX(Data_kom2,MATCH(1,(komnavn2=B91)*(komaar2=D91),0),38))","v":"Region Midtjylland"}]
[2,{"$f":"'Dine valg'!$G$25","v":""},{"$f":"IF(B92=\"\",\"\",INDEX(Data_kom2,MATCH(1,(komnavn2=B92)*(komaar2=D92),0),2))","v":""},"2017-01-01",{"$f":"IF(B92=\"\",\"\",INDEX(Data_kom2,MATCH(1,(komnavn2=B92)*(komaar2=D92),0),4))","v":""},{"$f":"IF(B92=\"\",\"\",INDEX(Data_kom2,MATCH(1,(komnavn2=B92)*(komaar2=D92),0),5))","v":""},{"$f":"IF(B92=\"\",\"\",INDEX(Data_kom2,MATCH(1,(komnavn2=B92)*(komaar2=D92),0),6))","v":""},{"$f":"IF(B92=\"\",\"\",INDEX(Data_kom2,MATCH(1,(komnavn2=B92)*(komaar2=D92),0),7))","v":""},{"$f":"IF(B92=\"\",\"\",INDEX(Data_kom2,MATCH(1,(komnavn2=B92)*(komaar2=D92),0),8))","v":""},{"$f":"IF(B92=\"\",\"\",INDEX(Data_kom2,MATCH(1,(komnavn2=B92)*(komaar2=D92),0),9))","v":""},{"$f":"IF(B92=\"\",\"\",INDEX(Data_kom2,MATCH(1,(komnavn2=B92)*(komaar2=D92),0),10))","v":""},{"$f":"IF(B92=\"\",\"\",INDEX(Data_kom2,MATCH(1,(komnavn2=B92)*(komaar2=D92),0),11))","v":""},{"$f":"IF(B92=\"\",\"\",INDEX(Data_kom2,MATCH(1,(komnavn2=B92)*(komaar2=D92),0),12))","v":""},{"$f":"IF(B92=\"\",\"\",INDEX(Data_kom2,MATCH(1,(komnavn2=B92)*(komaar2=D92),0),13))","v":""},{"$f":"IF(B92=\"\",\"\",INDEX(Data_kom2,MATCH(1,(komnavn2=B92)*(komaar2=D92),0),14))","v":""},{"$f":"IF(B92=\"\",\"\",INDEX(Data_kom2,MATCH(1,(komnavn2=B92)*(komaar2=D92),0),15))","v":""},{"$f":"IF(B92=\"\",\"\",INDEX(Data_kom2,MATCH(1,(komnavn2=B92)*(komaar2=D92),0),16))","v":""},{"$f":"IF(B92=\"\",\"\",INDEX(Data_kom2,MATCH(1,(komnavn2=B92)*(komaar2=D92),0),17))","v":""},{"$f":"IF(B92=\"\",\"\",INDEX(Data_kom2,MATCH(1,(komnavn2=B92)*(komaar2=D92),0),18))","v":""},{"$f":"IF(B92=\"\",\"\",INDEX(Data_kom2,MATCH(1,(komnavn2=B92)*(komaar2=D92),0),19))","v":""},{"$f":"IF(B92=\"\",\"\",INDEX(Data_kom2,MATCH(1,(komnavn2=B92)*(komaar2=D92),0),20))","v":""},{"$f":"IF(B92=\"\",\"\",INDEX(Data_kom2,MATCH(1,(komnavn2=B92)*(komaar2=D92),0),21))","v":""},{"$f":"IF(B92=\"\",\"\",INDEX(Data_kom2,MATCH(1,(komnavn2=B92)*(komaar2=D92),0),22))","v":""},{"$f":"IF(B92=\"\",\"\",INDEX(Data_kom2,MATCH(1,(komnavn2=B92)*(komaar2=D92),0),23))","v":""},{"$f":"IF(B92=\"\",\"\",INDEX(Data_kom2,MATCH(1,(komnavn2=B92)*(komaar2=D92),0),24))","v":""},{"$f":"IF(B92=\"\",\"\",INDEX(Data_kom2,MATCH(1,(komnavn2=B92)*(komaar2=D92),0),25))","v":""},{"$f":"IF(B92=\"\",\"\",INDEX(Data_kom2,MATCH(1,(komnavn2=B92)*(komaar2=D92),0),26))","v":""},{"$f":"IF(B92=\"\",\"\",INDEX(Data_kom2,MATCH(1,(komnavn2=B92)*(komaar2=D92),0),27))","v":""},{"$f":"IF(B92=\"\",\"\",INDEX(Data_kom2,MATCH(1,(komnavn2=B92)*(komaar2=D92),0),28))","v":""},{"$f":"IF(B92=\"\",\"\",INDEX(Data_kom2,MATCH(1,(komnavn2=B92)*(komaar2=D92),0),29))","v":""},{"$f":"IF(B92=\"\",\"\",INDEX(Data_kom2,MATCH(1,(komnavn2=B92)*(komaar2=D92),0),30))","v":""},{"$f":"IF(B92=\"\",\"\",INDEX(Data_kom2,MATCH(1,(komnavn2=B92)*(komaar2=D92),0),31))","v":""},{"$f":"IF(B92=\"\",\"\",INDEX(Data_kom2,MATCH(1,(komnavn2=B92)*(komaar2=D92),0),32))","v":""},{"$f":"IF(B92=\"\",\"\",INDEX(Data_kom2,MATCH(1,(komnavn2=B92)*(komaar2=D92),0),33))","v":""},{"$f":"IF(B92=\"\",\"\",INDEX(Data_kom2,MATCH(1,(komnavn2=B92)*(komaar2=D92),0),34))","v":""},{"$f":"IF(B92=\"\",\"\",INDEX(Data_kom2,MATCH(1,(komnavn2=B92)*(komaar2=D92),0),35))","v":""},{"$f":"IF(B92=\"\",\"\",INDEX(Data_kom2,MATCH(1,(komnavn2=B92)*(komaar2=D92),0),36))","v":""},{"$f":"IF(B92=\"\",\"\",INDEX(Data_kom2,MATCH(1,(komnavn2=B92)*(komaar2=D92),0),37))","v":""},{"$f":"IF(B92=\"\",\"\",INDEX(Data_kom2,MATCH(1,(komnavn2=B92)*(komaar2=D92),0),38))","v":""}]
[3,{"$f":"'Dine valg'!$G$26","v":""},{"$f":"IF(B93=\"\",\"\",INDEX(Data_kom2,MATCH(1,(komnavn2=B93)*(komaar2=D93),0),2))","v":""},"2017-01-01",{"$f":"IF(B93=\"\",\"\",INDEX(Data_kom2,MATCH(1,(komnavn2=B93)*(komaar2=D93),0),4))","v":""},{"$f":"IF(B93=\"\",\"\",INDEX(Data_kom2,MATCH(1,(komnavn2=B93)*(komaar2=D93),0),5))","v":""},{"$f":"IF(B93=\"\",\"\",INDEX(Data_kom2,MATCH(1,(komnavn2=B93)*(komaar2=D93),0),6))","v":""},{"$f":"IF(B93=\"\",\"\",INDEX(Data_kom2,MATCH(1,(komnavn2=B93)*(komaar2=D93),0),7))","v":""},{"$f":"IF(B93=\"\",\"\",INDEX(Data_kom2,MATCH(1,(komnavn2=B93)*(komaar2=D93),0),8))","v":""},{"$f":"IF(B93=\"\",\"\",INDEX(Data_kom2,MATCH(1,(komnavn2=B93)*(komaar2=D93),0),9))","v":""},{"$f":"IF(B93=\"\",\"\",INDEX(Data_kom2,MATCH(1,(komnavn2=B93)*(komaar2=D93),0),10))","v":""},{"$f":"IF(B93=\"\",\"\",INDEX(Data_kom2,MATCH(1,(komnavn2=B93)*(komaar2=D93),0),11))","v":""},{"$f":"IF(B93=\"\",\"\",INDEX(Data_kom2,MATCH(1,(komnavn2=B93)*(komaar2=D93),0),12))","v":""},{"$f":"IF(B93=\"\",\"\",INDEX(Data_kom2,MATCH(1,(komnavn2=B93)*(komaar2=D93),0),13))","v":""},{"$f":"IF(B93=\"\",\"\",INDEX(Data_kom2,MATCH(1,(komnavn2=B93)*(komaar2=D93),0),14))","v":""},{"$f":"IF(B93=\"\",\"\",INDEX(Data_kom2,MATCH(1,(komnavn2=B93)*(komaar2=D93),0),15))","v":""},{"$f":"IF(B93=\"\",\"\",INDEX(Data_kom2,MATCH(1,(komnavn2=B93)*(komaar2=D93),0),16))","v":""},{"$f":"IF(B93=\"\",\"\",INDEX(Data_kom2,MATCH(1,(komnavn2=B93)*(komaar2=D93),0),17))","v":""},{"$f":"IF(B93=\"\",\"\",INDEX(Data_kom2,MATCH(1,(komnavn2=B93)*(komaar2=D93),0),18))","v":""},{"$f":"IF(B93=\"\",\"\",INDEX(Data_kom2,MATCH(1,(komnavn2=B93)*(komaar2=D93),0),19))","v":""},{"$f":"IF(B93=\"\",\"\",INDEX(Data_kom2,MATCH(1,(komnavn2=B93)*(komaar2=D93),0),20))","v":""},{"$f":"IF(B93=\"\",\"\",INDEX(Data_kom2,MATCH(1,(komnavn2=B93)*(komaar2=D93),0),21))","v":""},{"$f":"IF(B93=\"\",\"\",INDEX(Data_kom2,MATCH(1,(komnavn2=B93)*(komaar2=D93),0),22))","v":""},{"$f":"IF(B93=\"\",\"\",INDEX(Data_kom2,MATCH(1,(komnavn2=B93)*(komaar2=D93),0),23))","v":""},{"$f":"IF(B93=\"\",\"\",INDEX(Data_kom2,MATCH(1,(komnavn2=B93)*(komaar2=D93),0),24))","v":""},{"$f":"IF(B93=\"\",\"\",INDEX(Data_kom2,MATCH(1,(komnavn2=B93)*(komaar2=D93),0),25))","v":""},{"$f":"IF(B93=\"\",\"\",INDEX(Data_kom2,MATCH(1,(komnavn2=B93)*(komaar2=D93),0),26))","v":""},{"$f":"IF(B93=\"\",\"\",INDEX(Data_kom2,MATCH(1,(komnavn2=B93)*(komaar2=D93),0),27))","v":""},{"$f":"IF(B93=\"\",\"\",INDEX(Data_kom2,MATCH(1,(komnavn2=B93)*(komaar2=D93),0),28))","v":""},{"$f":"IF(B93=\"\",\"\",INDEX(Data_kom2,MATCH(1,(komnavn2=B93)*(komaar2=D93),0),29))","v":""},{"$f":"IF(B93=\"\",\"\",INDEX(Data_kom2,MATCH(1,(komnavn2=B93)*(komaar2=D93),0),30))","v":""},{"$f":"IF(B93=\"\",\"\",INDEX(Data_kom2,MATCH(1,(komnavn2=B93)*(komaar2=D93),0),31))","v":""},{"$f":"IF(B93=\"\",\"\",INDEX(Data_kom2,MATCH(1,(komnavn2=B93)*(komaar2=D93),0),32))","v":""},{"$f":"IF(B93=\"\",\"\",INDEX(Data_kom2,MATCH(1,(komnavn2=B93)*(komaar2=D93),0),33))","v":""},{"$f":"IF(B93=\"\",\"\",INDEX(Data_kom2,MATCH(1,(komnavn2=B93)*(komaar2=D93),0),34))","v":""},{"$f":"IF(B93=\"\",\"\",INDEX(Data_kom2,MATCH(1,(komnavn2=B93)*(komaar2=D93),0),35))","v":""},{"$f":"IF(B93=\"\",\"\",INDEX(Data_kom2,MATCH(1,(komnavn2=B93)*(komaar2=D93),0),36))","v":""},{"$f":"IF(B93=\"\",\"\",INDEX(Data_kom2,MATCH(1,(komnavn2=B93)*(komaar2=D93),0),37))","v":""},{"$f":"IF(B93=\"\",\"\",INDEX(Data_kom2,MATCH(1,(komnavn2=B93)*(komaar2=D93),0),38))","v":""}]
[4,{"$f":"'Dine valg'!$G$27","v":""},{"$f":"IF(B94=\"\",\"\",INDEX(Data_kom2,MATCH(1,(komnavn2=B94)*(komaar2=D94),0),2))","v":""},"2017-01-01",{"$f":"IF(B94=\"\",\"\",INDEX(Data_kom2,MATCH(1,(komnavn2=B94)*(komaar2=D94),0),4))","v":""},{"$f":"IF(B94=\"\",\"\",INDEX(Data_kom2,MATCH(1,(komnavn2=B94)*(komaar2=D94),0),5))","v":""},{"$f":"IF(B94=\"\",\"\",INDEX(Data_kom2,MATCH(1,(komnavn2=B94)*(komaar2=D94),0),6))","v":""},{"$f":"IF(B94=\"\",\"\",INDEX(Data_kom2,MATCH(1,(komnavn2=B94)*(komaar2=D94),0),7))","v":""},{"$f":"IF(B94=\"\",\"\",INDEX(Data_kom2,MATCH(1,(komnavn2=B94)*(komaar2=D94),0),8))","v":""},{"$f":"IF(B94=\"\",\"\",INDEX(Data_kom2,MATCH(1,(komnavn2=B94)*(komaar2=D94),0),9))","v":""},{"$f":"IF(B94=\"\",\"\",INDEX(Data_kom2,MATCH(1,(komnavn2=B94)*(komaar2=D94),0),10))","v":""},{"$f":"IF(B94=\"\",\"\",INDEX(Data_kom2,MATCH(1,(komnavn2=B94)*(komaar2=D94),0),11))","v":""},{"$f":"IF(B94=\"\",\"\",INDEX(Data_kom2,MATCH(1,(komnavn2=B94)*(komaar2=D94),0),12))","v":""},{"$f":"IF(B94=\"\",\"\",INDEX(Data_kom2,MATCH(1,(komnavn2=B94)*(komaar2=D94),0),13))","v":""},{"$f":"IF(B94=\"\",\"\",INDEX(Data_kom2,MATCH(1,(komnavn2=B94)*(komaar2=D94),0),14))","v":""},{"$f":"IF(B94=\"\",\"\",INDEX(Data_kom2,MATCH(1,(komnavn2=B94)*(komaar2=D94),0),15))","v":""},{"$f":"IF(B94=\"\",\"\",INDEX(Data_kom2,MATCH(1,(komnavn2=B94)*(komaar2=D94),0),16))","v":""},{"$f":"IF(B94=\"\",\"\",INDEX(Data_kom2,MATCH(1,(komnavn2=B94)*(komaar2=D94),0),17))","v":""},{"$f":"IF(B94=\"\",\"\",INDEX(Data_kom2,MATCH(1,(komnavn2=B94)*(komaar2=D94),0),18))","v":""},{"$f":"IF(B94=\"\",\"\",INDEX(Data_kom2,MATCH(1,(komnavn2=B94)*(komaar2=D94),0),19))","v":""},{"$f":"IF(B94=\"\",\"\",INDEX(Data_kom2,MATCH(1,(komnavn2=B94)*(komaar2=D94),0),20))","v":""},{"$f":"IF(B94=\"\",\"\",INDEX(Data_kom2,MATCH(1,(komnavn2=B94)*(komaar2=D94),0),21))","v":""},{"$f":"IF(B94=\"\",\"\",INDEX(Data_kom2,MATCH(1,(komnavn2=B94)*(komaar2=D94),0),22))","v":""},{"$f":"IF(B94=\"\",\"\",INDEX(Data_kom2,MATCH(1,(komnavn2=B94)*(komaar2=D94),0),23))","v":""},{"$f":"IF(B94=\"\",\"\",INDEX(Data_kom2,MATCH(1,(komnavn2=B94)*(komaar2=D94),0),24))","v":""},{"$f":"IF(B94=\"\",\"\",INDEX(Data_kom2,MATCH(1,(komnavn2=B94)*(komaar2=D94),0),25))","v":""},{"$f":"IF(B94=\"\",\"\",INDEX(Data_kom2,MATCH(1,(komnavn2=B94)*(komaar2=D94),0),26))","v":""},{"$f":"IF(B94=\"\",\"\",INDEX(Data_kom2,MATCH(1,(komnavn2=B94)*(komaar2=D94),0),27))","v":""},{"$f":"IF(B94=\"\",\"\",INDEX(Data_kom2,MATCH(1,(komnavn2=B94)*(komaar2=D94),0),28))","v":""},{"$f":"IF(B94=\"\",\"\",INDEX(Data_kom2,MATCH(1,(komnavn2=B94)*(komaar2=D94),0),29))","v":""},{"$f":"IF(B94=\"\",\"\",INDEX(Data_kom2,MATCH(1,(komnavn2=B94)*(komaar2=D94),0),30))","v":""},{"$f":"IF(B94=\"\",\"\",INDEX(Data_kom2,MATCH(1,(komnavn2=B94)*(komaar2=D94),0),31))","v":""},{"$f":"IF(B94=\"\",\"\",INDEX(Data_kom2,MATCH(1,(komnavn2=B94)*(komaar2=D94),0),32))","v":""},{"$f":"IF(B94=\"\",\"\",INDEX(Data_kom2,MATCH(1,(komnavn2=B94)*(komaar2=D94),0),33))","v":""},{"$f":"IF(B94=\"\",\"\",INDEX(Data_kom2,MATCH(1,(komnavn2=B94)*(komaar2=D94),0),34))","v":""},{"$f":"IF(B94=\"\",\"\",INDEX(Data_kom2,MATCH(1,(komnavn2=B94)*(komaar2=D94),0),35))","v":""},{"$f":"IF(B94=\"\",\"\",INDEX(Data_kom2,MATCH(1,(komnavn2=B94)*(komaar2=D94),0),36))","v":""},{"$f":"IF(B94=\"\",\"\",INDEX(Data_kom2,MATCH(1,(komnavn2=B94)*(komaar2=D94),0),37))","v":""},{"$f":"IF(B94=\"\",\"\",INDEX(Data_kom2,MATCH(1,(komnavn2=B94)*(komaar2=D94),0),38))","v":""}]
[5,{"$f":"'Dine valg'!$G$28","v":""},{"$f":"IF(B95=\"\",\"\",INDEX(Data_kom2,MATCH(1,(komnavn2=B95)*(komaar2=D95),0),2))","v":""},"2017-01-01",{"$f":"IF(B95=\"\",\"\",INDEX(Data_kom2,MATCH(1,(komnavn2=B95)*(komaar2=D95),0),4))","v":""},{"$f":"IF(B95=\"\",\"\",INDEX(Data_kom2,MATCH(1,(komnavn2=B95)*(komaar2=D95),0),5))","v":""},{"$f":"IF(B95=\"\",\"\",INDEX(Data_kom2,MATCH(1,(komnavn2=B95)*(komaar2=D95),0),6))","v":""},{"$f":"IF(B95=\"\",\"\",INDEX(Data_kom2,MATCH(1,(komnavn2=B95)*(komaar2=D95),0),7))","v":""},{"$f":"IF(B95=\"\",\"\",INDEX(Data_kom2,MATCH(1,(komnavn2=B95)*(komaar2=D95),0),8))","v":""},{"$f":"IF(B95=\"\",\"\",INDEX(Data_kom2,MATCH(1,(komnavn2=B95)*(komaar2=D95),0),9))","v":""},{"$f":"IF(B95=\"\",\"\",INDEX(Data_kom2,MATCH(1,(komnavn2=B95)*(komaar2=D95),0),10))","v":""},{"$f":"IF(B95=\"\",\"\",INDEX(Data_kom2,MATCH(1,(komnavn2=B95)*(komaar2=D95),0),11))","v":""},{"$f":"IF(B95=\"\",\"\",INDEX(Data_kom2,MATCH(1,(komnavn2=B95)*(komaar2=D95),0),12))","v":""},{"$f":"IF(B95=\"\",\"\",INDEX(Data_kom2,MATCH(1,(komnavn2=B95)*(komaar2=D95),0),13))","v":""},{"$f":"IF(B95=\"\",\"\",INDEX(Data_kom2,MATCH(1,(komnavn2=B95)*(komaar2=D95),0),14))","v":""},{"$f":"IF(B95=\"\",\"\",INDEX(Data_kom2,MATCH(1,(komnavn2=B95)*(komaar2=D95),0),15))","v":""},{"$f":"IF(B95=\"\",\"\",INDEX(Data_kom2,MATCH(1,(komnavn2=B95)*(komaar2=D95),0),16))","v":""},{"$f":"IF(B95=\"\",\"\",INDEX(Data_kom2,MATCH(1,(komnavn2=B95)*(komaar2=D95),0),17))","v":""},{"$f":"IF(B95=\"\",\"\",INDEX(Data_kom2,MATCH(1,(komnavn2=B95)*(komaar2=D95),0),18))","v":""},{"$f":"IF(B95=\"\",\"\",INDEX(Data_kom2,MATCH(1,(komnavn2=B95)*(komaar2=D95),0),19))","v":""},{"$f":"IF(B95=\"\",\"\",INDEX(Data_kom2,MATCH(1,(komnavn2=B95)*(komaar2=D95),0),20))","v":""},{"$f":"IF(B95=\"\",\"\",INDEX(Data_kom2,MATCH(1,(komnavn2=B95)*(komaar2=D95),0),21))","v":""},{"$f":"IF(B95=\"\",\"\",INDEX(Data_kom2,MATCH(1,(komnavn2=B95)*(komaar2=D95),0),22))","v":""},{"$f":"IF(B95=\"\",\"\",INDEX(Data_kom2,MATCH(1,(komnavn2=B95)*(komaar2=D95),0),23))","v":""},{"$f":"IF(B95=\"\",\"\",INDEX(Data_kom2,MATCH(1,(komnavn2=B95)*(komaar2=D95),0),24))","v":""},{"$f":"IF(B95=\"\",\"\",INDEX(Data_kom2,MATCH(1,(komnavn2=B95)*(komaar2=D95),0),25))","v":""},{"$f":"IF(B95=\"\",\"\",INDEX(Data_kom2,MATCH(1,(komnavn2=B95)*(komaar2=D95),0),26))","v":""},{"$f":"IF(B95=\"\",\"\",INDEX(Data_kom2,MATCH(1,(komnavn2=B95)*(komaar2=D95),0),27))","v":""},{"$f":"IF(B95=\"\",\"\",INDEX(Data_kom2,MATCH(1,(komnavn2=B95)*(komaar2=D95),0),28))","v":""},{"$f":"IF(B95=\"\",\"\",INDEX(Data_kom2,MATCH(1,(komnavn2=B95)*(komaar2=D95),0),29))","v":""},{"$f":"IF(B95=\"\",\"\",INDEX(Data_kom2,MATCH(1,(komnavn2=B95)*(komaar2=D95),0),30))","v":""},{"$f":"IF(B95=\"\",\"\",INDEX(Data_kom2,MATCH(1,(komnavn2=B95)*(komaar2=D95),0),31))","v":""},{"$f":"IF(B95=\"\",\"\",INDEX(Data_kom2,MATCH(1,(komnavn2=B95)*(komaar2=D95),0),32))","v":""},{"$f":"IF(B95=\"\",\"\",INDEX(Data_kom2,MATCH(1,(komnavn2=B95)*(komaar2=D95),0),33))","v":""},{"$f":"IF(B95=\"\",\"\",INDEX(Data_kom2,MATCH(1,(komnavn2=B95)*(komaar2=D95),0),34))","v":""},{"$f":"IF(B95=\"\",\"\",INDEX(Data_kom2,MATCH(1,(komnavn2=B95)*(komaar2=D95),0),35))","v":""},{"$f":"IF(B95=\"\",\"\",INDEX(Data_kom2,MATCH(1,(komnavn2=B95)*(komaar2=D95),0),36))","v":""},{"$f":"IF(B95=\"\",\"\",INDEX(Data_kom2,MATCH(1,(komnavn2=B95)*(komaar2=D95),0),37))","v":""},{"$f":"IF(B95=\"\",\"\",INDEX(Data_kom2,MATCH(1,(komnavn2=B95)*(komaar2=D95),0),38))","v":""}]
[6,{"$f":"'Dine valg'!$G$29","v":""},{"$f":"IF(B96=\"\",\"\",INDEX(Data_kom2,MATCH(1,(komnavn2=B96)*(komaar2=D96),0),2))","v":""},"2017-01-01",{"$f":"IF(B96=\"\",\"\",INDEX(Data_kom2,MATCH(1,(komnavn2=B96)*(komaar2=D96),0),4))","v":""},{"$f":"IF(B96=\"\",\"\",INDEX(Data_kom2,MATCH(1,(komnavn2=B96)*(komaar2=D96),0),5))","v":""},{"$f":"IF(B96=\"\",\"\",INDEX(Data_kom2,MATCH(1,(komnavn2=B96)*(komaar2=D96),0),6))","v":""},{"$f":"IF(B96=\"\",\"\",INDEX(Data_kom2,MATCH(1,(komnavn2=B96)*(komaar2=D96),0),7))","v":""},{"$f":"IF(B96=\"\",\"\",INDEX(Data_kom2,MATCH(1,(komnavn2=B96)*(komaar2=D96),0),8))","v":""},{"$f":"IF(B96=\"\",\"\",INDEX(Data_kom2,MATCH(1,(komnavn2=B96)*(komaar2=D96),0),9))","v":""},{"$f":"IF(B96=\"\",\"\",INDEX(Data_kom2,MATCH(1,(komnavn2=B96)*(komaar2=D96),0),10))","v":""},{"$f":"IF(B96=\"\",\"\",INDEX(Data_kom2,MATCH(1,(komnavn2=B96)*(komaar2=D96),0),11))","v":""},{"$f":"IF(B96=\"\",\"\",INDEX(Data_kom2,MATCH(1,(komnavn2=B96)*(komaar2=D96),0),12))","v":""},{"$f":"IF(B96=\"\",\"\",INDEX(Data_kom2,MATCH(1,(komnavn2=B96)*(komaar2=D96),0),13))","v":""},{"$f":"IF(B96=\"\",\"\",INDEX(Data_kom2,MATCH(1,(komnavn2=B96)*(komaar2=D96),0),14))","v":""},{"$f":"IF(B96=\"\",\"\",INDEX(Data_kom2,MATCH(1,(komnavn2=B96)*(komaar2=D96),0),15))","v":""},{"$f":"IF(B96=\"\",\"\",INDEX(Data_kom2,MATCH(1,(komnavn2=B96)*(komaar2=D96),0),16))","v":""},{"$f":"IF(B96=\"\",\"\",INDEX(Data_kom2,MATCH(1,(komnavn2=B96)*(komaar2=D96),0),17))","v":""},{"$f":"IF(B96=\"\",\"\",INDEX(Data_kom2,MATCH(1,(komnavn2=B96)*(komaar2=D96),0),18))","v":""},{"$f":"IF(B96=\"\",\"\",INDEX(Data_kom2,MATCH(1,(komnavn2=B96)*(komaar2=D96),0),19))","v":""},{"$f":"IF(B96=\"\",\"\",INDEX(Data_kom2,MATCH(1,(komnavn2=B96)*(komaar2=D96),0),20))","v":""},{"$f":"IF(B96=\"\",\"\",INDEX(Data_kom2,MATCH(1,(komnavn2=B96)*(komaar2=D96),0),21))","v":""},{"$f":"IF(B96=\"\",\"\",INDEX(Data_kom2,MATCH(1,(komnavn2=B96)*(komaar2=D96),0),22))","v":""},{"$f":"IF(B96=\"\",\"\",INDEX(Data_kom2,MATCH(1,(komnavn2=B96)*(komaar2=D96),0),23))","v":""},{"$f":"IF(B96=\"\",\"\",INDEX(Data_kom2,MATCH(1,(komnavn2=B96)*(komaar2=D96),0),24))","v":""},{"$f":"IF(B96=\"\",\"\",INDEX(Data_kom2,MATCH(1,(komnavn2=B96)*(komaar2=D96),0),25))","v":""},{"$f":"IF(B96=\"\",\"\",INDEX(Data_kom2,MATCH(1,(komnavn2=B96)*(komaar2=D96),0),26))","v":""},{"$f":"IF(B96=\"\",\"\",INDEX(Data_kom2,MATCH(1,(komnavn2=B96)*(komaar2=D96),0),27))","v":""},{"$f":"IF(B96=\"\",\"\",INDEX(Data_kom2,MATCH(1,(komnavn2=B96)*(komaar2=D96),0),28))","v":""},{"$f":"IF(B96=\"\",\"\",INDEX(Data_kom2,MATCH(1,(komnavn2=B96)*(komaar2=D96),0),29))","v":""},{"$f":"IF(B96=\"\",\"\",INDEX(Data_kom2,MATCH(1,(komnavn2=B96)*(komaar2=D96),0),30))","v":""},{"$f":"IF(B96=\"\",\"\",INDEX(Data_kom2,MATCH(1,(komnavn2=B96)*(komaar2=D96),0),31))","v":""},{"$f":"IF(B96=\"\",\"\",INDEX(Data_kom2,MATCH(1,(komnavn2=B96)*(komaar2=D96),0),32))","v":""},{"$f":"IF(B96=\"\",\"\",INDEX(Data_kom2,MATCH(1,(komnavn2=B96)*(komaar2=D96),0),33))","v":""},{"$f":"IF(B96=\"\",\"\",INDEX(Data_kom2,MATCH(1,(komnavn2=B96)*(komaar2=D96),0),34))","v":""},{"$f":"IF(B96=\"\",\"\",INDEX(Data_kom2,MATCH(1,(komnavn2=B96)*(komaar2=D96),0),35))","v":""},{"$f":"IF(B96=\"\",\"\",INDEX(Data_kom2,MATCH(1,(komnavn2=B96)*(komaar2=D96),0),36))","v":""},{"$f":"IF(B96=\"\",\"\",INDEX(Data_kom2,MATCH(1,(komnavn2=B96)*(komaar2=D96),0),37))","v":""},{"$f":"IF(B96=\"\",\"\",INDEX(Data_kom2,MATCH(1,(komnavn2=B96)*(komaar2=D96),0),38))","v":""}]
[7,{"$f":"'Dine valg'!$G$30","v":""},{"$f":"IF(B97=\"\",\"\",INDEX(Data_kom2,MATCH(1,(komnavn2=B97)*(komaar2=D97),0),2))","v":""},"2017-01-01",{"$f":"IF(B97=\"\",\"\",INDEX(Data_kom2,MATCH(1,(komnavn2=B97)*(komaar2=D97),0),4))","v":""},{"$f":"IF(B97=\"\",\"\",INDEX(Data_kom2,MATCH(1,(komnavn2=B97)*(komaar2=D97),0),5))","v":""},{"$f":"IF(B97=\"\",\"\",INDEX(Data_kom2,MATCH(1,(komnavn2=B97)*(komaar2=D97),0),6))","v":""},{"$f":"IF(B97=\"\",\"\",INDEX(Data_kom2,MATCH(1,(komnavn2=B97)*(komaar2=D97),0),7))","v":""},{"$f":"IF(B97=\"\",\"\",INDEX(Data_kom2,MATCH(1,(komnavn2=B97)*(komaar2=D97),0),8))","v":""},{"$f":"IF(B97=\"\",\"\",INDEX(Data_kom2,MATCH(1,(komnavn2=B97)*(komaar2=D97),0),9))","v":""},{"$f":"IF(B97=\"\",\"\",INDEX(Data_kom2,MATCH(1,(komnavn2=B97)*(komaar2=D97),0),10))","v":""},{"$f":"IF(B97=\"\",\"\",INDEX(Data_kom2,MATCH(1,(komnavn2=B97)*(komaar2=D97),0),11))","v":""},{"$f":"IF(B97=\"\",\"\",INDEX(Data_kom2,MATCH(1,(komnavn2=B97)*(komaar2=D97),0),12))","v":""},{"$f":"IF(B97=\"\",\"\",INDEX(Data_kom2,MATCH(1,(komnavn2=B97)*(komaar2=D97),0),13))","v":""},{"$f":"IF(B97=\"\",\"\",INDEX(Data_kom2,MATCH(1,(komnavn2=B97)*(komaar2=D97),0),14))","v":""},{"$f":"IF(B97=\"\",\"\",INDEX(Data_kom2,MATCH(1,(komnavn2=B97)*(komaar2=D97),0),15))","v":""},{"$f":"IF(B97=\"\",\"\",INDEX(Data_kom2,MATCH(1,(komnavn2=B97)*(komaar2=D97),0),16))","v":""},{"$f":"IF(B97=\"\",\"\",INDEX(Data_kom2,MATCH(1,(komnavn2=B97)*(komaar2=D97),0),17))","v":""},{"$f":"IF(B97=\"\",\"\",INDEX(Data_kom2,MATCH(1,(komnavn2=B97)*(komaar2=D97),0),18))","v":""},{"$f":"IF(B97=\"\",\"\",INDEX(Data_kom2,MATCH(1,(komnavn2=B97)*(komaar2=D97),0),19))","v":""},{"$f":"IF(B97=\"\",\"\",INDEX(Data_kom2,MATCH(1,(komnavn2=B97)*(komaar2=D97),0),20))","v":""},{"$f":"IF(B97=\"\",\"\",INDEX(Data_kom2,MATCH(1,(komnavn2=B97)*(komaar2=D97),0),21))","v":""},{"$f":"IF(B97=\"\",\"\",INDEX(Data_kom2,MATCH(1,(komnavn2=B97)*(komaar2=D97),0),22))","v":""},{"$f":"IF(B97=\"\",\"\",INDEX(Data_kom2,MATCH(1,(komnavn2=B97)*(komaar2=D97),0),23))","v":""},{"$f":"IF(B97=\"\",\"\",INDEX(Data_kom2,MATCH(1,(komnavn2=B97)*(komaar2=D97),0),24))","v":""},{"$f":"IF(B97=\"\",\"\",INDEX(Data_kom2,MATCH(1,(komnavn2=B97)*(komaar2=D97),0),25))","v":""},{"$f":"IF(B97=\"\",\"\",INDEX(Data_kom2,MATCH(1,(komnavn2=B97)*(komaar2=D97),0),26))","v":""},{"$f":"IF(B97=\"\",\"\",INDEX(Data_kom2,MATCH(1,(komnavn2=B97)*(komaar2=D97),0),27))","v":""},{"$f":"IF(B97=\"\",\"\",INDEX(Data_kom2,MATCH(1,(komnavn2=B97)*(komaar2=D97),0),28))","v":""},{"$f":"IF(B97=\"\",\"\",INDEX(Data_kom2,MATCH(1,(komnavn2=B97)*(komaar2=D97),0),29))","v":""},{"$f":"IF(B97=\"\",\"\",INDEX(Data_kom2,MATCH(1,(komnavn2=B97)*(komaar2=D97),0),30))","v":""},{"$f":"IF(B97=\"\",\"\",INDEX(Data_kom2,MATCH(1,(komnavn2=B97)*(komaar2=D97),0),31))","v":""},{"$f":"IF(B97=\"\",\"\",INDEX(Data_kom2,MATCH(1,(komnavn2=B97)*(komaar2=D97),0),32))","v":""},{"$f":"IF(B97=\"\",\"\",INDEX(Data_kom2,MATCH(1,(komnavn2=B97)*(komaar2=D97),0),33))","v":""},{"$f":"IF(B97=\"\",\"\",INDEX(Data_kom2,MATCH(1,(komnavn2=B97)*(komaar2=D97),0),34))","v":""},{"$f":"IF(B97=\"\",\"\",INDEX(Data_kom2,MATCH(1,(komnavn2=B97)*(komaar2=D97),0),35))","v":""},{"$f":"IF(B97=\"\",\"\",INDEX(Data_kom2,MATCH(1,(komnavn2=B97)*(komaar2=D97),0),36))","v":""},{"$f":"IF(B97=\"\",\"\",INDEX(Data_kom2,MATCH(1,(komnavn2=B97)*(komaar2=D97),0),37))","v":""},{"$f":"IF(B97=\"\",\"\",INDEX(Data_kom2,MATCH(1,(komnavn2=B97)*(komaar2=D97),0),38))","v":""}]
[1,{"$f":"'Dine valg'!$G$24","v":"Aarhus"},{"$f":"IF(B98=\"\",\"\",INDEX(Data_kom2,MATCH(1,(komnavn2=B98)*(komaar2=D98),0),2))","v":62670},"2016-07-01",{"$f":"IF(B98=\"\",\"\",INDEX(Data_kom2,MATCH(1,(komnavn2=B98)*(komaar2=D98),0),4))","v":203},{"$f":"IF(B98=\"\",\"\",INDEX(Data_kom2,MATCH(1,(komnavn2=B98)*(komaar2=D98),0),5))","v":138},{"$f":"IF(B98=\"\",\"\",INDEX(Data_kom2,MATCH(1,(komnavn2=B98)*(komaar2=D98),0),6))","v":4},{"$f":"IF(B98=\"\",\"\",INDEX(Data_kom2,MATCH(1,(komnavn2=B98)*(komaar2=D98),0),7))","v":61},{"$f":"IF(B98=\"\",\"\",INDEX(Data_kom2,MATCH(1,(komnavn2=B98)*(komaar2=D98),0),8))","v":208297},{"$f":"IF(B98=\"\",\"\",INDEX(Data_kom2,MATCH(1,(komnavn2=B98)*(komaar2=D98),0),9))","v":162998},{"$f":"IF(B98=\"\",\"\",INDEX(Data_kom2,MATCH(1,(komnavn2=B98)*(komaar2=D98),0),10))","v":"*"},{"$f":"IF(B98=\"\",\"\",INDEX(Data_kom2,MATCH(1,(komnavn2=B98)*(komaar2=D98),0),11))","v":"*"},{"$f":"IF(B98=\"\",\"\",INDEX(Data_kom2,MATCH(1,(komnavn2=B98)*(komaar2=D98),0),12))","v":215},{"$f":"IF(B98=\"\",\"\",INDEX(Data_kom2,MATCH(1,(komnavn2=B98)*(komaar2=D98),0),13))","v":38},{"$f":"IF(B98=\"\",\"\",INDEX(Data_kom2,MATCH(1,(komnavn2=B98)*(komaar2=D98),0),14))","v":1145},{"$f":"IF(B98=\"\",\"\",INDEX(Data_kom2,MATCH(1,(komnavn2=B98)*(komaar2=D98),0),15))","v":"*"},{"$f":"IF(B98=\"\",\"\",INDEX(Data_kom2,MATCH(1,(komnavn2=B98)*(komaar2=D98),0),16))","v":19},{"$f":"IF(B98=\"\",\"\",INDEX(Data_kom2,MATCH(1,(komnavn2=B98)*(komaar2=D98),0),17))","v":1110},{"$f":"IF(B98=\"\",\"\",INDEX(Data_kom2,MATCH(1,(komnavn2=B98)*(komaar2=D98),0),18))","v":"*"},{"$f":"IF(B98=\"\",\"\",INDEX(Data_kom2,MATCH(1,(komnavn2=B98)*(komaar2=D98),0),19))","v":0},{"$f":"IF(B98=\"\",\"\",INDEX(Data_kom2,MATCH(1,(komnavn2=B98)*(komaar2=D98),0),20))","v":0},{"$f":"IF(B98=\"\",\"\",INDEX(Data_kom2,MATCH(1,(komnavn2=B98)*(komaar2=D98),0),21))","v":0},{"$f":"IF(B98=\"\",\"\",INDEX(Data_kom2,MATCH(1,(komnavn2=B98)*(komaar2=D98),0),22))","v":31},{"$f":"IF(B98=\"\",\"\",INDEX(Data_kom2,MATCH(1,(komnavn2=B98)*(komaar2=D98),0),23))","v":189},{"$f":"IF(B98=\"\",\"\",INDEX(Data_kom2,MATCH(1,(komnavn2=B98)*(komaar2=D98),0),24))","v":3},{"$f":"IF(B98=\"\",\"\",INDEX(Data_kom2,MATCH(1,(komnavn2=B98)*(komaar2=D98),0),25))","v":189},{"$f":"IF(B98=\"\",\"\",INDEX(Data_kom2,MATCH(1,(komnavn2=B98)*(komaar2=D98),0),26))","v":28},{"$f":"IF(B98=\"\",\"\",INDEX(Data_kom2,MATCH(1,(komnavn2=B98)*(komaar2=D98),0),27))","v":189},{"$f":"IF(B98=\"\",\"\",INDEX(Data_kom2,MATCH(1,(komnavn2=B98)*(komaar2=D98),0),28))","v":52},{"$f":"IF(B98=\"\",\"\",INDEX(Data_kom2,MATCH(1,(komnavn2=B98)*(komaar2=D98),0),29))","v":1119},{"$f":"IF(B98=\"\",\"\",INDEX(Data_kom2,MATCH(1,(komnavn2=B98)*(komaar2=D98),0),30))","v":301},{"$f":"IF(B98=\"\",\"\",INDEX(Data_kom2,MATCH(1,(komnavn2=B98)*(komaar2=D98),0),31))","v":1152},{"$f":"IF(B98=\"\",\"\",INDEX(Data_kom2,MATCH(1,(komnavn2=B98)*(komaar2=D98),0),32))","v":0},{"$f":"IF(B98=\"\",\"\",INDEX(Data_kom2,MATCH(1,(komnavn2=B98)*(komaar2=D98),0),33))","v":0},{"$f":"IF(B98=\"\",\"\",INDEX(Data_kom2,MATCH(1,(komnavn2=B98)*(komaar2=D98),0),34))","v":0},{"$f":"IF(B98=\"\",\"\",INDEX(Data_kom2,MATCH(1,(komnavn2=B98)*(komaar2=D98),0),35))","v":0},{"$f":"IF(B98=\"\",\"\",INDEX(Data_kom2,MATCH(1,(komnavn2=B98)*(komaar2=D98),0),36))","v":0},{"$f":"IF(B98=\"\",\"\",INDEX(Data_kom2,MATCH(1,(komnavn2=B98)*(komaar2=D98),0),37))","v":0},{"$f":"IF(B98=\"\",\"\",INDEX(Data_kom2,MATCH(1,(komnavn2=B98)*(komaar2=D98),0),38))","v":"Region Midtjylland"}]
[2,{"$f":"'Dine valg'!$G$25","v":""},{"$f":"IF(B99=\"\",\"\",INDEX(Data_kom2,MATCH(1,(komnavn2=B99)*(komaar2=D99),0),2))","v":""},"2016-07-01",{"$f":"IF(B99=\"\",\"\",INDEX(Data_kom2,MATCH(1,(komnavn2=B99)*(komaar2=D99),0),4))","v":""},{"$f":"IF(B99=\"\",\"\",INDEX(Data_kom2,MATCH(1,(komnavn2=B99)*(komaar2=D99),0),5))","v":""},{"$f":"IF(B99=\"\",\"\",INDEX(Data_kom2,MATCH(1,(komnavn2=B99)*(komaar2=D99),0),6))","v":""},{"$f":"IF(B99=\"\",\"\",INDEX(Data_kom2,MATCH(1,(komnavn2=B99)*(komaar2=D99),0),7))","v":""},{"$f":"IF(B99=\"\",\"\",INDEX(Data_kom2,MATCH(1,(komnavn2=B99)*(komaar2=D99),0),8))","v":""},{"$f":"IF(B99=\"\",\"\",INDEX(Data_kom2,MATCH(1,(komnavn2=B99)*(komaar2=D99),0),9))","v":""},{"$f":"IF(B99=\"\",\"\",INDEX(Data_kom2,MATCH(1,(komnavn2=B99)*(komaar2=D99),0),10))","v":""},{"$f":"IF(B99=\"\",\"\",INDEX(Data_kom2,MATCH(1,(komnavn2=B99)*(komaar2=D99),0),11))","v":""},{"$f":"IF(B99=\"\",\"\",INDEX(Data_kom2,MATCH(1,(komnavn2=B99)*(komaar2=D99),0),12))","v":""},{"$f":"IF(B99=\"\",\"\",INDEX(Data_kom2,MATCH(1,(komnavn2=B99)*(komaar2=D99),0),13))","v":""},{"$f":"IF(B99=\"\",\"\",INDEX(Data_kom2,MATCH(1,(komnavn2=B99)*(komaar2=D99),0),14))","v":""},{"$f":"IF(B99=\"\",\"\",INDEX(Data_kom2,MATCH(1,(komnavn2=B99)*(komaar2=D99),0),15))","v":""},{"$f":"IF(B99=\"\",\"\",INDEX(Data_kom2,MATCH(1,(komnavn2=B99)*(komaar2=D99),0),16))","v":""},{"$f":"IF(B99=\"\",\"\",INDEX(Data_kom2,MATCH(1,(komnavn2=B99)*(komaar2=D99),0),17))","v":""},{"$f":"IF(B99=\"\",\"\",INDEX(Data_kom2,MATCH(1,(komnavn2=B99)*(komaar2=D99),0),18))","v":""},{"$f":"IF(B99=\"\",\"\",INDEX(Data_kom2,MATCH(1,(komnavn2=B99)*(komaar2=D99),0),19))","v":""},{"$f":"IF(B99=\"\",\"\",INDEX(Data_kom2,MATCH(1,(komnavn2=B99)*(komaar2=D99),0),20))","v":""},{"$f":"IF(B99=\"\",\"\",INDEX(Data_kom2,MATCH(1,(komnavn2=B99)*(komaar2=D99),0),21))","v":""},{"$f":"IF(B99=\"\",\"\",INDEX(Data_kom2,MATCH(1,(komnavn2=B99)*(komaar2=D99),0),22))","v":""},{"$f":"IF(B99=\"\",\"\",INDEX(Data_kom2,MATCH(1,(komnavn2=B99)*(komaar2=D99),0),23))","v":""},{"$f":"IF(B99=\"\",\"\",INDEX(Data_kom2,MATCH(1,(komnavn2=B99)*(komaar2=D99),0),24))","v":""},{"$f":"IF(B99=\"\",\"\",INDEX(Data_kom2,MATCH(1,(komnavn2=B99)*(komaar2=D99),0),25))","v":""},{"$f":"IF(B99=\"\",\"\",INDEX(Data_kom2,MATCH(1,(komnavn2=B99)*(komaar2=D99),0),26))","v":""},{"$f":"IF(B99=\"\",\"\",INDEX(Data_kom2,MATCH(1,(komnavn2=B99)*(komaar2=D99),0),27))","v":""},{"$f":"IF(B99=\"\",\"\",INDEX(Data_kom2,MATCH(1,(komnavn2=B99)*(komaar2=D99),0),28))","v":""},{"$f":"IF(B99=\"\",\"\",INDEX(Data_kom2,MATCH(1,(komnavn2=B99)*(komaar2=D99),0),29))","v":""},{"$f":"IF(B99=\"\",\"\",INDEX(Data_kom2,MATCH(1,(komnavn2=B99)*(komaar2=D99),0),30))","v":""},{"$f":"IF(B99=\"\",\"\",INDEX(Data_kom2,MATCH(1,(komnavn2=B99)*(komaar2=D99),0),31))","v":""},{"$f":"IF(B99=\"\",\"\",INDEX(Data_kom2,MATCH(1,(komnavn2=B99)*(komaar2=D99),0),32))","v":""},{"$f":"IF(B99=\"\",\"\",INDEX(Data_kom2,MATCH(1,(komnavn2=B99)*(komaar2=D99),0),33))","v":""},{"$f":"IF(B99=\"\",\"\",INDEX(Data_kom2,MATCH(1,(komnavn2=B99)*(komaar2=D99),0),34))","v":""},{"$f":"IF(B99=\"\",\"\",INDEX(Data_kom2,MATCH(1,(komnavn2=B99)*(komaar2=D99),0),35))","v":""},{"$f":"IF(B99=\"\",\"\",INDEX(Data_kom2,MATCH(1,(komnavn2=B99)*(komaar2=D99),0),36))","v":""},{"$f":"IF(B99=\"\",\"\",INDEX(Data_kom2,MATCH(1,(komnavn2=B99)*(komaar2=D99),0),37))","v":""},{"$f":"IF(B99=\"\",\"\",INDEX(Data_kom2,MATCH(1,(komnavn2=B99)*(komaar2=D99),0),38))","v":""}]
[3,{"$f":"'Dine valg'!$G$26","v":""},{"$f":"IF(B100=\"\",\"\",INDEX(Data_kom2,MATCH(1,(komnavn2=B100)*(komaar2=D100),0),2))","v":""},"2016-07-01",{"$f":"IF(B100=\"\",\"\",INDEX(Data_kom2,MATCH(1,(komnavn2=B100)*(komaar2=D100),0),4))","v":""},{"$f":"IF(B100=\"\",\"\",INDEX(Data_kom2,MATCH(1,(komnavn2=B100)*(komaar2=D100),0),5))","v":""},{"$f":"IF(B100=\"\",\"\",INDEX(Data_kom2,MATCH(1,(komnavn2=B100)*(komaar2=D100),0),6))","v":""},{"$f":"IF(B100=\"\",\"\",INDEX(Data_kom2,MATCH(1,(komnavn2=B100)*(komaar2=D100),0),7))","v":""},{"$f":"IF(B100=\"\",\"\",INDEX(Data_kom2,MATCH(1,(komnavn2=B100)*(komaar2=D100),0),8))","v":""},{"$f":"IF(B100=\"\",\"\",INDEX(Data_kom2,MATCH(1,(komnavn2=B100)*(komaar2=D100),0),9))","v":""},{"$f":"IF(B100=\"\",\"\",INDEX(Data_kom2,MATCH(1,(komnavn2=B100)*(komaar2=D100),0),10))","v":""},{"$f":"IF(B100=\"\",\"\",INDEX(Data_kom2,MATCH(1,(komnavn2=B100)*(komaar2=D100),0),11))","v":""},{"$f":"IF(B100=\"\",\"\",INDEX(Data_kom2,MATCH(1,(komnavn2=B100)*(komaar2=D100),0),12))","v":""},{"$f":"IF(B100=\"\",\"\",INDEX(Data_kom2,MATCH(1,(komnavn2=B100)*(komaar2=D100),0),13))","v":""},{"$f":"IF(B100=\"\",\"\",INDEX(Data_kom2,MATCH(1,(komnavn2=B100)*(komaar2=D100),0),14))","v":""},{"$f":"IF(B100=\"\",\"\",INDEX(Data_kom2,MATCH(1,(komnavn2=B100)*(komaar2=D100),0),15))","v":""},{"$f":"IF(B100=\"\",\"\",INDEX(Data_kom2,MATCH(1,(komnavn2=B100)*(komaar2=D100),0),16))","v":""},{"$f":"IF(B100=\"\",\"\",INDEX(Data_kom2,MATCH(1,(komnavn2=B100)*(komaar2=D100),0),17))","v":""},{"$f":"IF(B100=\"\",\"\",INDEX(Data_kom2,MATCH(1,(komnavn2=B100)*(komaar2=D100),0),18))","v":""},{"$f":"IF(B100=\"\",\"\",INDEX(Data_kom2,MATCH(1,(komnavn2=B100)*(komaar2=D100),0),19))","v":""},{"$f":"IF(B100=\"\",\"\",INDEX(Data_kom2,MATCH(1,(komnavn2=B100)*(komaar2=D100),0),20))","v":""},{"$f":"IF(B100=\"\",\"\",INDEX(Data_kom2,MATCH(1,(komnavn2=B100)*(komaar2=D100),0),21))","v":""},{"$f":"IF(B100=\"\",\"\",INDEX(Data_kom2,MATCH(1,(komnavn2=B100)*(komaar2=D100),0),22))","v":""},{"$f":"IF(B100=\"\",\"\",INDEX(Data_kom2,MATCH(1,(komnavn2=B100)*(komaar2=D100),0),23))","v":""},{"$f":"IF(B100=\"\",\"\",INDEX(Data_kom2,MATCH(1,(komnavn2=B100)*(komaar2=D100),0),24))","v":""},{"$f":"IF(B100=\"\",\"\",INDEX(Data_kom2,MATCH(1,(komnavn2=B100)*(komaar2=D100),0),25))","v":""},{"$f":"IF(B100=\"\",\"\",INDEX(Data_kom2,MATCH(1,(komnavn2=B100)*(komaar2=D100),0),26))","v":""},{"$f":"IF(B100=\"\",\"\",INDEX(Data_kom2,MATCH(1,(komnavn2=B100)*(komaar2=D100),0),27))","v":""},{"$f":"IF(B100=\"\",\"\",INDEX(Data_kom2,MATCH(1,(komnavn2=B100)*(komaar2=D100),0),28))","v":""},{"$f":"IF(B100=\"\",\"\",INDEX(Data_kom2,MATCH(1,(komnavn2=B100)*(komaar2=D100),0),29))","v":""},{"$f":"IF(B100=\"\",\"\",INDEX(Data_kom2,MATCH(1,(komnavn2=B100)*(komaar2=D100),0),30))","v":""},{"$f":"IF(B100=\"\",\"\",INDEX(Data_kom2,MATCH(1,(komnavn2=B100)*(komaar2=D100),0),31))","v":""},{"$f":"IF(B100=\"\",\"\",INDEX(Data_kom2,MATCH(1,(komnavn2=B100)*(komaar2=D100),0),32))","v":""},{"$f":"IF(B100=\"\",\"\",INDEX(Data_kom2,MATCH(1,(komnavn2=B100)*(komaar2=D100),0),33))","v":""},{"$f":"IF(B100=\"\",\"\",INDEX(Data_kom2,MATCH(1,(komnavn2=B100)*(komaar2=D100),0),34))","v":""},{"$f":"IF(B100=\"\",\"\",INDEX(Data_kom2,MATCH(1,(komnavn2=B100)*(komaar2=D100),0),35))","v":""},{"$f":"IF(B100=\"\",\"\",INDEX(Data_kom2,MATCH(1,(komnavn2=B100)*(komaar2=D100),0),36))","v":""},{"$f":"IF(B100=\"\",\"\",INDEX(Data_kom2,MATCH(1,(komnavn2=B100)*(komaar2=D100),0),37))","v":""},{"$f":"IF(B100=\"\",\"\",INDEX(Data_kom2,MATCH(1,(komnavn2=B100)*(komaar2=D100),0),38))","v":""}]
[4,{"$f":"'Dine valg'!$G$27","v":""},{"$f":"IF(B101=\"\",\"\",INDEX(Data_kom2,MATCH(1,(komnavn2=B101)*(komaar2=D101),0),2))","v":""},"2016-07-01",{"$f":"IF(B101=\"\",\"\",INDEX(Data_kom2,MATCH(1,(komnavn2=B101)*(komaar2=D101),0),4))","v":""},{"$f":"IF(B101=\"\",\"\",INDEX(Data_kom2,MATCH(1,(komnavn2=B101)*(komaar2=D101),0),5))","v":""},{"$f":"IF(B101=\"\",\"\",INDEX(Data_kom2,MATCH(1,(komnavn2=B101)*(komaar2=D101),0),6))","v":""},{"$f":"IF(B101=\"\",\"\",INDEX(Data_kom2,MATCH(1,(komnavn2=B101)*(komaar2=D101),0),7))","v":""},{"$f":"IF(B101=\"\",\"\",INDEX(Data_kom2,MATCH(1,(komnavn2=B101)*(komaar2=D101),0),8))","v":""},{"$f":"IF(B101=\"\",\"\",INDEX(Data_kom2,MATCH(1,(komnavn2=B101)*(komaar2=D101),0),9))","v":""},{"$f":"IF(B101=\"\",\"\",INDEX(Data_kom2,MATCH(1,(komnavn2=B101)*(komaar2=D101),0),10))","v":""},{"$f":"IF(B101=\"\",\"\",INDEX(Data_kom2,MATCH(1,(komnavn2=B101)*(komaar2=D101),0),11))","v":""},{"$f":"IF(B101=\"\",\"\",INDEX(Data_kom2,MATCH(1,(komnavn2=B101)*(komaar2=D101),0),12))","v":""},{"$f":"IF(B101=\"\",\"\",INDEX(Data_kom2,MATCH(1,(komnavn2=B101)*(komaar2=D101),0),13))","v":""},{"$f":"IF(B101=\"\",\"\",INDEX(Data_kom2,MATCH(1,(komnavn2=B101)*(komaar2=D101),0),14))","v":""},{"$f":"IF(B101=\"\",\"\",INDEX(Data_kom2,MATCH(1,(komnavn2=B101)*(komaar2=D101),0),15))","v":""},{"$f":"IF(B101=\"\",\"\",INDEX(Data_kom2,MATCH(1,(komnavn2=B101)*(komaar2=D101),0),16))","v":""},{"$f":"IF(B101=\"\",\"\",INDEX(Data_kom2,MATCH(1,(komnavn2=B101)*(komaar2=D101),0),17))","v":""},{"$f":"IF(B101=\"\",\"\",INDEX(Data_kom2,MATCH(1,(komnavn2=B101)*(komaar2=D101),0),18))","v":""},{"$f":"IF(B101=\"\",\"\",INDEX(Data_kom2,MATCH(1,(komnavn2=B101)*(komaar2=D101),0),19))","v":""},{"$f":"IF(B101=\"\",\"\",INDEX(Data_kom2,MATCH(1,(komnavn2=B101)*(komaar2=D101),0),20))","v":""},{"$f":"IF(B101=\"\",\"\",INDEX(Data_kom2,MATCH(1,(komnavn2=B101)*(komaar2=D101),0),21))","v":""},{"$f":"IF(B101=\"\",\"\",INDEX(Data_kom2,MATCH(1,(komnavn2=B101)*(komaar2=D101),0),22))","v":""},{"$f":"IF(B101=\"\",\"\",INDEX(Data_kom2,MATCH(1,(komnavn2=B101)*(komaar2=D101),0),23))","v":""},{"$f":"IF(B101=\"\",\"\",INDEX(Data_kom2,MATCH(1,(komnavn2=B101)*(komaar2=D101),0),24))","v":""},{"$f":"IF(B101=\"\",\"\",INDEX(Data_kom2,MATCH(1,(komnavn2=B101)*(komaar2=D101),0),25))","v":""},{"$f":"IF(B101=\"\",\"\",INDEX(Data_kom2,MATCH(1,(komnavn2=B101)*(komaar2=D101),0),26))","v":""},{"$f":"IF(B101=\"\",\"\",INDEX(Data_kom2,MATCH(1,(komnavn2=B101)*(komaar2=D101),0),27))","v":""},{"$f":"IF(B101=\"\",\"\",INDEX(Data_kom2,MATCH(1,(komnavn2=B101)*(komaar2=D101),0),28))","v":""},{"$f":"IF(B101=\"\",\"\",INDEX(Data_kom2,MATCH(1,(komnavn2=B101)*(komaar2=D101),0),29))","v":""},{"$f":"IF(B101=\"\",\"\",INDEX(Data_kom2,MATCH(1,(komnavn2=B101)*(komaar2=D101),0),30))","v":""},{"$f":"IF(B101=\"\",\"\",INDEX(Data_kom2,MATCH(1,(komnavn2=B101)*(komaar2=D101),0),31))","v":""},{"$f":"IF(B101=\"\",\"\",INDEX(Data_kom2,MATCH(1,(komnavn2=B101)*(komaar2=D101),0),32))","v":""},{"$f":"IF(B101=\"\",\"\",INDEX(Data_kom2,MATCH(1,(komnavn2=B101)*(komaar2=D101),0),33))","v":""},{"$f":"IF(B101=\"\",\"\",INDEX(Data_kom2,MATCH(1,(komnavn2=B101)*(komaar2=D101),0),34))","v":""},{"$f":"IF(B101=\"\",\"\",INDEX(Data_kom2,MATCH(1,(komnavn2=B101)*(komaar2=D101),0),35))","v":""},{"$f":"IF(B101=\"\",\"\",INDEX(Data_kom2,MATCH(1,(komnavn2=B101)*(komaar2=D101),0),36))","v":""},{"$f":"IF(B101=\"\",\"\",INDEX(Data_kom2,MATCH(1,(komnavn2=B101)*(komaar2=D101),0),37))","v":""},{"$f":"IF(B101=\"\",\"\",INDEX(Data_kom2,MATCH(1,(komnavn2=B101)*(komaar2=D101),0),38))","v":""}]
[5,{"$f":"'Dine valg'!$G$28","v":""},{"$f":"IF(B102=\"\",\"\",INDEX(Data_kom2,MATCH(1,(komnavn2=B102)*(komaar2=D102),0),2))","v":""},"2016-07-01",{"$f":"IF(B102=\"\",\"\",INDEX(Data_kom2,MATCH(1,(komnavn2=B102)*(komaar2=D102),0),4))","v":""},{"$f":"IF(B102=\"\",\"\",INDEX(Data_kom2,MATCH(1,(komnavn2=B102)*(komaar2=D102),0),5))","v":""},{"$f":"IF(B102=\"\",\"\",INDEX(Data_kom2,MATCH(1,(komnavn2=B102)*(komaar2=D102),0),6))","v":""},{"$f":"IF(B102=\"\",\"\",INDEX(Data_kom2,MATCH(1,(komnavn2=B102)*(komaar2=D102),0),7))","v":""},{"$f":"IF(B102=\"\",\"\",INDEX(Data_kom2,MATCH(1,(komnavn2=B102)*(komaar2=D102),0),8))","v":""},{"$f":"IF(B102=\"\",\"\",INDEX(Data_kom2,MATCH(1,(komnavn2=B102)*(komaar2=D102),0),9))","v":""},{"$f":"IF(B102=\"\",\"\",INDEX(Data_kom2,MATCH(1,(komnavn2=B102)*(komaar2=D102),0),10))","v":""},{"$f":"IF(B102=\"\",\"\",INDEX(Data_kom2,MATCH(1,(komnavn2=B102)*(komaar2=D102),0),11))","v":""},{"$f":"IF(B102=\"\",\"\",INDEX(Data_kom2,MATCH(1,(komnavn2=B102)*(komaar2=D102),0),12))","v":""},{"$f":"IF(B102=\"\",\"\",INDEX(Data_kom2,MATCH(1,(komnavn2=B102)*(komaar2=D102),0),13))","v":""},{"$f":"IF(B102=\"\",\"\",INDEX(Data_kom2,MATCH(1,(komnavn2=B102)*(komaar2=D102),0),14))","v":""},{"$f":"IF(B102=\"\",\"\",INDEX(Data_kom2,MATCH(1,(komnavn2=B102)*(komaar2=D102),0),15))","v":""},{"$f":"IF(B102=\"\",\"\",INDEX(Data_kom2,MATCH(1,(komnavn2=B102)*(komaar2=D102),0),16))","v":""},{"$f":"IF(B102=\"\",\"\",INDEX(Data_kom2,MATCH(1,(komnavn2=B102)*(komaar2=D102),0),17))","v":""},{"$f":"IF(B102=\"\",\"\",INDEX(Data_kom2,MATCH(1,(komnavn2=B102)*(komaar2=D102),0),18))","v":""},{"$f":"IF(B102=\"\",\"\",INDEX(Data_kom2,MATCH(1,(komnavn2=B102)*(komaar2=D102),0),19))","v":""},{"$f":"IF(B102=\"\",\"\",INDEX(Data_kom2,MATCH(1,(komnavn2=B102)*(komaar2=D102),0),20))","v":""},{"$f":"IF(B102=\"\",\"\",INDEX(Data_kom2,MATCH(1,(komnavn2=B102)*(komaar2=D102),0),21))","v":""},{"$f":"IF(B102=\"\",\"\",INDEX(Data_kom2,MATCH(1,(komnavn2=B102)*(komaar2=D102),0),22))","v":""},{"$f":"IF(B102=\"\",\"\",INDEX(Data_kom2,MATCH(1,(komnavn2=B102)*(komaar2=D102),0),23))","v":""},{"$f":"IF(B102=\"\",\"\",INDEX(Data_kom2,MATCH(1,(komnavn2=B102)*(komaar2=D102),0),24))","v":""},{"$f":"IF(B102=\"\",\"\",INDEX(Data_kom2,MATCH(1,(komnavn2=B102)*(komaar2=D102),0),25))","v":""},{"$f":"IF(B102=\"\",\"\",INDEX(Data_kom2,MATCH(1,(komnavn2=B102)*(komaar2=D102),0),26))","v":""},{"$f":"IF(B102=\"\",\"\",INDEX(Data_kom2,MATCH(1,(komnavn2=B102)*(komaar2=D102),0),27))","v":""},{"$f":"IF(B102=\"\",\"\",INDEX(Data_kom2,MATCH(1,(komnavn2=B102)*(komaar2=D102),0),28))","v":""},{"$f":"IF(B102=\"\",\"\",INDEX(Data_kom2,MATCH(1,(komnavn2=B102)*(komaar2=D102),0),29))","v":""},{"$f":"IF(B102=\"\",\"\",INDEX(Data_kom2,MATCH(1,(komnavn2=B102)*(komaar2=D102),0),30))","v":""},{"$f":"IF(B102=\"\",\"\",INDEX(Data_kom2,MATCH(1,(komnavn2=B102)*(komaar2=D102),0),31))","v":""},{"$f":"IF(B102=\"\",\"\",INDEX(Data_kom2,MATCH(1,(komnavn2=B102)*(komaar2=D102),0),32))","v":""},{"$f":"IF(B102=\"\",\"\",INDEX(Data_kom2,MATCH(1,(komnavn2=B102)*(komaar2=D102),0),33))","v":""},{"$f":"IF(B102=\"\",\"\",INDEX(Data_kom2,MATCH(1,(komnavn2=B102)*(komaar2=D102),0),34))","v":""},{"$f":"IF(B102=\"\",\"\",INDEX(Data_kom2,MATCH(1,(komnavn2=B102)*(komaar2=D102),0),35))","v":""},{"$f":"IF(B102=\"\",\"\",INDEX(Data_kom2,MATCH(1,(komnavn2=B102)*(komaar2=D102),0),36))","v":""},{"$f":"IF(B102=\"\",\"\",INDEX(Data_kom2,MATCH(1,(komnavn2=B102)*(komaar2=D102),0),37))","v":""},{"$f":"IF(B102=\"\",\"\",INDEX(Data_kom2,MATCH(1,(komnavn2=B102)*(komaar2=D102),0),38))","v":""}]
[6,{"$f":"'Dine valg'!$G$29","v":""},{"$f":"IF(B103=\"\",\"\",INDEX(Data_kom2,MATCH(1,(komnavn2=B103)*(komaar2=D103),0),2))","v":""},"2016-07-01",{"$f":"IF(B103=\"\",\"\",INDEX(Data_kom2,MATCH(1,(komnavn2=B103)*(komaar2=D103),0),4))","v":""},{"$f":"IF(B103=\"\",\"\",INDEX(Data_kom2,MATCH(1,(komnavn2=B103)*(komaar2=D103),0),5))","v":""},{"$f":"IF(B103=\"\",\"\",INDEX(Data_kom2,MATCH(1,(komnavn2=B103)*(komaar2=D103),0),6))","v":""},{"$f":"IF(B103=\"\",\"\",INDEX(Data_kom2,MATCH(1,(komnavn2=B103)*(komaar2=D103),0),7))","v":""},{"$f":"IF(B103=\"\",\"\",INDEX(Data_kom2,MATCH(1,(komnavn2=B103)*(komaar2=D103),0),8))","v":""},{"$f":"IF(B103=\"\",\"\",INDEX(Data_kom2,MATCH(1,(komnavn2=B103)*(komaar2=D103),0),9))","v":""},{"$f":"IF(B103=\"\",\"\",INDEX(Data_kom2,MATCH(1,(komnavn2=B103)*(komaar2=D103),0),10))","v":""},{"$f":"IF(B103=\"\",\"\",INDEX(Data_kom2,MATCH(1,(komnavn2=B103)*(komaar2=D103),0),11))","v":""},{"$f":"IF(B103=\"\",\"\",INDEX(Data_kom2,MATCH(1,(komnavn2=B103)*(komaar2=D103),0),12))","v":""},{"$f":"IF(B103=\"\",\"\",INDEX(Data_kom2,MATCH(1,(komnavn2=B103)*(komaar2=D103),0),13))","v":""},{"$f":"IF(B103=\"\",\"\",INDEX(Data_kom2,MATCH(1,(komnavn2=B103)*(komaar2=D103),0),14))","v":""},{"$f":"IF(B103=\"\",\"\",INDEX(Data_kom2,MATCH(1,(komnavn2=B103)*(komaar2=D103),0),15))","v":""},{"$f":"IF(B103=\"\",\"\",INDEX(Data_kom2,MATCH(1,(komnavn2=B103)*(komaar2=D103),0),16))","v":""},{"$f":"IF(B103=\"\",\"\",INDEX(Data_kom2,MATCH(1,(komnavn2=B103)*(komaar2=D103),0),17))","v":""},{"$f":"IF(B103=\"\",\"\",INDEX(Data_kom2,MATCH(1,(komnavn2=B103)*(komaar2=D103),0),18))","v":""},{"$f":"IF(B103=\"\",\"\",INDEX(Data_kom2,MATCH(1,(komnavn2=B103)*(komaar2=D103),0),19))","v":""},{"$f":"IF(B103=\"\",\"\",INDEX(Data_kom2,MATCH(1,(komnavn2=B103)*(komaar2=D103),0),20))","v":""},{"$f":"IF(B103=\"\",\"\",INDEX(Data_kom2,MATCH(1,(komnavn2=B103)*(komaar2=D103),0),21))","v":""},{"$f":"IF(B103=\"\",\"\",INDEX(Data_kom2,MATCH(1,(komnavn2=B103)*(komaar2=D103),0),22))","v":""},{"$f":"IF(B103=\"\",\"\",INDEX(Data_kom2,MATCH(1,(komnavn2=B103)*(komaar2=D103),0),23))","v":""},{"$f":"IF(B103=\"\",\"\",INDEX(Data_kom2,MATCH(1,(komnavn2=B103)*(komaar2=D103),0),24))","v":""},{"$f":"IF(B103=\"\",\"\",INDEX(Data_kom2,MATCH(1,(komnavn2=B103)*(komaar2=D103),0),25))","v":""},{"$f":"IF(B103=\"\",\"\",INDEX(Data_kom2,MATCH(1,(komnavn2=B103)*(komaar2=D103),0),26))","v":""},{"$f":"IF(B103=\"\",\"\",INDEX(Data_kom2,MATCH(1,(komnavn2=B103)*(komaar2=D103),0),27))","v":""},{"$f":"IF(B103=\"\",\"\",INDEX(Data_kom2,MATCH(1,(komnavn2=B103)*(komaar2=D103),0),28))","v":""},{"$f":"IF(B103=\"\",\"\",INDEX(Data_kom2,MATCH(1,(komnavn2=B103)*(komaar2=D103),0),29))","v":""},{"$f":"IF(B103=\"\",\"\",INDEX(Data_kom2,MATCH(1,(komnavn2=B103)*(komaar2=D103),0),30))","v":""},{"$f":"IF(B103=\"\",\"\",INDEX(Data_kom2,MATCH(1,(komnavn2=B103)*(komaar2=D103),0),31))","v":""},{"$f":"IF(B103=\"\",\"\",INDEX(Data_kom2,MATCH(1,(komnavn2=B103)*(komaar2=D103),0),32))","v":""},{"$f":"IF(B103=\"\",\"\",INDEX(Data_kom2,MATCH(1,(komnavn2=B103)*(komaar2=D103),0),33))","v":""},{"$f":"IF(B103=\"\",\"\",INDEX(Data_kom2,MATCH(1,(komnavn2=B103)*(komaar2=D103),0),34))","v":""},{"$f":"IF(B103=\"\",\"\",INDEX(Data_kom2,MATCH(1,(komnavn2=B103)*(komaar2=D103),0),35))","v":""},{"$f":"IF(B103=\"\",\"\",INDEX(Data_kom2,MATCH(1,(komnavn2=B103)*(komaar2=D103),0),36))","v":""},{"$f":"IF(B103=\"\",\"\",INDEX(Data_kom2,MATCH(1,(komnavn2=B103)*(komaar2=D103),0),37))","v":""},{"$f":"IF(B103=\"\",\"\",INDEX(Data_kom2,MATCH(1,(komnavn2=B103)*(komaar2=D103),0),38))","v":""}]
[7,{"$f":"'Dine valg'!$G$30","v":""},{"$f":"IF(B104=\"\",\"\",INDEX(Data_kom2,MATCH(1,(komnavn2=B104)*(komaar2=D104),0),2))","v":""},"2016-07-01",{"$f":"IF(B104=\"\",\"\",INDEX(Data_kom2,MATCH(1,(komnavn2=B104)*(komaar2=D104),0),4))","v":""},{"$f":"IF(B104=\"\",\"\",INDEX(Data_kom2,MATCH(1,(komnavn2=B104)*(komaar2=D104),0),5))","v":""},{"$f":"IF(B104=\"\",\"\",INDEX(Data_kom2,MATCH(1,(komnavn2=B104)*(komaar2=D104),0),6))","v":""},{"$f":"IF(B104=\"\",\"\",INDEX(Data_kom2,MATCH(1,(komnavn2=B104)*(komaar2=D104),0),7))","v":""},{"$f":"IF(B104=\"\",\"\",INDEX(Data_kom2,MATCH(1,(komnavn2=B104)*(komaar2=D104),0),8))","v":""},{"$f":"IF(B104=\"\",\"\",INDEX(Data_kom2,MATCH(1,(komnavn2=B104)*(komaar2=D104),0),9))","v":""},{"$f":"IF(B104=\"\",\"\",INDEX(Data_kom2,MATCH(1,(komnavn2=B104)*(komaar2=D104),0),10))","v":""},{"$f":"IF(B104=\"\",\"\",INDEX(Data_kom2,MATCH(1,(komnavn2=B104)*(komaar2=D104),0),11))","v":""},{"$f":"IF(B104=\"\",\"\",INDEX(Data_kom2,MATCH(1,(komnavn2=B104)*(komaar2=D104),0),12))","v":""},{"$f":"IF(B104=\"\",\"\",INDEX(Data_kom2,MATCH(1,(komnavn2=B104)*(komaar2=D104),0),13))","v":""},{"$f":"IF(B104=\"\",\"\",INDEX(Data_kom2,MATCH(1,(komnavn2=B104)*(komaar2=D104),0),14))","v":""},{"$f":"IF(B104=\"\",\"\",INDEX(Data_kom2,MATCH(1,(komnavn2=B104)*(komaar2=D104),0),15))","v":""},{"$f":"IF(B104=\"\",\"\",INDEX(Data_kom2,MATCH(1,(komnavn2=B104)*(komaar2=D104),0),16))","v":""},{"$f":"IF(B104=\"\",\"\",INDEX(Data_kom2,MATCH(1,(komnavn2=B104)*(komaar2=D104),0),17))","v":""},{"$f":"IF(B104=\"\",\"\",INDEX(Data_kom2,MATCH(1,(komnavn2=B104)*(komaar2=D104),0),18))","v":""},{"$f":"IF(B104=\"\",\"\",INDEX(Data_kom2,MATCH(1,(komnavn2=B104)*(komaar2=D104),0),19))","v":""},{"$f":"IF(B104=\"\",\"\",INDEX(Data_kom2,MATCH(1,(komnavn2=B104)*(komaar2=D104),0),20))","v":""},{"$f":"IF(B104=\"\",\"\",INDEX(Data_kom2,MATCH(1,(komnavn2=B104)*(komaar2=D104),0),21))","v":""},{"$f":"IF(B104=\"\",\"\",INDEX(Data_kom2,MATCH(1,(komnavn2=B104)*(komaar2=D104),0),22))","v":""},{"$f":"IF(B104=\"\",\"\",INDEX(Data_kom2,MATCH(1,(komnavn2=B104)*(komaar2=D104),0),23))","v":""},{"$f":"IF(B104=\"\",\"\",INDEX(Data_kom2,MATCH(1,(komnavn2=B104)*(komaar2=D104),0),24))","v":""},{"$f":"IF(B104=\"\",\"\",INDEX(Data_kom2,MATCH(1,(komnavn2=B104)*(komaar2=D104),0),25))","v":""},{"$f":"IF(B104=\"\",\"\",INDEX(Data_kom2,MATCH(1,(komnavn2=B104)*(komaar2=D104),0),26))","v":""},{"$f":"IF(B104=\"\",\"\",INDEX(Data_kom2,MATCH(1,(komnavn2=B104)*(komaar2=D104),0),27))","v":""},{"$f":"IF(B104=\"\",\"\",INDEX(Data_kom2,MATCH(1,(komnavn2=B104)*(komaar2=D104),0),28))","v":""},{"$f":"IF(B104=\"\",\"\",INDEX(Data_kom2,MATCH(1,(komnavn2=B104)*(komaar2=D104),0),29))","v":""},{"$f":"IF(B104=\"\",\"\",INDEX(Data_kom2,MATCH(1,(komnavn2=B104)*(komaar2=D104),0),30))","v":""},{"$f":"IF(B104=\"\",\"\",INDEX(Data_kom2,MATCH(1,(komnavn2=B104)*(komaar2=D104),0),31))","v":""},{"$f":"IF(B104=\"\",\"\",INDEX(Data_kom2,MATCH(1,(komnavn2=B104)*(komaar2=D104),0),32))","v":""},{"$f":"IF(B104=\"\",\"\",INDEX(Data_kom2,MATCH(1,(komnavn2=B104)*(komaar2=D104),0),33))","v":""},{"$f":"IF(B104=\"\",\"\",INDEX(Data_kom2,MATCH(1,(komnavn2=B104)*(komaar2=D104),0),34))","v":""},{"$f":"IF(B104=\"\",\"\",INDEX(Data_kom2,MATCH(1,(komnavn2=B104)*(komaar2=D104),0),35))","v":""},{"$f":"IF(B104=\"\",\"\",INDEX(Data_kom2,MATCH(1,(komnavn2=B104)*(komaar2=D104),0),36))","v":""},{"$f":"IF(B104=\"\",\"\",INDEX(Data_kom2,MATCH(1,(komnavn2=B104)*(komaar2=D104),0),37))","v":""},{"$f":"IF(B104=\"\",\"\",INDEX(Data_kom2,MATCH(1,(komnavn2=B104)*(komaar2=D104),0),38))","v":""}]
[1,{"$f":"'Dine valg'!$G$24","v":"Aarhus"},{"$f":"IF(B105=\"\",\"\",INDEX(Data_kom2,MATCH(1,(komnavn2=B105)*(komaar2=D105),0),2))","v":62241},"2016-01-01",{"$f":"IF(B105=\"\",\"\",INDEX(Data_kom2,MATCH(1,(komnavn2=B105)*(komaar2=D105),0),4))","v":189},{"$f":"IF(B105=\"\",\"\",INDEX(Data_kom2,MATCH(1,(komnavn2=B105)*(komaar2=D105),0),5))","v":127},{"$f":"IF(B105=\"\",\"\",INDEX(Data_kom2,MATCH(1,(komnavn2=B105)*(komaar2=D105),0),6))","v":7},{"$f":"IF(B105=\"\",\"\",INDEX(Data_kom2,MATCH(1,(komnavn2=B105)*(komaar2=D105),0),7))","v":55},{"$f":"IF(B105=\"\",\"\",INDEX(Data_kom2,MATCH(1,(komnavn2=B105)*(komaar2=D105),0),8))","v":200604},{"$f":"IF(B105=\"\",\"\",INDEX(Data_kom2,MATCH(1,(komnavn2=B105)*(komaar2=D105),0),9))","v":156966},{"$f":"IF(B105=\"\",\"\",INDEX(Data_kom2,MATCH(1,(komnavn2=B105)*(komaar2=D105),0),10))","v":839},{"$f":"IF(B105=\"\",\"\",INDEX(Data_kom2,MATCH(1,(komnavn2=B105)*(komaar2=D105),0),11))","v":42799},{"$f":"IF(B105=\"\",\"\",INDEX(Data_kom2,MATCH(1,(komnavn2=B105)*(komaar2=D105),0),12))","v":208},{"$f":"IF(B105=\"\",\"\",INDEX(Data_kom2,MATCH(1,(komnavn2=B105)*(komaar2=D105),0),13))","v":37},{"$f":"IF(B105=\"\",\"\",INDEX(Data_kom2,MATCH(1,(komnavn2=B105)*(komaar2=D105),0),14))","v":1152},{"$f":"IF(B105=\"\",\"\",INDEX(Data_kom2,MATCH(1,(komnavn2=B105)*(komaar2=D105),0),15))","v":3},{"$f":"IF(B105=\"\",\"\",INDEX(Data_kom2,MATCH(1,(komnavn2=B105)*(komaar2=D105),0),16))","v":30},{"$f":"IF(B105=\"\",\"\",INDEX(Data_kom2,MATCH(1,(komnavn2=B105)*(komaar2=D105),0),17))","v":1103},{"$f":"IF(B105=\"\",\"\",INDEX(Data_kom2,MATCH(1,(komnavn2=B105)*(komaar2=D105),0),18))","v":16},{"$f":"IF(B105=\"\",\"\",INDEX(Data_kom2,MATCH(1,(komnavn2=B105)*(komaar2=D105),0),19))","v":0},{"$f":"IF(B105=\"\",\"\",INDEX(Data_kom2,MATCH(1,(komnavn2=B105)*(komaar2=D105),0),20))","v":0},{"$f":"IF(B105=\"\",\"\",INDEX(Data_kom2,MATCH(1,(komnavn2=B105)*(komaar2=D105),0),21))","v":0},{"$f":"IF(B105=\"\",\"\",INDEX(Data_kom2,MATCH(1,(komnavn2=B105)*(komaar2=D105),0),22))","v":30},{"$f":"IF(B105=\"\",\"\",INDEX(Data_kom2,MATCH(1,(komnavn2=B105)*(komaar2=D105),0),23))","v":190},{"$f":"IF(B105=\"\",\"\",INDEX(Data_kom2,MATCH(1,(komnavn2=B105)*(komaar2=D105),0),24))","v":4},{"$f":"IF(B105=\"\",\"\",INDEX(Data_kom2,MATCH(1,(komnavn2=B105)*(komaar2=D105),0),25))","v":190},{"$f":"IF(B105=\"\",\"\",INDEX(Data_kom2,MATCH(1,(komnavn2=B105)*(komaar2=D105),0),26))","v":26},{"$f":"IF(B105=\"\",\"\",INDEX(Data_kom2,MATCH(1,(komnavn2=B105)*(komaar2=D105),0),27))","v":190},{"$f":"IF(B105=\"\",\"\",INDEX(Data_kom2,MATCH(1,(komnavn2=B105)*(komaar2=D105),0),28))","v":0},{"$f":"IF(B105=\"\",\"\",INDEX(Data_kom2,MATCH(1,(komnavn2=B105)*(komaar2=D105),0),29))","v":0},{"$f":"IF(B105=\"\",\"\",INDEX(Data_kom2,MATCH(1,(komnavn2=B105)*(komaar2=D105),0),30))","v":293},{"$f":"IF(B105=\"\",\"\",INDEX(Data_kom2,MATCH(1,(komnavn2=B105)*(komaar2=D105),0),31))","v":1083},{"$f":"IF(B105=\"\",\"\",INDEX(Data_kom2,MATCH(1,(komnavn2=B105)*(komaar2=D105),0),32))","v":0},{"$f":"IF(B105=\"\",\"\",INDEX(Data_kom2,MATCH(1,(komnavn2=B105)*(komaar2=D105),0),33))","v":0},{"$f":"IF(B105=\"\",\"\",INDEX(Data_kom2,MATCH(1,(komnavn2=B105)*(komaar2=D105),0),34))","v":0},{"$f":"IF(B105=\"\",\"\",INDEX(Data_kom2,MATCH(1,(komnavn2=B105)*(komaar2=D105),0),35))","v":0},{"$f":"IF(B105=\"\",\"\",INDEX(Data_kom2,MATCH(1,(komnavn2=B105)*(komaar2=D105),0),36))","v":0},{"$f":"IF(B105=\"\",\"\",INDEX(Data_kom2,MATCH(1,(komnavn2=B105)*(komaar2=D105),0),37))","v":0},{"$f":"IF(B105=\"\",\"\",INDEX(Data_kom2,MATCH(1,(komnavn2=B105)*(komaar2=D105),0),38))","v":"Region Midtjylland"}]
[2,{"$f":"'Dine valg'!$G$25","v":""},{"$f":"IF(B106=\"\",\"\",INDEX(Data_kom2,MATCH(1,(komnavn2=B106)*(komaar2=D106),0),2))","v":""},"2016-01-01",{"$f":"IF(B106=\"\",\"\",INDEX(Data_kom2,MATCH(1,(komnavn2=B106)*(komaar2=D106),0),4))","v":""},{"$f":"IF(B106=\"\",\"\",INDEX(Data_kom2,MATCH(1,(komnavn2=B106)*(komaar2=D106),0),5))","v":""},{"$f":"IF(B106=\"\",\"\",INDEX(Data_kom2,MATCH(1,(komnavn2=B106)*(komaar2=D106),0),6))","v":""},{"$f":"IF(B106=\"\",\"\",INDEX(Data_kom2,MATCH(1,(komnavn2=B106)*(komaar2=D106),0),7))","v":""},{"$f":"IF(B106=\"\",\"\",INDEX(Data_kom2,MATCH(1,(komnavn2=B106)*(komaar2=D106),0),8))","v":""},{"$f":"IF(B106=\"\",\"\",INDEX(Data_kom2,MATCH(1,(komnavn2=B106)*(komaar2=D106),0),9))","v":""},{"$f":"IF(B106=\"\",\"\",INDEX(Data_kom2,MATCH(1,(komnavn2=B106)*(komaar2=D106),0),10))","v":""},{"$f":"IF(B106=\"\",\"\",INDEX(Data_kom2,MATCH(1,(komnavn2=B106)*(komaar2=D106),0),11))","v":""},{"$f":"IF(B106=\"\",\"\",INDEX(Data_kom2,MATCH(1,(komnavn2=B106)*(komaar2=D106),0),12))","v":""},{"$f":"IF(B106=\"\",\"\",INDEX(Data_kom2,MATCH(1,(komnavn2=B106)*(komaar2=D106),0),13))","v":""},{"$f":"IF(B106=\"\",\"\",INDEX(Data_kom2,MATCH(1,(komnavn2=B106)*(komaar2=D106),0),14))","v":""},{"$f":"IF(B106=\"\",\"\",INDEX(Data_kom2,MATCH(1,(komnavn2=B106)*(komaar2=D106),0),15))","v":""},{"$f":"IF(B106=\"\",\"\",INDEX(Data_kom2,MATCH(1,(komnavn2=B106)*(komaar2=D106),0),16))","v":""},{"$f":"IF(B106=\"\",\"\",INDEX(Data_kom2,MATCH(1,(komnavn2=B106)*(komaar2=D106),0),17))","v":""},{"$f":"IF(B106=\"\",\"\",INDEX(Data_kom2,MATCH(1,(komnavn2=B106)*(komaar2=D106),0),18))","v":""},{"$f":"IF(B106=\"\",\"\",INDEX(Data_kom2,MATCH(1,(komnavn2=B106)*(komaar2=D106),0),19))","v":""},{"$f":"IF(B106=\"\",\"\",INDEX(Data_kom2,MATCH(1,(komnavn2=B106)*(komaar2=D106),0),20))","v":""},{"$f":"IF(B106=\"\",\"\",INDEX(Data_kom2,MATCH(1,(komnavn2=B106)*(komaar2=D106),0),21))","v":""},{"$f":"IF(B106=\"\",\"\",INDEX(Data_kom2,MATCH(1,(komnavn2=B106)*(komaar2=D106),0),22))","v":""},{"$f":"IF(B106=\"\",\"\",INDEX(Data_kom2,MATCH(1,(komnavn2=B106)*(komaar2=D106),0),23))","v":""},{"$f":"IF(B106=\"\",\"\",INDEX(Data_kom2,MATCH(1,(komnavn2=B106)*(komaar2=D106),0),24))","v":""},{"$f":"IF(B106=\"\",\"\",INDEX(Data_kom2,MATCH(1,(komnavn2=B106)*(komaar2=D106),0),25))","v":""},{"$f":"IF(B106=\"\",\"\",INDEX(Data_kom2,MATCH(1,(komnavn2=B106)*(komaar2=D106),0),26))","v":""},{"$f":"IF(B106=\"\",\"\",INDEX(Data_kom2,MATCH(1,(komnavn2=B106)*(komaar2=D106),0),27))","v":""},{"$f":"IF(B106=\"\",\"\",INDEX(Data_kom2,MATCH(1,(komnavn2=B106)*(komaar2=D106),0),28))","v":""},{"$f":"IF(B106=\"\",\"\",INDEX(Data_kom2,MATCH(1,(komnavn2=B106)*(komaar2=D106),0),29))","v":""},{"$f":"IF(B106=\"\",\"\",INDEX(Data_kom2,MATCH(1,(komnavn2=B106)*(komaar2=D106),0),30))","v":""},{"$f":"IF(B106=\"\",\"\",INDEX(Data_kom2,MATCH(1,(komnavn2=B106)*(komaar2=D106),0),31))","v":""},{"$f":"IF(B106=\"\",\"\",INDEX(Data_kom2,MATCH(1,(komnavn2=B106)*(komaar2=D106),0),32))","v":""},{"$f":"IF(B106=\"\",\"\",INDEX(Data_kom2,MATCH(1,(komnavn2=B106)*(komaar2=D106),0),33))","v":""},{"$f":"IF(B106=\"\",\"\",INDEX(Data_kom2,MATCH(1,(komnavn2=B106)*(komaar2=D106),0),34))","v":""},{"$f":"IF(B106=\"\",\"\",INDEX(Data_kom2,MATCH(1,(komnavn2=B106)*(komaar2=D106),0),35))","v":""},{"$f":"IF(B106=\"\",\"\",INDEX(Data_kom2,MATCH(1,(komnavn2=B106)*(komaar2=D106),0),36))","v":""},{"$f":"IF(B106=\"\",\"\",INDEX(Data_kom2,MATCH(1,(komnavn2=B106)*(komaar2=D106),0),37))","v":""},{"$f":"IF(B106=\"\",\"\",INDEX(Data_kom2,MATCH(1,(komnavn2=B106)*(komaar2=D106),0),38))","v":""}]
[3,{"$f":"'Dine valg'!$G$26","v":""},{"$f":"IF(B107=\"\",\"\",INDEX(Data_kom2,MATCH(1,(komnavn2=B107)*(komaar2=D107),0),2))","v":""},"2016-01-01",{"$f":"IF(B107=\"\",\"\",INDEX(Data_kom2,MATCH(1,(komnavn2=B107)*(komaar2=D107),0),4))","v":""},{"$f":"IF(B107=\"\",\"\",INDEX(Data_kom2,MATCH(1,(komnavn2=B107)*(komaar2=D107),0),5))","v":""},{"$f":"IF(B107=\"\",\"\",INDEX(Data_kom2,MATCH(1,(komnavn2=B107)*(komaar2=D107),0),6))","v":""},{"$f":"IF(B107=\"\",\"\",INDEX(Data_kom2,MATCH(1,(komnavn2=B107)*(komaar2=D107),0),7))","v":""},{"$f":"IF(B107=\"\",\"\",INDEX(Data_kom2,MATCH(1,(komnavn2=B107)*(komaar2=D107),0),8))","v":""},{"$f":"IF(B107=\"\",\"\",INDEX(Data_kom2,MATCH(1,(komnavn2=B107)*(komaar2=D107),0),9))","v":""},{"$f":"IF(B107=\"\",\"\",INDEX(Data_kom2,MATCH(1,(komnavn2=B107)*(komaar2=D107),0),10))","v":""},{"$f":"IF(B107=\"\",\"\",INDEX(Data_kom2,MATCH(1,(komnavn2=B107)*(komaar2=D107),0),11))","v":""},{"$f":"IF(B107=\"\",\"\",INDEX(Data_kom2,MATCH(1,(komnavn2=B107)*(komaar2=D107),0),12))","v":""},{"$f":"IF(B107=\"\",\"\",INDEX(Data_kom2,MATCH(1,(komnavn2=B107)*(komaar2=D107),0),13))","v":""},{"$f":"IF(B107=\"\",\"\",INDEX(Data_kom2,MATCH(1,(komnavn2=B107)*(komaar2=D107),0),14))","v":""},{"$f":"IF(B107=\"\",\"\",INDEX(Data_kom2,MATCH(1,(komnavn2=B107)*(komaar2=D107),0),15))","v":""},{"$f":"IF(B107=\"\",\"\",INDEX(Data_kom2,MATCH(1,(komnavn2=B107)*(komaar2=D107),0),16))","v":""},{"$f":"IF(B107=\"\",\"\",INDEX(Data_kom2,MATCH(1,(komnavn2=B107)*(komaar2=D107),0),17))","v":""},{"$f":"IF(B107=\"\",\"\",INDEX(Data_kom2,MATCH(1,(komnavn2=B107)*(komaar2=D107),0),18))","v":""},{"$f":"IF(B107=\"\",\"\",INDEX(Data_kom2,MATCH(1,(komnavn2=B107)*(komaar2=D107),0),19))","v":""},{"$f":"IF(B107=\"\",\"\",INDEX(Data_kom2,MATCH(1,(komnavn2=B107)*(komaar2=D107),0),20))","v":""},{"$f":"IF(B107=\"\",\"\",INDEX(Data_kom2,MATCH(1,(komnavn2=B107)*(komaar2=D107),0),21))","v":""},{"$f":"IF(B107=\"\",\"\",INDEX(Data_kom2,MATCH(1,(komnavn2=B107)*(komaar2=D107),0),22))","v":""},{"$f":"IF(B107=\"\",\"\",INDEX(Data_kom2,MATCH(1,(komnavn2=B107)*(komaar2=D107),0),23))","v":""},{"$f":"IF(B107=\"\",\"\",INDEX(Data_kom2,MATCH(1,(komnavn2=B107)*(komaar2=D107),0),24))","v":""},{"$f":"IF(B107=\"\",\"\",INDEX(Data_kom2,MATCH(1,(komnavn2=B107)*(komaar2=D107),0),25))","v":""},{"$f":"IF(B107=\"\",\"\",INDEX(Data_kom2,MATCH(1,(komnavn2=B107)*(komaar2=D107),0),26))","v":""},{"$f":"IF(B107=\"\",\"\",INDEX(Data_kom2,MATCH(1,(komnavn2=B107)*(komaar2=D107),0),27))","v":""},{"$f":"IF(B107=\"\",\"\",INDEX(Data_kom2,MATCH(1,(komnavn2=B107)*(komaar2=D107),0),28))","v":""},{"$f":"IF(B107=\"\",\"\",INDEX(Data_kom2,MATCH(1,(komnavn2=B107)*(komaar2=D107),0),29))","v":""},{"$f":"IF(B107=\"\",\"\",INDEX(Data_kom2,MATCH(1,(komnavn2=B107)*(komaar2=D107),0),30))","v":""},{"$f":"IF(B107=\"\",\"\",INDEX(Data_kom2,MATCH(1,(komnavn2=B107)*(komaar2=D107),0),31))","v":""},{"$f":"IF(B107=\"\",\"\",INDEX(Data_kom2,MATCH(1,(komnavn2=B107)*(komaar2=D107),0),32))","v":""},{"$f":"IF(B107=\"\",\"\",INDEX(Data_kom2,MATCH(1,(komnavn2=B107)*(komaar2=D107),0),33))","v":""},{"$f":"IF(B107=\"\",\"\",INDEX(Data_kom2,MATCH(1,(komnavn2=B107)*(komaar2=D107),0),34))","v":""},{"$f":"IF(B107=\"\",\"\",INDEX(Data_kom2,MATCH(1,(komnavn2=B107)*(komaar2=D107),0),35))","v":""},{"$f":"IF(B107=\"\",\"\",INDEX(Data_kom2,MATCH(1,(komnavn2=B107)*(komaar2=D107),0),36))","v":""},{"$f":"IF(B107=\"\",\"\",INDEX(Data_kom2,MATCH(1,(komnavn2=B107)*(komaar2=D107),0),37))","v":""},{"$f":"IF(B107=\"\",\"\",INDEX(Data_kom2,MATCH(1,(komnavn2=B107)*(komaar2=D107),0),38))","v":""}]
[4,{"$f":"'Dine valg'!$G$27","v":""},{"$f":"IF(B108=\"\",\"\",INDEX(Data_kom2,MATCH(1,(komnavn2=B108)*(komaar2=D108),0),2))","v":""},"2016-01-01",{"$f":"IF(B108=\"\",\"\",INDEX(Data_kom2,MATCH(1,(komnavn2=B108)*(komaar2=D108),0),4))","v":""},{"$f":"IF(B108=\"\",\"\",INDEX(Data_kom2,MATCH(1,(komnavn2=B108)*(komaar2=D108),0),5))","v":""},{"$f":"IF(B108=\"\",\"\",INDEX(Data_kom2,MATCH(1,(komnavn2=B108)*(komaar2=D108),0),6))","v":""},{"$f":"IF(B108=\"\",\"\",INDEX(Data_kom2,MATCH(1,(komnavn2=B108)*(komaar2=D108),0),7))","v":""},{"$f":"IF(B108=\"\",\"\",INDEX(Data_kom2,MATCH(1,(komnavn2=B108)*(komaar2=D108),0),8))","v":""},{"$f":"IF(B108=\"\",\"\",INDEX(Data_kom2,MATCH(1,(komnavn2=B108)*(komaar2=D108),0),9))","v":""},{"$f":"IF(B108=\"\",\"\",INDEX(Data_kom2,MATCH(1,(komnavn2=B108)*(komaar2=D108),0),10))","v":""},{"$f":"IF(B108=\"\",\"\",INDEX(Data_kom2,MATCH(1,(komnavn2=B108)*(komaar2=D108),0),11))","v":""},{"$f":"IF(B108=\"\",\"\",INDEX(Data_kom2,MATCH(1,(komnavn2=B108)*(komaar2=D108),0),12))","v":""},{"$f":"IF(B108=\"\",\"\",INDEX(Data_kom2,MATCH(1,(komnavn2=B108)*(komaar2=D108),0),13))","v":""},{"$f":"IF(B108=\"\",\"\",INDEX(Data_kom2,MATCH(1,(komnavn2=B108)*(komaar2=D108),0),14))","v":""},{"$f":"IF(B108=\"\",\"\",INDEX(Data_kom2,MATCH(1,(komnavn2=B108)*(komaar2=D108),0),15))","v":""},{"$f":"IF(B108=\"\",\"\",INDEX(Data_kom2,MATCH(1,(komnavn2=B108)*(komaar2=D108),0),16))","v":""},{"$f":"IF(B108=\"\",\"\",INDEX(Data_kom2,MATCH(1,(komnavn2=B108)*(komaar2=D108),0),17))","v":""},{"$f":"IF(B108=\"\",\"\",INDEX(Data_kom2,MATCH(1,(komnavn2=B108)*(komaar2=D108),0),18))","v":""},{"$f":"IF(B108=\"\",\"\",INDEX(Data_kom2,MATCH(1,(komnavn2=B108)*(komaar2=D108),0),19))","v":""},{"$f":"IF(B108=\"\",\"\",INDEX(Data_kom2,MATCH(1,(komnavn2=B108)*(komaar2=D108),0),20))","v":""},{"$f":"IF(B108=\"\",\"\",INDEX(Data_kom2,MATCH(1,(komnavn2=B108)*(komaar2=D108),0),21))","v":""},{"$f":"IF(B108=\"\",\"\",INDEX(Data_kom2,MATCH(1,(komnavn2=B108)*(komaar2=D108),0),22))","v":""},{"$f":"IF(B108=\"\",\"\",INDEX(Data_kom2,MATCH(1,(komnavn2=B108)*(komaar2=D108),0),23))","v":""},{"$f":"IF(B108=\"\",\"\",INDEX(Data_kom2,MATCH(1,(komnavn2=B108)*(komaar2=D108),0),24))","v":""},{"$f":"IF(B108=\"\",\"\",INDEX(Data_kom2,MATCH(1,(komnavn2=B108)*(komaar2=D108),0),25))","v":""},{"$f":"IF(B108=\"\",\"\",INDEX(Data_kom2,MATCH(1,(komnavn2=B108)*(komaar2=D108),0),26))","v":""},{"$f":"IF(B108=\"\",\"\",INDEX(Data_kom2,MATCH(1,(komnavn2=B108)*(komaar2=D108),0),27))","v":""},{"$f":"IF(B108=\"\",\"\",INDEX(Data_kom2,MATCH(1,(komnavn2=B108)*(komaar2=D108),0),28))","v":""},{"$f":"IF(B108=\"\",\"\",INDEX(Data_kom2,MATCH(1,(komnavn2=B108)*(komaar2=D108),0),29))","v":""},{"$f":"IF(B108=\"\",\"\",INDEX(Data_kom2,MATCH(1,(komnavn2=B108)*(komaar2=D108),0),30))","v":""},{"$f":"IF(B108=\"\",\"\",INDEX(Data_kom2,MATCH(1,(komnavn2=B108)*(komaar2=D108),0),31))","v":""},{"$f":"IF(B108=\"\",\"\",INDEX(Data_kom2,MATCH(1,(komnavn2=B108)*(komaar2=D108),0),32))","v":""},{"$f":"IF(B108=\"\",\"\",INDEX(Data_kom2,MATCH(1,(komnavn2=B108)*(komaar2=D108),0),33))","v":""},{"$f":"IF(B108=\"\",\"\",INDEX(Data_kom2,MATCH(1,(komnavn2=B108)*(komaar2=D108),0),34))","v":""},{"$f":"IF(B108=\"\",\"\",INDEX(Data_kom2,MATCH(1,(komnavn2=B108)*(komaar2=D108),0),35))","v":""},{"$f":"IF(B108=\"\",\"\",INDEX(Data_kom2,MATCH(1,(komnavn2=B108)*(komaar2=D108),0),36))","v":""},{"$f":"IF(B108=\"\",\"\",INDEX(Data_kom2,MATCH(1,(komnavn2=B108)*(komaar2=D108),0),37))","v":""},{"$f":"IF(B108=\"\",\"\",INDEX(Data_kom2,MATCH(1,(komnavn2=B108)*(komaar2=D108),0),38))","v":""}]
[5,{"$f":"'Dine valg'!$G$28","v":""},{"$f":"IF(B109=\"\",\"\",INDEX(Data_kom2,MATCH(1,(komnavn2=B109)*(komaar2=D109),0),2))","v":""},"2016-01-01",{"$f":"IF(B109=\"\",\"\",INDEX(Data_kom2,MATCH(1,(komnavn2=B109)*(komaar2=D109),0),4))","v":""},{"$f":"IF(B109=\"\",\"\",INDEX(Data_kom2,MATCH(1,(komnavn2=B109)*(komaar2=D109),0),5))","v":""},{"$f":"IF(B109=\"\",\"\",INDEX(Data_kom2,MATCH(1,(komnavn2=B109)*(komaar2=D109),0),6))","v":""},{"$f":"IF(B109=\"\",\"\",INDEX(Data_kom2,MATCH(1,(komnavn2=B109)*(komaar2=D109),0),7))","v":""},{"$f":"IF(B109=\"\",\"\",INDEX(Data_kom2,MATCH(1,(komnavn2=B109)*(komaar2=D109),0),8))","v":""},{"$f":"IF(B109=\"\",\"\",INDEX(Data_kom2,MATCH(1,(komnavn2=B109)*(komaar2=D109),0),9))","v":""},{"$f":"IF(B109=\"\",\"\",INDEX(Data_kom2,MATCH(1,(komnavn2=B109)*(komaar2=D109),0),10))","v":""},{"$f":"IF(B109=\"\",\"\",INDEX(Data_kom2,MATCH(1,(komnavn2=B109)*(komaar2=D109),0),11))","v":""},{"$f":"IF(B109=\"\",\"\",INDEX(Data_kom2,MATCH(1,(komnavn2=B109)*(komaar2=D109),0),12))","v":""},{"$f":"IF(B109=\"\",\"\",INDEX(Data_kom2,MATCH(1,(komnavn2=B109)*(komaar2=D109),0),13))","v":""},{"$f":"IF(B109=\"\",\"\",INDEX(Data_kom2,MATCH(1,(komnavn2=B109)*(komaar2=D109),0),14))","v":""},{"$f":"IF(B109=\"\",\"\",INDEX(Data_kom2,MATCH(1,(komnavn2=B109)*(komaar2=D109),0),15))","v":""},{"$f":"IF(B109=\"\",\"\",INDEX(Data_kom2,MATCH(1,(komnavn2=B109)*(komaar2=D109),0),16))","v":""},{"$f":"IF(B109=\"\",\"\",INDEX(Data_kom2,MATCH(1,(komnavn2=B109)*(komaar2=D109),0),17))","v":""},{"$f":"IF(B109=\"\",\"\",INDEX(Data_kom2,MATCH(1,(komnavn2=B109)*(komaar2=D109),0),18))","v":""},{"$f":"IF(B109=\"\",\"\",INDEX(Data_kom2,MATCH(1,(komnavn2=B109)*(komaar2=D109),0),19))","v":""},{"$f":"IF(B109=\"\",\"\",INDEX(Data_kom2,MATCH(1,(komnavn2=B109)*(komaar2=D109),0),20))","v":""},{"$f":"IF(B109=\"\",\"\",INDEX(Data_kom2,MATCH(1,(komnavn2=B109)*(komaar2=D109),0),21))","v":""},{"$f":"IF(B109=\"\",\"\",INDEX(Data_kom2,MATCH(1,(komnavn2=B109)*(komaar2=D109),0),22))","v":""},{"$f":"IF(B109=\"\",\"\",INDEX(Data_kom2,MATCH(1,(komnavn2=B109)*(komaar2=D109),0),23))","v":""},{"$f":"IF(B109=\"\",\"\",INDEX(Data_kom2,MATCH(1,(komnavn2=B109)*(komaar2=D109),0),24))","v":""},{"$f":"IF(B109=\"\",\"\",INDEX(Data_kom2,MATCH(1,(komnavn2=B109)*(komaar2=D109),0),25))","v":""},{"$f":"IF(B109=\"\",\"\",INDEX(Data_kom2,MATCH(1,(komnavn2=B109)*(komaar2=D109),0),26))","v":""},{"$f":"IF(B109=\"\",\"\",INDEX(Data_kom2,MATCH(1,(komnavn2=B109)*(komaar2=D109),0),27))","v":""},{"$f":"IF(B109=\"\",\"\",INDEX(Data_kom2,MATCH(1,(komnavn2=B109)*(komaar2=D109),0),28))","v":""},{"$f":"IF(B109=\"\",\"\",INDEX(Data_kom2,MATCH(1,(komnavn2=B109)*(komaar2=D109),0),29))","v":""},{"$f":"IF(B109=\"\",\"\",INDEX(Data_kom2,MATCH(1,(komnavn2=B109)*(komaar2=D109),0),30))","v":""},{"$f":"IF(B109=\"\",\"\",INDEX(Data_kom2,MATCH(1,(komnavn2=B109)*(komaar2=D109),0),31))","v":""},{"$f":"IF(B109=\"\",\"\",INDEX(Data_kom2,MATCH(1,(komnavn2=B109)*(komaar2=D109),0),32))","v":""},{"$f":"IF(B109=\"\",\"\",INDEX(Data_kom2,MATCH(1,(komnavn2=B109)*(komaar2=D109),0),33))","v":""},{"$f":"IF(B109=\"\",\"\",INDEX(Data_kom2,MATCH(1,(komnavn2=B109)*(komaar2=D109),0),34))","v":""},{"$f":"IF(B109=\"\",\"\",INDEX(Data_kom2,MATCH(1,(komnavn2=B109)*(komaar2=D109),0),35))","v":""},{"$f":"IF(B109=\"\",\"\",INDEX(Data_kom2,MATCH(1,(komnavn2=B109)*(komaar2=D109),0),36))","v":""},{"$f":"IF(B109=\"\",\"\",INDEX(Data_kom2,MATCH(1,(komnavn2=B109)*(komaar2=D109),0),37))","v":""},{"$f":"IF(B109=\"\",\"\",INDEX(Data_kom2,MATCH(1,(komnavn2=B109)*(komaar2=D109),0),38))","v":""}]
[6,{"$f":"'Dine valg'!$G$29","v":""},{"$f":"IF(B110=\"\",\"\",INDEX(Data_kom2,MATCH(1,(komnavn2=B110)*(komaar2=D110),0),2))","v":""},"2016-01-01",{"$f":"IF(B110=\"\",\"\",INDEX(Data_kom2,MATCH(1,(komnavn2=B110)*(komaar2=D110),0),4))","v":""},{"$f":"IF(B110=\"\",\"\",INDEX(Data_kom2,MATCH(1,(komnavn2=B110)*(komaar2=D110),0),5))","v":""},{"$f":"IF(B110=\"\",\"\",INDEX(Data_kom2,MATCH(1,(komnavn2=B110)*(komaar2=D110),0),6))","v":""},{"$f":"IF(B110=\"\",\"\",INDEX(Data_kom2,MATCH(1,(komnavn2=B110)*(komaar2=D110),0),7))","v":""},{"$f":"IF(B110=\"\",\"\",INDEX(Data_kom2,MATCH(1,(komnavn2=B110)*(komaar2=D110),0),8))","v":""},{"$f":"IF(B110=\"\",\"\",INDEX(Data_kom2,MATCH(1,(komnavn2=B110)*(komaar2=D110),0),9))","v":""},{"$f":"IF(B110=\"\",\"\",INDEX(Data_kom2,MATCH(1,(komnavn2=B110)*(komaar2=D110),0),10))","v":""},{"$f":"IF(B110=\"\",\"\",INDEX(Data_kom2,MATCH(1,(komnavn2=B110)*(komaar2=D110),0),11))","v":""},{"$f":"IF(B110=\"\",\"\",INDEX(Data_kom2,MATCH(1,(komnavn2=B110)*(komaar2=D110),0),12))","v":""},{"$f":"IF(B110=\"\",\"\",INDEX(Data_kom2,MATCH(1,(komnavn2=B110)*(komaar2=D110),0),13))","v":""},{"$f":"IF(B110=\"\",\"\",INDEX(Data_kom2,MATCH(1,(komnavn2=B110)*(komaar2=D110),0),14))","v":""},{"$f":"IF(B110=\"\",\"\",INDEX(Data_kom2,MATCH(1,(komnavn2=B110)*(komaar2=D110),0),15))","v":""},{"$f":"IF(B110=\"\",\"\",INDEX(Data_kom2,MATCH(1,(komnavn2=B110)*(komaar2=D110),0),16))","v":""},{"$f":"IF(B110=\"\",\"\",INDEX(Data_kom2,MATCH(1,(komnavn2=B110)*(komaar2=D110),0),17))","v":""},{"$f":"IF(B110=\"\",\"\",INDEX(Data_kom2,MATCH(1,(komnavn2=B110)*(komaar2=D110),0),18))","v":""},{"$f":"IF(B110=\"\",\"\",INDEX(Data_kom2,MATCH(1,(komnavn2=B110)*(komaar2=D110),0),19))","v":""},{"$f":"IF(B110=\"\",\"\",INDEX(Data_kom2,MATCH(1,(komnavn2=B110)*(komaar2=D110),0),20))","v":""},{"$f":"IF(B110=\"\",\"\",INDEX(Data_kom2,MATCH(1,(komnavn2=B110)*(komaar2=D110),0),21))","v":""},{"$f":"IF(B110=\"\",\"\",INDEX(Data_kom2,MATCH(1,(komnavn2=B110)*(komaar2=D110),0),22))","v":""},{"$f":"IF(B110=\"\",\"\",INDEX(Data_kom2,MATCH(1,(komnavn2=B110)*(komaar2=D110),0),23))","v":""},{"$f":"IF(B110=\"\",\"\",INDEX(Data_kom2,MATCH(1,(komnavn2=B110)*(komaar2=D110),0),24))","v":""},{"$f":"IF(B110=\"\",\"\",INDEX(Data_kom2,MATCH(1,(komnavn2=B110)*(komaar2=D110),0),25))","v":""},{"$f":"IF(B110=\"\",\"\",INDEX(Data_kom2,MATCH(1,(komnavn2=B110)*(komaar2=D110),0),26))","v":""},{"$f":"IF(B110=\"\",\"\",INDEX(Data_kom2,MATCH(1,(komnavn2=B110)*(komaar2=D110),0),27))","v":""},{"$f":"IF(B110=\"\",\"\",INDEX(Data_kom2,MATCH(1,(komnavn2=B110)*(komaar2=D110),0),28))","v":""},{"$f":"IF(B110=\"\",\"\",INDEX(Data_kom2,MATCH(1,(komnavn2=B110)*(komaar2=D110),0),29))","v":""},{"$f":"IF(B110=\"\",\"\",INDEX(Data_kom2,MATCH(1,(komnavn2=B110)*(komaar2=D110),0),30))","v":""},{"$f":"IF(B110=\"\",\"\",INDEX(Data_kom2,MATCH(1,(komnavn2=B110)*(komaar2=D110),0),31))","v":""},{"$f":"IF(B110=\"\",\"\",INDEX(Data_kom2,MATCH(1,(komnavn2=B110)*(komaar2=D110),0),32))","v":""},{"$f":"IF(B110=\"\",\"\",INDEX(Data_kom2,MATCH(1,(komnavn2=B110)*(komaar2=D110),0),33))","v":""},{"$f":"IF(B110=\"\",\"\",INDEX(Data_kom2,MATCH(1,(komnavn2=B110)*(komaar2=D110),0),34))","v":""},{"$f":"IF(B110=\"\",\"\",INDEX(Data_kom2,MATCH(1,(komnavn2=B110)*(komaar2=D110),0),35))","v":""},{"$f":"IF(B110=\"\",\"\",INDEX(Data_kom2,MATCH(1,(komnavn2=B110)*(komaar2=D110),0),36))","v":""},{"$f":"IF(B110=\"\",\"\",INDEX(Data_kom2,MATCH(1,(komnavn2=B110)*(komaar2=D110),0),37))","v":""},{"$f":"IF(B110=\"\",\"\",INDEX(Data_kom2,MATCH(1,(komnavn2=B110)*(komaar2=D110),0),38))","v":""}]
[7,{"$f":"'Dine valg'!$G$30","v":""},{"$f":"IF(B111=\"\",\"\",INDEX(Data_kom2,MATCH(1,(komnavn2=B111)*(komaar2=D111),0),2))","v":""},"2016-01-01",{"$f":"IF(B111=\"\",\"\",INDEX(Data_kom2,MATCH(1,(komnavn2=B111)*(komaar2=D111),0),4))","v":""},{"$f":"IF(B111=\"\",\"\",INDEX(Data_kom2,MATCH(1,(komnavn2=B111)*(komaar2=D111),0),5))","v":""},{"$f":"IF(B111=\"\",\"\",INDEX(Data_kom2,MATCH(1,(komnavn2=B111)*(komaar2=D111),0),6))","v":""},{"$f":"IF(B111=\"\",\"\",INDEX(Data_kom2,MATCH(1,(komnavn2=B111)*(komaar2=D111),0),7))","v":""},{"$f":"IF(B111=\"\",\"\",INDEX(Data_kom2,MATCH(1,(komnavn2=B111)*(komaar2=D111),0),8))","v":""},{"$f":"IF(B111=\"\",\"\",INDEX(Data_kom2,MATCH(1,(komnavn2=B111)*(komaar2=D111),0),9))","v":""},{"$f":"IF(B111=\"\",\"\",INDEX(Data_kom2,MATCH(1,(komnavn2=B111)*(komaar2=D111),0),10))","v":""},{"$f":"IF(B111=\"\",\"\",INDEX(Data_kom2,MATCH(1,(komnavn2=B111)*(komaar2=D111),0),11))","v":""},{"$f":"IF(B111=\"\",\"\",INDEX(Data_kom2,MATCH(1,(komnavn2=B111)*(komaar2=D111),0),12))","v":""},{"$f":"IF(B111=\"\",\"\",INDEX(Data_kom2,MATCH(1,(komnavn2=B111)*(komaar2=D111),0),13))","v":""},{"$f":"IF(B111=\"\",\"\",INDEX(Data_kom2,MATCH(1,(komnavn2=B111)*(komaar2=D111),0),14))","v":""},{"$f":"IF(B111=\"\",\"\",INDEX(Data_kom2,MATCH(1,(komnavn2=B111)*(komaar2=D111),0),15))","v":""},{"$f":"IF(B111=\"\",\"\",INDEX(Data_kom2,MATCH(1,(komnavn2=B111)*(komaar2=D111),0),16))","v":""},{"$f":"IF(B111=\"\",\"\",INDEX(Data_kom2,MATCH(1,(komnavn2=B111)*(komaar2=D111),0),17))","v":""},{"$f":"IF(B111=\"\",\"\",INDEX(Data_kom2,MATCH(1,(komnavn2=B111)*(komaar2=D111),0),18))","v":""},{"$f":"IF(B111=\"\",\"\",INDEX(Data_kom2,MATCH(1,(komnavn2=B111)*(komaar2=D111),0),19))","v":""},{"$f":"IF(B111=\"\",\"\",INDEX(Data_kom2,MATCH(1,(komnavn2=B111)*(komaar2=D111),0),20))","v":""},{"$f":"IF(B111=\"\",\"\",INDEX(Data_kom2,MATCH(1,(komnavn2=B111)*(komaar2=D111),0),21))","v":""},{"$f":"IF(B111=\"\",\"\",INDEX(Data_kom2,MATCH(1,(komnavn2=B111)*(komaar2=D111),0),22))","v":""},{"$f":"IF(B111=\"\",\"\",INDEX(Data_kom2,MATCH(1,(komnavn2=B111)*(komaar2=D111),0),23))","v":""},{"$f":"IF(B111=\"\",\"\",INDEX(Data_kom2,MATCH(1,(komnavn2=B111)*(komaar2=D111),0),24))","v":""},{"$f":"IF(B111=\"\",\"\",INDEX(Data_kom2,MATCH(1,(komnavn2=B111)*(komaar2=D111),0),25))","v":""},{"$f":"IF(B111=\"\",\"\",INDEX(Data_kom2,MATCH(1,(komnavn2=B111)*(komaar2=D111),0),26))","v":""},{"$f":"IF(B111=\"\",\"\",INDEX(Data_kom2,MATCH(1,(komnavn2=B111)*(komaar2=D111),0),27))","v":""},{"$f":"IF(B111=\"\",\"\",INDEX(Data_kom2,MATCH(1,(komnavn2=B111)*(komaar2=D111),0),28))","v":""},{"$f":"IF(B111=\"\",\"\",INDEX(Data_kom2,MATCH(1,(komnavn2=B111)*(komaar2=D111),0),29))","v":""},{"$f":"IF(B111=\"\",\"\",INDEX(Data_kom2,MATCH(1,(komnavn2=B111)*(komaar2=D111),0),30))","v":""},{"$f":"IF(B111=\"\",\"\",INDEX(Data_kom2,MATCH(1,(komnavn2=B111)*(komaar2=D111),0),31))","v":""},{"$f":"IF(B111=\"\",\"\",INDEX(Data_kom2,MATCH(1,(komnavn2=B111)*(komaar2=D111),0),32))","v":""},{"$f":"IF(B111=\"\",\"\",INDEX(Data_kom2,MATCH(1,(komnavn2=B111)*(komaar2=D111),0),33))","v":""},{"$f":"IF(B111=\"\",\"\",INDEX(Data_kom2,MATCH(1,(komnavn2=B111)*(komaar2=D111),0),34))","v":""},{"$f":"IF(B111=\"\",\"\",INDEX(Data_kom2,MATCH(1,(komnavn2=B111)*(komaar2=D111),0),35))","v":""},{"$f":"IF(B111=\"\",\"\",INDEX(Data_kom2,MATCH(1,(komnavn2=B111)*(komaar2=D111),0),36))","v":""},{"$f":"IF(B111=\"\",\"\",INDEX(Data_kom2,MATCH(1,(komnavn2=B111)*(komaar2=D111),0),37))","v":""},{"$f":"IF(B111=\"\",\"\",INDEX(Data_kom2,MATCH(1,(komnavn2=B111)*(komaar2=D111),0),38))","v":""}]
[]
[]
[]
[]
[]
[]
[]
[]
[]
[null,null,null,null,null,null,null,null,null,null,null,null,null,null,null,null,null,null,null,null,null,null,65,251,11,251,54,251,null,null,475,1929]
[null,null,null,null,null,null,null,null,null,null,null,null,null,null,null,null,null,null,null,null,null,null,null,54,0,54,null,54,10,182,29,187]
[null,null,null,null,null,null,null,null,null,null,null,null,null,null,null,null,null,null,null,null,null,null,11,42,0,42,11,42,12,339,64,345]
[null,null,null,null,null,null,null,null,null,null,null,null,null,null,null,null,null,null,null,null,null,null,9,39,null,39,null,39,null,null,31,136]
[null,null,null,null,null,null,null,null,null,null,null,null,null,null,null,null,null,null,null,null,null,null,null,null,null,null,null,null,null,null,6,28]
[null,null,null,null,null,null,null,null,null,null,null,null,null,null,null,null,null,null,null,null,null,null,5,27,0,27,5,27,null,null,45,130]
[null,null,null,null,null,null,null,null,null,null,null,null,null,null,null,null,null,null,null,null,null,null,6,33,0,33,6,33,null,null,81,310]
[null,null,null,null,null,null,null,null,null,null,null,null,null,null,null,null,null,null,null,null,null,null,0,6,0,6,0,6,null,null,9,43]
[null,null,null,null,null,null,null,null,null,null,null,null,null,null,null,null,null,null,null,null,null,null,6,25,null,25,null,25,null,null,21,97]
[null,null,null,null,null,null,null,null,null,null,null,null,null,null,null,null,null,null,null,null,null,null,7,33,0,33,7,33,6,126,20,129]
[null,null,null,null,null,null,null,null,null,null,null,null,null,null,null,null,null,null,null,null,null,null,10,32,null,32,null,32,null,null,42,237]
[null,null,null,null,null,null,null,null,null,null,null,null,null,null,null,null,null,null,null,null,null,null,3,46,0,46,3,46,9,219,58,224]
[null,null,null,null,null,null,null,null,null,null,null,null,null,null,null,null,null,null,null,null,null,null,4,20,0,20,4,20,null,null,35,163]
[null,null,null,null,null,null,null,null,null,null,null,null,null,null,null,null,null,null,null,null,null,null,null,15,0,15,null,15,null,null,11,124]
[null,null,null,null,null,null,null,null,null,null,null,null,null,null,null,null,null,null,null,null,null,null,3,39,0,39,3,39,null,null,51,157]
[null,null,null,null,null,null,null,null,null,null,null,null,null,null,null,null,null,null,null,null,null,null,7,13,0,13,7,13,null,null,17,97]
[null,null,null,null,null,null,null,null,null,null,null,null,null,null,null,null,null,null,null,null,null,null,null,9,0,9,null,9,null,null,17,50]
[null,null,null,null,null,null,null,null,null,null,null,null,null,null,null,null,null,null,null,null,null,null,4,17,0,17,4,17,null,null,17,114]
[null,null,null,null,null,null,null,null,null,null,null,null,null,null,null,null,null,null,null,null,null,null,4,17,null,17,null,17,null,null,9,57]
[null,null,null,null,null,null,null,null,null,null,null,null,null,null,null,null,null,null,null,null,null,null,3,15,0,15,3,15,null,null,32,205]
[null,null,null,null,null,null,null,null,null,null,null,null,null,null,null,null,null,null,null,null,null,null,9,47,null,47,null,47,8,278,57,284]
[null,null,null,null,null,null,null,null,null,null,null,null,null,null,null,null,null,null,null,null,null,null,3,24,0,24,3,24,3,197,48,203]
[null,null,null,null,null,null,null,null,null,null,null,null,null,null,null,null,null,null,null,null,null,null,null,7,0,7,null,7,3,44,5,47]
[null,null,null,null,null,null,null,null,null,null,null,null,null,null,null,null,null,null,null,null,null,null,9,33,0,33,9,33,null,null,80,179]
[null,null,null,null,null,null,null,null,null,null,null,null,null,null,null,null,null,null,null,null,null,null,null,19,0,19,null,19,3,173,19,176]
[null,null,null,null,null,null,null,null,null,null,null,null,null,null,null,null,null,null,null,null,null,null,6,19,3,19,3,19,5,230,52,237]
[null,null,null,null,null,null,null,null,null,null,null,null,null,null,null,null,null,null,null,null,null,null,6,27,0,27,6,27,null,null,42,215]
[null,null,null,null,null,null,null,null,null,null,null,null,null,null,null,null,null,null,null,null,null,null,9,34,0,34,9,34,null,null,65,194]
[null,null,null,null,null,null,null,null,null,null,null,null,null,null,null,null,null,null,null,null,null,null,8,40,null,40,null,40,7,127,24,131]
[null,null,null,null,null,null,null,null,null,null,null,null,null,null,null,null,null,null,null,null,null,null,13,64,0,64,13,64,8,272,90,283]
[null,null,null,null,null,null,null,null,null,null,null,null,null,null,null,null,null,null,null,null,null,null,4,14,null,14,null,14,null,null,14,67]
[null,null,null,null,null,null,null,null,null,null,null,null,null,null,null,null,null,null,null,null,null,null,4,23,0,23,4,23,12,218,63,226]
[null,null,null,null,null,null,null,null,null,null,null,null,null,null,null,null,null,null,null,null,null,null,null,30,0,30,null,30,6,252,11,255]
[null,null,null,null,null,null,null,null,null,null,null,null,null,null,null,null,null,null,null,null,null,null,7,47,0,47,7,47,14,288,57,293]
[null,null,null,null,null,null,null,null,null,null,null,null,null,null,null,null,null,null,null,null,null,null,4,21,0,21,4,21,null,null,35,171]
[null,null,null,null,null,null,null,null,null,null,null,null,null,null,null,null,null,null,null,null,null,null,9,48,null,48,null,48,null,null,76,234]
[null,null,null,null,null,null,null,null,null,null,null,null,null,null,null,null,null,null,null,null,null,null,4,28,0,28,4,28,null,null,31,171]
[null,null,null,null,null,null,null,null,null,null,null,null,null,null,null,null,null,null,null,null,null,null,7,48,0,48,7,48,7,260,52,266]
[null,null,null,null,null,null,null,null,null,null,null,null,null,null,null,null,null,null,null,null,null,null,null,17,null,17,null,17,null,null,10,78]
[null,null,null,null,null,null,null,null,null,null,null,null,null,null,null,null,null,null,null,null,null,null,null,19,0,19,null,19,null,null,36,184]
[null,null,null,null,null,null,null,null,null,null,null,null,null,null,null,null,null,null,null,null,null,null,5,17,0,17,5,17,null,null,24,130]
[null,null,null,null,null,null,null,null,null,null,null,null,null,null,null,null,null,null,null,null,null,null,6,45,null,45,null,45,null,null,67,174]
[null,null,null,null,null,null,null,null,null,null,null,null,null,null,null,null,null,null,null,null,null,null,10,75,3,75,7,75,16,230,32,242]
[null,null,null,null,null,null,null,null,null,null,null,null,null,null,null,null,null,null,null,null,null,null,7,59,0,59,7,59,null,null,53,245]
[null,null,null,null,null,null,null,null,null,null,null,null,null,null,null,null,null,null,null,null,null,null,4,40,0,40,4,40,8,92,42,96]
[null,null,null,null,null,null,null,null,null,null,null,null,null,null,null,null,null,null,null,null,null,null,3,19,0,19,3,19,10,170,43,173]
[null,null,null,null,null,null,null,null,null,null,null,null,null,null,null,null,null,null,null,null,null,null,5,24,0,24,5,24,null,null,37,219]
[null,null,null,null,null,null,null,null,null,null,null,null,null,null,null,null,null,null,null,null,null,null,6,16,0,16,6,16,null,null,32,172]
[null,null,null,null,null,null,null,null,null,null,null,null,null,null,null,null,null,null,null,null,null,null,5,36,0,36,5,36,10,123,45,135]
[null,null,null,null,null,null,null,null,null,null,null,null,null,null,null,null,null,null,null,null,null,null,null,19,0,19,null,19,null,null,3,45]
[null,null,null,null,null,null,null,null,null,null,null,null,null,null,null,null,null,null,null,null,null,null,3,16,0,16,3,16,5,133,25,133]
[null,null,null,null,null,null,null,null,null,null,null,null,null,null,null,null,null,null,null,null,null,null,22,141,5,141,17,141,22,868,223,877]
[null,null,null,null,null,null,null,null,null,null,null,null,null,null,null,null,null,null,null,null,null,null,9,43,0,43,9,43,10,370,48,373]
[null,null,null,null,null,null,null,null,null,null,null,null,null,null,null,null,null,null,null,null,null,null,4,13,0,13,4,13,5,74,17,79]
[null,null,null,null,null,null,null,null,null,null,null,null,null,null,null,null,null,null,null,null,null,null,5,22,null,22,null,22,null,null,3,36]
[null,null,null,null,null,null,null,null,null,null,null,null,null,null,null,null,null,null,null,null,null,null,null,null,null,null,null,null,null,null,5,11]
[null,null,null,null,null,null,null,null,null,null,null,null,null,null,null,null,null,null,null,null,null,null,3,29,null,29,null,29,11,226,53,232]
[null,null,null,null,null,null,null,null,null,null,null,null,null,null,null,null,null,null,null,null,null,null,5,13,null,13,null,13,null,null,37,151]
[null,null,null,null,null,null,null,null,null,null,null,null,null,null,null,null,null,null,null,null,null,null,5,27,0,27,5,27,null,null,62,431]
[null,null,null,null,null,null,null,null,null,null,null,null,null,null,null,null,null,null,null,null,null,null,null,19,0,19,null,19,4,175,47,178]
[null,null,null,null,null,null,null,null,null,null,null,null,null,null,null,null,null,null,null,null,null,null,18,156,0,156,18,156,17,890,104,909]
[null,null,null,null,null,null,null,null,null,null,null,null,null,null,null,null,null,null,null,null,null,null,null,null,null,null,null,null,null,null,0,5]
[null,null,null,null,null,null,null,null,null,null,null,null,null,null,null,null,null,null,null,null,null,null,4,22,0,22,4,22,null,null,100,474]
[null,null,null,null,null,null,null,null,null,null,null,null,null,null,null,null,null,null,null,null,null,null,6,39,0,39,6,39,null,null,57,218]
[null,null,null,null,null,null,null,null,null,null,null,null,null,null,null,null,null,null,null,null,null,null,10,49,null,49,null,49,9,321,73,325]
[null,null,null,null,null,null,null,null,null,null,null,null,null,null,null,null,null,null,null,null,null,null,null,15,0,15,null,15,null,null,18,185]
[null,null,null,null,null,null,null,null,null,null,null,null,null,null,null,null,null,null,null,null,null,null,9,49,0,49,9,49,null,null,107,480]
[null,null,null,null,null,null,null,null,null,null,null,null,null,null,null,null,null,null,null,null,null,null,14,42,4,42,10,42,null,null,68,291]
[null,null,null,null,null,null,null,null,null,null,null,null,null,null,null,null,null,null,null,null,null,null,17,59,null,59,null,59,20,598,129,603]
[null,null,null,null,null,null,null,null,null,null,null,null,null,null,null,null,null,null,null,null,null,null,11,45,null,45,null,45,16,289,36,300]
[null,null,null,null,null,null,null,null,null,null,null,null,null,null,null,null,null,null,null,null,null,null,8,37,null,37,null,37,3,251,62,254]
[null,null,null,null,null,null,null,null,null,null,null,null,null,null,null,null,null,null,null,null,null,null,null,15,0,15,null,15,null,null,23,90]
[null,null,null,null,null,null,null,null,null,null,null,null,null,null,null,null,null,null,null,null,null,null,null,11,0,11,null,11,null,null,29,81]
[null,null,null,null,null,null,null,null,null,null,null,null,null,null,null,null,null,null,null,null,null,null,4,13,0,13,4,13,5,320,56,324]
[null,null,null,null,null,null,null,null,null,null,null,null,null,null,null,null,null,null,null,null,null,null,null,45,0,45,null,45,9,255,42,261]
[null,null,null,null,null,null,null,null,null,null,null,null,null,null,null,null,null,null,null,null,null,null,null,37,0,37,null,37,null,null,13,122]
[null,null,null,null,null,null,null,null,null,null,null,null,null,null,null,null,null,null,null,null,null,null,null,6,0,6,null,6,null,null,8,95]
[null,null,null,null,null,null,null,null,null,null,null,null,null,null,null,null,null,null,null,null,null,null,7,43,0,43,7,43,6,373,124,379]
[null,null,null,null,null,null,null,null,null,null,null,null,null,null,null,null,null,null,null,null,null,null,5,37,null,37,null,37,null,null,72,234]
[null,null,null,null,null,null,null,null,null,null,null,null,null,null,null,null,null,null,null,null,null,null,null,null,null,null,null,null,null,null,6,27]
[null,null,null,null,null,null,null,null,null,null,null,null,null,null,null,null,null,null,null,null,null,null,8,24,3,24,5,24,3,171,49,177]
[null,null,null,null,null,null,null,null,null,null,null,null,null,null,null,null,null,null,null,null,null,null,30,190,4,190,26,190,null,null,293,1083]
[null,null,null,null,null,null,null,null,null,null,null,null,null,null,null,null,null,null,null,null,null,null,null,17,0,17,null,17,null,null,105,139]
[null,null,null,null,null,null,null,null,null,null,null,null,null,null,null,null,null,null,null,null,null,null,4,34,0,34,4,34,null,null,46,317]
[null,null,null,null,null,null,null,null,null,null,null,null,null,null,null,null,null,null,null,null,null,null,5,34,0,34,5,34,null,null,84,351]
[null,null,null,null,null,null,null,null,null,null,null,null,null,null,null,null,null,null,null,null,null,null,7,21,null,21,null,21,null,null,26,121]
[null,null,null,null,null,null,null,null,null,null,null,null,null,null,null,null,null,null,null,null,null,null,6,27,0,27,6,27,null,null,41,223]
[null,null,null,null,null,null,null,null,null,null,null,null,null,null,null,null,null,null,null,null,null,null,10,34,0,34,10,34,4,285,60,288]
[null,null,null,null,null,null,null,null,null,null,null,null,null,null,null,null,null,null,null,null,null,null,6,42,0,42,6,42,15,466,45,473]
[null,null,null,null,null,null,null,null,null,null,null,null,null,null,null,null,null,null,null,null,null,null,6,32,null,32,null,32,null,null,34,159]
[null,null,null,null,{"$f":"IF(B211=\"\",\"\",INDEX(Data_kom2,MATCH(1,(komnavn2=B211)*(komaar2=D211),0),4))","v":""},{"$f":"IF(B211=\"\",\"\",INDEX(Data_kom2,MATCH(1,(komnavn2=B211)*(komaar2=D211),0),5))","v":""},{"$f":"IF(B211=\"\",\"\",INDEX(Data_kom2,MATCH(1,(komnavn2=B211)*(komaar2=D211),0),6))","v":""},{"$f":"IF(B211=\"\",\"\",INDEX(Data_kom2,MATCH(1,(komnavn2=B211)*(komaar2=D211),0),7))","v":""},{"$f":"IF(B211=\"\",\"\",INDEX(Data_kom2,MATCH(1,(komnavn2=B211)*(komaar2=D211),0),8))","v":""},{"$f":"IF(B211=\"\",\"\",INDEX(Data_kom2,MATCH(1,(komnavn2=B211)*(komaar2=D211),0),9))","v":""},{"$f":"IF(B211=\"\",\"\",INDEX(Data_kom2,MATCH(1,(komnavn2=B211)*(komaar2=D211),0),10))","v":""},{"$f":"IF(B211=\"\",\"\",INDEX(Data_kom2,MATCH(1,(komnavn2=B211)*(komaar2=D211),0),11))","v":""},{"$f":"IF(B211=\"\",\"\",INDEX(Data_kom2,MATCH(1,(komnavn2=B211)*(komaar2=D211),0),12))","v":""},{"$f":"IF(B211=\"\",\"\",INDEX(Data_kom2,MATCH(1,(komnavn2=B211)*(komaar2=D211),0),13))","v":""},{"$f":"IF(B211=\"\",\"\",INDEX(Data_kom2,MATCH(1,(komnavn2=B211)*(komaar2=D211),0),14))","v":""},{"$f":"IF(B211=\"\",\"\",INDEX(Data_kom2,MATCH(1,(komnavn2=B211)*(komaar2=D211),0),15))","v":""},{"$f":"IF(B211=\"\",\"\",INDEX(Data_kom2,MATCH(1,(komnavn2=B211)*(komaar2=D211),0),16))","v":""},{"$f":"IF(B211=\"\",\"\",INDEX(Data_kom2,MATCH(1,(komnavn2=B211)*(komaar2=D211),0),17))","v":""},{"$f":"IF(B211=\"\",\"\",INDEX(Data_kom2,MATCH(1,(komnavn2=B211)*(komaar2=D211),0),18))","v":""},null,null,null,8,30,null,30,null,30,null,null,55,235]
[null,null,null,null,{"$f":"IF(B212=\"\",\"\",INDEX(Data_kom2,MATCH(1,(komnavn2=B212)*(komaar2=D212),0),4))","v":""},{"$f":"IF(B212=\"\",\"\",INDEX(Data_kom2,MATCH(1,(komnavn2=B212)*(komaar2=D212),0),5))","v":""},{"$f":"IF(B212=\"\",\"\",INDEX(Data_kom2,MATCH(1,(komnavn2=B212)*(komaar2=D212),0),6))","v":""},{"$f":"IF(B212=\"\",\"\",INDEX(Data_kom2,MATCH(1,(komnavn2=B212)*(komaar2=D212),0),7))","v":""},{"$f":"IF(B212=\"\",\"\",INDEX(Data_kom2,MATCH(1,(komnavn2=B212)*(komaar2=D212),0),8))","v":""},{"$f":"IF(B212=\"\",\"\",INDEX(Data_kom2,MATCH(1,(komnavn2=B212)*(komaar2=D212),0),9))","v":""},{"$f":"IF(B212=\"\",\"\",INDEX(Data_kom2,MATCH(1,(komnavn2=B212)*(komaar2=D212),0),10))","v":""},{"$f":"IF(B212=\"\",\"\",INDEX(Data_kom2,MATCH(1,(komnavn2=B212)*(komaar2=D212),0),11))","v":""},{"$f":"IF(B212=\"\",\"\",INDEX(Data_kom2,MATCH(1,(komnavn2=B212)*(komaar2=D212),0),12))","v":""},{"$f":"IF(B212=\"\",\"\",INDEX(Data_kom2,MATCH(1,(komnavn2=B212)*(komaar2=D212),0),13))","v":""},{"$f":"IF(B212=\"\",\"\",INDEX(Data_kom2,MATCH(1,(komnavn2=B212)*(komaar2=D212),0),14))","v":""},{"$f":"IF(B212=\"\",\"\",INDEX(Data_kom2,MATCH(1,(komnavn2=B212)*(komaar2=D212),0),15))","v":""},{"$f":"IF(B212=\"\",\"\",INDEX(Data_kom2,MATCH(1,(komnavn2=B212)*(komaar2=D212),0),16))","v":""},{"$f":"IF(B212=\"\",\"\",INDEX(Data_kom2,MATCH(1,(komnavn2=B212)*(komaar2=D212),0),17))","v":""},{"$f":"IF(B212=\"\",\"\",INDEX(Data_kom2,MATCH(1,(komnavn2=B212)*(komaar2=D212),0),18))","v":""},null,null,null,3,32,0,32,3,32,7,260,50,263]
[null,null,null,null,{"$f":"IF(B213=\"\",\"\",INDEX(Data_kom2,MATCH(1,(komnavn2=B213)*(komaar2=D213),0),4))","v":""},{"$f":"IF(B213=\"\",\"\",INDEX(Data_kom2,MATCH(1,(komnavn2=B213)*(komaar2=D213),0),5))","v":""},{"$f":"IF(B213=\"\",\"\",INDEX(Data_kom2,MATCH(1,(komnavn2=B213)*(komaar2=D213),0),6))","v":""},{"$f":"IF(B213=\"\",\"\",INDEX(Data_kom2,MATCH(1,(komnavn2=B213)*(komaar2=D213),0),7))","v":""},{"$f":"IF(B213=\"\",\"\",INDEX(Data_kom2,MATCH(1,(komnavn2=B213)*(komaar2=D213),0),8))","v":""},{"$f":"IF(B213=\"\",\"\",INDEX(Data_kom2,MATCH(1,(komnavn2=B213)*(komaar2=D213),0),9))","v":""},{"$f":"IF(B213=\"\",\"\",INDEX(Data_kom2,MATCH(1,(komnavn2=B213)*(komaar2=D213),0),10))","v":""},{"$f":"IF(B213=\"\",\"\",INDEX(Data_kom2,MATCH(1,(komnavn2=B213)*(komaar2=D213),0),11))","v":""},{"$f":"IF(B213=\"\",\"\",INDEX(Data_kom2,MATCH(1,(komnavn2=B213)*(komaar2=D213),0),12))","v":""},{"$f":"IF(B213=\"\",\"\",INDEX(Data_kom2,MATCH(1,(komnavn2=B213)*(komaar2=D213),0),13))","v":""},{"$f":"IF(B213=\"\",\"\",INDEX(Data_kom2,MATCH(1,(komnavn2=B213)*(komaar2=D213),0),14))","v":""},{"$f":"IF(B213=\"\",\"\",INDEX(Data_kom2,MATCH(1,(komnavn2=B213)*(komaar2=D213),0),15))","v":""},{"$f":"IF(B213=\"\",\"\",INDEX(Data_kom2,MATCH(1,(komnavn2=B213)*(komaar2=D213),0),16))","v":""},{"$f":"IF(B213=\"\",\"\",INDEX(Data_kom2,MATCH(1,(komnavn2=B213)*(komaar2=D213),0),17))","v":""},{"$f":"IF(B213=\"\",\"\",INDEX(Data_kom2,MATCH(1,(komnavn2=B213)*(komaar2=D213),0),18))","v":""},null,null,null,null,null,null,null,null,null,null,null,0,4]
[null,null,null,null,{"$f":"IF(B214=\"\",\"\",INDEX(Data_kom2,MATCH(1,(komnavn2=B214)*(komaar2=D214),0),4))","v":""},{"$f":"IF(B214=\"\",\"\",INDEX(Data_kom2,MATCH(1,(komnavn2=B214)*(komaar2=D214),0),5))","v":""},{"$f":"IF(B214=\"\",\"\",INDEX(Data_kom2,MATCH(1,(komnavn2=B214)*(komaar2=D214),0),6))","v":""},{"$f":"IF(B214=\"\",\"\",INDEX(Data_kom2,MATCH(1,(komnavn2=B214)*(komaar2=D214),0),7))","v":""},{"$f":"IF(B214=\"\",\"\",INDEX(Data_kom2,MATCH(1,(komnavn2=B214)*(komaar2=D214),0),8))","v":""},{"$f":"IF(B214=\"\",\"\",INDEX(Data_kom2,MATCH(1,(komnavn2=B214)*(komaar2=D214),0),9))","v":""},{"$f":"IF(B214=\"\",\"\",INDEX(Data_kom2,MATCH(1,(komnavn2=B214)*(komaar2=D214),0),10))","v":""},{"$f":"IF(B214=\"\",\"\",INDEX(Data_kom2,MATCH(1,(komnavn2=B214)*(komaar2=D214),0),11))","v":""},{"$f":"IF(B214=\"\",\"\",INDEX(Data_kom2,MATCH(1,(komnavn2=B214)*(komaar2=D214),0),12))","v":""},{"$f":"IF(B214=\"\",\"\",INDEX(Data_kom2,MATCH(1,(komnavn2=B214)*(komaar2=D214),0),13))","v":""},{"$f":"IF(B214=\"\",\"\",INDEX(Data_kom2,MATCH(1,(komnavn2=B214)*(komaar2=D214),0),14))","v":""},{"$f":"IF(B214=\"\",\"\",INDEX(Data_kom2,MATCH(1,(komnavn2=B214)*(komaar2=D214),0),15))","v":""},{"$f":"IF(B214=\"\",\"\",INDEX(Data_kom2,MATCH(1,(komnavn2=B214)*(komaar2=D214),0),16))","v":""},{"$f":"IF(B214=\"\",\"\",INDEX(Data_kom2,MATCH(1,(komnavn2=B214)*(komaar2=D214),0),17))","v":""},{"$f":"IF(B214=\"\",\"\",INDEX(Data_kom2,MATCH(1,(komnavn2=B214)*(komaar2=D214),0),18))","v":""},null,null,null,null,16,0,16,null,16,null,null,24,96]
[null,null,null,null,null,null,null,null,null,null,null,null,null,null,null,null,null,null,null,null,null,null,4,35,0,35,4,35,null,null,66,209]
[null,null,null,null,null,null,null,null,null,null,null,null,null,null,null,null,null,null,null,null,null,null,null,29,0,29,null,29,null,null,83,302]
[null,null,null,null,null,null,null,null,null,null,null,null,null,null,null,null,null,null,null,null,null,null,20,142,4,142,16,142,23,594,121,598]
[null,null,null,null,null,null,null,null,null,null,null,null,null,null,null,null,null,null,null,null,null,null,6,43,null,43,null,43,null,null,103,243]
[null,null,null,null,null,null,null,null,null,null,null,null,null,null,null,null,null,null,null,null,null,null,626,3525,63,3525,563,3525,775,23201,5247,23726]
[null,null,null,null,null,null,null,null,null,null,null,null,null,null,null,null,null,null,null,null,null,null,47,230,5,230,42,230,57,1942,424,1985]
[null,null,null,null,null,null,null,null,null,null,null,null,null,null,null,null,null,null,null,null,null,null,15,64,3,64,12,64,13,170,71,176]
[null,null,null,null,null,null,null,null,null,null,null,null,null,null,null,null,null,null,null,null,null,null,7,36,0,36,7,36,null,null,71,346]
[null,null,null,null,null,null,null,null,null,null,null,null,null,null,null,null,null,null,null,null,null,null,6,34,0,34,6,34,null,null,38,133]
[null,null,null,null,null,null,null,null,null,null,null,null,null,null,null,null,null,null,null,null,null,null,null,null,null,null,null,null,null,null,9,29]
[null,null,null,null,null,null,null,null,null,null,null,null,null,null,null,null,null,null,null,null,null,null,7,29,null,29,null,29,null,null,46,114]
[null,null,null,null,null,null,null,null,null,null,null,null,null,null,null,null,null,null,null,null,null,null,4,31,0,31,4,31,7,270,55,277]
[null,null,null,null,null,null,null,null,null,null,null,null,null,null,null,null,null,null,null,null,null,null,3,8,0,8,3,8,null,null,8,54]
[null,null,null,null,null,null,null,null,null,null,null,null,null,null,null,null,null,null,null,null,null,null,5,27,null,27,null,27,7,105,17,109]
[null,null,null,null,null,null,null,null,null,null,null,null,null,null,null,null,null,null,null,null,null,null,4,30,0,30,4,30,4,127,35,131]
[null,null,null,null,null,null,null,null,null,null,null,null,null,null,null,null,null,null,null,null,null,null,6,27,null,27,null,27,null,null,40,242]
[null,null,null,null,null,null,null,null,null,null,null,null,null,null,null,null,null,null,null,null,null,null,9,46,null,46,null,46,13,207,85,211]
[null,null,null,null,null,null,null,null,null,null,null,null,null,null,null,null,null,null,null,null,null,null,3,17,0,17,3,17,null,null,41,159]
[null,null,null,null,null,null,null,null,null,null,null,null,null,null,null,null,null,null,null,null,null,null,4,13,0,13,4,13,null,null,19,154]
[null,null,null,null,null,null,null,null,null,null,null,null,null,null,null,null,null,null,null,null,null,null,3,39,0,39,3,39,null,null,52,147]
[null,null,null,null,null,null,null,null,null,null,null,null,null,null,null,null,null,null,null,null,null,null,0,8,0,8,0,8,null,null,35,109]
[null,null,null,null,null,null,null,null,null,null,null,null,null,null,null,null,null,null,null,null,null,null,3,7,0,7,3,7,null,null,13,51]
[null,null,null,null,null,null,null,null,null,null,null,null,null,null,null,null,null,null,null,null,null,null,3,16,null,16,null,16,null,null,25,110]
[null,null,null,null,null,null,null,null,null,null,null,null,null,null,null,null,null,null,null,null,null,null,5,15,null,15,null,15,3,53,20,56]
[null,null,null,null,null,null,null,null,null,null,null,null,null,null,null,null,null,null,null,null,null,null,null,17,0,17,null,17,null,null,49,199]
[null,null,null,null,null,null,null,null,null,null,null,null,null,null,null,null,null,null,null,null,null,null,5,39,0,39,5,39,8,290,74,297]
[null,null,null,null,null,null,null,null,null,null,null,null,null,null,null,null,null,null,null,null,null,null,7,22,0,22,7,22,5,192,38,195]
[null,null,null,null,null,null,null,null,null,null,null,null,null,null,null,null,null,null,null,null,null,null,0,7,0,7,0,7,null,null,9,48]
[null,null,null,null,null,null,null,null,null,null,null,null,null,null,null,null,null,null,null,null,null,null,3,29,0,29,3,29,null,null,20,129]
[null,null,null,null,null,null,null,null,null,null,null,null,null,null,null,null,null,null,null,null,null,null,null,18,0,18,null,18,5,196,28,200]
[null,null,null,null,null,null,null,null,null,null,null,null,null,null,null,null,null,null,null,null,null,null,3,18,0,18,3,18,9,210,44,216]
[null,null,null,null,null,null,null,null,null,null,null,null,null,null,null,null,null,null,null,null,null,null,10,31,0,31,10,31,13,193,46,207]
[null,null,null,null,null,null,null,null,null,null,null,null,null,null,null,null,null,null,null,null,null,null,9,29,0,29,9,29,null,null,50,206]
[null,null,null,null,null,null,null,null,null,null,null,null,null,null,null,null,null,null,null,null,null,null,9,34,0,34,9,34,null,null,27,134]
[null,null,null,null,null,null,null,null,null,null,null,null,null,null,null,null,null,null,null,null,null,null,12,62,0,62,12,62,10,280,108,286]
[null,null,null,null,null,null,null,null,null,null,null,null,null,null,null,null,null,null,null,null,null,null,3,13,0,13,3,13,null,null,7,61]
[null,null,null,null,null,null,null,null,null,null,null,null,null,null,null,null,null,null,null,null,null,null,null,24,0,24,null,24,6,201,34,210]
[null,null,null,null,null,null,null,null,null,null,null,null,null,null,null,null,null,null,null,null,null,null,6,29,0,29,6,29,5,269,39,272]
[null,null,null,null,null,null,null,null,null,null,null,null,null,null,null,null,null,null,null,null,null,null,11,54,0,54,11,54,12,279,60,284]
[null,null,null,null,null,null,null,null,null,null,null,null,null,null,null,null,null,null,null,null,null,null,3,25,null,25,null,25,null,null,42,173]
[null,null,null,null,null,null,null,null,null,null,null,null,null,null,null,null,null,null,null,null,null,null,18,55,3,55,15,55,null,null,50,179]
[null,null,null,null,null,null,null,null,null,null,null,null,null,null,null,null,null,null,null,null,null,null,3,26,0,26,3,26,8,160,34,165]
[null,null,null,null,null,null,null,null,null,null,null,null,null,null,null,null,null,null,null,null,null,null,7,46,null,46,null,46,13,265,126,274]
[null,null,null,null,null,null,null,null,null,null,null,null,null,null,null,null,null,null,null,null,null,null,4,21,0,21,4,21,null,null,20,84]
[null,null,null,null,null,null,null,null,null,null,null,null,null,null,null,null,null,null,null,null,null,null,4,20,null,20,null,20,7,182,29,197]
[null,null,null,null,null,null,null,null,null,null,null,null,null,null,null,null,null,null,null,null,null,null,5,14,0,14,5,14,null,null,34,111]
[null,null,null,null,null,null,null,null,null,null,null,null,null,null,null,null,null,null,null,null,null,null,13,41,3,41,10,41,null,null,41,159]
[null,null,null,null,null,null,null,null,null,null,null,null,null,null,null,null,null,null,null,null,null,null,9,77,null,77,null,77,15,258,103,268]
[null,null,null,null,null,null,null,null,null,null,null,null,null,null,null,null,null,null,null,null,null,null,10,66,0,66,10,66,null,null,63,225]
[null,null,null,null,null,null,null,null,null,null,null,null,null,null,null,null,null,null,null,null,null,null,7,44,0,44,7,44,9,85,32,89]
[null,null,null,null,null,null,null,null,null,null,null,null,null,null,null,null,null,null,null,null,null,null,4,20,0,20,4,20,null,null,39,156]
[null,null,null,null,null,null,null,null,null,null,null,null,null,null,null,null,null,null,null,null,null,null,5,23,0,23,5,23,null,null,13,218]
[null,null,null,null,null,null,null,null,null,null,null,null,null,null,null,null,null,null,null,null,null,null,3,12,0,12,3,12,4,198,41,202]
[null,null,null,null,null,null,null,null,null,null,null,null,null,null,null,null,null,null,null,null,null,null,null,34,0,34,null,34,10,117,46,125]
[null,null,null,null,null,null,null,null,null,null,null,null,null,null,null,null,null,null,null,null,null,null,null,17,0,17,null,17,null,null,null,44]
[null,null,null,null,null,null,null,null,null,null,null,null,null,null,null,null,null,null,null,null,null,null,4,15,0,15,4,15,null,null,50,115]
[null,null,null,null,null,null,null,null,null,null,null,null,null,null,null,null,null,null,null,null,null,null,22,149,0,149,22,149,null,null,147,815]
[null,null,null,null,null,null,null,null,null,null,null,null,null,null,null,null,null,null,null,null,null,null,7,36,0,36,7,36,null,null,52,411]
[null,null,null,null,null,null,null,null,null,null,null,null,null,null,null,null,null,null,null,null,null,null,null,12,0,12,null,12,6,76,29,81]
[null,null,null,null,null,null,null,null,null,null,null,null,null,null,null,null,null,null,null,null,null,null,null,20,0,20,null,20,null,null,12,52]
[null,null,null,null,null,null,null,null,null,null,null,null,null,null,null,null,null,null,null,null,null,null,null,3,0,3,null,3,null,null,6,13]
[null,null,null,null,null,null,null,null,null,null,null,null,null,null,null,null,null,null,null,null,null,null,10,30,0,30,10,30,9,225,79,228]
[null,null,null,null,null,null,null,null,null,null,null,null,null,null,null,null,null,null,null,null,null,null,3,10,0,10,3,10,null,null,39,143]
[null,null,null,null,null,null,null,null,null,null,null,null,null,null,null,null,null,null,null,null,null,null,null,25,0,25,null,25,26,434,148,451]
[null,null,null,null,null,null,null,null,null,null,null,null,null,null,null,null,null,null,null,null,null,null,5,18,null,18,null,18,7,154,39,158]
[null,null,null,null,null,null,null,null,null,null,null,null,null,null,null,null,null,null,null,null,null,null,37,152,null,152,null,152,27,948,95,960]
[null,null,null,null,null,null,null,null,null,null,null,null,null,null,null,null,null,null,null,null,null,null,null,3,0,3,null,3,0,4,0,4]
[null,null,null,null,null,null,null,null,null,null,null,null,null,null,null,null,null,null,null,null,null,null,3,19,null,19,null,19,10,470,117,473]
[null,null,null,null,null,null,null,null,null,null,null,null,null,null,null,null,null,null,null,null,null,null,7,39,null,39,null,39,5,223,98,223]
[null,null,null,null,null,null,null,null,null,null,null,null,null,null,null,null,null,null,null,null,null,null,11,45,0,45,11,45,null,null,74,314]
[null,null,null,null,null,null,null,null,null,null,null,null,null,null,null,null,null,null,null,null,null,null,4,16,0,16,4,16,null,null,43,235]
[null,null,null,null,null,null,null,null,null,null,null,null,null,null,null,null,null,null,null,null,null,null,13,55,4,55,9,55,null,null,127,489]
[null,null,null,null,null,null,null,null,null,null,null,null,null,null,null,null,null,null,null,null,null,null,10,35,0,35,10,35,null,null,122,333]
[null,null,null,null,null,null,null,null,null,null,null,null,null,null,null,null,null,null,null,null,null,null,13,60,3,60,10,60,18,537,85,544]
[null,null,null,null,null,null,null,null,null,null,null,null,null,null,null,null,null,null,null,null,null,null,18,45,null,45,null,45,11,341,65,352]
[null,null,null,null,null,null,null,null,null,null,null,null,null,null,null,null,null,null,null,null,null,null,8,31,null,31,null,31,5,284,75,284]
[null,null,null,null,null,null,null,null,null,null,null,null,null,null,null,null,null,null,null,null,null,null,5,15,0,15,5,15,null,null,15,74]
[null,null,null,null,null,null,null,null,null,null,null,null,null,null,null,null,null,null,null,null,null,null,4,11,null,11,null,11,null,null,10,79]
[null,null,null,null,null,null,null,null,null,null,null,null,null,null,null,null,null,null,null,null,null,null,3,11,null,11,null,11,8,322,55,326]
[null,null,null,null,null,null,null,null,null,null,null,null,null,null,null,null,null,null,null,null,null,null,8,50,0,50,8,50,null,null,99,269]
[null,null,null,null,null,null,null,null,null,null,null,null,null,null,null,null,null,null,null,null,null,null,7,41,0,41,7,41,null,null,25,129]
[null,null,null,null,null,null,null,null,null,null,null,null,null,null,null,null,null,null,null,null,null,null,null,6,0,6,null,6,null,null,14,124]
[null,null,null,null,null,null,null,null,null,null,null,null,null,null,null,null,null,null,null,null,null,null,12,42,null,42,null,42,null,null,109,373]
[null,null,null,null,null,null,null,null,null,null,null,null,null,null,null,null,null,null,null,null,null,null,7,33,null,33,null,33,null,null,53,234]
[null,null,null,null,null,null,null,null,null,null,null,null,null,null,null,null,null,null,null,null,null,null,null,null,null,null,null,null,null,null,5,23]
[null,null,null,null,null,null,null,null,null,null,null,null,null,null,null,null,null,null,null,null,null,null,5,19,null,19,null,19,null,null,58,196]
[null,null,null,null,null,null,null,null,null,null,null,null,null,null,null,null,null,null,null,null,null,null,31,189,3,189,28,189,52,1119,301,1152]
[null,null,null,null,null,null,null,null,null,null,null,null,null,null,null,null,null,null,null,null,null,null,0,15,0,15,0,15,null,null,10,40]
[null,null,null,null,null,null,null,null,null,null,null,null,null,null,null,null,null,null,null,null,null,null,4,34,0,34,4,34,null,null,60,315]
[null,null,null,null,null,null,null,null,null,null,null,null,null,null,null,null,null,null,null,null,null,null,5,34,null,34,null,34,null,null,59,314]
[null,null,null,null,null,null,null,null,null,null,null,null,null,null,null,null,null,null,null,null,null,null,5,16,null,16,null,16,null,null,20,119]
[null,null,null,null,null,null,null,null,null,null,null,null,null,null,null,null,null,null,null,null,null,null,7,26,3,26,4,26,null,null,110,212]
[null,null,null,null,null,null,null,null,null,null,null,null,null,null,null,null,null,null,null,null,null,null,7,25,null,25,null,25,null,null,93,282]
[null,null,null,null,null,null,null,null,null,null,null,null,null,null,null,null,null,null,null,null,null,null,14,44,4,44,10,44,null,null,261,527]
[null,null,null,null,null,null,null,null,null,null,null,null,null,null,null,null,null,null,null,null,null,null,4,28,null,28,null,28,null,null,37,155]
[null,null,null,null,null,null,null,null,null,null,null,null,null,null,null,null,null,null,null,null,null,null,4,32,0,32,4,32,null,null,93,248]
[null,null,null,null,null,null,null,null,null,null,null,null,null,null,null,null,null,null,null,null,null,null,6,34,0,34,6,34,null,null,51,268]
[null,null,null,null,null,null,null,null,null,null,null,null,null,null,null,null,null,null,null,null,null,null,0,0,0,0,0,0,null,null,null,4]
[null,null,null,null,null,null,null,null,null,null,null,null,null,null,null,null,null,null,null,null,null,null,4,14,0,14,4,14,null,null,8,90]
[null,null,null,null,null,null,null,null,null,null,null,null,null,null,null,null,null,null,null,null,null,null,3,34,0,34,3,34,null,null,73,226]
[null,null,null,null,null,null,null,null,null,null,null,null,null,null,null,null,null,null,null,null,null,null,5,29,0,29,5,29,null,null,60,273]
[null,null,null,null,null,null,null,null,null,null,null,null,null,null,null,null,null,null,null,null,null,null,19,148,4,148,15,148,24,736,166,744]
[null,null,null,null,null,null,null,null,null,null,null,null,null,null,null,null,null,null,null,null,null,null,6,42,null,42,null,42,8,181,55,181]
[null,null,null,null,null,null,null,null,null,null,null,null,null,null,null,null,null,null,null,null,null,null,673,3438,75,3438,598,3438,819,23373,5854,23861]
[null,null,null,null,null,null,null,null,null,null,null,null,null,null,null,null,null,null,null,null,null,null,46,233,9,233,37,233,59,2072,516,2101]
[null,null,null,null,null,null,null,null,null,null,null,null,null,null,null,null,null,null,null,null,null,null,5,62,null,62,null,62,null,null,33,157]
[null,null,null,null,null,null,null,null,null,null,null,null,null,null,null,null,null,null,null,null,null,null,5,36,0,36,5,36,null,null,63,310]
[null,null,null,null,null,null,null,null,null,null,null,null,null,null,null,null,null,null,null,null,null,null,6,39,0,39,6,39,null,null,34,121]
[null,null,null,null,null,null,null,null,null,null,null,null,null,null,null,null,null,null,null,null,null,null,null,null,null,null,null,null,null,null,8,29]
[null,null,null,null,null,null,null,null,null,null,null,null,null,null,null,null,null,null,null,null,null,null,4,30,0,30,4,30,null,null,21,110]
[null,null,null,null,null,null,null,null,null,null,null,null,null,null,null,null,null,null,null,null,null,null,10,35,null,35,null,35,8,270,61,275]
[null,null,null,null,null,null,null,null,null,null,null,null,null,null,null,null,null,null,null,null,null,null,null,8,0,8,null,8,0,62,17,65]
[null,null,null,null,null,null,null,null,null,null,null,null,null,null,null,null,null,null,null,null,null,null,9,27,0,27,9,27,null,null,15,94]
[null,null,null,null,null,null,null,null,null,null,null,null,null,null,null,null,null,null,null,null,null,null,5,29,null,29,null,29,4,153,18,156]
[null,null,null,null,null,null,null,null,null,null,null,null,null,null,null,null,null,null,null,null,null,null,7,25,null,25,null,25,null,null,45,276]
[null,null,null,null,null,null,null,null,null,null,null,null,null,null,null,null,null,null,null,null,null,null,9,64,0,64,9,64,5,197,40,201]
[null,null,null,null,null,null,null,null,null,null,null,null,null,null,null,null,null,null,null,null,null,null,3,19,null,19,null,19,null,null,30,155]
[null,null,null,null,null,null,null,null,null,null,null,null,null,null,null,null,null,null,null,null,null,null,null,11,null,11,0,11,null,null,26,163]
[null,null,null,null,null,null,null,null,null,null,null,null,null,null,null,null,null,null,null,null,null,null,9,38,null,38,null,38,6,122,24,122]
[null,null,null,null,null,null,null,null,null,null,null,null,null,null,null,null,null,null,null,null,null,null,null,9,0,9,null,9,null,null,32,101]
[null,null,null,null,null,null,null,null,null,null,null,null,null,null,null,null,null,null,null,null,null,null,null,7,0,7,null,7,null,null,18,49]
[null,null,null,null,null,null,null,null,null,null,null,null,null,null,null,null,null,null,null,null,null,null,3,16,0,16,3,16,null,null,22,128]
[null,null,null,null,null,null,null,null,null,null,null,null,null,null,null,null,null,null,null,null,null,null,null,11,0,11,null,11,null,null,9,48]
[null,null,null,null,null,null,null,null,null,null,null,null,null,null,null,null,null,null,null,null,null,null,6,20,0,20,6,20,7,184,42,184]
[null,null,null,null,null,null,null,null,null,null,null,null,null,null,null,null,null,null,null,null,null,null,5,35,0,35,5,35,10,287,69,292]
[null,null,null,null,null,null,null,null,null,null,null,null,null,null,null,null,null,null,null,null,null,null,3,22,0,22,3,22,null,null,38,219]
[null,null,null,null,null,null,null,null,null,null,null,null,null,null,null,null,null,null,null,null,null,null,null,9,0,9,null,9,null,null,12,38]
[null,null,null,null,null,null,null,null,null,null,null,null,null,null,null,null,null,null,null,null,null,null,3,27,0,27,3,27,null,null,48,209]
[null,null,null,null,null,null,null,null,null,null,null,null,null,null,null,null,null,null,null,null,null,null,5,22,null,22,null,22,5,221,42,221]
[null,null,null,null,null,null,null,null,null,null,null,null,null,null,null,null,null,null,null,null,null,null,null,15,0,15,null,15,10,184,49,190]
[null,null,null,null,null,null,null,null,null,null,null,null,null,null,null,null,null,null,null,null,null,null,5,28,null,28,null,28,7,193,46,200]
[null,null,null,null,null,null,null,null,null,null,null,null,null,null,null,null,null,null,null,null,null,null,5,29,null,29,null,29,10,222,68,226]
[null,null,null,null,null,null,null,null,null,null,null,null,null,null,null,null,null,null,null,null,null,null,6,33,0,33,6,33,null,null,34,155]
[null,null,null,null,null,null,null,null,null,null,null,null,null,null,null,null,null,null,null,null,null,null,14,64,0,64,14,64,null,null,99,283]
[null,null,null,null,null,null,null,null,null,null,null,null,null,null,null,null,null,null,null,null,null,null,3,13,0,13,3,13,null,null,11,63]
[null,null,null,null,null,null,null,null,null,null,null,null,null,null,null,null,null,null,null,null,null,null,7,29,0,29,7,29,7,233,67,239]
[null,null,null,null,null,null,null,null,null,null,null,null,null,null,null,null,null,null,null,null,null,null,10,24,0,24,10,24,5,267,38,270]
[null,null,null,null,null,null,null,null,null,null,null,null,null,null,null,null,null,null,null,null,null,null,10,55,null,55,null,55,13,301,68,306]
[null,null,null,null,null,null,null,null,null,null,null,null,null,null,null,null,null,null,null,null,null,null,9,28,null,28,null,28,null,null,29,162]
[null,null,null,null,null,null,null,null,null,null,null,null,null,null,null,null,null,null,null,null,null,null,3,53,0,53,3,53,16,170,45,180]
[null,null,null,null,null,null,null,null,null,null,null,null,null,null,null,null,null,null,null,null,null,null,8,36,null,36,null,36,null,null,51,166]
[null,null,null,null,null,null,null,null,null,null,null,null,null,null,null,null,null,null,null,null,null,null,11,48,null,48,null,48,17,202,59,210]
[null,null,null,null,null,null,null,null,null,null,null,null,null,null,null,null,null,null,null,null,null,null,null,24,0,24,null,24,5,97,32,100]
[null,null,null,null,null,null,null,null,null,null,null,null,null,null,null,null,null,null,null,null,null,null,7,19,0,19,7,19,null,null,35,213]
[null,null,null,null,null,null,null,null,null,null,null,null,null,null,null,null,null,null,null,null,null,null,null,12,0,12,null,12,null,null,12,82]
[null,null,null,null,null,null,null,null,null,null,null,null,null,null,null,null,null,null,null,null,null,null,6,38,0,38,6,38,null,null,76,307]
[null,null,null,null,null,null,null,null,null,null,null,null,null,null,null,null,null,null,null,null,null,null,11,79,null,79,null,79,15,280,54,291]
[null,null,null,null,null,null,null,null,null,null,null,null,null,null,null,null,null,null,null,null,null,null,13,67,4,67,9,67,null,null,50,190]
[null,null,null,null,null,null,null,null,null,null,null,null,null,null,null,null,null,null,null,null,null,null,5,42,0,42,5,42,6,89,30,94]
[null,null,null,null,null,null,null,null,null,null,null,null,null,null,null,null,null,null,null,null,null,null,null,18,null,18,null,18,null,null,23,143]
[null,null,null,null,null,null,null,null,null,null,null,null,null,null,null,null,null,null,null,null,null,null,6,23,null,23,null,23,null,null,30,245]
[null,null,null,null,null,null,null,null,null,null,null,null,null,null,null,null,null,null,null,null,null,null,0,10,0,10,0,10,6,182,39,185]
[null,null,null,null,null,null,null,null,null,null,null,null,null,null,null,null,null,null,null,null,null,null,3,37,0,37,3,37,null,null,26,180]
[null,null,null,null,null,null,null,null,null,null,null,null,null,null,null,null,null,null,null,null,null,null,null,18,0,18,null,18,null,null,4,53]
[null,null,null,null,null,null,null,null,null,null,null,null,null,null,null,null,null,null,null,null,null,null,3,17,0,17,3,17,6,91,25,91]
[null,null,null,null,null,null,null,null,null,null,null,null,null,null,null,null,null,null,null,null,null,null,23,168,4,168,19,168,18,928,216,933]
[null,null,null,null,null,null,null,null,null,null,null,null,null,null,null,null,null,null,null,null,null,null,7,34,0,34,7,34,null,null,81,418]
[null,null,null,null,null,null,null,null,null,null,null,null,null,null,null,null,null,null,null,null,null,null,3,14,null,14,null,14,5,52,18,57]
[null,null,null,null,null,null,null,null,null,null,null,null,null,null,null,null,null,null,null,null,null,null,4,19,0,19,4,19,null,null,13,59]
[null,null,null,null,null,null,null,null,null,null,null,null,null,null,null,null,null,null,null,null,null,null,null,null,null,null,null,null,0,14,7,14]
[null,null,null,null,null,null,null,null,null,null,null,null,null,null,null,null,null,null,null,null,null,null,7,25,0,25,7,25,10,193,55,197]
[null,null,null,null,null,null,null,null,null,null,null,null,null,null,null,null,null,null,null,null,null,null,null,10,0,10,null,10,null,null,45,156]
[null,null,null,null,null,null,null,null,null,null,null,null,null,null,null,null,null,null,null,null,null,null,10,30,null,30,null,30,19,307,63,328]
[null,null,null,null,null,null,null,null,null,null,null,null,null,null,null,null,null,null,null,null,null,null,5,14,0,14,5,14,null,null,42,153]
[null,null,null,null,null,null,null,null,null,null,null,null,null,null,null,null,null,null,null,null,null,null,20,130,null,130,null,130,null,null,92,961]
[null,null,null,null,null,null,null,null,null,null,null,null,null,null,null,null,null,null,null,null,null,null,null,null,null,null,null,null,0,5,null,5]
[null,null,null,null,null,null,null,null,null,null,null,null,null,null,null,null,null,null,null,null,null,null,6,18,0,18,6,18,null,null,133,444]
[null,null,null,null,null,null,null,null,null,null,null,null,null,null,null,null,null,null,null,null,null,null,6,35,null,35,null,35,null,null,46,166]
[null,null,null,null,null,null,null,null,null,null,null,null,null,null,null,null,null,null,null,null,null,null,6,36,null,36,null,36,null,null,70,309]
[null,null,null,null,null,null,null,null,null,null,null,null,null,null,null,null,null,null,null,null,null,null,null,17,0,17,null,17,null,null,42,260]
[null,null,null,null,null,null,null,null,null,null,null,null,null,null,null,null,null,null,null,null,null,null,11,55,null,55,null,55,null,null,89,441]
[null,null,null,null,null,null,null,null,null,null,null,null,null,null,null,null,null,null,null,null,null,null,11,38,4,38,7,38,null,null,109,358]
[null,null,null,null,null,null,null,null,null,null,null,null,null,null,null,null,null,null,null,null,null,null,24,65,8,65,16,65,12,515,102,520]
[null,null,null,null,null,null,null,null,null,null,null,null,null,null,null,null,null,null,null,null,null,null,10,34,5,34,5,34,14,364,44,369]
[null,null,null,null,null,null,null,null,null,null,null,null,null,null,null,null,null,null,null,null,null,null,6,29,0,29,6,29,null,null,87,301]
[null,null,null,null,null,null,null,null,null,null,null,null,null,null,null,null,null,null,null,null,null,null,null,11,null,11,0,11,null,null,8,73]
[null,null,null,null,null,null,null,null,null,null,null,null,null,null,null,null,null,null,null,null,null,null,6,12,0,12,6,12,null,null,21,83]
[null,null,null,null,null,null,null,null,null,null,null,null,null,null,null,null,null,null,null,null,null,null,null,12,0,12,null,12,9,368,78,373]
[null,null,null,null,null,null,null,null,null,null,null,null,null,null,null,null,null,null,null,null,null,null,5,47,null,47,null,47,null,null,31,211]
[null,null,null,null,null,null,null,null,null,null,null,null,null,null,null,null,null,null,null,null,null,null,5,42,0,42,5,42,null,null,14,137]
[null,null,null,null,null,null,null,null,null,null,null,null,null,null,null,null,null,null,null,null,null,null,null,7,0,7,null,7,null,null,24,128]
[null,null,null,null,null,null,null,null,null,null,null,null,null,null,null,null,null,null,null,null,null,null,8,33,0,33,8,33,14,344,121,349]
[null,null,null,null,null,null,null,null,null,null,null,null,null,null,null,null,null,null,null,null,null,null,5,28,0,28,5,28,null,null,90,269]
[null,null,null,null,null,null,null,null,null,null,null,null,null,null,null,null,null,null,null,null,null,null,null,null,null,null,null,null,5,20,null,23]
[null,null,null,null,null,null,null,null,null,null,null,null,null,null,null,null,null,null,null,null,null,null,4,15,0,15,4,15,null,null,55,201]
[null,null,null,null,null,null,null,null,null,null,null,null,null,null,null,null,null,null,null,null,null,null,36,203,6,203,30,203,null,null,314,1145]
[null,null,null,null,null,null,null,null,null,null,null,null,null,null,null,null,null,null,null,null,null,null,6,16,null,16,null,16,null,null,13,50]
[null,null,null,null,null,null,null,null,null,null,null,null,null,null,null,null,null,null,null,null,null,null,8,33,0,33,8,33,null,null,53,312]
[null,null,null,null,null,null,null,null,null,null,null,null,null,null,null,null,null,null,null,null,null,null,5,37,0,37,5,37,6,284,53,287]
[null,null,null,null,null,null,null,null,null,null,null,null,null,null,null,null,null,null,null,null,null,null,3,12,null,12,null,12,4,133,38,133]
[null,null,null,null,null,null,null,null,null,null,null,null,null,null,null,null,null,null,null,null,null,null,null,28,0,28,null,28,null,null,28,169]
[null,null,null,null,null,null,null,null,null,null,null,null,null,null,null,null,null,null,null,null,null,null,null,21,0,21,null,21,null,null,92,271]
[null,null,null,null,null,null,null,null,null,null,null,null,null,null,null,null,null,null,null,null,null,null,5,37,null,37,null,37,6,321,104,324]
[null,null,null,null,null,null,null,null,null,null,null,null,null,null,null,null,null,null,null,null,null,null,null,29,0,29,null,29,null,null,40,167]
[null,null,null,null,null,null,null,null,null,null,null,null,null,null,null,null,null,null,null,null,null,null,6,30,null,30,null,30,null,null,39,189]
[null,null,null,null,null,null,null,null,null,null,null,null,null,null,null,null,null,null,null,null,null,null,4,29,0,29,4,29,null,null,48,266]
[null,null,null,null,null,null,null,null,null,null,null,null,null,null,null,null,null,null,null,null,null,null,null,null,null,null,null,null,0,6,null,6]
[null,null,null,null,null,null,null,null,null,null,null,null,null,null,null,null,null,null,null,null,null,null,null,10,0,10,null,10,null,null,16,111]
[null,null,null,null,null,null,null,null,null,null,null,null,null,null,null,null,null,null,null,null,null,null,4,42,0,42,4,42,null,null,72,212]
[null,null,null,null,null,null,null,null,null,null,null,null,null,null,null,null,null,null,null,null,null,null,5,28,0,28,5,28,null,null,74,261]
[null,null,null,null,null,null,null,null,null,null,null,null,null,null,null,null,null,null,null,null,null,null,30,156,null,156,null,156,37,777,179,786]
[null,null,null,null,null,null,null,null,null,null,null,null,null,null,null,null,null,null,null,null,null,null,10,43,0,43,10,43,7,228,54,231]
[null,null,null,null,null,null,null,null,null,null,null,null,null,null,null,null,null,null,null,null,null,null,634,3434,76,3434,558,3434,823,23437,5403,23864]
[null,null,null,null,null,null,null,null,null,null,null,null,null,null,null,null,null,null,null,null,null,null,50,224,4,224,46,224,59,2113,501,2146]
[null,null,null,null,null,null,null,null,null,null,null,null,null,null,null,null,null,null,null,null,null,null,11,65,null,65,null,65,null,null,50,140]
[null,null,null,null,null,null,null,null,null,null,null,null,null,null,null,null,null,null,null,null,null,null,6,38,0,38,6,38,5,285,73,289]
[null,null,null,null,null,null,null,null,null,null,null,null,null,null,null,null,null,null,null,null,null,null,8,40,null,40,null,40,null,null,28,99]
[null,null,null,null,null,null,null,null,null,null,null,null,null,null,null,null,null,null,null,null,null,null,null,null,null,null,null,null,null,null,7,35]
[null,null,null,null,null,null,null,null,null,null,null,null,null,null,null,null,null,null,null,null,null,null,12,43,null,43,null,43,null,null,37,133]
[null,null,null,null,null,null,null,null,null,null,null,null,null,null,null,null,null,null,null,null,null,null,4,35,0,35,4,35,8,265,45,269]
[null,null,null,null,null,null,null,null,null,null,null,null,null,null,null,null,null,null,null,null,null,null,null,10,0,10,null,10,null,null,7,63]
[null,null,null,null,null,null,null,null,null,null,null,null,null,null,null,null,null,null,null,null,null,null,5,22,0,22,5,22,null,null,10,88]
[null,null,null,null,null,null,null,null,null,null,null,null,null,null,null,null,null,null,null,null,null,null,4,29,0,29,4,29,7,178,63,182]
[null,null,null,null,null,null,null,null,null,null,null,null,null,null,null,null,null,null,null,null,null,null,3,21,0,21,3,21,null,null,91,283]
[null,null,null,null,null,null,null,null,null,null,null,null,null,null,null,null,null,null,null,null,null,null,10,57,0,57,10,57,6,187,58,193]
[null,null,null,null,null,null,null,null,null,null,null,null,null,null,null,null,null,null,null,null,null,null,8,24,0,24,8,24,null,null,34,162]
[null,null,null,null,null,null,null,null,null,null,null,null,null,null,null,null,null,null,null,null,null,null,5,14,0,14,5,14,10,188,26,191]
[null,null,null,null,null,null,null,null,null,null,null,null,null,null,null,null,null,null,null,null,null,null,3,33,null,33,null,33,null,null,40,146]
[null,null,null,null,null,null,null,null,null,null,null,null,null,null,null,null,null,null,null,null,null,null,4,11,null,11,null,11,8,95,25,98]
[null,null,null,null,null,null,null,null,null,null,null,null,null,null,null,null,null,null,null,null,null,null,null,6,0,6,null,6,null,null,15,43]
[null,null,null,null,null,null,null,null,null,null,null,null,null,null,null,null,null,null,null,null,null,null,8,17,null,17,null,17,null,null,22,123]
[null,null,null,null,null,null,null,null,null,null,null,null,null,null,null,null,null,null,null,null,null,null,null,10,null,10,null,10,null,null,15,52]
[null,null,null,null,null,null,null,null,null,null,null,null,null,null,null,null,null,null,null,null,null,null,3,18,0,18,3,18,7,175,26,178]
[null,null,null,null,null,null,null,null,null,null,null,null,null,null,null,null,null,null,null,null,null,null,6,38,0,38,6,38,5,269,88,274]
[null,null,null,null,null,null,null,null,null,null,null,null,null,null,null,null,null,null,null,null,null,null,3,25,0,25,3,25,null,null,30,216]
[null,null,null,null,null,null,null,null,null,null,null,null,null,null,null,null,null,null,null,null,null,null,3,9,0,9,3,9,3,35,5,39]
[null,null,null,null,null,null,null,null,null,null,null,null,null,null,null,null,null,null,null,null,null,null,3,27,0,27,3,27,null,null,58,217]
[null,null,null,null,null,null,null,null,null,null,null,null,null,null,null,null,null,null,null,null,null,null,5,20,null,20,null,20,4,223,32,223]
[null,null,null,null,null,null,null,null,null,null,null,null,null,null,null,null,null,null,null,null,null,null,3,15,0,15,3,15,9,161,28,170]
[null,null,null,null,null,null,null,null,null,null,null,null,null,null,null,null,null,null,null,null,null,null,5,25,null,25,null,25,null,null,42,214]
[null,null,null,null,null,null,null,null,null,null,null,null,null,null,null,null,null,null,null,null,null,null,10,36,null,36,null,36,null,null,49,241]
[null,null,null,null,null,null,null,null,null,null,null,null,null,null,null,null,null,null,null,null,null,null,9,40,null,40,null,40,null,null,40,150]
[null,null,null,null,null,null,null,null,null,null,null,null,null,null,null,null,null,null,null,null,null,null,12,58,null,58,null,58,null,null,102,277]
[null,null,null,null,null,null,null,null,null,null,null,null,null,null,null,null,null,null,null,null,null,null,null,9,0,9,null,9,null,null,11,57]
[null,null,null,null,null,null,null,null,null,null,null,null,null,null,null,null,null,null,null,null,null,null,3,31,3,31,0,31,null,null,28,226]
[null,null,null,null,null,null,null,null,null,null,null,null,null,null,null,null,null,null,null,null,null,null,0,16,0,16,0,16,6,264,36,268]
[null,null,null,null,null,null,null,null,null,null,null,null,null,null,null,null,null,null,null,null,null,null,7,52,0,52,7,52,13,281,47,287]
[null,null,null,null,null,null,null,null,null,null,null,null,null,null,null,null,null,null,null,null,null,null,null,23,0,23,null,23,null,null,56,163]
[null,null,null,null,null,null,null,null,null,null,null,null,null,null,null,null,null,null,null,null,null,null,11,64,null,64,null,64,null,null,34,173]
[null,null,null,null,null,null,null,null,null,null,null,null,null,null,null,null,null,null,null,null,null,null,5,34,0,34,5,34,null,null,37,146]
[null,null,null,null,null,null,null,null,null,null,null,null,null,null,null,null,null,null,null,null,null,null,10,48,null,48,null,48,10,234,81,237]
[null,null,null,null,null,null,null,null,null,null,null,null,null,null,null,null,null,null,null,null,null,null,null,24,0,24,null,24,null,null,23,96]
[null,null,null,null,null,null,null,null,null,null,null,null,null,null,null,null,null,null,null,null,null,null,4,16,0,16,4,16,null,null,33,219]
[null,null,null,null,null,null,null,null,null,null,null,null,null,null,null,null,null,null,null,null,null,null,null,10,0,10,null,10,null,null,23,79]
[null,null,null,null,null,null,null,null,null,null,null,null,null,null,null,null,null,null,null,null,null,null,4,38,0,38,4,38,null,null,87,303]
[null,null,null,null,null,null,null,null,null,null,null,null,null,null,null,null,null,null,null,null,null,null,7,77,0,77,7,77,12,280,89,293]
[null,null,null,null,null,null,null,null,null,null,null,null,null,null,null,null,null,null,null,null,null,null,10,67,null,67,null,67,null,null,47,155]
[null,null,null,null,null,null,null,null,null,null,null,null,null,null,null,null,null,null,null,null,null,null,4,43,0,43,4,43,10,117,53,122]
[null,null,null,null,null,null,null,null,null,null,null,null,null,null,null,null,null,null,null,null,null,null,4,27,0,27,4,27,null,null,36,167]
[null,null,null,null,null,null,null,null,null,null,null,null,null,null,null,null,null,null,null,null,null,null,8,24,0,24,8,24,5,254,69,254]
[null,null,null,null,null,null,null,null,null,null,null,null,null,null,null,null,null,null,null,null,null,null,null,11,0,11,null,11,3,182,38,186]
[null,null,null,null,null,null,null,null,null,null,null,null,null,null,null,null,null,null,null,null,null,null,9,40,0,40,9,40,null,null,65,191]
[null,null,null,null,null,null,null,null,null,null,null,null,null,null,null,null,null,null,null,null,null,null,5,22,null,22,null,22,null,null,null,52]
[null,null,null,null,null,null,null,null,null,null,null,null,null,null,null,null,null,null,null,null,null,null,11,20,0,20,11,20,null,null,26,81]
[null,null,null,null,null,null,null,null,null,null,null,null,null,null,null,null,null,null,null,null,null,null,39,160,8,160,31,160,null,null,170,917]
[null,null,null,null,null,null,null,null,null,null,null,null,null,null,null,null,null,null,null,null,null,null,5,35,0,35,5,35,null,null,69,409]
[null,null,null,null,null,null,null,null,null,null,null,null,null,null,null,null,null,null,null,null,null,null,null,14,0,14,null,14,5,56,18,59]
[null,null,null,null,null,null,null,null,null,null,null,null,null,null,null,null,null,null,null,null,null,null,null,16,0,16,null,16,7,70,16,74]
[null,null,null,null,null,null,null,null,null,null,null,null,null,null,null,null,null,null,null,null,null,null,null,null,null,null,null,null,null,null,6,11]
[null,null,null,null,null,null,null,null,null,null,null,null,null,null,null,null,null,null,null,null,null,null,7,29,3,29,4,29,12,206,83,210]
[null,null,null,null,null,null,null,null,null,null,null,null,null,null,null,null,null,null,null,null,null,null,5,15,0,15,5,15,null,null,45,143]
[null,null,null,null,null,null,null,null,null,null,null,null,null,null,null,null,null,null,null,null,null,null,7,25,null,25,null,25,null,null,57,344]
[null,null,null,null,null,null,null,null,null,null,null,null,null,null,null,null,null,null,null,null,null,null,3,15,0,15,3,15,null,null,27,147]
[null,null,null,null,null,null,null,null,null,null,null,null,null,null,null,null,null,null,null,null,null,null,18,125,null,125,null,125,25,981,116,986]
[null,null,null,null,null,null,null,null,null,null,null,null,null,null,null,null,null,null,null,null,null,null,null,null,null,null,null,null,0,7,null,7]
[null,null,null,null,null,null,null,null,null,null,null,null,null,null,null,null,null,null,null,null,null,null,null,16,0,16,null,16,null,null,101,424]
[null,null,null,null,null,null,null,null,null,null,null,null,null,null,null,null,null,null,null,null,null,null,6,37,0,37,6,37,null,null,50,159]
[null,null,null,null,null,null,null,null,null,null,null,null,null,null,null,null,null,null,null,null,null,null,9,30,null,30,null,30,null,null,73,302]
[null,null,null,null,null,null,null,null,null,null,null,null,null,null,null,null,null,null,null,null,null,null,5,19,0,19,5,19,null,null,121,283]
[null,null,null,null,null,null,null,null,null,null,null,null,null,null,null,null,null,null,null,null,null,null,13,57,3,57,10,57,null,null,120,450]
[null,null,null,null,null,null,null,null,null,null,null,null,null,null,null,null,null,null,null,null,null,null,12,31,null,31,null,31,null,null,113,351]
[null,null,null,null,null,null,null,null,null,null,null,null,null,null,null,null,null,null,null,null,null,null,15,49,null,49,null,49,null,null,103,515]
[null,null,null,null,null,null,null,null,null,null,null,null,null,null,null,null,null,null,null,null,null,null,10,31,4,31,6,31,9,392,167,399]
[null,null,null,null,null,null,null,null,null,null,null,null,null,null,null,null,null,null,null,null,null,null,null,26,0,26,null,26,3,305,95,308]
[null,null,null,null,null,null,null,null,null,null,null,null,null,null,null,null,null,null,null,null,null,null,3,11,0,11,3,11,null,null,23,73]
[null,null,null,null,null,null,null,null,null,null,null,null,null,null,null,null,null,null,null,null,null,null,0,7,0,7,0,7,null,null,12,96]
[null,null,null,null,null,null,null,null,null,null,null,null,null,null,null,null,null,null,null,null,null,null,3,11,0,11,3,11,9,367,91,376]
[null,null,null,null,null,null,null,null,null,null,null,null,null,null,null,null,null,null,null,null,null,null,11,47,null,47,null,47,null,null,70,231]
[null,null,null,null,null,null,null,null,null,null,null,null,null,null,null,null,null,null,null,null,null,null,8,39,0,39,8,39,null,null,39,140]
[null,null,null,null,null,null,null,null,null,null,null,null,null,null,null,null,null,null,null,null,null,null,null,8,0,8,null,8,null,null,17,125]
[null,null,null,null,null,null,null,null,null,null,null,null,null,null,null,null,null,null,null,null,null,null,8,29,null,29,null,29,8,293,99,300]
[null,null,null,null,null,null,null,null,null,null,null,null,null,null,null,null,null,null,null,null,null,null,4,24,0,24,4,24,4,264,59,267]
[null,null,null,null,null,null,null,null,null,null,null,null,null,null,null,null,null,null,null,null,null,null,null,null,null,null,null,null,3,18,9,21]
[null,null,null,null,null,null,null,null,null,null,null,null,null,null,null,null,null,null,null,null,null,null,null,14,0,14,null,14,null,null,59,184]
[null,null,null,null,null,null,null,null,null,null,null,null,null,null,null,null,null,null,null,null,null,null,35,191,0,191,35,191,null,null,298,1132]
[null,null,null,null,null,null,null,null,null,null,null,null,null,null,null,null,null,null,null,null,null,null,3,12,0,12,3,12,6,60,17,63]
[null,null,null,null,null,null,null,null,null,null,null,null,null,null,null,null,null,null,null,null,null,null,3,30,0,30,3,30,null,null,83,311]
[null,null,null,null,null,null,null,null,null,null,null,null,null,null,null,null,null,null,null,null,null,null,5,45,0,45,5,45,null,null,50,278]
[null,null,null,null,null,null,null,null,null,null,null,null,null,null,null,null,null,null,null,null,null,null,null,10,0,10,null,10,null,null,30,104]
[null,null,null,null,null,null,null,null,null,null,null,null,null,null,null,null,null,null,null,null,null,null,5,32,0,32,5,32,null,null,56,188]
[null,null,null,null,null,null,null,null,null,null,null,null,null,null,null,null,null,null,null,null,null,null,null,23,0,23,null,23,null,null,67,236]
[null,null,null,null,null,null,null,null,null,null,null,null,null,null,null,null,null,null,null,null,null,null,5,38,null,38,null,38,null,null,86,318]
[null,null,null,null,null,null,null,null,null,null,null,null,null,null,null,null,null,null,null,null,null,null,6,29,0,29,6,29,null,null,42,174]
[null,null,null,null,null,null,null,null,null,null,null,null,null,null,null,null,null,null,null,null,null,null,10,30,3,30,7,30,8,233,69,236]
[null,null,null,null,null,null,null,null,null,null,null,null,null,null,null,null,null,null,null,null,null,null,5,27,null,27,null,27,null,null,72,272]
[null,null,null,null,null,null,null,null,null,null,null,null,null,null,null,null,null,null,null,null,null,null,null,null,null,null,null,null,0,4,0,4]
[null,null,null,null,null,null,null,null,null,null,null,null,null,null,null,null,null,null,null,null,null,null,null,9,0,9,null,9,null,null,36,106]
[null,null,null,null,null,null,null,null,null,null,null,null,null,null,null,null,null,null,null,null,null,null,8,43,null,43,null,43,8,231,72,235]
[null,null,null,null,null,null,null,null,null,null,null,null,null,null,null,null,null,null,null,null,null,null,6,29,0,29,6,29,7,236,51,236]
[null,null,null,null,null,null,null,null,null,null,null,null,null,null,null,null,null,null,null,null,null,null,30,160,8,160,22,160,29,818,194,832]
[null,null,null,null,null,null,null,null,null,null,null,null,null,null,null,null,null,null,null,null,null,null,6,39,null,39,null,39,null,null,68,232]
[null,null,null,null,null,null,null,null,null,null,null,null,null,null,null,null,null,null,null,null,null,null,653,3381,72,3381,581,3381,809,23510,5889,23957]
[null,null,null,null,null,null,null,null,null,null,null,null,null,null,null,null,null,null,null,null,null,null,60,226,10,226,50,226,56,2196,553,2233]
[null,null,null,null,null,null,null,null,null,null,null,null,null,null,null,null,null,null,null,null,null,null,9,69,null,69,null,69,null,null,25,135]
[null,null,null,null,null,null,null,null,null,null,null,null,null,null,null,null,null,null,null,null,null,null,12,39,0,39,12,39,null,null,45,297]
[null,null,null,null,null,null,null,null,null,null,null,null,null,null,null,null,null,null,null,null,null,null,8,40,0,40,8,40,null,null,25,96]
[null,null,null,null,null,null,null,null,null,null,null,null,null,null,null,null,null,null,null,null,null,null,null,null,null,null,null,null,null,null,11,38]
[null,null,null,null,null,null,null,null,null,null,null,null,null,null,null,null,null,null,null,null,null,null,13,51,null,51,null,51,null,null,24,153]
[null,null,null,null,null,null,null,null,null,null,null,null,null,null,null,null,null,null,null,null,null,null,8,39,0,39,8,39,8,262,44,268]
[null,null,null,null,null,null,null,null,null,null,null,null,null,null,null,null,null,null,null,null,null,null,3,10,0,10,3,10,null,null,15,56]
[null,null,null,null,null,null,null,null,null,null,null,null,null,null,null,null,null,null,null,null,null,null,null,22,0,22,null,22,null,null,8,82]
[null,null,null,null,null,null,null,null,null,null,null,null,null,null,null,null,null,null,null,null,null,null,3,30,0,30,3,30,7,164,38,168]
[null,null,null,null,null,null,null,null,null,null,null,null,null,null,null,null,null,null,null,null,null,null,6,24,null,24,null,24,null,null,74,245]
[null,null,null,null,null,null,null,null,null,null,null,null,null,null,null,null,null,null,null,null,null,null,11,52,null,52,null,52,8,214,51,218]
[null,null,null,null,null,null,null,null,null,null,null,null,null,null,null,null,null,null,null,null,null,null,7,33,0,33,7,33,null,null,25,158]
[null,null,null,null,null,null,null,null,null,null,null,null,null,null,null,null,null,null,null,null,null,null,null,12,0,12,null,12,9,182,40,185]
[null,null,null,null,null,null,null,null,null,null,null,null,null,null,null,null,null,null,null,null,null,null,5,35,0,35,5,35,null,null,36,135]
[null,null,null,null,null,null,null,null,null,null,null,null,null,null,null,null,null,null,null,null,null,null,4,12,0,12,4,12,null,null,34,108]
[null,null,null,null,null,null,null,null,null,null,null,null,null,null,null,null,null,null,null,null,null,null,null,5,0,5,null,5,null,null,6,40]
[null,null,null,null,null,null,null,null,null,null,null,null,null,null,null,null,null,null,null,null,null,null,null,9,0,9,null,9,null,null,23,155]
[null,null,null,null,null,null,null,null,null,null,null,null,null,null,null,null,null,null,null,null,null,null,null,9,0,9,null,9,null,null,12,54]
[null,null,null,null,null,null,null,null,null,null,null,null,null,null,null,null,null,null,null,null,null,null,3,22,0,22,3,22,11,178,41,182]
[null,null,null,null,null,null,null,null,null,null,null,null,null,null,null,null,null,null,null,null,null,null,3,37,0,37,3,37,5,253,78,258]
[null,null,null,null,null,null,null,null,null,null,null,null,null,null,null,null,null,null,null,null,null,null,4,28,0,28,4,28,3,240,52,244]
[null,null,null,null,null,null,null,null,null,null,null,null,null,null,null,null,null,null,null,null,null,null,3,6,0,6,3,6,null,null,13,41]
[null,null,null,null,null,null,null,null,null,null,null,null,null,null,null,null,null,null,null,null,null,null,5,28,null,28,null,28,null,null,37,200]
[null,null,null,null,null,null,null,null,null,null,null,null,null,null,null,null,null,null,null,null,null,null,7,19,null,19,null,19,4,210,30,210]
[null,null,null,null,null,null,null,null,null,null,null,null,null,null,null,null,null,null,null,null,null,null,6,18,0,18,6,18,10,155,23,164]
[null,null,null,null,null,null,null,null,null,null,null,null,null,null,null,null,null,null,null,null,null,null,9,29,null,29,null,29,8,210,42,221]
[null,null,null,null,null,null,null,null,null,null,null,null,null,null,null,null,null,null,null,null,null,null,9,35,0,35,9,35,null,null,78,258]
[null,null,null,null,null,null,null,null,null,null,null,null,null,null,null,null,null,null,null,null,null,null,7,40,null,40,null,40,null,null,27,163]
[null,null,null,null,null,null,null,null,null,null,null,null,null,null,null,null,null,null,null,null,null,null,16,64,0,64,16,64,13,237,78,245]
[null,null,null,null,null,null,null,null,null,null,null,null,null,null,null,null,null,null,null,null,null,null,null,11,0,11,null,11,null,null,5,61]
[null,null,null,null,null,null,null,null,null,null,null,null,null,null,null,null,null,null,null,null,null,null,3,31,0,31,3,31,null,null,85,242]
[null,null,null,null,null,null,null,null,null,null,null,null,null,null,null,null,null,null,null,null,null,null,3,19,0,19,3,19,11,251,43,255]
[null,null,null,null,null,null,null,null,null,null,null,null,null,null,null,null,null,null,null,null,null,null,12,56,0,56,12,56,15,272,70,278]
[null,null,null,null,null,null,null,null,null,null,null,null,null,null,null,null,null,null,null,null,null,null,4,26,0,26,4,26,null,null,46,213]
[null,null,null,null,null,null,null,null,null,null,null,null,null,null,null,null,null,null,null,null,null,null,12,61,0,61,12,61,9,176,32,180]
[null,null,null,null,null,null,null,null,null,null,null,null,null,null,null,null,null,null,null,null,null,null,6,38,0,38,6,38,5,170,42,170]
[null,null,null,null,null,null,null,null,null,null,null,null,null,null,null,null,null,null,null,null,null,null,6,49,null,49,null,49,18,244,36,247]
[null,null,null,null,null,null,null,null,null,null,null,null,null,null,null,null,null,null,null,null,null,null,4,23,0,23,4,23,null,null,24,114]
[null,null,null,null,null,null,null,null,null,null,null,null,null,null,null,null,null,null,null,null,null,null,4,16,0,16,4,16,null,null,27,228]
[null,null,null,null,null,null,null,null,null,null,null,null,null,null,null,null,null,null,null,null,null,null,null,10,0,10,null,10,null,null,10,71]
[null,null,null,null,null,null,null,null,null,null,null,null,null,null,null,null,null,null,null,null,null,null,6,43,0,43,6,43,20,288,60,300]
[null,null,null,null,null,null,null,null,null,null,null,null,null,null,null,null,null,null,null,null,null,null,13,89,null,89,null,89,null,null,47,261]
[null,null,null,null,null,null,null,null,null,null,null,null,null,null,null,null,null,null,null,null,null,null,15,69,null,69,null,69,10,117,18,129]
[null,null,null,null,null,null,null,null,null,null,null,null,null,null,null,null,null,null,null,null,null,null,16,57,null,57,null,57,null,null,49,103]
[null,null,null,null,null,null,null,null,null,null,null,null,null,null,null,null,null,null,null,null,null,null,7,30,null,30,null,30,null,null,28,181]
[null,null,null,null,null,null,null,null,null,null,null,null,null,null,null,null,null,null,null,null,null,null,4,20,null,20,null,20,null,null,47,210]
[null,null,null,null,null,null,null,null,null,null,null,null,null,null,null,null,null,null,null,null,null,null,3,15,0,15,3,15,6,202,56,205]
[null,null,null,null,null,null,null,null,null,null,null,null,null,null,null,null,null,null,null,null,null,null,8,39,null,39,null,39,null,null,47,205]
[null,null,null,null,null,null,null,null,null,null,null,null,null,null,null,null,null,null,null,null,null,null,6,19,null,19,null,19,null,null,6,64]
[null,null,null,null,null,null,null,null,null,null,null,null,null,null,null,null,null,null,null,null,null,null,null,20,0,20,null,20,null,null,14,99]
[null,null,null,null,null,null,null,null,null,null,null,null,null,null,null,null,null,null,null,null,null,null,27,149,null,149,null,149,null,null,238,959]
[null,null,null,null,null,null,null,null,null,null,null,null,null,null,null,null,null,null,null,null,null,null,13,44,null,44,null,44,null,null,77,395]
[null,null,null,null,null,null,null,null,null,null,null,null,null,null,null,null,null,null,null,null,null,null,6,17,null,17,null,17,8,77,17,82]
[null,null,null,null,null,null,null,null,null,null,null,null,null,null,null,null,null,null,null,null,null,null,0,16,0,16,0,16,5,52,17,56]
[null,null,null,null,null,null,null,null,null,null,null,null,null,null,null,null,null,null,null,null,null,null,null,null,null,null,null,null,null,null,null,10]
[null,null,null,null,null,null,null,null,null,null,null,null,null,null,null,null,null,null,null,null,null,null,8,29,4,29,4,29,8,182,76,187]
[null,null,null,null,null,null,null,null,null,null,null,null,null,null,null,null,null,null,null,null,null,null,5,18,0,18,5,18,null,null,35,149]
[null,null,null,null,null,null,null,null,null,null,null,null,null,null,null,null,null,null,null,null,null,null,null,21,0,21,null,21,null,null,64,341]
[null,null,null,null,null,null,null,null,null,null,null,null,null,null,null,null,null,null,null,null,null,null,6,22,null,22,null,22,null,null,36,204]
[null,null,null,null,null,null,null,null,null,null,null,null,null,null,null,null,null,null,null,null,null,null,21,123,null,123,null,123,null,null,117,980]
[null,null,null,null,null,null,null,null,null,null,null,null,null,null,null,null,null,null,null,null,null,null,null,null,null,null,null,null,null,null,null,10]
[null,null,null,null,null,null,null,null,null,null,null,null,null,null,null,null,null,null,null,null,null,null,null,16,0,16,null,16,null,null,134,431]
[null,null,null,null,null,null,null,null,null,null,null,null,null,null,null,null,null,null,null,null,null,null,6,32,0,32,6,32,null,null,44,154]
[null,null,null,null,null,null,null,null,null,null,null,null,null,null,null,null,null,null,null,null,null,null,8,28,null,28,null,28,null,null,76,324]
[null,null,null,null,null,null,null,null,null,null,null,null,null,null,null,null,null,null,null,null,null,null,5,19,0,19,5,19,null,null,51,265]
[null,null,null,null,null,null,null,null,null,null,null,null,null,null,null,null,null,null,null,null,null,null,13,55,0,55,13,55,null,null,107,426]
[null,null,null,null,null,null,null,null,null,null,null,null,null,null,null,null,null,null,null,null,null,null,4,27,null,27,null,27,null,null,109,333]
[null,null,null,null,null,null,null,null,null,null,null,null,null,null,null,null,null,null,null,null,null,null,12,43,4,43,8,43,null,null,105,525]
[null,null,null,null,null,null,null,null,null,null,null,null,null,null,null,null,null,null,null,null,null,null,9,23,null,23,null,23,12,294,70,302]
[null,null,null,null,null,null,null,null,null,null,null,null,null,null,null,null,null,null,null,null,null,null,6,29,null,29,null,29,null,null,83,285]
[null,null,null,null,null,null,null,null,null,null,null,null,null,null,null,null,null,null,null,null,null,null,null,10,null,10,null,10,null,null,12,74]
[null,null,null,null,null,null,null,null,null,null,null,null,null,null,null,null,null,null,null,null,null,null,3,7,null,7,null,7,0,98,38,101]
[null,null,null,null,null,null,null,null,null,null,null,null,null,null,null,null,null,null,null,null,null,null,3,10,0,10,3,10,4,362,206,367]
[null,null,null,null,null,null,null,null,null,null,null,null,null,null,null,null,null,null,null,null,null,null,null,41,0,41,null,41,null,null,22,230]
[null,null,null,null,null,null,null,null,null,null,null,null,null,null,null,null,null,null,null,null,null,null,9,38,null,38,null,38,null,null,22,122]
[null,null,null,null,null,null,null,null,null,null,null,null,null,null,null,null,null,null,null,null,null,null,null,7,0,7,null,7,null,null,22,129]
[null,null,null,null,null,null,null,null,null,null,null,null,null,null,null,null,null,null,null,null,null,null,7,31,null,31,null,31,11,309,75,315]
[null,null,null,null,null,null,null,null,null,null,null,null,null,null,null,null,null,null,null,null,null,null,6,22,0,22,6,22,null,null,79,334]
[null,null,null,null,null,null,null,null,null,null,null,null,null,null,null,null,null,null,null,null,null,null,null,null,null,null,null,null,4,10,null,13]
[null,null,null,null,null,null,null,null,null,null,null,null,null,null,null,null,null,null,null,null,null,null,5,17,0,17,5,17,null,null,39,195]
[null,null,null,null,null,null,null,null,null,null,null,null,null,null,null,null,null,null,null,null,null,null,35,190,5,190,30,190,null,null,269,1080]
[null,null,null,null,null,null,null,null,null,null,null,null,null,null,null,null,null,null,null,null,null,null,3,17,0,17,3,17,null,null,6,58]
[null,null,null,null,null,null,null,null,null,null,null,null,null,null,null,null,null,null,null,null,null,null,null,32,0,32,null,32,10,274,50,277]
[null,null,null,null,null,null,null,null,null,null,null,null,null,null,null,null,null,null,null,null,null,null,5,62,0,62,5,62,null,null,28,278]
[null,null,null,null,null,null,null,null,null,null,null,null,null,null,null,null,null,null,null,null,null,null,null,10,null,10,null,10,null,null,27,96]
[null,null,null,null,null,null,null,null,null,null,null,null,null,null,null,null,null,null,null,null,null,null,6,31,0,31,6,31,null,null,32,190]
[null,null,null,null,null,null,null,null,null,null,null,null,null,null,null,null,null,null,null,null,null,null,4,29,null,29,null,29,8,234,81,240]
[null,null,null,null,null,null,null,null,null,null,null,null,null,null,null,null,null,null,null,null,null,null,10,41,0,41,10,41,12,333,99,338]
[null,null,null,null,null,null,null,null,null,null,null,null,null,null,null,null,null,null,null,null,null,null,3,28,0,28,3,28,null,null,47,174]
[null,null,null,null,null,null,null,null,null,null,null,null,null,null,null,null,null,null,null,null,null,null,6,27,null,27,null,27,null,null,47,267]
[null,null,null,null,null,null,null,null,null,null,null,null,null,null,null,null,null,null,null,null,null,null,3,26,0,26,3,26,null,null,56,258]
[null,null,null,null,null,null,null,null,null,null,null,null,null,null,null,null,null,null,null,null,null,null,null,null,null,null,null,null,0,7,0,7]
[null,null,null,null,null,null,null,null,null,null,null,null,null,null,null,null,null,null,null,null,null,null,null,11,0,11,null,11,null,null,14,89]
[null,null,null,null,null,null,null,null,null,null,null,null,null,null,null,null,null,null,null,null,null,null,10,45,0,45,10,45,null,null,127,258]
[null,null,null,null,null,null,null,null,null,null,null,null,null,null,null,null,null,null,null,null,null,null,5,31,0,31,5,31,null,null,81,222]
[null,null,null,null,null,null,null,null,null,null,null,null,null,null,null,null,null,null,null,null,null,null,30,150,5,150,25,150,null,null,248,823]
[null,null,null,null,null,null,null,null,null,null,null,null,null,null,null,null,null,null,null,null,null,null,17,47,null,47,null,47,null,null,55,206]
[null,null,null,null,null,null,null,null,null,null,null,null,null,null,null,null,null,null,null,null,null,null,697,3463,80,3463,617,3463,767,23564,5622,23985]
[null,null,null,null,null,null,null,null,null,null,null,null,null,null,null,null,null,null,null,null,null,null,51,214,6,214,45,214,69,2288,517,2324]
[null,null,null,null,null,null,null,null,null,null,null,null,null,null,null,null,null,null,null,null,null,null,14,64,0,64,14,64,null,null,42,134]
[null,null,null,null,null,null,null,null,null,null,null,null,null,null,null,null,null,null,null,null,null,null,9,32,null,32,null,32,10,326,57,329]
[null,null,null,null,null,null,null,null,null,null,null,null,null,null,null,null,null,null,null,null,null,null,8,39,0,39,8,39,null,null,13,86]
[null,null,null,null,null,null,null,null,null,null,null,null,null,null,null,null,null,null,null,null,null,null,null,null,null,null,null,null,null,null,6,36]
[null,null,null,null,null,null,null,null,null,null,null,null,null,null,null,null,null,null,null,null,null,null,9,41,3,41,6,41,null,null,21,170]
[null,null,null,null,null,null,null,null,null,null,null,null,null,null,null,null,null,null,null,null,null,null,4,34,0,34,4,34,9,273,177,279]
[null,null,null,null,null,null,null,null,null,null,null,null,null,null,null,null,null,null,null,null,null,null,null,8,0,8,null,8,null,null,7,41]
[null,null,null,null,null,null,null,null,null,null,null,null,null,null,null,null,null,null,null,null,null,null,8,24,0,24,8,24,null,null,12,78]
[null,null,null,null,null,null,null,null,null,null,null,null,null,null,null,null,null,null,null,null,null,null,4,30,0,30,4,30,11,152,63,158]
[null,null,null,null,null,null,null,null,null,null,null,null,null,null,null,null,null,null,null,null,null,null,5,25,0,25,5,25,null,null,53,225]
[null,null,null,null,null,null,null,null,null,null,null,null,null,null,null,null,null,null,null,null,null,null,6,47,0,47,6,47,9,224,77,228]
[null,null,null,null,null,null,null,null,null,null,null,null,null,null,null,null,null,null,null,null,null,null,6,32,0,32,6,32,null,null,31,152]
[null,null,null,null,null,null,null,null,null,null,null,null,null,null,null,null,null,null,null,null,null,null,null,17,0,17,null,17,null,null,40,163]
[null,null,null,null,null,null,null,null,null,null,null,null,null,null,null,null,null,null,null,null,null,null,6,35,0,35,6,35,null,null,31,137]
[null,null,null,null,null,null,null,null,null,null,null,null,null,null,null,null,null,null,null,null,null,null,3,10,0,10,3,10,null,null,27,104]
[null,null,null,null,null,null,null,null,null,null,null,null,null,null,null,null,null,null,null,null,null,null,null,5,0,5,null,5,null,null,9,41]
[null,null,null,null,null,null,null,null,null,null,null,null,null,null,null,null,null,null,null,null,null,null,5,9,0,9,5,9,null,null,37,151]
[null,null,null,null,null,null,null,null,null,null,null,null,null,null,null,null,null,null,null,null,null,null,null,11,0,11,null,11,null,null,3,53]
[null,null,null,null,null,null,null,null,null,null,null,null,null,null,null,null,null,null,null,null,null,null,6,25,0,25,6,25,7,161,30,165]
[null,null,null,null,null,null,null,null,null,null,null,null,null,null,null,null,null,null,null,null,null,null,3,35,0,35,3,35,7,235,53,239]
[null,null,null,null,null,null,null,null,null,null,null,null,null,null,null,null,null,null,null,null,null,null,5,25,0,25,5,25,null,null,50,237]
[null,null,null,null,null,null,null,null,null,null,null,null,null,null,null,null,null,null,null,null,null,null,null,8,0,8,null,8,null,null,6,34]
[null,null,null,null,null,null,null,null,null,null,null,null,null,null,null,null,null,null,null,null,null,null,null,28,0,28,null,28,null,null,43,194]
[null,null,null,null,null,null,null,null,null,null,null,null,null,null,null,null,null,null,null,null,null,null,3,15,0,15,3,15,5,212,39,212]
[null,null,null,null,null,null,null,null,null,null,null,null,null,null,null,null,null,null,null,null,null,null,3,19,null,19,null,19,11,185,48,196]
[null,null,null,null,null,null,null,null,null,null,null,null,null,null,null,null,null,null,null,null,null,null,5,27,null,27,null,27,8,234,63,241]
[null,null,null,null,null,null,null,null,null,null,null,null,null,null,null,null,null,null,null,null,null,null,8,37,0,37,8,37,null,null,65,260]
[null,null,null,null,null,null,null,null,null,null,null,null,null,null,null,null,null,null,null,null,null,null,4,43,null,43,null,43,null,null,40,185]
[null,null,null,null,null,null,null,null,null,null,null,null,null,null,null,null,null,null,null,null,null,null,14,61,null,61,null,61,10,247,81,253]
[null,null,null,null,null,null,null,null,null,null,null,null,null,null,null,null,null,null,null,null,null,null,7,14,0,14,7,14,null,null,15,60]
[null,null,null,null,null,null,null,null,null,null,null,null,null,null,null,null,null,null,null,null,null,null,5,29,0,29,5,29,9,205,31,212]
[null,null,null,null,null,null,null,null,null,null,null,null,null,null,null,null,null,null,null,null,null,null,4,24,null,24,null,24,11,235,35,238]
[null,null,null,null,null,null,null,null,null,null,null,null,null,null,null,null,null,null,null,null,null,null,15,53,null,53,null,53,7,249,69,256]
[null,null,null,null,null,null,null,null,null,null,null,null,null,null,null,null,null,null,null,null,null,null,3,28,0,28,3,28,5,215,65,223]
[null,null,null,null,null,null,null,null,null,null,null,null,null,null,null,null,null,null,null,null,null,null,14,57,null,57,null,57,null,null,78,202]
[null,null,null,null,null,null,null,null,null,null,null,null,null,null,null,null,null,null,null,null,null,null,5,39,0,39,5,39,null,null,48,168]
[null,null,null,null,null,null,null,null,null,null,null,null,null,null,null,null,null,null,null,null,null,null,11,64,null,64,null,64,null,null,149,331]
[null,null,null,null,null,null,null,null,null,null,null,null,null,null,null,null,null,null,null,null,null,null,4,22,0,22,4,22,null,null,34,128]
[null,null,null,null,null,null,null,null,null,null,null,null,null,null,null,null,null,null,null,null,null,null,5,13,null,13,null,13,null,null,42,250]
[null,null,null,null,null,null,null,null,null,null,null,null,null,null,null,null,null,null,null,null,null,null,null,10,0,10,null,10,3,74,31,77]
[null,null,null,null,null,null,null,null,null,null,null,null,null,null,null,null,null,null,null,null,null,null,11,46,0,46,11,46,null,null,110,320]
[null,null,null,null,null,null,null,null,null,null,null,null,null,null,null,null,null,null,null,null,null,null,17,100,3,100,14,100,null,null,74,273]
[null,null,null,null,null,null,null,null,null,null,null,null,null,null,null,null,null,null,null,null,null,null,13,72,5,72,8,72,null,null,67,236]
[null,null,null,null,null,null,null,null,null,null,null,null,null,null,null,null,null,null,null,null,null,null,7,51,0,51,7,51,null,null,52,96]
[null,null,null,null,null,null,null,null,null,null,null,null,null,null,null,null,null,null,null,null,null,null,8,31,null,31,null,31,null,null,33,179]
[null,null,null,null,null,null,null,null,null,null,null,null,null,null,null,null,null,null,null,null,null,null,null,20,0,20,null,20,null,null,47,186]
[null,null,null,null,null,null,null,null,null,null,null,null,null,null,null,null,null,null,null,null,null,null,null,14,0,14,null,14,null,null,60,180]
[null,null,null,null,null,null,null,null,null,null,null,null,null,null,null,null,null,null,null,null,null,null,11,36,null,36,null,36,15,180,79,189]
[null,null,null,null,null,null,null,null,null,null,null,null,null,null,null,null,null,null,null,null,null,null,5,20,null,20,null,20,4,61,12,61]
[null,null,null,null,null,null,null,null,null,null,null,null,null,null,null,null,null,null,null,null,null,null,8,22,null,22,null,22,null,null,37,116]
[null,null,null,null,null,null,null,null,null,null,null,null,null,null,null,null,null,null,null,null,null,null,23,155,null,155,null,155,29,896,272,901]
[null,null,null,null,null,null,null,null,null,null,null,null,null,null,null,null,null,null,null,null,null,null,4,39,null,39,null,39,9,389,206,392]
[null,null,null,null,null,null,null,null,null,null,null,null,null,null,null,null,null,null,null,null,null,null,null,14,0,14,null,14,null,null,35,101]
[null,null,null,null,null,null,null,null,null,null,null,null,null,null,null,null,null,null,null,null,null,null,3,18,null,18,null,18,null,null,10,35]
[null,null,null,null,null,null,null,null,null,null,null,null,null,null,null,null,null,null,null,null,null,null,null,null,null,null,null,null,0,12,3,12]
[null,null,null,null,null,null,null,null,null,null,null,null,null,null,null,null,null,null,null,null,null,null,null,26,0,26,null,26,null,null,67,185]
[null,null,null,null,null,null,null,null,null,null,null,null,null,null,null,null,null,null,null,null,null,null,5,15,0,15,5,15,null,null,41,161]
[null,null,null,null,null,null,null,null,null,null,null,null,null,null,null,null,null,null,null,null,null,null,7,22,0,22,7,22,null,null,65,329]
[null,null,null,null,null,null,null,null,null,null,null,null,null,null,null,null,null,null,null,null,null,null,3,21,0,21,3,21,null,null,42,221]
[null,null,null,null,null,null,null,null,null,null,null,null,null,null,null,null,null,null,null,null,null,null,20,126,null,126,null,126,null,null,85,951]
[null,null,null,null,null,null,null,null,null,null,null,null,null,null,null,null,null,null,null,null,null,null,null,null,null,null,null,null,null,null,null,10]
[null,null,null,null,null,null,null,null,null,null,null,null,null,null,null,null,null,null,null,null,null,null,4,17,0,17,4,17,null,null,90,416]
[null,null,null,null,null,null,null,null,null,null,null,null,null,null,null,null,null,null,null,null,null,null,4,33,0,33,4,33,null,null,61,166]
[null,null,null,null,null,null,null,null,null,null,null,null,null,null,null,null,null,null,null,null,null,null,5,28,null,28,null,28,null,null,78,338]
[null,null,null,null,null,null,null,null,null,null,null,null,null,null,null,null,null,null,null,null,null,null,4,14,null,14,null,14,12,294,102,298]
[null,null,null,null,null,null,null,null,null,null,null,null,null,null,null,null,null,null,null,null,null,null,15,57,null,57,null,57,null,null,100,429]
[null,null,null,null,null,null,null,null,null,null,null,null,null,null,null,null,null,null,null,null,null,null,6,28,null,28,null,28,null,null,99,316]
[null,null,null,null,null,null,null,null,null,null,null,null,null,null,null,null,null,null,null,null,null,null,11,38,3,38,8,38,null,null,100,556]
[null,null,null,null,null,null,null,null,null,null,null,null,null,null,null,null,null,null,null,null,null,null,6,16,0,16,6,16,8,323,123,331]
[null,null,null,null,null,null,null,null,null,null,null,null,null,null,null,null,null,null,null,null,null,null,5,26,0,26,5,26,7,285,108,285]
[null,null,null,null,null,null,null,null,null,null,null,null,null,null,null,null,null,null,null,null,null,null,null,8,0,8,null,8,null,null,37,68]
[null,null,null,null,null,null,null,null,null,null,null,null,null,null,null,null,null,null,null,null,null,null,null,6,0,6,null,6,null,null,26,95]
[null,null,null,null,null,null,null,null,null,null,null,null,null,null,null,null,null,null,null,null,null,null,null,8,0,8,null,8,null,null,66,216]
[null,null,null,null,null,null,null,null,null,null,null,null,null,null,null,null,null,null,null,null,null,null,9,46,0,46,9,46,null,null,81,262]
[null,null,null,null,null,null,null,null,null,null,null,null,null,null,null,null,null,null,null,null,null,null,7,36,0,36,7,36,null,null,29,130]
[null,null,null,null,null,null,null,null,null,null,null,null,null,null,null,null,null,null,null,null,null,null,null,8,0,8,null,8,null,null,18,130]
[null,null,null,null,null,null,null,null,null,null,null,null,null,null,null,null,null,null,null,null,null,null,4,29,0,29,4,29,10,338,79,346]
[null,null,null,null,null,null,null,null,null,null,null,null,null,null,null,null,null,null,null,null,null,null,4,16,0,16,4,16,null,null,83,361]
[null,null,null,null,null,null,null,null,null,null,null,null,null,null,null,null,null,null,null,null,null,null,null,null,null,null,null,null,null,null,3,11]
[null,null,null,null,null,null,null,null,null,null,null,null,null,null,null,null,null,null,null,null,null,null,0,12,0,12,0,12,null,null,59,213]
[null,null,null,null,null,null,null,null,null,null,null,null,null,null,null,null,null,null,null,null,null,null,37,180,null,180,null,180,null,null,300,1164]
[null,null,null,null,null,null,null,null,null,null,null,null,null,null,null,null,null,null,null,null,null,null,null,19,0,19,null,19,null,null,7,73]
[null,null,null,null,null,null,null,null,null,null,null,null,null,null,null,null,null,null,null,null,null,null,6,39,0,39,6,39,null,null,57,276]
[null,null,null,null,null,null,null,null,null,null,null,null,null,null,null,null,null,null,null,null,null,null,10,61,0,61,10,61,null,null,51,293]
[null,null,null,null,null,null,null,null,null,null,null,null,null,null,null,null,null,null,null,null,null,null,3,8,0,8,3,8,null,null,28,74]
[null,null,null,null,null,null,null,null,null,null,null,null,null,null,null,null,null,null,null,null,null,null,8,26,0,26,8,26,null,null,77,234]
[null,null,null,null,null,null,null,null,null,null,null,null,null,null,null,null,null,null,null,null,null,null,3,28,null,28,null,28,null,null,51,214]
[null,null,null,null,null,null,null,null,null,null,null,null,null,null,null,null,null,null,null,null,null,null,5,38,0,38,5,38,17,310,96,314]
[null,null,null,null,null,null,null,null,null,null,null,null,null,null,null,null,null,null,null,null,null,null,5,29,null,29,null,29,null,null,47,169]
[null,null,null,null,null,null,null,null,null,null,null,null,null,null,null,null,null,null,null,null,null,null,8,31,0,31,8,31,null,null,103,306]
[null,null,null,null,null,null,null,null,null,null,null,null,null,null,null,null,null,null,null,null,null,null,null,28,0,28,null,28,null,null,73,258]
[null,null,null,null,null,null,null,null,null,null,null,null,null,null,null,null,null,null,null,null,null,null,0,3,0,3,0,3,0,7,null,7]
[null,null,null,null,null,null,null,null,null,null,null,null,null,null,null,null,null,null,null,null,null,null,null,10,0,10,null,10,null,null,29,91]
[null,null,null,null,null,null,null,null,null,null,null,null,null,null,null,null,null,null,null,null,null,null,6,39,0,39,6,39,null,null,86,195]
[null,null,null,null,null,null,null,null,null,null,null,null,null,null,null,null,null,null,null,null,null,null,4,28,0,28,4,28,null,null,54,196]
[null,null,null,null,null,null,null,null,null,null,null,null,null,null,null,null,null,null,null,null,null,null,22,140,4,140,18,140,null,null,206,820]
[null,null,null,null,null,null,null,null,null,null,null,null,null,null,null,null,null,null,null,null,null,null,6,33,0,33,6,33,11,242,44,242]
[null,null,null,null,null,null,null,null,null,null,null,null,null,null,null,null,null,null,null,null,null,null,645,3375,59,3375,586,3375,777,23890,6393,24277]
[null,null,null,null,null,null,null,null,null,null,null,null,null,null,null,null,null,null,null,null,null,null,48,217,9,217,39,217,59,2355,629,2384]
[null,null,null,null,null,null,null,null,null,null,null,null,null,null,null,null,null,null,null,null,null,null,17,60,null,60,null,60,4,139,23,139]
[null,null,null,null,null,null,null,null,null,null,null,null,null,null,null,null,null,null,null,null,null,null,3,32,0,32,3,32,7,335,61,338]
[null,null,null,null,null,null,null,null,null,null,null,null,null,null,null,null,null,null,null,null,null,null,13,39,0,39,13,39,null,null,19,85]
[null,null,null,null,null,null,null,null,null,null,null,null,null,null,null,null,null,null,null,null,null,null,null,6,0,6,null,6,null,null,4,40]
[null,null,null,null,null,null,null,null,null,null,null,null,null,null,null,null,null,null,null,null,null,null,6,41,0,41,6,41,null,null,29,199]
[null,null,null,null,null,null,null,null,null,null,null,null,null,null,null,null,null,null,null,null,null,null,10,35,null,35,null,35,3,267,87,273]
[null,null,null,null,null,null,null,null,null,null,null,null,null,null,null,null,null,null,null,null,null,null,3,9,null,9,null,9,0,51,7,51]
[null,null,null,null,null,null,null,null,null,null,null,null,null,null,null,null,null,null,null,null,null,null,null,23,0,23,null,23,null,null,16,149]
[null,null,null,null,null,null,null,null,null,null,null,null,null,null,null,null,null,null,null,null,null,null,3,31,0,31,3,31,null,null,25,128]
[null,null,null,null,null,null,null,null,null,null,null,null,null,null,null,null,null,null,null,null,null,null,6,28,null,28,null,28,null,null,69,211]
[null,null,null,null,null,null,null,null,null,null,null,null,null,null,null,null,null,null,null,null,null,null,7,48,0,48,7,48,null,null,47,211]
[null,null,null,null,null,null,null,null,null,null,null,null,null,null,null,null,null,null,null,null,null,null,7,36,0,36,7,36,null,null,25,149]
[null,null,null,null,null,null,null,null,null,null,null,null,null,null,null,null,null,null,null,null,null,null,null,18,0,18,null,18,null,null,30,155]
[null,null,null,null,null,null,null,null,null,null,null,null,null,null,null,null,null,null,null,null,null,null,7,34,null,34,null,34,null,null,33,128]
[null,null,null,null,null,null,null,null,null,null,null,null,null,null,null,null,null,null,null,null,null,null,3,10,null,10,null,10,null,null,27,122]
[null,null,null,null,null,null,null,null,null,null,null,null,null,null,null,null,null,null,null,null,null,null,null,4,0,4,null,4,3,46,15,46]
[null,null,null,null,null,null,null,null,null,null,null,null,null,null,null,null,null,null,null,null,null,null,null,8,0,8,null,8,null,null,25,155]
[null,null,null,null,null,null,null,null,null,null,null,null,null,null,null,null,null,null,null,null,null,null,null,12,0,12,null,12,null,null,11,63]
[null,null,null,null,null,null,null,null,null,null,null,null,null,null,null,null,null,null,null,null,null,null,8,31,null,31,null,31,null,null,19,153]
[null,null,null,null,null,null,null,null,null,null,null,null,null,null,null,null,null,null,null,null,null,null,0,32,0,32,0,32,3,255,70,262]
[null,null,null,null,null,null,null,null,null,null,null,null,null,null,null,null,null,null,null,null,null,null,6,22,0,22,6,22,null,null,53,243]
[null,null,null,null,null,null,null,null,null,null,null,null,null,null,null,null,null,null,null,null,null,null,null,7,0,7,null,7,null,null,6,34]
[null,null,null,null,null,null,null,null,null,null,null,null,null,null,null,null,null,null,null,null,null,null,5,29,null,29,null,29,null,null,70,195]
[null,null,null,null,null,null,null,null,null,null,null,null,null,null,null,null,null,null,null,null,null,null,6,17,0,17,6,17,null,null,39,201]
[null,null,null,null,null,null,null,null,null,null,null,null,null,null,null,null,null,null,null,null,null,null,4,21,0,21,4,21,null,null,27,195]
[null,null,null,null,null,null,null,null,null,null,null,null,null,null,null,null,null,null,null,null,null,null,8,31,0,31,8,31,6,221,67,225]
[null,null,null,null,null,null,null,null,null,null,null,null,null,null,null,null,null,null,null,null,null,null,6,37,null,37,null,37,null,null,79,280]
[null,null,null,null,null,null,null,null,null,null,null,null,null,null,null,null,null,null,null,null,null,null,10,55,null,55,null,55,12,182,40,188]
[null,null,null,null,null,null,null,null,null,null,null,null,null,null,null,null,null,null,null,null,null,null,13,54,0,54,13,54,null,null,69,242]
[null,null,null,null,null,null,null,null,null,null,null,null,null,null,null,null,null,null,null,null,null,null,null,8,0,8,null,8,null,null,8,54]
[null,null,null,null,null,null,null,null,null,null,null,null,null,null,null,null,null,null,null,null,null,null,3,26,0,26,3,26,8,199,24,206]
[null,null,null,null,null,null,null,null,null,null,null,null,null,null,null,null,null,null,null,null,null,null,3,24,0,24,3,24,4,224,43,227]
[null,null,null,null,null,null,null,null,null,null,null,null,null,null,null,null,null,null,null,null,null,null,6,50,0,50,6,50,7,256,70,260]
[null,null,null,null,null,null,null,null,null,null,null,null,null,null,null,null,null,null,null,null,null,null,6,30,0,30,6,30,4,212,39,217]
[null,null,null,null,null,null,null,null,null,null,null,null,null,null,null,null,null,null,null,null,null,null,12,56,null,56,null,56,null,null,61,186]
[null,null,null,null,null,null,null,null,null,null,null,null,null,null,null,null,null,null,null,null,null,null,11,45,0,45,11,45,null,null,41,152]
[null,null,null,null,null,null,null,null,null,null,null,null,null,null,null,null,null,null,null,null,null,null,14,64,3,64,11,64,null,null,63,281]
[null,null,null,null,null,null,null,null,null,null,null,null,null,null,null,null,null,null,null,null,null,null,4,19,0,19,4,19,null,null,27,120]
[null,null,null,null,null,null,null,null,null,null,null,null,null,null,null,null,null,null,null,null,null,null,3,8,0,8,3,8,6,268,53,274]
[null,null,null,null,null,null,null,null,null,null,null,null,null,null,null,null,null,null,null,null,null,null,4,9,0,9,4,9,3,60,7,63]
[null,null,null,null,null,null,null,null,null,null,null,null,null,null,null,null,null,null,null,null,null,null,9,41,null,41,null,41,null,null,91,267]
[null,null,null,null,null,null,null,null,null,null,null,null,null,null,null,null,null,null,null,null,null,null,19,97,3,97,16,97,null,null,62,268]
[null,null,null,null,null,null,null,null,null,null,null,null,null,null,null,null,null,null,null,null,null,null,14,79,null,79,null,79,null,null,67,261]
[null,null,null,null,null,null,null,null,null,null,null,null,null,null,null,null,null,null,null,null,null,null,9,58,null,58,null,58,null,null,44,72]
[null,null,null,null,null,null,null,null,null,null,null,null,null,null,null,null,null,null,null,null,null,null,8,32,null,32,null,32,null,null,25,175]
[null,null,null,null,null,null,null,null,null,null,null,null,null,null,null,null,null,null,null,null,null,null,4,20,0,20,4,20,null,null,45,179]
[null,null,null,null,null,null,null,null,null,null,null,null,null,null,null,null,null,null,null,null,null,null,3,14,0,14,3,14,null,null,39,155]
[null,null,null,null,null,null,null,null,null,null,null,null,null,null,null,null,null,null,null,null,null,null,8,30,null,30,null,30,10,166,48,179]
[null,null,null,null,null,null,null,null,null,null,null,null,null,null,null,null,null,null,null,null,null,null,3,16,0,16,3,16,null,null,9,58]
[null,null,null,null,null,null,null,null,null,null,null,null,null,null,null,null,null,null,null,null,null,null,null,24,0,24,null,24,null,null,21,98]
[null,null,null,null,null,null,null,null,null,null,null,null,null,null,null,null,null,null,null,null,null,null,30,165,10,165,20,165,null,null,331,787]
[null,null,null,null,null,null,null,null,null,null,null,null,null,null,null,null,null,null,null,null,null,null,5,45,null,45,null,45,null,null,42,245]
[null,null,null,null,null,null,null,null,null,null,null,null,null,null,null,null,null,null,null,null,null,null,null,16,null,16,null,16,null,null,15,80]
[null,null,null,null,null,null,null,null,null,null,null,null,null,null,null,null,null,null,null,null,null,null,5,17,null,17,null,17,3,67,17,70]
[null,null,null,null,null,null,null,null,null,null,null,null,null,null,null,null,null,null,null,null,null,null,null,null,null,null,null,null,0,10,null,10]
[null,null,null,null,null,null,null,null,null,null,null,null,null,null,null,null,null,null,null,null,null,null,6,31,0,31,6,31,null,null,79,226]
[null,null,null,null,null,null,null,null,null,null,null,null,null,null,null,null,null,null,null,null,null,null,5,16,0,16,5,16,null,null,44,167]
[null,null,null,null,null,null,null,null,null,null,null,null,null,null,null,null,null,null,null,null,null,null,3,22,0,22,3,22,null,null,81,328]
[null,null,null,null,null,null,null,null,null,null,null,null,null,null,null,null,null,null,null,null,null,null,9,22,3,22,6,22,null,null,38,222]
[null,null,null,null,null,null,null,null,null,null,null,null,null,null,null,null,null,null,null,null,null,null,17,123,0,123,17,123,null,null,90,960]
[null,null,null,null,null,null,null,null,null,null,null,null,null,null,null,null,null,null,null,null,null,null,null,null,null,null,null,null,null,null,null,7]
[null,null,null,null,null,null,null,null,null,null,null,null,null,null,null,null,null,null,null,null,null,null,6,15,0,15,6,15,3,426,109,426]
[null,null,null,null,null,null,null,null,null,null,null,null,null,null,null,null,null,null,null,null,null,null,9,30,0,30,9,30,null,null,40,128]
[null,null,null,null,null,null,null,null,null,null,null,null,null,null,null,null,null,null,null,null,null,null,8,31,null,31,null,31,null,null,89,342]
[null,null,null,null,null,null,null,null,null,null,null,null,null,null,null,null,null,null,null,null,null,null,null,13,null,13,null,13,null,null,48,265]
[null,null,null,null,null,null,null,null,null,null,null,null,null,null,null,null,null,null,null,null,null,null,16,52,3,52,13,52,null,null,111,456]
[null,null,null,null,null,null,null,null,null,null,null,null,null,null,null,null,null,null,null,null,null,null,7,30,null,30,null,30,null,null,89,305]
[null,null,null,null,null,null,null,null,null,null,null,null,null,null,null,null,null,null,null,null,null,null,8,39,3,39,5,39,null,null,155,566]
[null,null,null,null,null,null,null,null,null,null,null,null,null,null,null,null,null,null,null,null,null,null,4,16,0,16,4,16,null,null,90,293]
[null,null,null,null,null,null,null,null,null,null,null,null,null,null,null,null,null,null,null,null,null,null,8,32,null,32,null,32,null,null,89,279]
[null,null,null,null,null,null,null,null,null,null,null,null,null,null,null,null,null,null,null,null,null,null,null,8,0,8,null,8,null,null,16,39]
[null,null,null,null,null,null,null,null,null,null,null,null,null,null,null,null,null,null,null,null,null,null,null,10,0,10,null,10,5,110,26,110]
[null,null,null,null,null,null,null,null,null,null,null,null,null,null,null,null,null,null,null,null,null,null,4,12,0,12,4,12,null,null,27,234]
[null,null,null,null,null,null,null,null,null,null,null,null,null,null,null,null,null,null,null,null,null,null,4,42,0,42,4,42,null,null,29,234]
[null,null,null,null,null,null,null,null,null,null,null,null,null,null,null,null,null,null,null,null,null,null,10,36,3,36,7,36,null,null,27,121]
[null,null,null,null,null,null,null,null,null,null,null,null,null,null,null,null,null,null,null,null,null,null,null,10,0,10,null,10,null,null,24,123]
[null,null,null,null,null,null,null,null,null,null,null,null,null,null,null,null,null,null,null,null,null,null,8,30,0,30,8,30,8,354,106,358]
[null,null,null,null,null,null,null,null,null,null,null,null,null,null,null,null,null,null,null,null,null,null,null,14,0,14,null,14,null,null,108,402]
[null,null,null,null,null,null,null,null,null,null,null,null,null,null,null,null,null,null,null,null,null,null,null,null,null,null,null,null,null,null,5,10]
[null,null,null,null,null,null,null,null,null,null,null,null,null,null,null,null,null,null,null,null,null,null,3,16,0,16,3,16,null,null,37,198]
[null,null,null,null,null,null,null,null,null,null,null,null,null,null,null,null,null,null,null,null,null,null,28,168,null,168,null,168,31,1190,310,1202]
[null,null,null,null,null,null,null,null,null,null,null,null,null,null,null,null,null,null,null,null,null,null,7,21,null,21,null,21,null,null,20,123]
[null,null,null,null,null,null,null,null,null,null,null,null,null,null,null,null,null,null,null,null,null,null,5,36,0,36,5,36,3,267,45,267]
[null,null,null,null,null,null,null,null,null,null,null,null,null,null,null,null,null,null,null,null,null,null,13,55,null,55,null,55,null,null,42,260]
[null,null,null,null,null,null,null,null,null,null,null,null,null,null,null,null,null,null,null,null,null,null,null,5,0,5,null,5,null,null,22,82]
[null,null,null,null,null,null,null,null,null,null,null,null,null,null,null,null,null,null,null,null,null,null,4,21,0,21,4,21,null,null,31,176]
[null,null,null,null,null,null,null,null,null,null,null,null,null,null,null,null,null,null,null,null,null,null,5,31,0,31,5,31,null,null,59,234]
[null,null,null,null,null,null,null,null,null,null,null,null,null,null,null,null,null,null,null,null,null,null,14,43,null,43,null,43,null,null,66,303]
[null,null,null,null,null,null,null,null,null,null,null,null,null,null,null,null,null,null,null,null,null,null,5,28,0,28,5,28,null,null,52,174]
[null,null,null,null,null,null,null,null,null,null,null,null,null,null,null,null,null,null,null,null,null,null,3,31,null,31,null,31,null,null,56,280]
[null,null,null,null,null,null,null,null,null,null,null,null,null,null,null,null,null,null,null,null,null,null,5,34,null,34,null,34,null,null,112,248]
[null,null,null,null,null,null,null,null,null,null,null,null,null,null,null,null,null,null,null,null,null,null,0,3,0,3,0,3,0,4,0,4]
[null,null,null,null,null,null,null,null,null,null,null,null,null,null,null,null,null,null,null,null,null,null,null,11,0,11,null,11,null,null,17,79]
[null,null,null,null,null,null,null,null,null,null,null,null,null,null,null,null,null,null,null,null,null,null,4,37,0,37,4,37,null,null,55,159]
[null,null,null,null,null,null,null,null,null,null,null,null,null,null,null,null,null,null,null,null,null,null,3,31,0,31,3,31,4,183,46,186]
[null,null,null,null,null,null,null,null,null,null,null,null,null,null,null,null,null,null,null,null,null,null,29,133,null,133,null,133,null,null,193,828]
[null,null,null,null,null,null,null,null,null,null,null,null,null,null,null,null,null,null,null,null,null,null,6,37,null,37,null,37,9,248,67,248]
[null,null,null,null,null,null,null,null,null,null,null,null,null,null,null,null,null,null,null,null,null,null,675,3401,77,3401,598,3401,717,23501,5767,23840]
[null,null,null,null,null,null,null,null,null,null,null,null,null,null,null,null,null,null,null,null,null,null,50,204,4,204,46,204,46,2321,623,2355]
[null,null,null,null,null,null,null,null,null,null,null,null,null,null,null,null,null,null,null,null,null,null,10,54,0,54,10,54,null,null,58,147]
[null,null,null,null,null,null,null,null,null,null,null,null,null,null,null,null,null,null,null,null,null,null,5,36,0,36,5,36,null,null,63,346]
[null,null,null,null,null,null,null,null,null,null,null,null,null,null,null,null,null,null,null,null,null,null,5,31,0,31,5,31,null,null,14,80]
[null,null,null,null,null,null,null,null,null,null,null,null,null,null,null,null,null,null,null,null,null,null,0,7,0,7,0,7,null,null,18,56]
[null,null,null,null,null,null,null,null,null,null,null,null,null,null,null,null,null,null,null,null,null,null,4,38,0,38,4,38,null,null,76,209]
[null,null,null,null,null,null,null,null,null,null,null,null,null,null,null,null,null,null,null,null,null,null,5,30,null,30,null,30,null,null,53,256]
[null,null,null,null,null,null,null,null,null,null,null,null,null,null,null,null,null,null,null,null,null,null,null,6,0,6,null,6,null,null,10,50]
[null,null,null,null,null,null,null,null,null,null,null,null,null,null,null,null,null,null,null,null,null,null,6,28,null,28,null,28,null,null,19,164]
[null,null,null,null,null,null,null,null,null,null,null,null,null,null,null,null,null,null,null,null,null,null,3,29,0,29,3,29,4,114,46,121]
[null,null,null,null,null,null,null,null,null,null,null,null,null,null,null,null,null,null,null,null,null,null,6,27,0,27,6,27,null,null,59,201]
[null,null,null,null,null,null,null,null,null,null,null,null,null,null,null,null,null,null,null,null,null,null,null,41,0,41,null,41,null,null,51,212]
[null,null,null,null,null,null,null,null,null,null,null,null,null,null,null,null,null,null,null,null,null,null,9,32,null,32,null,32,null,null,46,157]
[null,null,null,null,null,null,null,null,null,null,null,null,null,null,null,null,null,null,null,null,null,null,4,21,null,21,null,21,null,null,34,155]
[null,null,null,null,null,null,null,null,null,null,null,null,null,null,null,null,null,null,null,null,null,null,4,29,null,29,null,29,null,null,34,134]
[null,null,null,null,null,null,null,null,null,null,null,null,null,null,null,null,null,null,null,null,null,null,0,10,0,10,0,10,null,null,50,128]
[null,null,null,null,null,null,null,null,null,null,null,null,null,null,null,null,null,null,null,null,null,null,0,4,0,4,0,4,0,39,9,39]
[null,null,null,null,null,null,null,null,null,null,null,null,null,null,null,null,null,null,null,null,null,null,3,9,null,9,null,9,null,null,45,179]
[null,null,null,null,null,null,null,null,null,null,null,null,null,null,null,null,null,null,null,null,null,null,null,14,0,14,null,14,null,null,11,72]
[null,null,null,null,null,null,null,null,null,null,null,null,null,null,null,null,null,null,null,null,null,null,6,24,0,24,6,24,null,null,25,161]
[null,null,null,null,null,null,null,null,null,null,null,null,null,null,null,null,null,null,null,null,null,null,5,34,0,34,5,34,null,null,57,250]
[null,null,null,null,null,null,null,null,null,null,null,null,null,null,null,null,null,null,null,null,null,null,5,24,null,24,null,24,4,232,32,236]
[null,null,null,null,null,null,null,null,null,null,null,null,null,null,null,null,null,null,null,null,null,null,null,12,null,12,0,12,null,null,7,37]
[null,null,null,null,null,null,null,null,null,null,null,null,null,null,null,null,null,null,null,null,null,null,3,27,null,27,null,27,null,null,48,158]
[null,null,null,null,null,null,null,null,null,null,null,null,null,null,null,null,null,null,null,null,null,null,4,13,null,13,null,13,null,null,61,194]
[null,null,null,null,null,null,null,null,null,null,null,null,null,null,null,null,null,null,null,null,null,null,4,20,0,20,4,20,null,null,47,239]
[null,null,null,null,null,null,null,null,null,null,null,null,null,null,null,null,null,null,null,null,null,null,7,30,null,30,null,30,null,null,42,210]
[null,null,null,null,null,null,null,null,null,null,null,null,null,null,null,null,null,null,null,null,null,null,7,37,0,37,7,37,null,null,92,275]
[null,null,null,null,null,null,null,null,null,null,null,null,null,null,null,null,null,null,null,null,null,null,9,48,0,48,9,48,null,null,51,191]
[null,null,null,null,null,null,null,null,null,null,null,null,null,null,null,null,null,null,null,null,null,null,12,47,0,47,12,47,null,null,69,290]
[null,null,null,null,null,null,null,null,null,null,null,null,null,null,null,null,null,null,null,null,null,null,0,8,0,8,0,8,null,null,15,55]
[null,null,null,null,null,null,null,null,null,null,null,null,null,null,null,null,null,null,null,null,null,null,4,26,0,26,4,26,7,221,37,228]
[null,null,null,null,null,null,null,null,null,null,null,null,null,null,null,null,null,null,null,null,null,null,null,23,0,23,null,23,null,null,43,202]
[null,null,null,null,null,null,null,null,null,null,null,null,null,null,null,null,null,null,null,null,null,null,10,50,null,50,null,50,null,null,64,278]
[null,null,null,null,null,null,null,null,null,null,null,null,null,null,null,null,null,null,null,null,null,null,null,31,null,31,null,31,12,228,47,231]
[null,null,null,null,null,null,null,null,null,null,null,null,null,null,null,null,null,null,null,null,null,null,11,57,0,57,11,57,null,null,57,175]
[null,null,null,null,null,null,null,null,null,null,null,null,null,null,null,null,null,null,null,null,null,null,9,40,0,40,9,40,null,null,61,139]
[null,null,null,null,null,null,null,null,null,null,null,null,null,null,null,null,null,null,null,null,null,null,9,62,0,62,9,62,12,318,104,327]
[null,null,null,null,null,null,null,null,null,null,null,null,null,null,null,null,null,null,null,null,null,null,0,16,0,16,0,16,null,null,38,133]
[null,null,null,null,null,null,null,null,null,null,null,null,null,null,null,null,null,null,null,null,null,null,null,11,0,11,null,11,null,null,63,258]
[null,null,null,null,null,null,null,null,null,null,null,null,null,null,null,null,null,null,null,null,null,null,null,11,0,11,null,11,3,71,11,74]
[null,null,null,null,null,null,null,null,null,null,null,null,null,null,null,null,null,null,null,null,null,null,4,34,null,34,null,34,null,null,92,236]
[null,null,null,null,null,null,null,null,null,null,null,null,null,null,null,null,null,null,null,null,null,null,12,93,null,93,null,93,null,null,50,257]
[null,null,null,null,null,null,null,null,null,null,null,null,null,null,null,null,null,null,null,null,null,null,9,79,null,79,null,79,null,null,79,294]
[null,null,null,null,null,null,null,null,null,null,null,null,null,null,null,null,null,null,null,null,null,null,5,59,0,59,5,59,null,null,22,60]
[null,null,null,null,null,null,null,null,null,null,null,null,null,null,null,null,null,null,null,null,null,null,8,31,0,31,8,31,null,null,29,172]
[null,null,null,null,null,null,null,null,null,null,null,null,null,null,null,null,null,null,null,null,null,null,5,18,null,18,null,18,null,null,62,166]
[null,null,null,null,null,null,null,null,null,null,null,null,null,null,null,null,null,null,null,null,null,null,null,14,0,14,null,14,5,154,32,154]
[null,null,null,null,null,null,null,null,null,null,null,null,null,null,null,null,null,null,null,null,null,null,5,30,null,30,null,30,null,null,54,164]
[null,null,null,null,null,null,null,null,null,null,null,null,null,null,null,null,null,null,null,null,null,null,3,15,0,15,3,15,null,null,11,61]
[null,null,null,null,null,null,null,null,null,null,null,null,null,null,null,null,null,null,null,null,null,null,4,26,null,26,null,26,null,null,42,110]
[null,null,null,null,null,null,null,null,null,null,null,null,null,null,null,null,null,null,null,null,null,null,34,158,null,158,null,158,null,null,131,608]
[null,null,null,null,null,null,null,null,null,null,null,null,null,null,null,null,null,null,null,null,null,null,11,44,null,44,null,44,16,295,110,299]
[null,null,null,null,null,null,null,null,null,null,null,null,null,null,null,null,null,null,null,null,null,null,3,15,null,15,null,15,8,105,35,109]
[null,null,null,null,null,null,null,null,null,null,null,null,null,null,null,null,null,null,null,null,null,null,3,15,null,15,null,15,null,null,24,67]
[null,null,null,null,null,null,null,null,null,null,null,null,null,null,null,null,null,null,null,null,null,null,null,null,null,null,null,null,null,null,5,15]
[null,null,null,null,null,null,null,null,null,null,null,null,null,null,null,null,null,null,null,null,null,null,7,30,0,30,7,30,null,null,93,223]
[null,null,null,null,null,null,null,null,null,null,null,null,null,null,null,null,null,null,null,null,null,null,4,21,0,21,4,21,5,157,36,157]
[null,null,null,null,null,null,null,null,null,null,null,null,null,null,null,null,null,null,null,null,null,null,5,28,0,28,5,28,null,null,52,321]
[null,null,null,null,null,null,null,null,null,null,null,null,null,null,null,null,null,null,null,null,null,null,7,17,null,17,null,17,null,null,43,235]
[null,null,null,null,null,null,null,null,null,null,null,null,null,null,null,null,null,null,null,null,null,null,11,129,null,129,null,129,null,null,447,952]
[null,null,null,null,null,null,null,null,null,null,null,null,null,null,null,null,null,null,null,null,null,null,null,null,null,null,null,null,null,null,null,6]
[null,null,null,null,null,null,null,null,null,null,null,null,null,null,null,null,null,null,null,null,null,null,3,13,0,13,3,13,5,442,118,442]
[null,null,null,null,null,null,null,null,null,null,null,null,null,null,null,null,null,null,null,null,null,null,4,23,0,23,4,23,null,null,34,130]
[null,null,null,null,null,null,null,null,null,null,null,null,null,null,null,null,null,null,null,null,null,null,10,30,0,30,10,30,15,323,74,326]
[null,null,null,null,null,null,null,null,null,null,null,null,null,null,null,null,null,null,null,null,null,null,3,15,0,15,3,15,null,null,101,282]
[null,null,null,null,null,null,null,null,null,null,null,null,null,null,null,null,null,null,null,null,null,null,13,52,0,52,13,52,12,438,102,441]
[null,null,null,null,null,null,null,null,null,null,null,null,null,null,null,null,null,null,null,null,null,null,8,31,null,31,null,31,null,null,92,307]
[null,null,null,null,null,null,null,null,null,null,null,null,null,null,null,null,null,null,null,null,null,null,14,45,3,45,11,45,18,543,269,547]
[null,null,null,null,null,null,null,null,null,null,null,null,null,null,null,null,null,null,null,null,null,null,4,16,0,16,4,16,8,284,89,288]
[null,null,null,null,null,null,null,null,null,null,null,null,null,null,null,null,null,null,null,null,null,null,8,28,3,28,5,28,null,null,89,286]
[null,null,null,null,null,null,null,null,null,null,null,null,null,null,null,null,null,null,null,null,null,null,3,9,null,9,null,9,null,null,4,34]
[null,null,null,null,null,null,null,null,null,null,null,null,null,null,null,null,null,null,null,null,null,null,3,10,0,10,3,10,3,107,26,107]
[null,null,null,null,null,null,null,null,null,null,null,null,null,null,null,null,null,null,null,null,null,null,0,11,0,11,0,11,null,null,71,314]
[null,null,null,null,null,null,null,null,null,null,null,null,null,null,null,null,null,null,null,null,null,null,13,41,null,41,null,41,null,null,82,253]
[null,null,null,null,null,null,null,null,null,null,null,null,null,null,null,null,null,null,null,null,null,null,null,33,null,33,null,33,null,null,18,120]
[null,null,null,null,null,null,null,null,null,null,null,null,null,null,null,null,null,null,null,null,null,null,null,9,0,9,null,9,3,133,58,133]
[null,null,null,null,null,null,null,null,null,null,null,null,null,null,null,null,null,null,null,null,null,null,3,25,0,25,3,25,12,383,102,388]
[null,null,null,null,null,null,null,null,null,null,null,null,null,null,null,null,null,null,null,null,null,null,3,21,0,21,3,21,null,null,124,473]
[null,null,null,null,null,null,null,null,null,null,null,null,null,null,null,null,null,null,null,null,null,null,null,null,null,null,null,null,null,null,5,13]
[null,null,null,null,null,null,null,null,null,null,null,null,null,null,null,null,null,null,null,null,null,null,4,18,0,18,4,18,null,null,48,193]
[null,null,null,null,null,null,null,null,null,null,null,null,null,null,null,null,null,null,null,null,null,null,25,174,0,174,25,174,24,1293,376,1303]
[null,null,null,null,null,null,null,null,null,null,null,null,null,null,null,null,null,null,null,null,null,null,5,15,null,15,null,15,3,189,46,192]
[null,null,null,null,null,null,null,null,null,null,null,null,null,null,null,null,null,null,null,null,null,null,7,37,null,37,null,37,null,null,141,289]
[null,null,null,null,null,null,null,null,null,null,null,null,null,null,null,null,null,null,null,null,null,null,13,48,null,48,null,48,null,null,58,247]
[null,null,null,null,null,null,null,null,null,null,null,null,null,null,null,null,null,null,null,null,null,null,4,8,null,8,null,8,5,79,17,79]
[null,null,null,null,null,null,null,null,null,null,null,null,null,null,null,null,null,null,null,null,null,null,null,19,0,19,null,19,null,null,78,197]
[null,null,null,null,null,null,null,null,null,null,null,null,null,null,null,null,null,null,null,null,null,null,4,27,null,27,null,27,null,null,54,208]
[null,null,null,null,null,null,null,null,null,null,null,null,null,null,null,null,null,null,null,null,null,null,5,31,0,31,5,31,15,356,215,364]
[null,null,null,null,null,null,null,null,null,null,null,null,null,null,null,null,null,null,null,null,null,null,8,27,null,27,null,27,null,null,43,163]
[null,null,null,null,null,null,null,null,null,null,null,null,null,null,null,null,null,null,null,null,null,null,5,43,null,43,null,43,null,null,60,312]
[null,null,null,null,null,null,null,null,null,null,null,null,null,null,null,null,null,null,null,null,null,null,5,32,0,32,5,32,6,200,65,204]
[null,null,null,null,null,null,null,null,null,null,null,null,null,null,null,null,null,null,null,null,null,null,0,3,0,3,0,3,null,null,null,6]
[null,null,null,null,null,null,null,null,null,null,null,null,null,null,null,null,null,null,null,null,null,null,null,10,0,10,null,10,4,94,40,94]
[null,null,null,null,null,null,null,null,null,null,null,null,null,null,null,null,null,null,null,null,null,null,8,34,null,34,null,34,7,193,65,198]
[null,null,null,null,null,null,null,null,null,null,null,null,null,null,null,null,null,null,null,null,null,null,7,36,0,36,7,36,null,null,31,199]
[null,null,null,null,null,null,null,null,null,null,null,null,null,null,null,null,null,null,null,null,null,null,22,122,null,122,null,122,22,911,169,911]
[null,null,null,null,null,null,null,null,null,null,null,null,null,null,null,null,null,null,null,null,null,null,6,40,null,40,null,40,null,null,68,242]
[null,null,null,null,null,null,null,null,null,null,null,null,null,null,null,null,null,null,null,null,null,null,602,3298,60,3298,542,3298,680,24022,6875,24353]
[null,null,null,null,null,null,null,null,null,null,null,null,null,null,null,null,null,null,null,null,null,null,72,193,7,193,65,193,46,2221,628,2239]
[null,null,null,null,null,null,null,null,null,null,null,null,null,null,null,null,null,null,null,null,null,null,12,54,null,54,null,54,null,null,31,165]
[null,null,null,null,null,null,null,null,null,null,null,null,null,null,null,null,null,null,null,null,null,null,3,33,null,33,null,33,null,null,58,337]
[null,null,null,null,null,null,null,null,null,null,null,null,null,null,null,null,null,null,null,null,null,null,6,33,0,33,6,33,null,null,20,87]
[null,null,null,null,null,null,null,null,null,null,null,null,null,null,null,null,null,null,null,null,null,null,null,8,0,8,null,8,0,45,18,45]
[null,null,null,null,null,null,null,null,null,null,null,null,null,null,null,null,null,null,null,null,null,null,6,40,0,40,6,40,null,null,24,175]
[null,null,null,null,null,null,null,null,null,null,null,null,null,null,null,null,null,null,null,null,null,null,8,26,null,26,null,26,null,null,33,288]
[null,null,null,null,null,null,null,null,null,null,null,null,null,null,null,null,null,null,null,null,null,null,null,5,0,5,null,5,null,null,18,61]
[null,null,null,null,null,null,null,null,null,null,null,null,null,null,null,null,null,null,null,null,null,null,5,22,0,22,5,22,null,null,39,172]
[null,null,null,null,null,null,null,null,null,null,null,null,null,null,null,null,null,null,null,null,null,null,3,28,0,28,3,28,6,98,23,102]
[null,null,null,null,null,null,null,null,null,null,null,null,null,null,null,null,null,null,null,null,null,null,4,28,0,28,4,28,null,null,50,213]
[null,null,null,null,null,null,null,null,null,null,null,null,null,null,null,null,null,null,null,null,null,null,7,40,null,40,null,40,null,null,51,234]
[null,null,null,null,null,null,null,null,null,null,null,null,null,null,null,null,null,null,null,null,null,null,9,28,null,28,null,28,6,130,24,135]
[null,null,null,null,null,null,null,null,null,null,null,null,null,null,null,null,null,null,null,null,null,null,6,20,null,20,null,20,6,161,31,161]
[null,null,null,null,null,null,null,null,null,null,null,null,null,null,null,null,null,null,null,null,null,null,4,25,0,25,4,25,0,148,27,148]
[null,null,null,null,null,null,null,null,null,null,null,null,null,null,null,null,null,null,null,null,null,null,5,13,null,13,null,13,null,null,23,120]
[null,null,null,null,null,null,null,null,null,null,null,null,null,null,null,null,null,null,null,null,null,null,0,4,0,4,0,4,null,null,10,37]
[null,null,null,null,null,null,null,null,null,null,null,null,null,null,null,null,null,null,null,null,null,null,null,7,0,7,null,7,null,null,34,197]
[null,null,null,null,null,null,null,null,null,null,null,null,null,null,null,null,null,null,null,null,null,null,3,14,null,14,null,14,0,78,22,78]
[null,null,null,null,null,null,null,null,null,null,null,null,null,null,null,null,null,null,null,null,null,null,7,22,0,22,7,22,null,null,28,152]
[null,null,null,null,null,null,null,null,null,null,null,null,null,null,null,null,null,null,null,null,null,null,4,33,null,33,null,33,null,null,45,266]
[null,null,null,null,null,null,null,null,null,null,null,null,null,null,null,null,null,null,null,null,null,null,3,21,null,21,null,21,null,null,46,246]
[null,null,null,null,null,null,null,null,null,null,null,null,null,null,null,null,null,null,null,null,null,null,null,13,0,13,null,13,null,null,8,38]
[null,null,null,null,null,null,null,null,null,null,null,null,null,null,null,null,null,null,null,null,null,null,5,29,0,29,5,29,null,null,37,149]
[null,null,null,null,null,null,null,null,null,null,null,null,null,null,null,null,null,null,null,null,null,null,null,10,null,10,null,10,5,157,31,160]
[null,null,null,null,null,null,null,null,null,null,null,null,null,null,null,null,null,null,null,null,null,null,null,20,0,20,null,20,5,256,69,262]
[null,null,null,null,null,null,null,null,null,null,null,null,null,null,null,null,null,null,null,null,null,null,5,32,null,32,null,32,null,null,59,214]
[null,null,null,null,null,null,null,null,null,null,null,null,null,null,null,null,null,null,null,null,null,null,8,34,null,34,null,34,null,null,78,237]
[null,null,null,null,null,null,null,null,null,null,null,null,null,null,null,null,null,null,null,null,null,null,8,41,0,41,8,41,7,167,39,170]
[null,null,null,null,null,null,null,null,null,null,null,null,null,null,null,null,null,null,null,null,null,null,11,39,0,39,11,39,null,null,83,342]
[null,null,null,null,null,null,null,null,null,null,null,null,null,null,null,null,null,null,null,null,null,null,0,9,0,9,0,9,null,null,7,49]
[null,null,null,null,null,null,null,null,null,null,null,null,null,null,null,null,null,null,null,null,null,null,4,23,0,23,4,23,null,null,113,265]
[null,null,null,null,null,null,null,null,null,null,null,null,null,null,null,null,null,null,null,null,null,null,null,28,0,28,null,28,null,null,45,199]
[null,null,null,null,null,null,null,null,null,null,null,null,null,null,null,null,null,null,null,null,null,null,10,43,null,43,null,43,null,null,88,275]
[null,null,null,null,null,null,null,null,null,null,null,null,null,null,null,null,null,null,null,null,null,null,11,41,null,41,null,41,null,null,34,240]
[null,null,null,null,null,null,null,null,null,null,null,null,null,null,null,null,null,null,null,null,null,null,17,61,null,61,null,61,8,153,39,156]
[null,null,null,null,null,null,null,null,null,null,null,null,null,null,null,null,null,null,null,null,null,null,9,42,null,42,null,42,null,null,39,120]
[null,null,null,null,null,null,null,null,null,null,null,null,null,null,null,null,null,null,null,null,null,null,11,70,null,70,null,70,null,null,104,341]
[null,null,null,null,null,null,null,null,null,null,null,null,null,null,null,null,null,null,null,null,null,null,3,20,null,20,null,20,7,122,23,125]
[null,null,null,null,null,null,null,null,null,null,null,null,null,null,null,null,null,null,null,null,null,null,3,10,0,10,3,10,null,null,87,284]
[null,null,null,null,null,null,null,null,null,null,null,null,null,null,null,null,null,null,null,null,null,null,0,13,0,13,0,13,null,null,23,105]
[null,null,null,null,null,null,null,null,null,null,null,null,null,null,null,null,null,null,null,null,null,null,6,34,0,34,6,34,null,null,61,251]
[null,null,null,null,null,null,null,null,null,null,null,null,null,null,null,null,null,null,null,null,null,null,5,90,null,90,null,90,19,300,48,313]
[null,null,null,null,null,null,null,null,null,null,null,null,null,null,null,null,null,null,null,null,null,null,15,82,5,82,10,82,null,null,78,293]
[null,null,null,null,null,null,null,null,null,null,null,null,null,null,null,null,null,null,null,null,null,null,6,62,null,62,null,62,null,null,29,92]
[null,null,null,null,null,null,null,null,null,null,null,null,null,null,null,null,null,null,null,null,null,null,5,28,0,28,5,28,null,null,25,158]
[null,null,null,null,null,null,null,null,null,null,null,null,null,null,null,null,null,null,null,null,null,null,5,17,0,17,5,17,null,null,47,177]
[null,null,null,null,null,null,null,null,null,null,null,null,null,null,null,null,null,null,null,null,null,null,3,22,0,22,3,22,null,null,54,181]
[null,null,null,null,null,null,null,null,null,null,null,null,null,null,null,null,null,null,null,null,null,null,6,37,0,37,6,37,8,208,33,213]
[null,null,null,null,null,null,null,null,null,null,null,null,null,null,null,null,null,null,null,null,null,null,null,13,null,13,null,13,null,null,11,88]
[null,null,null,null,null,null,null,null,null,null,null,null,null,null,null,null,null,null,null,null,null,null,5,23,0,23,5,23,null,null,20,96]
[null,null,null,null,null,null,null,null,null,null,null,null,null,null,null,null,null,null,null,null,null,null,20,160,null,160,null,160,34,1109,245,1121]
[null,null,null,null,null,null,null,null,null,null,null,null,null,null,null,null,null,null,null,null,null,null,9,44,4,44,5,44,null,null,68,248]
[null,null,null,null,null,null,null,null,null,null,null,null,null,null,null,null,null,null,null,null,null,null,4,19,0,19,4,19,null,null,27,128]
[null,null,null,null,null,null,null,null,null,null,null,null,null,null,null,null,null,null,null,null,null,null,0,15,0,15,0,15,0,61,10,61]
[null,null,null,null,null,null,null,null,null,null,null,null,null,null,null,null,null,null,null,null,null,null,0,3,0,3,0,3,0,10,3,10]
[null,null,null,null,null,null,null,null,null,null,null,null,null,null,null,null,null,null,null,null,null,null,5,31,null,31,null,31,null,null,85,182]
[null,null,null,null,null,null,null,null,null,null,null,null,null,null,null,null,null,null,null,null,null,null,8,21,null,21,null,21,null,null,34,160]
[null,null,null,null,null,null,null,null,null,null,null,null,null,null,null,null,null,null,null,null,null,null,8,26,null,26,null,26,null,null,98,326]
[null,null,null,null,null,null,null,null,null,null,null,null,null,null,null,null,null,null,null,null,null,null,0,11,0,11,0,11,null,null,50,232]
[null,null,null,null,null,null,null,null,null,null,null,null,null,null,null,null,null,null,null,null,null,null,25,140,4,140,21,140,null,null,112,570]
[null,null,null,null,null,null,null,null,null,null,null,null,null,null,null,null,null,null,null,null,null,null,null,null,null,null,null,null,null,null,null,7]
[null,null,null,null,null,null,null,null,null,null,null,null,null,null,null,null,null,null,null,null,null,null,null,12,0,12,null,12,6,457,142,457]
[null,null,null,null,null,null,null,null,null,null,null,null,null,null,null,null,null,null,null,null,null,null,null,23,0,23,null,23,null,null,46,109]
[null,null,null,null,null,null,null,null,null,null,null,null,null,null,null,null,null,null,null,null,null,null,6,29,null,29,null,29,null,null,74,322]
[null,null,null,null,null,null,null,null,null,null,null,null,null,null,null,null,null,null,null,null,null,null,5,16,null,16,null,16,8,260,55,264]
[null,null,null,null,null,null,null,null,null,null,null,null,null,null,null,null,null,null,null,null,null,null,13,54,0,54,13,54,null,null,117,455]
[null,null,null,null,null,null,null,null,null,null,null,null,null,null,null,null,null,null,null,null,null,null,5,25,0,25,5,25,11,315,92,315]
[null,null,null,null,null,null,null,null,null,null,null,null,null,null,null,null,null,null,null,null,null,null,16,46,4,46,12,46,17,405,131,409]
[null,null,null,null,null,null,null,null,null,null,null,null,null,null,null,null,null,null,null,null,null,null,7,19,0,19,7,19,null,null,84,294]
[null,null,null,null,null,null,null,null,null,null,null,null,null,null,null,null,null,null,null,null,null,null,4,27,0,27,4,27,null,null,96,279]
[null,null,null,null,null,null,null,null,null,null,null,null,null,null,null,null,null,null,null,null,null,null,null,6,null,6,0,6,null,null,20,81]
[null,null,null,null,null,null,null,null,null,null,null,null,null,null,null,null,null,null,null,null,null,null,3,8,0,8,3,8,3,110,28,110]
[null,null,null,null,null,null,null,null,null,null,null,null,null,null,null,null,null,null,null,null,null,null,3,13,0,13,3,13,null,null,49,320]
[null,null,null,null,null,null,null,null,null,null,null,null,null,null,null,null,null,null,null,null,null,null,6,38,0,38,6,38,null,null,41,241]
[null,null,null,null,null,null,null,null,null,null,null,null,null,null,null,null,null,null,null,null,null,null,7,33,null,33,null,33,null,null,20,138]
[null,null,null,null,null,null,null,null,null,null,null,null,null,null,null,null,null,null,null,null,null,null,null,13,0,13,null,13,4,98,22,98]
[null,null,null,null,null,null,null,null,null,null,null,null,null,null,null,null,null,null,null,null,null,null,3,30,0,30,3,30,null,null,118,375]
[null,null,null,null,null,null,null,null,null,null,null,null,null,null,null,null,null,null,null,null,null,null,4,20,0,20,4,20,null,null,131,477]
[null,null,null,null,null,null,null,null,null,null,null,null,null,null,null,null,null,null,null,null,null,null,null,null,null,null,null,null,null,null,5,12]
[null,null,null,null,null,null,null,null,null,null,null,null,null,null,null,null,null,null,null,null,null,null,null,18,0,18,null,18,null,null,34,180]
[null,null,null,null,null,null,null,null,null,null,null,null,null,null,null,null,null,null,null,null,null,null,31,178,0,178,31,178,23,1292,374,1297]
[null,null,null,null,null,null,null,null,null,null,null,null,null,null,null,null,null,null,null,null,null,null,null,10,0,10,null,10,null,null,20,143]
[null,null,null,null,null,null,null,null,null,null,null,null,null,null,null,null,null,null,null,null,null,null,6,36,0,36,6,36,null,null,22,213]
[null,null,null,null,null,null,null,null,null,null,null,null,null,null,null,null,null,null,null,null,null,null,12,44,0,44,12,44,null,null,84,247]
[null,null,null,null,null,null,null,null,null,null,null,null,null,null,null,null,null,null,null,null,null,null,null,5,0,5,null,5,null,null,12,82]
[null,null,null,null,null,null,null,null,null,null,null,null,null,null,null,null,null,null,null,null,null,null,4,21,0,21,4,21,null,null,35,148]
[null,null,null,null,null,null,null,null,null,null,null,null,null,null,null,null,null,null,null,null,null,null,3,25,0,25,3,25,null,null,50,213]
[null,null,null,null,null,null,null,null,null,null,null,null,null,null,null,null,null,null,null,null,null,null,5,33,0,33,5,33,null,null,67,258]
[null,null,null,null,null,null,null,null,null,null,null,null,null,null,null,null,null,null,null,null,null,null,5,20,0,20,5,20,null,null,52,170]
[null,null,null,null,null,null,null,null,null,null,null,null,null,null,null,null,null,null,null,null,null,null,10,45,3,45,7,45,null,null,87,326]
[null,null,null,null,null,null,null,null,null,null,null,null,null,null,null,null,null,null,null,null,null,null,9,31,null,31,null,31,9,190,62,196]
[null,null,null,null,null,null,null,null,null,null,null,null,null,null,null,null,null,null,null,null,null,null,null,3,0,3,null,3,null,null,null,4]
[null,null,null,null,null,null,null,null,null,null,null,null,null,null,null,null,null,null,null,null,null,null,null,12,0,12,null,12,0,80,18,80]
[null,null,null,null,null,null,null,null,null,null,null,null,null,null,null,null,null,null,null,null,null,null,4,29,null,29,null,29,8,166,37,170]
[null,null,null,null,null,null,null,null,null,null,null,null,null,null,null,null,null,null,null,null,null,null,10,36,0,36,10,36,null,null,59,199]
[null,null,null,null,null,null,null,null,null,null,null,null,null,null,null,null,null,null,null,null,null,null,22,126,null,126,null,126,26,949,238,949]
[null,null,null,null,null,null,null,null,null,null,null,null,null,null,null,null,null,null,null,null,null,null,12,37,null,37,null,37,6,231,55,231]
[null,null,null,null,null,null,null,null,null,null,null,null,null,null,null,null,null,null,null,null,null,null,652,3276,74,3276,578,3276,728,23863,6008,24158]
[null,null,null,null,null,null,null,null,null,null,null,null,null,null,null,null,null,null,null,null,null,null,31,160,3,160,28,160,49,2130,457,2155]
[null,null,null,null,null,null,null,null,null,null,null,null,null,null,null,null,null,null,null,null,null,null,8,47,null,47,null,47,null,null,39,182]
[null,null,null,null,null,null,null,null,null,null,null,null,null,null,null,null,null,null,null,null,null,null,6,32,0,32,6,32,null,null,74,353]
[null,null,null,null,null,null,null,null,null,null,null,null,null,null,null,null,null,null,null,null,null,null,7,32,0,32,7,32,null,null,26,108]
[null,null,null,null,null,null,null,null,null,null,null,null,null,null,null,null,null,null,null,null,null,null,null,7,0,7,null,7,null,null,9,39]
[null,null,null,null,null,null,null,null,null,null,null,null,null,null,null,null,null,null,null,null,null,null,11,39,3,39,8,39,null,null,40,199]
[null,null,null,null,null,null,null,null,null,null,null,null,null,null,null,null,null,null,null,null,null,null,3,22,null,22,null,22,null,null,50,354]
[null,null,null,null,null,null,null,null,null,null,null,null,null,null,null,null,null,null,null,null,null,null,null,3,0,3,null,3,null,null,17,69]
[null,null,null,null,null,null,null,null,null,null,null,null,null,null,null,null,null,null,null,null,null,null,null,20,null,20,0,20,null,null,35,158]
[null,null,null,null,null,null,null,null,null,null,null,null,null,null,null,null,null,null,null,null,null,null,null,30,0,30,null,30,5,124,23,128]
[null,null,null,null,null,null,null,null,null,null,null,null,null,null,null,null,null,null,null,null,null,null,6,34,0,34,6,34,6,240,54,240]
[null,null,null,null,null,null,null,null,null,null,null,null,null,null,null,null,null,null,null,null,null,null,null,39,0,39,null,39,8,254,47,257]
[null,null,null,null,null,null,null,null,null,null,null,null,null,null,null,null,null,null,null,null,null,null,3,24,0,24,3,24,null,null,18,152]
[null,null,null,null,null,null,null,null,null,null,null,null,null,null,null,null,null,null,null,null,null,null,5,19,0,19,5,19,6,164,22,168]
[null,null,null,null,null,null,null,null,null,null,null,null,null,null,null,null,null,null,null,null,null,null,4,23,null,23,null,23,0,145,24,145]
[null,null,null,null,null,null,null,null,null,null,null,null,null,null,null,null,null,null,null,null,null,null,null,8,0,8,null,8,null,null,27,138]
[null,null,null,null,null,null,null,null,null,null,null,null,null,null,null,null,null,null,null,null,null,null,null,5,0,5,null,5,0,38,9,38]
[null,null,null,null,null,null,null,null,null,null,null,null,null,null,null,null,null,null,null,null,null,null,null,9,0,9,null,9,null,null,70,206]
[null,null,null,null,null,null,null,null,null,null,null,null,null,null,null,null,null,null,null,null,null,null,3,15,0,15,3,15,null,null,19,77]
[null,null,null,null,null,null,null,null,null,null,null,null,null,null,null,null,null,null,null,null,null,null,6,22,null,22,null,22,4,143,30,146]
[null,null,null,null,null,null,null,null,null,null,null,null,null,null,null,null,null,null,null,null,null,null,4,33,0,33,4,33,null,null,46,277]
[null,null,null,null,null,null,null,null,null,null,null,null,null,null,null,null,null,null,null,null,null,null,4,25,null,25,null,25,14,249,41,254]
[null,null,null,null,null,null,null,null,null,null,null,null,null,null,null,null,null,null,null,null,null,null,3,13,0,13,3,13,null,null,null,33]
[null,null,null,null,null,null,null,null,null,null,null,null,null,null,null,null,null,null,null,null,null,null,7,27,0,27,7,27,null,null,28,152]
[null,null,null,null,null,null,null,null,null,null,null,null,null,null,null,null,null,null,null,null,null,null,null,11,0,11,null,11,5,174,41,178]
[null,null,null,null,null,null,null,null,null,null,null,null,null,null,null,null,null,null,null,null,null,null,6,24,null,24,null,24,8,238,56,241]
[null,null,null,null,null,null,null,null,null,null,null,null,null,null,null,null,null,null,null,null,null,null,4,34,0,34,4,34,null,null,43,203]
[null,null,null,null,null,null,null,null,null,null,null,null,null,null,null,null,null,null,null,null,null,null,6,31,0,31,6,31,11,252,57,256]
[null,null,null,null,null,null,null,null,null,null,null,null,null,null,null,null,null,null,null,null,null,null,7,40,0,40,7,40,10,173,29,178]
[null,null,null,null,null,null,null,null,null,null,null,null,null,null,null,null,null,null,null,null,null,null,12,34,null,34,null,34,null,null,71,368]
[null,null,null,null,null,null,null,null,null,null,null,null,null,null,null,null,null,null,null,null,null,null,null,14,0,14,null,14,null,null,15,68]
[null,null,null,null,null,null,null,null,null,null,null,null,null,null,null,null,null,null,null,null,null,null,null,23,0,23,null,23,null,null,46,180]
[null,null,null,null,null,null,null,null,null,null,null,null,null,null,null,null,null,null,null,null,null,null,3,31,null,31,null,31,null,null,52,179]
[null,null,null,null,null,null,null,null,null,null,null,null,null,null,null,null,null,null,null,null,null,null,6,42,0,42,6,42,null,null,59,263]
[null,null,null,null,null,null,null,null,null,null,null,null,null,null,null,null,null,null,null,null,null,null,6,38,null,38,null,38,6,287,78,292]
[null,null,null,null,null,null,null,null,null,null,null,null,null,null,null,null,null,null,null,null,null,null,12,52,3,52,9,52,9,167,46,170]
[null,null,null,null,null,null,null,null,null,null,null,null,null,null,null,null,null,null,null,null,null,null,4,39,0,39,4,39,3,120,43,124]
[null,null,null,null,null,null,null,null,null,null,null,null,null,null,null,null,null,null,null,null,null,null,9,70,0,70,9,70,15,359,66,368]
[null,null,null,null,null,null,null,null,null,null,null,null,null,null,null,null,null,null,null,null,null,null,6,20,0,20,6,20,null,null,72,130]
[null,null,null,null,null,null,null,null,null,null,null,null,null,null,null,null,null,null,null,null,null,null,null,8,null,8,null,8,null,null,80,278]
[null,null,null,null,null,null,null,null,null,null,null,null,null,null,null,null,null,null,null,null,null,null,4,18,null,18,null,18,null,null,30,116]
[null,null,null,null,null,null,null,null,null,null,null,null,null,null,null,null,null,null,null,null,null,null,3,41,0,41,3,41,null,null,64,277]
[null,null,null,null,null,null,null,null,null,null,null,null,null,null,null,null,null,null,null,null,null,null,13,106,0,106,13,106,null,null,50,332]
[null,null,null,null,null,null,null,null,null,null,null,null,null,null,null,null,null,null,null,null,null,null,9,83,0,83,9,83,10,302,52,312]
[null,null,null,null,null,null,null,null,null,null,null,null,null,null,null,null,null,null,null,null,null,null,8,66,0,66,8,66,8,135,31,142]
[null,null,null,null,null,null,null,null,null,null,null,null,null,null,null,null,null,null,null,null,null,null,3,27,0,27,3,27,null,null,26,161]
[null,null,null,null,null,null,null,null,null,null,null,null,null,null,null,null,null,null,null,null,null,null,null,15,0,15,null,15,4,179,42,179]
[null,null,null,null,null,null,null,null,null,null,null,null,null,null,null,null,null,null,null,null,null,null,null,21,0,21,null,21,null,null,46,179]
[null,null,null,null,null,null,null,null,null,null,null,null,null,null,null,null,null,null,null,null,null,null,7,36,3,36,4,36,null,null,76,252]
[null,null,null,null,null,null,null,null,null,null,null,null,null,null,null,null,null,null,null,null,null,null,null,12,null,12,0,12,null,null,24,89]
[null,null,null,null,null,null,null,null,null,null,null,null,null,null,null,null,null,null,null,null,null,null,null,20,0,20,null,20,null,null,43,124]
[null,null,null,null,null,null,null,null,null,null,null,null,null,null,null,null,null,null,null,null,null,null,26,169,3,169,23,169,null,null,240,1163]
[null,null,null,null,null,null,null,null,null,null,null,null,null,null,null,null,null,null,null,null,null,null,5,42,null,42,null,42,null,null,67,270]
[null,null,null,null,null,null,null,null,null,null,null,null,null,null,null,null,null,null,null,null,null,null,null,22,0,22,null,22,null,null,38,159]
[null,null,null,null,null,null,null,null,null,null,null,null,null,null,null,null,null,null,null,null,null,null,7,17,null,17,null,17,null,null,23,68]
[null,null,null,null,null,null,null,null,null,null,null,null,null,null,null,null,null,null,null,null,null,null,0,3,0,3,0,3,null,null,6,11]
[null,null,null,null,null,null,null,null,null,null,null,null,null,null,null,null,null,null,null,null,null,null,9,30,null,30,null,30,null,null,70,168]
[null,null,null,null,null,null,null,null,null,null,null,null,null,null,null,null,null,null,null,null,null,null,4,18,0,18,4,18,null,null,52,187]
[null,null,null,null,null,null,null,null,null,null,null,null,null,null,null,null,null,null,null,null,null,null,4,25,0,25,4,25,null,null,50,282]
[null,null,null,null,null,null,null,null,null,null,null,null,null,null,null,null,null,null,null,null,null,null,null,18,0,18,null,18,null,null,48,226]
[null,null,null,null,null,null,null,null,null,null,null,null,null,null,null,null,null,null,null,null,null,null,17,142,0,142,17,142,27,549,103,557]
[null,null,null,null,null,null,null,null,null,null,null,null,null,null,null,null,null,null,null,null,null,null,null,null,null,null,null,null,null,null,6,10]
[null,null,null,null,null,null,null,null,null,null,null,null,null,null,null,null,null,null,null,null,null,null,null,11,0,11,null,11,4,428,116,428]
[null,null,null,null,null,null,null,null,null,null,null,null,null,null,null,null,null,null,null,null,null,null,3,25,0,25,3,25,null,null,26,115]
[null,null,null,null,null,null,null,null,null,null,null,null,null,null,null,null,null,null,null,null,null,null,7,28,0,28,7,28,16,345,71,348]
[null,null,null,null,null,null,null,null,null,null,null,null,null,null,null,null,null,null,null,null,null,null,null,14,0,14,null,14,11,326,97,331]
[null,null,null,null,null,null,null,null,null,null,null,null,null,null,null,null,null,null,null,null,null,null,6,55,0,55,6,55,21,438,155,442]
[null,null,null,null,null,null,null,null,null,null,null,null,null,null,null,null,null,null,null,null,null,null,5,28,null,28,null,28,null,null,82,322]
[null,null,null,null,null,null,null,null,null,null,null,null,null,null,null,null,null,null,null,null,null,null,12,47,3,47,9,47,null,null,92,406]
[null,null,null,null,null,null,null,null,null,null,null,null,null,null,null,null,null,null,null,null,null,null,4,21,0,21,4,21,9,323,115,328]
[null,null,null,null,null,null,null,null,null,null,null,null,null,null,null,null,null,null,null,null,null,null,5,29,null,29,null,29,null,null,72,244]
[null,null,null,null,null,null,null,null,null,null,null,null,null,null,null,null,null,null,null,null,null,null,null,7,0,7,null,7,null,null,13,83]
[null,null,null,null,null,null,null,null,null,null,null,null,null,null,null,null,null,null,null,null,null,null,3,8,0,8,3,8,null,null,15,109]
[null,null,null,null,null,null,null,null,null,null,null,null,null,null,null,null,null,null,null,null,null,null,null,17,0,17,null,17,null,null,55,341]
[null,null,null,null,null,null,null,null,null,null,null,null,null,null,null,null,null,null,null,null,null,null,7,41,0,41,7,41,null,null,85,244]
[null,null,null,null,null,null,null,null,null,null,null,null,null,null,null,null,null,null,null,null,null,null,3,29,0,29,3,29,null,null,37,171]
[null,null,null,null,null,null,null,null,null,null,null,null,null,null,null,null,null,null,null,null,null,null,3,14,0,14,3,14,null,null,33,128]
[null,null,null,null,null,null,null,null,null,null,null,null,null,null,null,null,null,null,null,null,null,null,8,35,null,35,null,35,9,368,100,371]
[null,null,null,null,null,null,null,null,null,null,null,null,null,null,null,null,null,null,null,null,null,null,5,21,null,21,null,21,null,null,136,524]
[null,null,null,null,null,null,null,null,null,null,null,null,null,null,null,null,null,null,null,null,null,null,null,null,null,null,null,null,null,null,7,15]
[null,null,null,null,null,null,null,null,null,null,null,null,null,null,null,null,null,null,null,null,null,null,5,19,0,19,5,19,null,null,47,191]
[null,null,null,null,null,null,null,null,null,null,null,null,null,null,null,null,null,null,null,null,null,null,46,171,4,171,42,171,38,1296,318,1303]
[null,null,null,null,null,null,null,null,null,null,null,null,null,null,null,null,null,null,null,null,null,null,null,14,0,14,null,14,null,null,7,124]
[null,null,null,null,null,null,null,null,null,null,null,null,null,null,null,null,null,null,null,null,null,null,9,38,0,38,9,38,null,null,70,308]
[null,null,null,null,null,null,null,null,null,null,null,null,null,null,null,null,null,null,null,null,null,null,6,36,0,36,6,36,null,null,61,212]
[null,null,null,null,null,null,null,null,null,null,null,null,null,null,null,null,null,null,null,null,null,null,null,6,0,6,null,6,null,null,15,100]
[null,null,null,null,null,null,null,null,null,null,null,null,null,null,null,null,null,null,null,null,null,null,5,21,0,21,5,21,null,null,64,150]
[null,null,null,null,null,null,null,null,null,null,null,null,null,null,null,null,null,null,null,null,null,null,4,33,0,33,4,33,9,201,67,205]
[null,null,null,null,null,null,null,null,null,null,null,null,null,null,null,null,null,null,null,null,null,null,6,37,null,37,null,37,null,null,109,299]
[null,null,null,null,null,null,null,null,null,null,null,null,null,null,null,null,null,null,null,null,null,null,3,20,0,20,3,20,null,null,43,185]
[null,null,null,null,null,null,null,null,null,null,null,null,null,null,null,null,null,null,null,null,null,null,8,41,null,41,null,41,null,null,82,319]
[null,null,null,null,null,null,null,null,null,null,null,null,null,null,null,null,null,null,null,null,null,null,3,25,0,25,3,25,null,null,51,217]
[null,null,null,null,null,null,null,null,null,null,null,null,null,null,null,null,null,null,null,null,null,null,null,null,null,null,null,null,0,4,null,4]
[null,null,null,null,null,null,null,null,null,null,null,null,null,null,null,null,null,null,null,null,null,null,0,12,0,12,0,12,null,null,23,93]
[null,null,null,null,null,null,null,null,null,null,null,null,null,null,null,null,null,null,null,null,null,null,5,28,0,28,5,28,13,202,51,206]
[null,null,null,null,null,null,null,null,null,null,null,null,null,null,null,null,null,null,null,null,null,null,6,33,null,33,null,33,null,null,32,190]
[null,null,null,null,null,null,null,null,null,null,null,null,null,null,null,null,null,null,null,null,null,null,25,142,null,142,null,142,17,967,167,971]
[null,null,null,null,null,null,null,null,null,null,null,null,null,null,null,null,null,null,null,null,null,null,7,28,0,28,7,28,null,null,69,257]
[null,null,null,null,null,null,null,null,null,null,null,null,null,null,null,null,null,null,null,null,null,null,557,3268,50,3268,507,3268,756,24712,5834,25052]
[null,null,null,null,null,null,null,null,null,null,null,null,null,null,null,null,null,null,null,null,null,null,38,180,7,180,31,180,65,2121,575,2139]
[null,null,null,null,null,null,null,null,null,null,null,null,null,null,null,null,null,null,null,null,null,null,9,49,0,49,9,49,null,null,55,205]
[null,null,null,null,null,null,null,null,null,null,null,null,null,null,null,null,null,null,null,null,null,null,5,31,0,31,5,31,null,null,63,316]
[null,null,null,null,null,null,null,null,null,null,null,null,null,null,null,null,null,null,null,null,null,null,7,34,null,34,null,34,null,null,20,106]
[null,null,null,null,null,null,null,null,null,null,null,null,null,null,null,null,null,null,null,null,null,null,3,7,0,7,3,7,null,null,5,41]
[null,null,null,null,null,null,null,null,null,null,null,null,null,null,null,null,null,null,null,null,null,null,6,31,0,31,6,31,null,null,36,200]
[null,null,null,null,null,null,null,null,null,null,null,null,null,null,null,null,null,null,null,null,null,null,3,24,null,24,null,24,null,null,73,411]
[null,null,null,null,null,null,null,null,null,null,null,null,null,null,null,null,null,null,null,null,null,null,0,3,0,3,0,3,0,76,18,76]
[null,null,null,null,null,null,null,null,null,null,null,null,null,null,null,null,null,null,null,null,null,null,5,21,0,21,5,21,4,155,31,159]
[null,null,null,null,null,null,null,null,null,null,null,null,null,null,null,null,null,null,null,null,null,null,6,31,null,31,null,31,6,141,42,145]
[null,null,null,null,null,null,null,null,null,null,null,null,null,null,null,null,null,null,null,null,null,null,6,36,null,36,null,36,null,null,65,244]
[null,null,null,null,null,null,null,null,null,null,null,null,null,null,null,null,null,null,null,null,null,null,5,44,0,44,5,44,null,null,58,263]
[null,null,null,null,null,null,null,null,null,null,null,null,null,null,null,null,null,null,null,null,null,null,null,25,null,25,null,25,null,null,30,188]
[null,null,null,null,null,null,null,null,null,null,null,null,null,null,null,null,null,null,null,null,null,null,4,23,0,23,4,23,null,null,43,182]
[null,null,null,null,null,null,null,null,null,null,null,null,null,null,null,null,null,null,null,null,null,null,3,20,0,20,3,20,null,null,37,147]
[null,null,null,null,null,null,null,null,null,null,null,null,null,null,null,null,null,null,null,null,null,null,3,10,0,10,3,10,5,145,30,148]
[null,null,null,null,null,null,null,null,null,null,null,null,null,null,null,null,null,null,null,null,null,null,0,4,0,4,0,4,0,54,14,54]
[null,null,null,null,null,null,null,null,null,null,null,null,null,null,null,null,null,null,null,null,null,null,null,14,null,14,null,14,null,null,39,192]
[null,null,null,null,null,null,null,null,null,null,null,null,null,null,null,null,null,null,null,null,null,null,3,13,0,13,3,13,null,null,18,70]
[null,null,null,null,null,null,null,null,null,null,null,null,null,null,null,null,null,null,null,null,null,null,0,19,0,19,0,19,null,null,23,139]
[null,null,null,null,null,null,null,null,null,null,null,null,null,null,null,null,null,null,null,null,null,null,4,31,0,31,4,31,4,259,39,262]
[null,null,null,null,null,null,null,null,null,null,null,null,null,null,null,null,null,null,null,null,null,null,8,30,0,30,8,30,9,234,46,240]
[null,null,null,null,null,null,null,null,null,null,null,null,null,null,null,null,null,null,null,null,null,null,3,12,0,12,3,12,null,null,14,37]
[null,null,null,null,null,null,null,null,null,null,null,null,null,null,null,null,null,null,null,null,null,null,9,21,null,21,null,21,3,164,41,164]
[null,null,null,null,null,null,null,null,null,null,null,null,null,null,null,null,null,null,null,null,null,null,null,13,null,13,null,13,5,183,49,186]
[null,null,null,null,null,null,null,null,null,null,null,null,null,null,null,null,null,null,null,null,null,null,8,18,null,18,null,18,null,null,53,241]
[null,null,null,null,null,null,null,null,null,null,null,null,null,null,null,null,null,null,null,null,null,null,4,34,0,34,4,34,null,null,45,208]
[null,null,null,null,null,null,null,null,null,null,null,null,null,null,null,null,null,null,null,null,null,null,7,30,null,30,null,30,null,null,62,258]
[null,null,null,null,null,null,null,null,null,null,null,null,null,null,null,null,null,null,null,null,null,null,8,41,0,41,8,41,6,191,40,195]
[null,null,null,null,null,null,null,null,null,null,null,null,null,null,null,null,null,null,null,null,null,null,7,30,0,30,7,30,null,null,119,410]
[null,null,null,null,null,null,null,null,null,null,null,null,null,null,null,null,null,null,null,null,null,null,null,18,null,18,null,18,null,null,17,66]
[null,null,null,null,null,null,null,null,null,null,null,null,null,null,null,null,null,null,null,null,null,null,4,27,0,27,4,27,null,null,37,198]
[null,null,null,null,null,null,null,null,null,null,null,null,null,null,null,null,null,null,null,null,null,null,3,30,0,30,3,30,null,null,42,146]
[null,null,null,null,null,null,null,null,null,null,null,null,null,null,null,null,null,null,null,null,null,null,11,41,3,41,8,41,null,null,67,284]
[null,null,null,null,null,null,null,null,null,null,null,null,null,null,null,null,null,null,null,null,null,null,3,40,0,40,3,40,null,null,46,262]
[null,null,null,null,null,null,null,null,null,null,null,null,null,null,null,null,null,null,null,null,null,null,9,45,null,45,null,45,null,null,27,177]
[null,null,null,null,null,null,null,null,null,null,null,null,null,null,null,null,null,null,null,null,null,null,8,39,0,39,8,39,null,null,25,106]
[null,null,null,null,null,null,null,null,null,null,null,null,null,null,null,null,null,null,null,null,null,null,14,73,0,73,14,73,6,428,133,434]
[null,null,null,null,null,null,null,null,null,null,null,null,null,null,null,null,null,null,null,null,null,null,6,16,0,16,6,16,null,null,29,88]
[null,null,null,null,null,null,null,null,null,null,null,null,null,null,null,null,null,null,null,null,null,null,3,10,null,10,null,10,null,null,23,200]
[null,null,null,null,null,null,null,null,null,null,null,null,null,null,null,null,null,null,null,null,null,null,4,14,null,14,null,14,4,104,25,107]
[null,null,null,null,null,null,null,null,null,null,null,null,null,null,null,null,null,null,null,null,null,null,5,45,0,45,5,45,null,null,95,277]
[null,null,null,null,null,null,null,null,null,null,null,null,null,null,null,null,null,null,null,null,null,null,14,103,null,103,null,103,null,null,84,358]
[null,null,null,null,null,null,null,null,null,null,null,null,null,null,null,null,null,null,null,null,null,null,9,84,0,84,9,84,null,null,63,347]
[null,null,null,null,null,null,null,null,null,null,null,null,null,null,null,null,null,null,null,null,null,null,7,69,0,69,7,69,6,170,69,180]
[null,null,null,null,null,null,null,null,null,null,null,null,null,null,null,null,null,null,null,null,null,null,9,29,null,29,null,29,null,null,28,156]
[null,null,null,null,null,null,null,null,null,null,null,null,null,null,null,null,null,null,null,null,null,null,null,15,null,15,0,15,5,180,34,180]
[null,null,null,null,null,null,null,null,null,null,null,null,null,null,null,null,null,null,null,null,null,null,6,24,0,24,6,24,null,null,36,168]
[null,null,null,null,null,null,null,null,null,null,null,null,null,null,null,null,null,null,null,null,null,null,11,37,null,37,null,37,null,null,40,229]
[null,null,null,null,null,null,null,null,null,null,null,null,null,null,null,null,null,null,null,null,null,null,3,14,0,14,3,14,null,null,15,107]
[null,null,null,null,null,null,null,null,null,null,null,null,null,null,null,null,null,null,null,null,null,null,null,19,null,19,null,19,null,null,23,108]
[null,null,null,null,null,null,null,null,null,null,null,null,null,null,null,null,null,null,null,null,null,null,27,167,3,167,24,167,null,null,230,1221]
[null,null,null,null,null,null,null,null,null,null,null,null,null,null,null,null,null,null,null,null,null,null,8,41,null,41,null,41,17,261,48,264]
[null,null,null,null,null,null,null,null,null,null,null,null,null,null,null,null,null,null,null,null,null,null,null,29,null,29,null,29,null,null,41,171]
[null,null,null,null,null,null,null,null,null,null,null,null,null,null,null,null,null,null,null,null,null,null,3,13,null,13,null,13,3,60,9,60]
[null,null,null,null,null,null,null,null,null,null,null,null,null,null,null,null,null,null,null,null,null,null,null,6,null,6,0,6,null,null,3,6]
[null,null,null,null,null,null,null,null,null,null,null,null,null,null,null,null,null,null,null,null,null,null,5,26,null,26,null,26,null,null,61,161]
[null,null,null,null,null,null,null,null,null,null,null,null,null,null,null,null,null,null,null,null,null,null,null,19,0,19,null,19,null,null,65,173]
[null,null,null,null,null,null,null,null,null,null,null,null,null,null,null,null,null,null,null,null,null,null,3,27,null,27,null,27,null,null,63,293]
[null,null,null,null,null,null,null,null,null,null,null,null,null,null,null,null,null,null,null,null,null,null,4,21,0,21,4,21,6,248,50,251]
[null,null,null,null,null,null,null,null,null,null,null,null,null,null,null,null,null,null,null,null,null,null,24,154,null,154,null,154,null,null,126,585]
[null,null,null,null,null,null,null,null,null,null,null,null,null,null,null,null,null,null,null,null,null,null,null,null,null,null,null,null,null,null,null,5]
[null,null,null,null,null,null,null,null,null,null,null,null,null,null,null,null,null,null,null,null,null,null,null,13,null,13,0,13,5,442,148,442]
[null,null,null,null,null,null,null,null,null,null,null,null,null,null,null,null,null,null,null,null,null,null,6,29,0,29,6,29,null,null,50,163]
[null,null,null,null,null,null,null,null,null,null,null,null,null,null,null,null,null,null,null,null,null,null,4,28,null,28,null,28,null,null,78,332]
[null,null,null,null,null,null,null,null,null,null,null,null,null,null,null,null,null,null,null,null,null,null,5,16,0,16,5,16,null,null,95,335]
[null,null,null,null,null,null,null,null,null,null,null,null,null,null,null,null,null,null,null,null,null,null,16,68,6,68,10,68,18,373,123,382]
[null,null,null,null,null,null,null,null,null,null,null,null,null,null,null,null,null,null,null,null,null,null,12,32,null,32,null,32,null,null,108,350]
[null,null,null,null,null,null,null,null,null,null,null,null,null,null,null,null,null,null,null,null,null,null,13,48,4,48,9,48,null,null,140,429]
[null,null,null,null,null,null,null,null,null,null,null,null,null,null,null,null,null,null,null,null,null,null,7,22,0,22,7,22,12,290,82,294]
[null,null,null,null,null,null,null,null,null,null,null,null,null,null,null,null,null,null,null,null,null,null,7,30,null,30,null,30,null,null,62,239]
[null,null,null,null,null,null,null,null,null,null,null,null,null,null,null,null,null,null,null,null,null,null,0,7,0,7,0,7,null,null,18,78]
[null,null,null,null,null,null,null,null,null,null,null,null,null,null,null,null,null,null,null,null,null,null,4,7,null,7,null,7,null,null,35,120]
[null,null,null,null,null,null,null,null,null,null,null,null,null,null,null,null,null,null,null,null,null,null,0,15,0,15,0,15,null,null,40,338]
[null,null,null,null,null,null,null,null,null,null,null,null,null,null,null,null,null,null,null,null,null,null,5,36,null,36,null,36,null,null,31,188]
[null,null,null,null,null,null,null,null,null,null,null,null,null,null,null,null,null,null,null,null,null,null,3,35,0,35,3,35,null,null,41,169]
[null,null,null,null,null,null,null,null,null,null,null,null,null,null,null,null,null,null,null,null,null,null,3,11,null,11,null,11,null,null,33,116]
[null,null,null,null,null,null,null,null,null,null,null,null,null,null,null,null,null,null,null,null,null,null,8,35,null,35,null,35,13,363,100,366]
[null,null,null,null,null,null,null,null,null,null,null,null,null,null,null,null,null,null,null,null,null,null,null,18,null,18,null,18,null,null,161,559]
[null,null,null,null,null,null,null,null,null,null,null,null,null,null,null,null,null,null,null,null,null,null,null,null,null,null,null,null,0,9,null,9]
[null,null,null,null,null,null,null,null,null,null,null,null,null,null,null,null,null,null,null,null,null,null,4,18,0,18,4,18,null,null,50,182]
[null,null,null,null,null,null,null,null,null,null,null,null,null,null,null,null,null,null,null,null,null,null,28,173,0,173,28,173,22,1266,355,1270]
[null,null,null,null,null,null,null,null,null,null,null,null,null,null,null,null,null,null,null,null,null,null,5,15,null,15,null,15,null,null,3,118]
[null,null,null,null,null,null,null,null,null,null,null,null,null,null,null,null,null,null,null,null,null,null,4,33,0,33,4,33,null,null,77,290]
[null,null,null,null,null,null,null,null,null,null,null,null,null,null,null,null,null,null,null,null,null,null,4,33,0,33,4,33,3,186,44,186]
[null,null,null,null,null,null,null,null,null,null,null,null,null,null,null,null,null,null,null,null,null,null,null,5,null,5,0,5,null,null,26,110]
[null,null,null,null,null,null,null,null,null,null,null,null,null,null,null,null,null,null,null,null,null,null,3,19,0,19,3,19,null,null,28,126]
[null,null,null,null,null,null,null,null,null,null,null,null,null,null,null,null,null,null,null,null,null,null,4,31,0,31,4,31,null,null,53,178]
[null,null,null,null,null,null,null,null,null,null,null,null,null,null,null,null,null,null,null,null,null,null,9,38,0,38,9,38,7,290,109,299]
[null,null,null,null,null,null,null,null,null,null,null,null,null,null,null,null,null,null,null,null,null,null,5,22,null,22,null,22,null,null,57,171]
[null,null,null,null,null,null,null,null,null,null,null,null,null,null,null,null,null,null,null,null,null,null,8,42,null,42,null,42,null,null,84,297]
[null,null,null,null,null,null,null,null,null,null,null,null,null,null,null,null,null,null,null,null,null,null,5,29,0,29,5,29,null,null,74,214]
[null,null,null,null,null,null,null,null,null,null,null,null,null,null,null,null,null,null,null,null,null,null,null,null,null,null,null,null,0,3,0,3]
[null,null,null,null,null,null,null,null,null,null,null,null,null,null,null,null,null,null,null,null,null,null,null,16,0,16,null,16,0,90,19,90]
[null,null,null,null,null,null,null,null,null,null,null,null,null,null,null,null,null,null,null,null,null,null,9,32,0,32,9,32,null,null,45,198]
[null,null,null,null,null,null,null,null,null,null,null,null,null,null,null,null,null,null,null,null,null,null,null,29,null,29,null,29,null,null,51,185]
[null,null,null,null,null,null,null,null,null,null,null,null,null,null,null,null,null,null,null,null,null,null,18,136,null,136,null,136,38,1044,236,1052]
[null,null,null,null,null,null,null,null,null,null,null,null,null,null,null,null,null,null,null,null,null,null,4,33,0,33,4,33,null,null,90,254]
[null,null,null,null,null,null,null,null,null,null,null,null,null,null,null,null,null,null,null,null,null,null,594,3331,68,3331,526,3331,760,24805,6194,25126]
[null,null,null,null,null,null,null,null,null,null,null,null,null,null,null,null,null,null,null,null,null,null,43,201,5,201,38,201,56,2021,406,2042]
[null,null,null,null,null,null,null,null,null,null,null,null,null,null,null,null,null,null,null,null,null,null,10,48,0,48,10,48,null,null,51,212]
[null,null,null,null,null,null,null,null,null,null,null,null,null,null,null,null,null,null,null,null,null,null,null,29,0,29,null,29,null,null,48,310]
[null,null,null,null,null,null,null,null,null,null,null,null,null,null,null,null,null,null,null,null,null,null,9,35,0,35,9,35,null,null,29,126]
[null,null,null,null,null,null,null,null,null,null,null,null,null,null,null,null,null,null,null,null,null,null,null,5,0,5,null,5,null,null,3,43]
[null,null,null,null,null,null,null,null,null,null,null,null,null,null,null,null,null,null,null,null,null,null,5,26,0,26,5,26,5,206,35,209]
[null,null,null,null,null,null,null,null,null,null,null,null,null,null,null,null,null,null,null,null,null,null,3,26,0,26,3,26,null,null,70,438]
[null,null,null,null,null,null,null,null,null,null,null,null,null,null,null,null,null,null,null,null,null,null,null,4,null,4,null,4,4,98,18,98]
[null,null,null,null,null,null,null,null,null,null,null,null,null,null,null,null,null,null,null,null,null,null,null,19,0,19,null,19,null,null,33,167]
[null,null,null,null,null,null,null,null,null,null,null,null,null,null,null,null,null,null,null,null,null,null,7,28,0,28,7,28,null,null,30,130]
[null,null,null,null,null,null,null,null,null,null,null,null,null,null,null,null,null,null,null,null,null,null,11,41,null,41,null,41,null,null,54,235]
[null,null,null,null,null,null,null,null,null,null,null,null,null,null,null,null,null,null,null,null,null,null,9,43,null,43,null,43,null,null,55,261]
[null,null,null,null,null,null,null,null,null,null,null,null,null,null,null,null,null,null,null,null,null,null,6,29,0,29,6,29,null,null,36,211]
[null,null,null,null,null,null,null,null,null,null,null,null,null,null,null,null,null,null,null,null,null,null,4,23,0,23,4,23,null,null,25,175]
[null,null,null,null,null,null,null,null,null,null,null,null,null,null,null,null,null,null,null,null,null,null,3,22,null,22,null,22,3,144,29,144]
[null,null,null,null,null,null,null,null,null,null,null,null,null,null,null,null,null,null,null,null,null,null,null,10,0,10,null,10,null,null,94,144]
[null,null,null,null,null,null,null,null,null,null,null,null,null,null,null,null,null,null,null,null,null,null,null,4,0,4,null,4,3,54,9,54]
[null,null,null,null,null,null,null,null,null,null,null,null,null,null,null,null,null,null,null,null,null,null,null,15,0,15,null,15,null,null,61,206]
[null,null,null,null,null,null,null,null,null,null,null,null,null,null,null,null,null,null,null,null,null,null,0,11,0,11,0,11,null,null,19,81]
[null,null,null,null,null,null,null,null,null,null,null,null,null,null,null,null,null,null,null,null,null,null,4,22,0,22,4,22,null,null,51,137]
[null,null,null,null,null,null,null,null,null,null,null,null,null,null,null,null,null,null,null,null,null,null,6,32,0,32,6,32,null,null,27,251]
[null,null,null,null,null,null,null,null,null,null,null,null,null,null,null,null,null,null,null,null,null,null,7,35,0,35,7,35,null,null,29,226]
[null,null,null,null,null,null,null,null,null,null,null,null,null,null,null,null,null,null,null,null,null,null,null,11,0,11,null,11,null,null,5,34]
[null,null,null,null,null,null,null,null,null,null,null,null,null,null,null,null,null,null,null,null,null,null,null,13,null,13,null,13,null,null,24,161]
[null,null,null,null,null,null,null,null,null,null,null,null,null,null,null,null,null,null,null,null,null,null,null,16,0,16,null,16,null,null,40,175]
[null,null,null,null,null,null,null,null,null,null,null,null,null,null,null,null,null,null,null,null,null,null,4,13,0,13,4,13,null,null,60,266]
[null,null,null,null,null,null,null,null,null,null,null,null,null,null,null,null,null,null,null,null,null,null,9,36,0,36,9,36,9,237,37,240]
[null,null,null,null,null,null,null,null,null,null,null,null,null,null,null,null,null,null,null,null,null,null,9,28,0,28,9,28,null,null,55,290]
[null,null,null,null,null,null,null,null,null,null,null,null,null,null,null,null,null,null,null,null,null,null,7,40,null,40,null,40,null,null,47,228]
[null,null,null,null,null,null,null,null,null,null,null,null,null,null,null,null,null,null,null,null,null,null,10,34,null,34,null,34,null,null,108,416]
[null,null,null,null,null,null,null,null,null,null,null,null,null,null,null,null,null,null,null,null,null,null,4,19,0,19,4,19,null,null,8,68]
[null,null,null,null,null,null,null,null,null,null,null,null,null,null,null,null,null,null,null,null,null,null,0,30,0,30,0,30,null,null,69,246]
[null,null,null,null,null,null,null,null,null,null,null,null,null,null,null,null,null,null,null,null,null,null,4,31,0,31,4,31,null,null,38,130]
[null,null,null,null,null,null,null,null,null,null,null,null,null,null,null,null,null,null,null,null,null,null,7,39,0,39,7,39,8,314,78,317]
[null,null,null,null,null,null,null,null,null,null,null,null,null,null,null,null,null,null,null,null,null,null,6,52,null,52,null,52,10,307,52,311]
[null,null,null,null,null,null,null,null,null,null,null,null,null,null,null,null,null,null,null,null,null,null,7,41,null,41,null,41,null,null,46,217]
[null,null,null,null,null,null,null,null,null,null,null,null,null,null,null,null,null,null,null,null,null,null,6,33,0,33,6,33,null,null,33,125]
[null,null,null,null,null,null,null,null,null,null,null,null,null,null,null,null,null,null,null,null,null,null,11,69,3,69,8,69,14,431,81,435]
[null,null,null,null,null,null,null,null,null,null,null,null,null,null,null,null,null,null,null,null,null,null,null,13,0,13,null,13,null,null,23,95]
[null,null,null,null,null,null,null,null,null,null,null,null,null,null,null,null,null,null,null,null,null,null,null,13,0,13,null,13,null,null,30,189]
[null,null,null,null,null,null,null,null,null,null,null,null,null,null,null,null,null,null,null,null,null,null,3,16,0,16,3,16,null,null,29,115]
[null,null,null,null,null,null,null,null,null,null,null,null,null,null,null,null,null,null,null,null,null,null,8,52,null,52,null,52,null,null,56,251]
[null,null,null,null,null,null,null,null,null,null,null,null,null,null,null,null,null,null,null,null,null,null,22,111,4,111,18,111,null,null,83,338]
[null,null,null,null,null,null,null,null,null,null,null,null,null,null,null,null,null,null,null,null,null,null,12,87,null,87,null,87,17,349,68,360]
[null,null,null,null,null,null,null,null,null,null,null,null,null,null,null,null,null,null,null,null,null,null,10,76,0,76,10,76,null,null,56,166]
[null,null,null,null,null,null,null,null,null,null,null,null,null,null,null,null,null,null,null,null,null,null,5,30,0,30,5,30,11,157,26,160]
[null,null,null,null,null,null,null,null,null,null,null,null,null,null,null,null,null,null,null,null,null,null,null,14,0,14,null,14,9,185,40,185]
[null,null,null,null,null,null,null,null,null,null,null,null,null,null,null,null,null,null,null,null,null,null,4,22,0,22,4,22,null,null,39,154]
[null,null,null,null,null,null,null,null,null,null,null,null,null,null,null,null,null,null,null,null,null,null,null,30,0,30,null,30,null,null,75,242]
[null,null,null,null,null,null,null,null,null,null,null,null,null,null,null,null,null,null,null,null,null,null,3,13,0,13,3,13,null,null,23,121]
[null,null,null,null,null,null,null,null,null,null,null,null,null,null,null,null,null,null,null,null,null,null,6,20,0,20,6,20,3,125,45,125]
[null,null,null,null,null,null,null,null,null,null,null,null,null,null,null,null,null,null,null,null,null,null,24,170,3,170,21,170,35,1225,222,1253]
[null,null,null,null,null,null,null,null,null,null,null,null,null,null,null,null,null,null,null,null,null,null,5,44,null,44,null,44,5,298,70,305]
[null,null,null,null,null,null,null,null,null,null,null,null,null,null,null,null,null,null,null,null,null,null,3,31,0,31,3,31,null,null,51,178]
[null,null,null,null,null,null,null,null,null,null,null,null,null,null,null,null,null,null,null,null,null,null,null,14,null,14,null,14,3,64,5,64]
[null,null,null,null,null,null,null,null,null,null,null,null,null,null,null,null,null,null,null,null,null,null,0,5,0,5,0,5]
[null,null,null,null,null,null,null,null,null,null,null,null,null,null,null,null,null,null,null,null,null,null,4,26,0,26,4,26,null,null,55,179]
[null,null,null,null,null,null,null,null,null,null,null,null,null,null,null,null,null,null,null,null,null,null,4,20,0,20,4,20,null,null,47,160]
[null,null,null,null,null,null,null,null,null,null,null,null,null,null,null,null,null,null,null,null,null,null,6,31,0,31,6,31,null,null,55,290]
[null,null,null,null,null,null,null,null,null,null,null,null,null,null,null,null,null,null,null,null,null,null,4,22,null,22,null,22,null,null,58,248]
[null,null,null,null,null,null,null,null,null,null,null,null,null,null,null,null,null,null,null,null,null,null,32,152,3,152,29,152,null,null,153,620]
[]
[null,null,null,null,null,null,null,null,null,null,null,null,null,null,null,null,null,null,null,null,null,null,null,12,0,12,null,12,null,null,83,378]
[null,null,null,null,null,null,null,null,null,null,null,null,null,null,null,null,null,null,null,null,null,null,7,30,0,30,7,30,5,174,41,174]
[null,null,null,null,null,null,null,null,null,null,null,null,null,null,null,null,null,null,null,null,null,null,4,32,null,32,null,32,22,340,67,343]
[null,null,null,null,null,null,null,null,null,null,null,null,null,null,null,null,null,null,null,null,null,null,5,18,0,18,5,18,null,null,122,354]
[null,null,null,null,null,null,null,null,null,null,null,null,null,null,null,null,null,null,null,null,null,null,9,63,0,63,9,63,19,330,113,341]
[null,null,null,null,null,null,null,null,null,null,null,null,null,null,null,null,null,null,null,null,null,null,5,28,null,28,null,28,7,341,81,344]
[null,null,null,null,null,null,null,null,null,null,null,null,null,null,null,null,null,null,null,null,null,null,11,49,null,49,null,49,null,null,138,414]
[null,null,null,null,null,null,null,null,null,null,null,null,null,null,null,null,null,null,null,null,null,null,7,25,0,25,7,25,6,342,108,345]
[null,null,null,null,null,null,null,null,null,null,null,null,null,null,null,null,null,null,null,null,null,null,6,28,null,28,null,28,null,null,94,234]
[null,null,null,null,null,null,null,null,null,null,null,null,null,null,null,null,null,null,null,null,null,null,null,9,0,9,null,9,null,null,13,82]
[null,null,null,null,null,null,null,null,null,null,null,null,null,null,null,null,null,null,null,null,null,null,null,7,0,7,null,7,null,null,16,102]
[null,null,null,null,null,null,null,null,null,null,null,null,null,null,null,null,null,null,null,null,null,null,null,15,0,15,null,15,null,null,35,351]
[null,null,null,null,null,null,null,null,null,null,null,null,null,null,null,null,null,null,null,null,null,null,5,35,0,35,5,35,null,null,52,214]
[null,null,null,null,null,null,null,null,null,null,null,null,null,null,null,null,null,null,null,null,null,null,8,36,0,36,8,36,null,null,51,189]
[null,null,null,null,null,null,null,null,null,null,null,null,null,null,null,null,null,null,null,null,null,null,null,10,0,10,null,10,null,null,25,136]
[null,null,null,null,null,null,null,null,null,null,null,null,null,null,null,null,null,null,null,null,null,null,4,33,null,33,null,33,9,362,111,366]
[null,null,null,null,null,null,null,null,null,null,null,null,null,null,null,null,null,null,null,null,null,null,4,18,null,18,null,18,null,null,166,556]
[null,null,null,null,null,null,null,null,null,null,null,null,null,null,null,null,null,null,null,null,null,null,null,3,0,3,null,3,null,null,6,15]
[null,null,null,null,null,null,null,null,null,null,null,null,null,null,null,null,null,null,null,null,null,null,4,22,0,22,4,22,null,null,44,198]
[null,null,null,null,null,null,null,null,null,null,null,null,null,null,null,null,null,null,null,null,null,null,31,175,3,175,28,175,25,1248,332,1252]
[null,null,null,null,null,null,null,null,null,null,null,null,null,null,null,null,null,null,null,null,null,null,0,14,0,14,0,14,null,null,null,115]
[null,null,null,null,null,null,null,null,null,null,null,null,null,null,null,null,null,null,null,null,null,null,8,35,0,35,8,35,null,null,78,285]
[null,null,null,null,null,null,null,null,null,null,null,null,null,null,null,null,null,null,null,null,null,null,9,36,0,36,9,36,null,null,48,176]
[null,null,null,null,null,null,null,null,null,null,null,null,null,null,null,null,null,null,null,null,null,null,0,3,0,3,0,3,6,96,29,96]
[null,null,null,null,null,null,null,null,null,null,null,null,null,null,null,null,null,null,null,null,null,null,3,21,0,21,3,21,null,null,49,162]
[null,null,null,null,null,null,null,null,null,null,null,null,null,null,null,null,null,null,null,null,null,null,null,28,0,28,null,28,null,null,38,163]
[null,null,null,null,null,null,null,null,null,null,null,null,null,null,null,null,null,null,null,null,null,null,5,35,0,35,5,35,11,307,80,310]
[null,null,null,null,null,null,null,null,null,null,null,null,null,null,null,null,null,null,null,null,null,null,null,21,0,21,null,21,null,null,42,166]
[null,null,null,null,null,null,null,null,null,null,null,null,null,null,null,null,null,null,null,null,null,null,6,46,3,46,3,46,null,null,74,299]
[null,null,null,null,null,null,null,null,null,null,null,null,null,null,null,null,null,null,null,null,null,null,5,29,0,29,5,29,null,null,59,213]
[null,null,null,null,null,null,null,null,null,null,null,null,null,null,null,null,null,null,null,null,null,null,null,null,null,null,null,null,null,null,0,6]
[null,null,null,null,null,null,null,null,null,null,null,null,null,null,null,null,null,null,null,null,null,null,null,15,0,15,null,15,null,null,27,95]
[null,null,null,null,null,null,null,null,null,null,null,null,null,null,null,null,null,null,null,null,null,null,6,27,null,27,null,27,null,null,40,214]
[null,null,null,null,null,null,null,null,null,null,null,null,null,null,null,null,null,null,null,null,null,null,6,27,null,27,null,27,null,null,54,216]
[null,null,null,null,null,null,null,null,null,null,null,null,null,null,null,null,null,null,null,null,null,null,19,145,3,145,16,145,null,null,167,1067]
[null,null,null,null,null,null,null,null,null,null,null,null,null,null,null,null,null,null,null,null,null,null,4,34,0,34,4,34,6,252,71,252]
[null,null,null,null,null,null,null,null,null,null,null,null,null,null,null,null,null,null,null,null,null,null,584,3391,59,3391,525,3391,785,25258,5860,25586]
[null,null,null,null,null,null,null,null,null,null,null,null,null,null,null,null,null,null,null,null,null,null,56,219,9,219,47,219,null,null,589,2302]
[null,null,null,null,null,null,null,null,null,null,null,null,null,null,null,null,null,null,null,null,null,null,11,46,null,46,null,46,null,null,56,235]
[null,null,null,null,null,null,null,null,null,null,null,null,null,null,null,null,null,null,null,null,null,null,6,30,0,30,6,30,null,null,68,336]
[null,null,null,null,null,null,null,null,null,null,null,null,null,null,null,null,null,null,null,null,null,null,10,31,null,31,null,31,null,null,34,151]
[null,null,null,null,null,null,null,null,null,null,null,null,null,null,null,null,null,null,null,null,null,null,0,5,0,5,0,5,null,null,10,52]
[null,null,null,null,null,null,null,null,null,null,null,null,null,null,null,null,null,null,null,null,null,null,null,25,0,25,null,25,null,null,47,201]
[null,null,null,null,null,null,null,null,null,null,null,null,null,null,null,null,null,null,null,null,null,null,5,31,null,31,null,31,null,null,99,468]
[null,null,null,null,null,null,null,null,null,null,null,null,null,null,null,null,null,null,null,null,null,null,0,3,0,3,0,3,null,null,23,93]
[null,null,null,null,null,null,null,null,null,null,null,null,null,null,null,null,null,null,null,null,null,null,4,18,0,18,4,18,null,null,29,164]
[null,null,null,null,null,null,null,null,null,null,null,null,null,null,null,null,null,null,null,null,null,null,5,24,0,24,5,24,6,136,34,142]
[null,null,null,null,null,null,null,null,null,null,null,null,null,null,null,null,null,null,null,null,null,null,10,41,0,41,10,41,14,238,66,244]
[null,null,null,null,null,null,null,null,null,null,null,null,null,null,null,null,null,null,null,null,null,null,12,39,null,39,null,39,13,299,62,305]
[null,null,null,null,null,null,null,null,null,null,null,null,null,null,null,null,null,null,null,null,null,null,4,26,0,26,4,26,null,null,54,231]
[null,null,null,null,null,null,null,null,null,null,null,null,null,null,null,null,null,null,null,null,null,null,4,23,0,23,4,23,null,null,27,178]
[null,null,null,null,null,null,null,null,null,null,null,null,null,null,null,null,null,null,null,null,null,null,3,21,0,21,3,21,null,null,26,162]
[null,null,null,null,null,null,null,null,null,null,null,null,null,null,null,null,null,null,null,null,null,null,null,10,0,10,null,10,4,65,17,69]
[null,null,null,null,null,null,null,null,null,null,null,null,null,null,null,null,null,null,null,null,null,null,null,4,0,4,null,4,0,60,16,60]
[null,null,null,null,null,null,null,null,null,null,null,null,null,null,null,null,null,null,null,null,null,null,null,14,0,14,null,14,null,null,42,193]
[null,null,null,null,null,null,null,null,null,null,null,null,null,null,null,null,null,null,null,null,null,null,null,12,0,12,null,12,null,null,17,78]
[null,null,null,null,null,null,null,null,null,null,null,null,null,null,null,null,null,null,null,null,null,null,null,23,0,23,null,23,null,null,35,148]
[null,null,null,null,null,null,null,null,null,null,null,null,null,null,null,null,null,null,null,null,null,null,6,30,0,30,6,30,null,null,23,255]
[null,null,null,null,null,null,null,null,null,null,null,null,null,null,null,null,null,null,null,null,null,null,9,33,0,33,9,33,null,null,56,250]
[null,null,null,null,null,null,null,null,null,null,null,null,null,null,null,null,null,null,null,null,null,null,3,12,0,12,3,12,null,null,11,47]
[null,null,null,null,null,null,null,null,null,null,null,null,null,null,null,null,null,null,null,null,null,null,3,16,null,16,null,16,5,166,35,169]
[null,null,null,null,null,null,null,null,null,null,null,null,null,null,null,null,null,null,null,null,null,null,6,15,null,15,null,15,null,null,37,187]
[null,null,null,null,null,null,null,null,null,null,null,null,null,null,null,null,null,null,null,null,null,null,3,11,0,11,3,11,6,306,99,310]
[null,null,null,null,null,null,null,null,null,null,null,null,null,null,null,null,null,null,null,null,null,null,8,38,0,38,8,38,null,null,49,234]
[null,null,null,null,null,null,null,null,null,null,null,null,null,null,null,null,null,null,null,null,null,null,8,30,0,30,8,30,11,313,88,319]
[null,null,null,null,null,null,null,null,null,null,null,null,null,null,null,null,null,null,null,null,null,null,6,39,0,39,6,39,11,233,62,233]
[null,null,null,null,null,null,null,null,null,null,null,null,null,null,null,null,null,null,null,null,null,null,3,30,0,30,3,30,8,447,154,450]
[null,null,null,null,null,null,null,null,null,null,null,null,null,null,null,null,null,null,null,null,null,null,4,19,null,19,null,19,null,null,30,80]
[null,null,null,null,null,null,null,null,null,null,null,null,null,null,null,null,null,null,null,null,null,null,4,33,0,33,4,33,null,null,66,251]
[null,null,null,null,null,null,null,null,null,null,null,null,null,null,null,null,null,null,null,null,null,null,null,34,0,34,null,34,null,null,23,119]
[null,null,null,null,null,null,null,null,null,null,null,null,null,null,null,null,null,null,null,null,null,null,7,38,0,38,7,38,null,null,85,311]
[null,null,null,null,null,null,null,null,null,null,null,null,null,null,null,null,null,null,null,null,null,null,8,55,null,55,null,55,null,null,49,322]
[null,null,null,null,null,null,null,null,null,null,null,null,null,null,null,null,null,null,null,null,null,null,10,40,null,40,null,40,8,240,48,243]
[null,null,null,null,null,null,null,null,null,null,null,null,null,null,null,null,null,null,null,null,null,null,9,29,0,29,9,29,null,null,37,140]
[null,null,null,null,null,null,null,null,null,null,null,null,null,null,null,null,null,null,null,null,null,null,6,75,0,75,6,75,16,470,100,476]
[null,null,null,null,null,null,null,null,null,null,null,null,null,null,null,null,null,null,null,null,null,null,3,13,0,13,3,13,null,null,23,105]
[null,null,null,null,null,null,null,null,null,null,null,null,null,null,null,null,null,null,null,null,null,null,4,14,0,14,4,14,null,null,42,186]
[null,null,null,null,null,null,null,null,null,null,null,null,null,null,null,null,null,null,null,null,null,null,null,13,0,13,null,13,null,null,34,126]
[null,null,null,null,null,null,null,null,null,null,null,null,null,null,null,null,null,null,null,null,null,null,null,51,0,51,null,51,null,null,81,277]
[null,null,null,null,null,null,null,null,null,null,null,null,null,null,null,null,null,null,null,null,null,null,19,105,null,105,null,105,17,352,85,362]
[null,null,null,null,null,null,null,null,null,null,null,null,null,null,null,null,null,null,null,null,null,null,15,87,null,87,null,87,null,null,79,361]
[null,null,null,null,null,null,null,null,null,null,null,null,null,null,null,null,null,null,null,null,null,null,8,76,0,76,8,76,null,null,62,175]
[null,null,null,null,null,null,null,null,null,null,null,null,null,null,null,null,null,null,null,null,null,null,6,34,0,34,6,34,12,164,23,168]
[null,null,null,null,null,null,null,null,null,null,null,null,null,null,null,null,null,null,null,null,null,null,3,20,0,20,3,20,null,null,36,177]
[null,null,null,null,null,null,null,null,null,null,null,null,null,null,null,null,null,null,null,null,null,null,null,20,0,20,null,20,7,149,22,149]
[null,null,null,null,null,null,null,null,null,null,null,null,null,null,null,null,null,null,null,null,null,null,5,36,null,36,null,36,null,null,71,226]
[null,null,null,null,null,null,null,null,null,null,null,null,null,null,null,null,null,null,null,null,null,null,0,11,0,11,0,11,null,null,20,125]
[null,null,null,null,null,null,null,null,null,null,null,null,null,null,null,null,null,null,null,null,null,null,null,20,0,20,null,20,null,null,46,114]
[null,null,null,null,null,null,null,null,null,null,null,null,null,null,null,null,null,null,null,null,null,null,25,165,3,165,22,165,35,1275,284,1300]
[null,null,null,null,null,null,null,null,null,null,null,null,null,null,null,null,null,null,null,null,null,null,14,48,null,48,null,48,null,null,88,311]
[null,null,null,null,null,null,null,null,null,null,null,null,null,null,null,null,null,null,null,null,null,null,null,36,0,36,null,36,null,null,47,176]
[null,null,null,null,null,null,null,null,null,null,null,null,null,null,null,null,null,null,null,null,null,null,3,15,null,15,null,15,null,null,13,76]
[null,null,null,null,null,null,null,null,null,null,null,null,null,null,null,null,null,null,null,null,null,null,0,5,0,5,0,5,0,6,null,6]
[null,null,null,null,null,null,null,null,null,null,null,null,null,null,null,null,null,null,null,null,null,null,6,28,0,28,6,28,null,null,101,238]
[null,null,null,null,null,null,null,null,null,null,null,null,null,null,null,null,null,null,null,null,null,null,null,17,null,17,null,17,null,null,54,149]
[null,null,null,null,null,null,null,null,null,null,null,null,null,null,null,null,null,null,null,null,null,null,4,35,0,35,4,35,null,null,64,303]
[null,null,null,null,null,null,null,null,null,null,null,null,null,null,null,null,null,null,null,null,null,null,9,24,3,24,6,24,null,null,51,257]
[null,null,null,null,null,null,null,null,null,null,null,null,null,null,null,null,null,null,null,null,null,null,21,146,null,146,null,146,22,611,145,620]
[]
[null,null,null,null,null,null,null,null,null,null,null,null,null,null,null,null,null,null,null,null,null,null,null,10,0,10,null,10,null,null,115,413]
[null,null,null,null,null,null,null,null,null,null,null,null,null,null,null,null,null,null,null,null,null,null,5,27,0,27,5,27,null,null,51,183]
[null,null,null,null,null,null,null,null,null,null,null,null,null,null,null,null,null,null,null,null,null,null,11,38,null,38,null,38,19,337,73,345]
[null,null,null,null,null,null,null,null,null,null,null,null,null,null,null,null,null,null,null,null,null,null,4,18,0,18,4,18,null,null,90,312]
[null,null,null,null,null,null,null,null,null,null,null,null,null,null,null,null,null,null,null,null,null,null,20,71,null,71,null,71,19,359,131,369]
[null,null,null,null,null,null,null,null,null,null,null,null,null,null,null,null,null,null,null,null,null,null,6,30,0,30,6,30,8,351,117,354]
[null,null,null,null,null,null,null,null,null,null,null,null,null,null,null,null,null,null,null,null,null,null,16,55,0,55,16,55,13,350,127,355]
[null,null,null,null,null,null,null,null,null,null,null,null,null,null,null,null,null,null,null,null,null,null,4,23,0,23,4,23,5,346,103,350]
[null,null,null,null,null,null,null,null,null,null,null,null,null,null,null,null,null,null,null,null,null,null,4,29,0,29,4,29,null,null,57,210]
[null,null,null,null,null,null,null,null,null,null,null,null,null,null,null,null,null,null,null,null,null,null,3,10,0,10,3,10,3,85,19,85]
[null,null,null,null,null,null,null,null,null,null,null,null,null,null,null,null,null,null,null,null,null,null,null,6,0,6,null,6,null,null,20,120]
[null,null,null,null,null,null,null,null,null,null,null,null,null,null,null,null,null,null,null,null,null,null,null,18,0,18,null,18,null,null,47,374]
[null,null,null,null,null,null,null,null,null,null,null,null,null,null,null,null,null,null,null,null,null,null,5,37,0,37,5,37,null,null,41,210]
[null,null,null,null,null,null,null,null,null,null,null,null,null,null,null,null,null,null,null,null,null,null,10,40,0,40,10,40,6,180,33,183]
[null,null,null,null,null,null,null,null,null,null,null,null,null,null,null,null,null,null,null,null,null,null,5,14,0,14,5,14,null,null,45,150]
[null,null,null,null,null,null,null,null,null,null,null,null,null,null,null,null,null,null,null,null,null,null,9,40,0,40,9,40,10,337,117,342]
[null,null,null,null,null,null,null,null,null,null,null,null,null,null,null,null,null,null,null,null,null,null,4,37,0,37,4,37,7,530,169,530]
[null,null,null,null,null,null,null,null,null,null,null,null,null,null,null,null,null,null,null,null,null,null,0,4,0,4,0,4,0,16,5,16]
[null,null,null,null,null,null,null,null,null,null,null,null,null,null,null,null,null,null,null,null,null,null,6,21,0,21,6,21,null,null,46,207]
[null,null,null,null,null,null,null,null,null,null,null,null,null,null,null,null,null,null,null,null,null,null,39,175,null,175,null,175,19,1221,366,1224]
[null,null,null,null,null,null,null,null,null,null,null,null,null,null,null,null,null,null,null,null,null,null,6,18,null,18,null,18,null,null,0,113]
[null,null,null,null,null,null,null,null,null,null,null,null,null,null,null,null,null,null,null,null,null,null,7,27,0,27,7,27,null,null,65,258]
[null,null,null,null,null,null,null,null,null,null,null,null,null,null,null,null,null,null,null,null,null,null,5,32,0,32,5,32,null,null,71,175]
[null,null,null,null,null,null,null,null,null,null,null,null,null,null,null,null,null,null,null,null,null,null,null,4,0,4,null,4,null,null,17,74]
[null,null,null,null,null,null,null,null,null,null,null,null,null,null,null,null,null,null,null,null,null,null,6,23,0,23,6,23,null,null,34,153]
[null,null,null,null,null,null,null,null,null,null,null,null,null,null,null,null,null,null,null,null,null,null,7,32,0,32,7,32,null,null,48,208]
[null,null,null,null,null,null,null,null,null,null,null,null,null,null,null,null,null,null,null,null,null,null,8,45,null,45,null,45,8,372,124,379]
[null,null,null,null,null,null,null,null,null,null,null,null,null,null,null,null,null,null,null,null,null,null,3,24,0,24,3,24,4,165,46,165]
[null,null,null,null,null,null,null,null,null,null,null,null,null,null,null,null,null,null,null,null,null,null,6,44,0,44,6,44,null,null,59,274]
[null,null,null,null,null,null,null,null,null,null,null,null,null,null,null,null,null,null,null,null,null,null,6,27,0,27,6,27,null,null,62,195]
[null,null,null,null,null,null,null,null,null,null,null,null,null,null,null,null,null,null,null,null,null,null,null,null,null,null,null,null,0,3]
[null,null,null,null,null,null,null,null,null,null,null,null,null,null,null,null,null,null,null,null,null,null,null,13,null,13,0,13,null,null,33,109]
[null,null,null,null,null,null,null,null,null,null,null,null,null,null,null,null,null,null,null,null,null,null,4,27,0,27,4,27,null,null,47,217]
[null,null,null,null,null,null,null,null,null,null,null,null,null,null,null,null,null,null,null,null,null,null,3,27,0,27,3,27,6,197,57,200]
[null,null,null,null,null,null,null,null,null,null,null,null,null,null,null,null,null,null,null,null,null,null,23,152,0,152,23,152,28,1184,247,1196]
[null,null,null,null,null,null,null,null,null,null,null,null,null,null,null,null,null,null,null,null,null,null,5,38,0,38,5,38,3,259,90,259]
[null,null,null,null,null,null,null,null,null,null,null,null,null,null,null,null,null,null,null,null,null,null,646,3479,44,3479,602,3479,729,26198,6650,26506]
[null,null,null,null,null,null,null,null,null,null,null,null,null,null,null,null,null,null,null,null,null,null,53,217,null,217,null,217,72,2281,572,2307]
[null,null,null,null,null,null,null,null,null,null,null,null,null,null,null,null,null,null,null,null,null,null,6,38,0,38,6,38,7,234,65,241]
[null,null,null,null,null,null,null,null,null,null,null,null,null,null,null,null,null,null,null,null,null,null,7,34,0,34,7,34,null,null,45,342]
[null,null,null,null,null,null,null,null,null,null,null,null,null,null,null,null,null,null,null,null,null,null,4,26,0,26,4,26,null,null,33,151]
[null,null,null,null,null,null,null,null,null,null,null,null,null,null,null,null,null,null,null,null,null,null,null,7,0,7,null,7,0,57,10,57]
[null,null,null,null,null,null,null,null,null,null,null,null,null,null,null,null,null,null,null,null,null,null,6,27,null,27,null,27,null,null,35,215]
[null,null,null,null,null,null,null,null,null,null,null,null,null,null,null,null,null,null,null,null,null,null,3,31,0,31,3,31,null,null,53,452]
[null,null,null,null,null,null,null,null,null,null,null,null,null,null,null,null,null,null,null,null,null,null,0,4,0,4,0,4,null,null,16,94]
[null,null,null,null,null,null,null,null,null,null,null,null,null,null,null,null,null,null,null,null,null,null,null,16,0,16,null,16,null,null,41,169]
[null,null,null,null,null,null,null,null,null,null,null,null,null,null,null,null,null,null,null,null,null,null,4,20,0,20,4,20,null,null,40,150]
[null,null,null,null,null,null,null,null,null,null,null,null,null,null,null,null,null,null,null,null,null,null,6,41,null,41,null,41,5,224,61,230]
[null,null,null,null,null,null,null,null,null,null,null,null,null,null,null,null,null,null,null,null,null,null,5,30,0,30,5,30,15,313,79,321]
[null,null,null,null,null,null,null,null,null,null,null,null,null,null,null,null,null,null,null,null,null,null,8,26,0,26,8,26,null,null,43,216]
[null,null,null,null,null,null,null,null,null,null,null,null,null,null,null,null,null,null,null,null,null,null,4,20,0,20,4,20,null,null,46,194]
[null,null,null,null,null,null,null,null,null,null,null,null,null,null,null,null,null,null,null,null,null,null,3,21,0,21,3,21,4,169,31,169]
[null,null,null,null,null,null,null,null,null,null,null,null,null,null,null,null,null,null,null,null,null,null,0,10,0,10,0,10,6,72,9,76]
[null,null,null,null,null,null,null,null,null,null,null,null,null,null,null,null,null,null,null,null,null,null,0,3,0,3,0,3,null,null,17,60]
[null,null,null,null,null,null,null,null,null,null,null,null,null,null,null,null,null,null,null,null,null,null,null,14,0,14,null,14,null,null,68,195]
[null,null,null,null,null,null,null,null,null,null,null,null,null,null,null,null,null,null,null,null,null,null,null,12,null,12,null,12,null,null,31,108]
[null,null,null,null,null,null,null,null,null,null,null,null,null,null,null,null,null,null,null,null,null,null,4,23,null,23,null,23,null,null,59,187]
[null,null,null,null,null,null,null,null,null,null,null,null,null,null,null,null,null,null,null,null,null,null,5,26,0,26,5,26,null,null,51,268]
[null,null,null,null,null,null,null,null,null,null,null,null,null,null,null,null,null,null,null,null,null,null,5,33,0,33,5,33,null,null,41,235]
[null,null,null,null,null,null,null,null,null,null,null,null,null,null,null,null,null,null,null,null,null,null,4,12,0,12,4,12,null,null,8,46]
[null,null,null,null,null,null,null,null,null,null,null,null,null,null,null,null,null,null,null,null,null,null,3,15,0,15,3,15,null,null,32,162]
[null,null,null,null,null,null,null,null,null,null,null,null,null,null,null,null,null,null,null,null,null,null,5,12,0,12,5,12,null,null,48,201]
[null,null,null,null,null,null,null,null,null,null,null,null,null,null,null,null,null,null,null,null,null,null,3,17,0,17,3,17,null,null,77,281]
[null,null,null,null,null,null,null,null,null,null,null,null,null,null,null,null,null,null,null,null,null,null,8,35,0,35,8,35,null,null,59,229]
[null,null,null,null,null,null,null,null,null,null,null,null,null,null,null,null,null,null,null,null,null,null,3,26,0,26,3,26,null,null,74,320]
[null,null,null,null,null,null,null,null,null,null,null,null,null,null,null,null,null,null,null,null,null,null,6,45,0,45,6,45,null,null,43,204]
[null,null,null,null,null,null,null,null,null,null,null,null,null,null,null,null,null,null,null,null,null,null,9,35,null,35,null,35,null,null,125,434]
[null,null,null,null,null,null,null,null,null,null,null,null,null,null,null,null,null,null,null,null,null,null,4,17,0,17,4,17,null,null,21,55]
[null,null,null,null,null,null,null,null,null,null,null,null,null,null,null,null,null,null,null,null,null,null,6,40,0,40,6,40,null,null,70,255]
[null,null,null,null,null,null,null,null,null,null,null,null,null,null,null,null,null,null,null,null,null,null,5,38,0,38,5,38,null,null,32,116]
[null,null,null,null,null,null,null,null,null,null,null,null,null,null,null,null,null,null,null,null,null,null,3,35,0,35,3,35,null,null,63,314]
[null,null,null,null,null,null,null,null,null,null,null,null,null,null,null,null,null,null,null,null,null,null,11,56,null,56,null,56,null,null,41,309]
[null,null,null,null,null,null,null,null,null,null,null,null,null,null,null,null,null,null,null,null,null,null,6,34,null,34,null,34,null,null,61,258]
[null,null,null,null,null,null,null,null,null,null,null,null,null,null,null,null,null,null,null,null,null,null,5,28,0,28,5,28,8,158,42,158]
[null,null,null,null,null,null,null,null,null,null,null,null,null,null,null,null,null,null,null,null,null,null,12,80,0,80,12,80,18,483,89,494]
[null,null,null,null,null,null,null,null,null,null,null,null,null,null,null,null,null,null,null,null,null,null,null,10,0,10,null,10,null,null,27,111]
[null,null,null,null,null,null,null,null,null,null,null,null,null,null,null,null,null,null,null,null,null,null,null,14,0,14,null,14,5,194,93,197]
[null,null,null,null,null,null,null,null,null,null,null,null,null,null,null,null,null,null,null,null,null,null,null,14,0,14,null,14,0,127,42,130]
[null,null,null,null,null,null,null,null,null,null,null,null,null,null,null,null,null,null,null,null,null,null,7,56,0,56,7,56,null,null,93,272]
[null,null,null,null,null,null,null,null,null,null,null,null,null,null,null,null,null,null,null,null,null,null,17,108,4,108,13,108,null,null,107,367]
[null,null,null,null,null,null,null,null,null,null,null,null,null,null,null,null,null,null,null,null,null,null,14,81,0,81,14,81,null,null,76,371]
[null,null,null,null,null,null,null,null,null,null,null,null,null,null,null,null,null,null,null,null,null,null,11,75,null,75,null,75,null,null,59,187]
[null,null,null,null,null,null,null,null,null,null,null,null,null,null,null,null,null,null,null,null,null,null,3,38,0,38,3,38,null,null,21,180]
[null,null,null,null,null,null,null,null,null,null,null,null,null,null,null,null,null,null,null,null,null,null,3,23,null,23,null,23,null,null,40,205]
[null,null,null,null,null,null,null,null,null,null,null,null,null,null,null,null,null,null,null,null,null,null,4,20,0,20,4,20,null,null,47,181]
[null,null,null,null,null,null,null,null,null,null,null,null,null,null,null,null,null,null,null,null,null,null,5,40,0,40,5,40,9,211,58,215]
[null,null,null,null,null,null,null,null,null,null,null,null,null,null,null,null,null,null,null,null,null,null,4,16,0,16,4,16,null,null,24,125]
[null,null,null,null,null,null,null,null,null,null,null,null,null,null,null,null,null,null,null,null,null,null,null,21,0,21,null,21,null,null,34,105]
[null,null,null,null,null,null,null,null,null,null,null,null,null,null,null,null,null,null,null,null,null,null,14,163,null,163,null,163,42,1253,222,1278]
[null,null,null,null,null,null,null,null,null,null,null,null,null,null,null,null,null,null,null,null,null,null,5,46,0,46,5,46,null,null,88,313]
[null,null,null,null,null,null,null,null,null,null,null,null,null,null,null,null,null,null,null,null,null,null,8,42,3,42,5,42,null,null,67,200]
[null,null,null,null,null,null,null,null,null,null,null,null,null,null,null,null,null,null,null,null,null,null,null,13,0,13,null,13,null,null,16,83]
[null,null,null,null,null,null,null,null,null,null,null,null,null,null,null,null,null,null,null,null,null,null,null,5,0,5,null,5,null,null,3,8]
[null,null,null,null,null,null,null,null,null,null,null,null,null,null,null,null,null,null,null,null,null,null,5,24,0,24,5,24,null,null,113,231]
[null,null,null,null,null,null,null,null,null,null,null,null,null,null,null,null,null,null,null,null,null,null,3,17,0,17,3,17,null,null,29,125]
[null,null,null,null,null,null,null,null,null,null,null,null,null,null,null,null,null,null,null,null,null,null,4,40,0,40,4,40,14,350,76,353]
[null,null,null,null,null,null,null,null,null,null,null,null,null,null,null,null,null,null,null,null,null,null,5,17,0,17,5,17,null,null,55,244]
[null,null,null,null,null,null,null,null,null,null,null,null,null,null,null,null,null,null,null,null,null,null,16,141,null,141,null,141,32,631,131,637]
[null,null,null,null,null,null,null,null,null,null,null,null,null,null,null,null,null,null,null,null,null,null,0,0,0,0,0,0]
[null,null,null,null,null,null,null,null,null,null,null,null,null,null,null,null,null,null,null,null,null,null,null,15,0,15,null,15,null,null,113,377]
[null,null,null,null,null,null,null,null,null,null,null,null,null,null,null,null,null,null,null,null,null,null,7,30,0,30,7,30,null,null,49,190]
[null,null,null,null,null,null,null,null,null,null,null,null,null,null,null,null,null,null,null,null,null,null,10,33,0,33,10,33,14,362,111,374]
[null,null,null,null,null,null,null,null,null,null,null,null,null,null,null,null,null,null,null,null,null,null,null,19,null,19,0,19,10,315,79,320]
[null,null,null,null,null,null,null,null,null,null,null,null,null,null,null,null,null,null,null,null,null,null,9,60,3,60,6,60,17,318,126,333]
[null,null,null,null,null,null,null,null,null,null,null,null,null,null,null,null,null,null,null,null,null,null,4,27,null,27,null,27,null,null,91,339]
[null,null,null,null,null,null,null,null,null,null,null,null,null,null,null,null,null,null,null,null,null,null,9,52,0,52,9,52,null,null,82,377]
[null,null,null,null,null,null,null,null,null,null,null,null,null,null,null,null,null,null,null,null,null,null,7,25,0,25,7,25,null,null,176,381]
[null,null,null,null,null,null,null,null,null,null,null,null,null,null,null,null,null,null,null,null,null,null,5,27,0,27,5,27,null,null,43,207]
[null,null,null,null,null,null,null,null,null,null,null,null,null,null,null,null,null,null,null,null,null,null,null,10,0,10,null,10,null,null,15,80]
[null,null,null,null,null,null,null,null,null,null,null,null,null,null,null,null,null,null,null,null,null,null,null,9,0,9,null,9,null,null,32,120]
[null,null,null,null,null,null,null,null,null,null,null,null,null,null,null,null,null,null,null,null,null,null,5,21,0,21,5,21,null,null,207,383]
[null,null,null,null,null,null,null,null,null,null,null,null,null,null,null,null,null,null,null,null,null,null,4,39,0,39,4,39,null,null,28,226]
[null,null,null,null,null,null,null,null,null,null,null,null,null,null,null,null,null,null,null,null,null,null,4,39,0,39,4,39,null,null,40,188]
[null,null,null,null,null,null,null,null,null,null,null,null,null,null,null,null,null,null,null,null,null,null,null,13,0,13,null,13,null,null,39,133]
[null,null,null,null,null,null,null,null,null,null,null,null,null,null,null,null,null,null,null,null,null,null,8,48,0,48,8,48,12,328,87,331]
[null,null,null,null,null,null,null,null,null,null,null,null,null,null,null,null,null,null,null,null,null,null,7,44,null,44,null,44,null,null,128,531]
[null,null,null,null,null,null,null,null,null,null,null,null,null,null,null,null,null,null,null,null,null,null,null,5,0,5,null,5,0,17,3,17]
[null,null,null,null,null,null,null,null,null,null,null,null,null,null,null,null,null,null,null,null,null,null,4,19,0,19,4,19,null,null,53,212]
[null,null,null,null,null,null,null,null,null,null,null,null,null,null,null,null,null,null,null,null,null,null,22,161,4,161,18,161,34,1144,331,1147]
[null,null,null,null,null,null,null,null,null,null,null,null,null,null,null,null,null,null,null,null,null,null,4,15,0,15,4,15,null,null,10,116]
[null,null,null,null,null,null,null,null,null,null,null,null,null,null,null,null,null,null,null,null,null,null,0,25,0,25,0,25,null,null,67,279]
[null,null,null,null,null,null,null,null,null,null,null,null,null,null,null,null,null,null,null,null,null,null,5,32,null,32,null,32,null,null,29,117]
[null,null,null,null,null,null,null,null,null,null,null,null,null,null,null,null,null,null,null,null,null,null,0,5,0,5,0,5,null,null,15,62]
[null,null,null,null,null,null,null,null,null,null,null,null,null,null,null,null,null,null,null,null,null,null,4,20,null,20,null,20,null,null,58,202]
[null,null,null,null,null,null,null,null,null,null,null,null,null,null,null,null,null,null,null,null,null,null,null,31,0,31,null,31,4,241,55,245]
[null,null,null,null,null,null,null,null,null,null,null,null,null,null,null,null,null,null,null,null,null,null,12,46,null,46,null,46,12,390,113,395]
[null,null,null,null,null,null,null,null,null,null,null,null,null,null,null,null,null,null,null,null,null,null,null,24,0,24,null,24,null,null,51,172]
[null,null,null,null,null,null,null,null,null,null,null,null,null,null,null,null,null,null,null,null,null,null,8,51,0,51,8,51,null,null,63,289]
[null,null,null,null,null,null,null,null,null,null,null,null,null,null,null,null,null,null,null,null,null,null,5,23,0,23,5,23,null,null,54,205]
[null,null,null,null,null,null,null,null,null,null,null,null,null,null,null,null,null,null,null,null,null,null,0,0,0,0,0,0,0,4]
[null,null,null,null,null,null,null,null,null,null,null,null,null,null,null,null,null,null,null,null,null,null,null,13,0,13,null,13,null,null,45,113]
[null,null,null,null,null,null,null,null,null,null,null,null,null,null,null,null,null,null,null,null,null,null,3,27,0,27,3,27,null,null,73,238]
[null,null,null,null,null,null,null,null,null,null,null,null,null,null,null,null,null,null,null,null,null,null,5,31,0,31,5,31,null,null,45,199]
[null,null,null,null,null,null,null,null,null,null,null,null,null,null,null,null,null,null,null,null,null,null,28,155,3,155,25,155,20,1220,202,1225]
[null,null,null,null,null,null,null,null,null,null,null,null,null,null,null,null,null,null,null,null,null,null,13,38,0,38,13,38,null,null,99,283]
[null,null,null,null,null,null,null,null,null,null,null,null,null,null,null,null,null,null,null,null,null,null,562,3460,42,3460,520,3460,800,26475,6665,26802]
[null,null,null,null,null,null,null,null,null,null,null,null,null,null,null,null,null,null,null,null,null,null,48,243,6,243,42,243,64,2399,614,2419]
[null,null,null,null,null,null,null,null,null,null,null,null,null,null,null,null,null,null,null,null,null,null,3,40,0,40,3,40,null,null,61,216]
[null,null,null,null,null,null,null,null,null,null,null,null,null,null,null,null,null,null,null,null,null,null,3,33,0,33,3,33,null,null,62,356]
[null,null,null,null,null,null,null,null,null,null,null,null,null,null,null,null,null,null,null,null,null,null,7,34,3,34,4,34,null,null,35,145]
[null,null,null,null,null,null,null,null,null,null,null,null,null,null,null,null,null,null,null,null,null,null,null,6,0,6,null,6,null,null,14,64]
[null,null,null,null,null,null,null,null,null,null,null,null,null,null,null,null,null,null,null,null,null,null,8,27,0,27,8,27,null,null,36,223]
[null,null,null,null,null,null,null,null,null,null,null,null,null,null,null,null,null,null,null,null,null,null,6,33,null,33,null,33,null,null,21,509]
[null,null,null,null,null,null,null,null,null,null,null,null,null,null,null,null,null,null,null,null,null,null,null,4,0,4,null,4,5,92,18,95]
[null,null,null,null,null,null,null,null,null,null,null,null,null,null,null,null,null,null,null,null,null,null,5,17,0,17,5,17,null,null,31,155]
[null,null,null,null,null,null,null,null,null,null,null,null,null,null,null,null,null,null,null,null,null,null,5,19,0,19,5,19,null,null,60,164]
[null,null,null,null,null,null,null,null,null,null,null,null,null,null,null,null,null,null,null,null,null,null,10,45,3,45,7,45,null,null,64,232]
[null,null,null,null,null,null,null,null,null,null,null,null,null,null,null,null,null,null,null,null,null,null,5,31,0,31,5,31,7,294,96,301]
[null,null,null,null,null,null,null,null,null,null,null,null,null,null,null,null,null,null,null,null,null,null,6,24,0,24,6,24,null,null,43,225]
[null,null,null,null,null,null,null,null,null,null,null,null,null,null,null,null,null,null,null,null,null,null,5,17,0,17,5,17,null,null,42,200]
[null,null,null,null,null,null,null,null,null,null,null,null,null,null,null,null,null,null,null,null,null,null,null,21,0,21,null,21,null,null,28,169]
[null,null,null,null,null,null,null,null,null,null,null,null,null,null,null,null,null,null,null,null,null,null,null,13,0,13,null,13,3,119,24,123]
[null,null,null,null,null,null,null,null,null,null,null,null,null,null,null,null,null,null,null,null,null,null,3,8,0,8,3,8,null,null,15,65]
[null,null,null,null,null,null,null,null,null,null,null,null,null,null,null,null,null,null,null,null,null,null,5,16,0,16,5,16,null,null,40,182]
[null,null,null,null,null,null,null,null,null,null,null,null,null,null,null,null,null,null,null,null,null,null,null,13,0,13,null,13,null,null,21,99]
[null,null,null,null,null,null,null,null,null,null,null,null,null,null,null,null,null,null,null,null,null,null,3,24,0,24,3,24,null,null,40,188]
[null,null,null,null,null,null,null,null,null,null,null,null,null,null,null,null,null,null,null,null,null,null,3,25,0,25,3,25,5,281,54,286]
[null,null,null,null,null,null,null,null,null,null,null,null,null,null,null,null,null,null,null,null,null,null,7,32,0,32,7,32,null,null,42,238]
[null,null,null,null,null,null,null,null,null,null,null,null,null,null,null,null,null,null,null,null,null,null,0,9,0,9,0,9,null,null,10,49]
[null,null,null,null,null,null,null,null,null,null,null,null,null,null,null,null,null,null,null,null,null,null,null,13,null,13,null,13,null,null,29,163]
[null,null,null,null,null,null,null,null,null,null,null,null,null,null,null,null,null,null,null,null,null,null,6,16,0,16,6,16,null,null,44,214]
[null,null,null,null,null,null,null,null,null,null,null,null,null,null,null,null,null,null,null,null,null,null,5,23,0,23,5,23,null,null,57,255]
[null,null,null,null,null,null,null,null,null,null,null,null,null,null,null,null,null,null,null,null,null,null,13,32,0,32,13,32,null,null,78,220]
[null,null,null,null,null,null,null,null,null,null,null,null,null,null,null,null,null,null,null,null,null,null,null,26,null,26,null,26,null,null,88,346]
[null,null,null,null,null,null,null,null,null,null,null,null,null,null,null,null,null,null,null,null,null,null,6,44,0,44,6,44,null,null,73,235]
[null,null,null,null,null,null,null,null,null,null,null,null,null,null,null,null,null,null,null,null,null,null,7,33,0,33,7,33,null,null,136,424]
[null,null,null,null,null,null,null,null,null,null,null,null,null,null,null,null,null,null,null,null,null,null,null,13,0,13,null,13,null,null,30,80]
[null,null,null,null,null,null,null,null,null,null,null,null,null,null,null,null,null,null,null,null,null,null,3,42,0,42,3,42,null,null,79,252]
[null,null,null,null,null,null,null,null,null,null,null,null,null,null,null,null,null,null,null,null,null,null,6,39,0,39,6,39,null,null,24,108]
[null,null,null,null,null,null,null,null,null,null,null,null,null,null,null,null,null,null,null,null,null,null,7,41,0,41,7,41,null,null,85,350]
[null,null,null,null,null,null,null,null,null,null,null,null,null,null,null,null,null,null,null,null,null,null,10,51,null,51,null,51,null,null,79,313]
[null,null,null,null,null,null,null,null,null,null,null,null,null,null,null,null,null,null,null,null,null,null,7,32,null,32,null,32,null,null,61,257]
[null,null,null,null,null,null,null,null,null,null,null,null,null,null,null,null,null,null,null,null,null,null,6,30,0,30,6,30,null,null,50,160]
[null,null,null,null,null,null,null,null,null,null,null,null,null,null,null,null,null,null,null,null,null,null,14,83,null,83,null,83,15,538,150,547]
[null,null,null,null,null,null,null,null,null,null,null,null,null,null,null,null,null,null,null,null,null,null,null,10,null,10,null,10,0,119,31,119]
[null,null,null,null,null,null,null,null,null,null,null,null,null,null,null,null,null,null,null,null,null,null,null,16,0,16,null,16,7,142,39,146]
[null,null,null,null,null,null,null,null,null,null,null,null,null,null,null,null,null,null,null,null,null,null,0,14,0,14,0,14,4,114,22,114]
[null,null,null,null,null,null,null,null,null,null,null,null,null,null,null,null,null,null,null,null,null,null,14,61,0,61,14,61,null,null,70,271]
[null,null,null,null,null,null,null,null,null,null,null,null,null,null,null,null,null,null,null,null,null,null,15,103,3,103,12,103,null,null,88,347]
[null,null,null,null,null,null,null,null,null,null,null,null,null,null,null,null,null,null,null,null,null,null,14,81,0,81,14,81,null,null,73,366]
[null,null,null,null,null,null,null,null,null,null,null,null,null,null,null,null,null,null,null,null,null,null,8,70,null,70,null,70,null,null,67,186]
[null,null,null,null,null,null,null,null,null,null,null,null,null,null,null,null,null,null,null,null,null,null,8,45,0,45,8,45,null,null,28,173]
[null,null,null,null,null,null,null,null,null,null,null,null,null,null,null,null,null,null,null,null,null,null,3,22,null,22,null,22,null,null,51,211]
[null,null,null,null,null,null,null,null,null,null,null,null,null,null,null,null,null,null,null,null,null,null,8,27,0,27,8,27,null,null,37,166]
[null,null,null,null,null,null,null,null,null,null,null,null,null,null,null,null,null,null,null,null,null,null,5,46,null,46,null,46,13,198,49,202]
[null,null,null,null,null,null,null,null,null,null,null,null,null,null,null,null,null,null,null,null,null,null,null,14,0,14,null,14,null,null,23,136]
[null,null,null,null,null,null,null,null,null,null,null,null,null,null,null,null,null,null,null,null,null,null,4,24,0,24,4,24,null,null,38,102]
[null,null,null,null,null,null,null,null,null,null,null,null,null,null,null,null,null,null,null,null,null,null,22,178,0,178,22,178,34,1350,275,1373]
[null,null,null,null,null,null,null,null,null,null,null,null,null,null,null,null,null,null,null,null,null,null,5,49,0,49,5,49,null,null,68,298]
[null,null,null,null,null,null,null,null,null,null,null,null,null,null,null,null,null,null,null,null,null,null,8,37,null,37,null,37,null,null,67,166]
[null,null,null,null,null,null,null,null,null,null,null,null,null,null,null,null,null,null,null,null,null,null,3,18,null,18,null,18,0,82,20,82]
[null,null,null,null,null,null,null,null,null,null,null,null,null,null,null,null,null,null,null,null,null,null,0,4,0,4,0,4,null,null,null,8]
[null,null,null,null,null,null,null,null,null,null,null,null,null,null,null,null,null,null,null,null,null,null,null,24,0,24,null,24,null,null,85,199]
[null,null,null,null,null,null,null,null,null,null,null,null,null,null,null,null,null,null,null,null,null,null,null,16,0,16,null,16,null,null,42,126]
[null,null,null,null,null,null,null,null,null,null,null,null,null,null,null,null,null,null,null,null,null,null,10,43,null,43,null,43,null,null,121,370]
[null,null,null,null,null,null,null,null,null,null,null,null,null,null,null,null,null,null,null,null,null,null,4,14,0,14,4,14,8,238,41,238]
[null,null,null,null,null,null,null,null,null,null,null,null,null,null,null,null,null,null,null,null,null,null,34,158,0,158,34,158,null,null,141,630]
[null,null,null,null,null,null,null,null,null,null,null,null,null,null,null,null,null,null,null,null,null,null,0,0,0,0,0,0]
[null,null,null,null,null,null,null,null,null,null,null,null,null,null,null,null,null,null,null,null,null,null,null,15,0,15,null,15,null,null,111,365]
[null,null,null,null,null,null,null,null,null,null,null,null,null,null,null,null,null,null,null,null,null,null,3,27,0,27,3,27,null,null,65,203]
[null,null,null,null,null,null,null,null,null,null,null,null,null,null,null,null,null,null,null,null,null,null,7,34,0,34,7,34,null,null,92,344]
[null,null,null,null,null,null,null,null,null,null,null,null,null,null,null,null,null,null,null,null,null,null,8,25,0,25,8,25,11,313,85,319]
[null,null,null,null,null,null,null,null,null,null,null,null,null,null,null,null,null,null,null,null,null,null,15,68,null,68,null,68,null,null,119,374]
[null,null,null,null,null,null,null,null,null,null,null,null,null,null,null,null,null,null,null,null,null,null,8,32,null,32,null,32,null,null,94,338]
[null,null,null,null,null,null,null,null,null,null,null,null,null,null,null,null,null,null,null,null,null,null,16,59,4,59,12,59,null,null,140,479]
[null,null,null,null,null,null,null,null,null,null,null,null,null,null,null,null,null,null,null,null,null,null,7,23,null,23,null,23,null,null,112,310]
[null,null,null,null,null,null,null,null,null,null,null,null,null,null,null,null,null,null,null,null,null,null,4,31,null,31,null,31,null,null,87,216]
[null,null,null,null,null,null,null,null,null,null,null,null,null,null,null,null,null,null,null,null,null,null,null,9,0,9,null,9,null,null,9,76]
[null,null,null,null,null,null,null,null,null,null,null,null,null,null,null,null,null,null,null,null,null,null,null,9,0,9,null,9,null,null,31,110]
[null,null,null,null,null,null,null,null,null,null,null,null,null,null,null,null,null,null,null,null,null,null,7,28,null,28,null,28,null,null,36,213]
[null,null,null,null,null,null,null,null,null,null,null,null,null,null,null,null,null,null,null,null,null,null,4,41,0,41,4,41,null,null,32,216]
[null,null,null,null,null,null,null,null,null,null,null,null,null,null,null,null,null,null,null,null,null,null,5,39,0,39,5,39,null,null,45,177]
[null,null,null,null,null,null,null,null,null,null,null,null,null,null,null,null,null,null,null,null,null,null,null,13,null,13,null,13,null,null,40,121]
[null,null,null,null,null,null,null,null,null,null,null,null,null,null,null,null,null,null,null,null,null,null,6,59,0,59,6,59,9,334,112,341]
[null,null,null,null,null,null,null,null,null,null,null,null,null,null,null,null,null,null,null,null,null,null,5,44,null,44,null,44,null,null,230,570]
[null,null,null,null,null,null,null,null,null,null,null,null,null,null,null,null,null,null,null,null,null,null,0,5,0,5,0,5,null,null,null,26]
[null,null,null,null,null,null,null,null,null,null,null,null,null,null,null,null,null,null,null,null,null,null,6,22,0,22,6,22,null,null,58,214]
[null,null,null,null,null,null,null,null,null,null,null,null,null,null,null,null,null,null,null,null,null,null,32,174,0,174,32,174,24,1108,325,1112]
[null,null,null,null,null,null,null,null,null,null,null,null,null,null,null,null,null,null,null,null,null,null,3,14,null,14,null,14,null,null,9,104]
[null,null,null,null,null,null,null,null,null,null,null,null,null,null,null,null,null,null,null,null,null,null,4,38,0,38,4,38,null,null,59,260]
[null,null,null,null,null,null,null,null,null,null,null,null,null,null,null,null,null,null,null,null,null,null,5,29,0,29,5,29,null,null,18,93]
[null,null,null,null,null,null,null,null,null,null,null,null,null,null,null,null,null,null,null,null,null,null,3,7,0,7,3,7,null,null,19,59]
[null,null,null,null,null,null,null,null,null,null,null,null,null,null,null,null,null,null,null,null,null,null,3,17,0,17,3,17,null,null,51,174]
[null,null,null,null,null,null,null,null,null,null,null,null,null,null,null,null,null,null,null,null,null,null,5,35,0,35,5,35,null,null,87,315]
[null,null,null,null,null,null,null,null,null,null,null,null,null,null,null,null,null,null,null,null,null,null,3,44,0,44,3,44,8,372,127,376]
[null,null,null,null,null,null,null,null,null,null,null,null,null,null,null,null,null,null,null,null,null,null,7,24,0,24,7,24,null,null,44,155]
[null,null,null,null,null,null,null,null,null,null,null,null,null,null,null,null,null,null,null,null,null,null,10,55,5,55,5,55,null,null,80,278]
[null,null,null,null,null,null,null,null,null,null,null,null,null,null,null,null,null,null,null,null,null,null,3,19,0,19,3,19,12,215,77,218]
[null,null,null,null,null,null,null,null,null,null,null,null,null,null,null,null,null,null,null,null,null,null,0,0,0,0,0,0,0,4]
[null,null,null,null,null,null,null,null,null,null,null,null,null,null,null,null,null,null,null,null,null,null,null,13,0,13,null,13,null,null,30,120]
[null,null,null,null,null,null,null,null,null,null,null,null,null,null,null,null,null,null,null,null,null,null,3,27,0,27,3,27,null,null,49,228]
[null,null,null,null,null,null,null,null,null,null,null,null,null,null,null,null,null,null,null,null,null,null,4,35,0,35,4,35,5,208,57,208]
[null,null,null,null,null,null,null,null,null,null,null,null,null,null,null,null,null,null,null,null,null,null,23,153,null,153,null,153,25,1289,297,1295]
[null,null,null,null,null,null,null,null,null,null,null,null,null,null,null,null,null,null,null,null,null,null,11,31,null,31,null,31,null,null,95,243]
[null,null,null,null,null,null,null,null,null,null,null,null,null,null,null,null,null,null,null,null,null,null,637,3624,52,3624,585,3624,737,26601,6938,26911]

{"sheet":"Rapport","index":7,"n_rows":513,"n_cols":7,"rows_kept":513,"cut":false,"hidden":true,"merged":[[512,1,513,3],[512,4,513,6],[37,1,39,6],[53,0,53,6],[176,0,176,6],[89,0,89,6],[130,0,130,6],[171,0,171,6],[212,0,212,6],[94,0,94,6],[135,0,135,6],[216,0,216,6],[254,0,254,6],[289,0,289,6],[325,0,325,6],[438,0,438,5],[27,1,31,5],[158,0,158,6],[160,0,160,6],[178,0,178,5],[201,0,201,6],[218,0,218,5],[239,0,239,6],[55,0,55,6],[119,0,119,6],[96,0,96,5],[117,0,117,6],[361,0,361,6],[401,0,401,6],[436,0,436,6],[358,0,358,6],[363,0,363,5],[384,0,384,6],[395,0,395,6],[403,0,403,5],[425,0,425,6],[430,0,430,6],[432,0,432,6],[459,0,459,6],[468,0,468,6],[76,0,76,6],[78,0,78,6],[137,0,137,5],[322,0,322,6],[327,0,327,5],[348,0,348,6],[241,0,241,6],[256,0,256,5],[278,0,278,6],[252,0,252,6],[286,0,286,6],[283,0,283,6],[291,0,291,5],[312,0,312,6]]}
[]
[]
[]
[]
[]
[]
[]
[]
[]
[]
[]
[]
[]
[]
[]
[]
[]
[]
[]
[]
[]
[]
[]
[]
[]
[]
[]
[null,{"$f":"Startside!B8","v":"Indsatstrappens Nøgletal"}]
[]
[]
[]
[]
[]
[]
[]
[]
[]
[null,{"$f":"Kommune& \" Kommune\"","v":"København Kommune"}]
[]
[]
[null,"Data baserer sig på nationale registre fra"]
[null,{"$f":"\"Danmarks Statistik \"&\"og/eller \"","v":"Danmarks Statistik og/eller "}]
[null,{"$f":"Kommune&\" Kommunes egne data\"","v":"København Kommunes egne data"}]
[]
[]
[]
[]
[]
[]
[]
[]
[]
[]
["Nøgletal 1: Institutionsanbringelser"]
[]
["Figur 1.1: Udviklingen i antallet af institutionsanbringelser"]
[]
[]
[]
[]
[]
[]
[]
[]
[]
[]
[]
[]
[]
[]
[]
[]
[]
[]
[]
[]
[]
[]
[]
["Tabel 1.1 udvikling i antallet af institutionsanbringelser"]
[null,{"$f":"Skyggetabeller!$D$9","v":"2016-01-01"},{"$f":"Skyggetabeller!$F$9","v":"2017-01-01"},{"$f":"Skyggetabeller!$H$9","v":"2018-01-01"},{"$f":"Skyggetabeller!$J$9","v":"2019-01-01"},{"$f":"Skyggetabeller!$L$9","v":"2020-01-01"},{"$f":"Skyggetabeller!$M$9","v":"2020-07-01"}]
[{"$f":"Kommune","v":"København"},{"$f":"Skyggetabeller!$D$13","v":2.2205487651817952},{"$f":"Skyggetabeller!$F$13","v":2.1155026679888556},{"$f":"Skyggetabeller!$H$13","v":1.9857103089913706},{"$f":"Skyggetabeller!$J$13","v":1.8658252160790232},{"$f":"Skyggetabeller!$L$13","v":1.4437566548158307},{"$f":"Skyggetabeller!$M$13","v":1.6206288039759427}]
["Sammenligningsgruppe, gns.",{"$f":"Skyggetabeller!$D$17","v":3.0365836024485464},{"$f":"Skyggetabeller!$F$17","v":3.0364211563836383},{"$f":"Skyggetabeller!$H$17","v":2.8460747885208315},{"$f":"Skyggetabeller!$J$17","v":2.7355479742795601},{"$f":"Skyggetabeller!$L$17","v":2.6764751917357961},{"$f":"Skyggetabeller!$M$17","v":2.6977295409181639}]
["Hele landet",{"$f":"Skyggetabeller!$D$21","v":2.9449404073577252},{"$f":"Skyggetabeller!$F$21","v":2.8941937217995877},{"$f":"Skyggetabeller!$H$21","v":2.8958150110469978},{"$f":"Skyggetabeller!$J$21","v":2.8422213795718569},{"$f":"Skyggetabeller!$L$21","v":2.8267059706811426},{"$f":"Skyggetabeller!$M$21","v":2.8889176055721157}]
[{"$f":"Registerdata!B30","v":"Anm.: Hvis nøgletallet er angivet med * er der foretaget en diskretionering af data, da der er for få observationer. "}]
[{"$f":"Registerdata!B31","v":"Anm.: Valgte kommuner i sammenligningsgruppen: Aarhus      "}]
[{"$f":"Registerdata!B32","v":"Kilde: Socialstyrelsens egne beregninger baseret på registerdata fra Danmarks Statistik."}]
[]
[]
["Nøgletal 1 viser udviklingen i antal børn og unge (0-17 år), der er anbragt på institution eller socialpædagogisk opholdssted.\r\n\r\nNøgletallet belyser det øverste trin på indsatstrappen, og et faldende tal kan indikere en overordnet bevægelse, hvor anbragte børn og unge bringes ”ned ad indsatstrappen” og tættere på hverdagslivet."]
[]
[]
[]
[]
["Nøgletal 2: Varighed af institutionsanbringelser"]
[]
["Figur 2.1: Udvikling i varigheden af institutionsanbringelser"]
[]
[]
[]
[]
[]
[]
[]
[]
[]
[]
[]
[]
[]
[]
[]
[]
[]
[]
[]
[]
[]
[]
[]
["Tabel 2.1: Udvikling i varigheden af institutionsanbringelser"]
[null,{"$f":"Skyggetabeller!$D$9","v":"2016-01-01"},{"$f":"Skyggetabeller!$F$9","v":"2017-01-01"},{"$f":"Skyggetabeller!$H$9","v":"2018-01-01"},{"$f":"Skyggetabeller!$J$9","v":"2019-01-01"},{"$f":"Skyggetabeller!$L$9","v":"2020-01-01"},{"$f":"Skyggetabeller!$M$9","v":"2020-07-01"}]
[{"$f":"Kommune","v":"København"},{"$f":"Skyggetabeller!$D$97","v":806.42608695652177},{"$f":"Skyggetabeller!$F$97","v":790.14285714285711},{"$f":"Skyggetabeller!$H$97","v":723.58411214953276},{"$f":"Skyggetabeller!$J$97","v":732.49509803921569},{"$f":"Skyggetabeller!$L$97","v":787.25625000000002},{"$f":"Skyggetabeller!$M$97","v":714.51111111111106}]
["Sammenligningsgruppe, gns.",{"$f":"Skyggetabeller!$D$101","v":1061.3968253968253},{"$f":"Skyggetabeller!$F$101","v":1093.3560209424083},{"$f":"Skyggetabeller!$H$101","v":1078.8},{"$f":"Skyggetabeller!$J$101","v":914.66666666666663},{"$f":"Skyggetabeller!$L$101","v":1006.1695906432749},{"$f":"Skyggetabeller!$M$101","v":956.01734104046238}]
["Hele landet",{"$f":"Skyggetabeller!$D$105","v":913.7283304246655},{"$f":"Skyggetabeller!$F$105","v":865.68500443655728},{"$f":"Skyggetabeller!$H$105","v":826.3623703703704},{"$f":"Skyggetabeller!$J$105","v":775.21103699211642},{"$f":"Skyggetabeller!$L$105","v":760.13616891064873},{"$f":"Skyggetabeller!$M$105","v":763.57880516361456}]
[{"$f":"Registerdata!B102","v":"Anm.: Hvis nøgletallet er angivet med * er der foretaget en diskretionering af data, da der er for få observationer. "}]
[{"$f":"Registerdata!B103","v":"Anm.: Valgte kommuner i sammenligningsgruppen: Aarhus      "}]
[{"$f":"Registerdata!B104","v":"Kilde: Socialstyrelsens egne beregninger baseret på registerdata fra Danmarks Statistik."}]
[]
[]
["Nøgletal 2 viser udviklingen i den gennemsnitlige varighed af de igangværende anbringelser.\r\n\r\nTankegangen bag indsatstrappen indebærer, at institutionsanbringelser skal bruges målrettet og over en kortere periode. Over tid forventes derfor et fald i den gennemsnitlige varighed af igangværende institutionsanbringelser som følge af en omlægning af indsatsen. Denne udvikling vil illustrere, at flere børn er kommet tættere på et almindeligt hverdagsliv."]
[]
[]
[]
[]
["Nøgletal 3: Anbragte i plejefamilie"]
[]
["Figur 3.1: Udvikling i antallet af anbragte i plejefamilie"]
[]
[]
[]
[]
[]
[]
[]
[]
[]
[]
[]
[]
[]
[]
[]
[]
[]
[]
[]
[]
[]
[]
[]
["Tabel 3.1: Udvikling i antallet af anbragte i plejefamilie"]
[null,{"$f":"Skyggetabeller!$D$9","v":"2016-01-01"},{"$f":"Skyggetabeller!$F$9","v":"2017-01-01"},{"$f":"Skyggetabeller!$H$9","v":"2018-01-01"},{"$f":"Skyggetabeller!$J$9","v":"2019-01-01"},{"$f":"Skyggetabeller!$L$9","v":"2020-01-01"},{"$f":"Skyggetabeller!$M$9","v":"2020-07-01"}]
[{"$f":"Kommune","v":"København"},{"$f":"Skyggetabeller!$D$160","v":3.6880418621715036},{"$f":"Skyggetabeller!$F$160","v":3.3526939604287671},{"$f":"Skyggetabeller!$H$160","v":3.2290990071448453},{"$f":"Skyggetabeller!$J$160","v":3.1005624914254359},{"$f":"Skyggetabeller!$L$160","v":2.81532547689087},{"$f":"Skyggetabeller!$M$160","v":2.6560305398494619}]
["Sammenligningsgruppe, gns.",{"$f":"Skyggetabeller!$D$164","v":3.3418486206841149},{"$f":"Skyggetabeller!$F$164","v":3.5133459453444194},{"$f":"Skyggetabeller!$H$164","v":3.6050280654597202},{"$f":"Skyggetabeller!$J$164","v":3.7574480796138787},{"$f":"Skyggetabeller!$L$164","v":3.6312411958052904},{"$f":"Skyggetabeller!$M$164","v":3.6333582834331337}]
["Hele landet",{"$f":"Skyggetabeller!$D$168","v":5.6491803334858055},{"$f":"Skyggetabeller!$F$168","v":5.790955494816389},{"$f":"Skyggetabeller!$H$168","v":5.8036422917694503},{"$f":"Skyggetabeller!$J$168","v":5.8499086490399526},{"$f":"Skyggetabeller!$L$168","v":5.7494230682734262},{"$f":"Skyggetabeller!$M$168","v":5.7110544679352699}]
[{"$f":"Registerdata!B174","v":"Anm.: Hvis nøgletallet er angivet med * er der foretaget en diskretionering af data, da der er for få observationer. "}]
[{"$f":"Registerdata!B175","v":"Anm.: Valgte kommuner i sammenligningsgruppen: Aarhus      "}]
[{"$f":"Registerdata!B176","v":"Kilde: Socialstyrelsens egne beregninger baseret på registerdata fra Danmarks Statistik."}]
[]
[]
["Nøgletal 3 opgør antal børn og unge, der er anbragt i plejefamilie. Nøgletallet belyser dermed trin 5 på indsatstrappen. Over tid vil en stigning i antallet af anbragte i plejefamilier, samtidig med et fald i antallet af institutionsanbringelser, indikere, at det i højere grad lykkes med at iværksætte anbringelser, der understøtter et så normalt hverdagsliv for anbragte børn og unge som muligt."]
[]
[]
[]
[]
["Nøgletal 4: Anbragte i netværksplejefamilie"]
[]
["Figur 4.1: Udvikling i antallet af anbragte i netværksplejefamilie"]
[]
[]
[]
[]
[]
[]
[]
[]
[]
[]
[]
[]
[]
[]
[]
[]
[]
[]
[]
[]
[]
[]
[]
["Tabel 4.1: Udvikling i antallet af anbragte i netværksplejefamilie"]
[null,{"$f":"Skyggetabeller!$D$9","v":"2016-01-01"},{"$f":"Skyggetabeller!$F$9","v":"2017-01-01"},{"$f":"Skyggetabeller!$H$9","v":"2018-01-01"},{"$f":"Skyggetabeller!$J$9","v":"2019-01-01"},{"$f":"Skyggetabeller!$L$9","v":"2020-01-01"},{"$f":"Skyggetabeller!$M$9","v":"2020-07-01"}]
[{"$f":"Kommune","v":"København"},{"$f":"Skyggetabeller!$D$178","v":1.0137287841047327},{"$f":"Skyggetabeller!$F$178","v":0.99164187561977624},{"$f":"Skyggetabeller!$H$178","v":1.0206922149021065},{"$f":"Skyggetabeller!$J$178","v":1.0243746284355422},{"$f":"Skyggetabeller!$L$178","v":0.97453574200068582},{"$f":"Skyggetabeller!$M$178","v":0.97237728238556564}]
["Sammenligningsgruppe, gns.",{"$f":"Skyggetabeller!$D$182","v":0.59446345656400112},{"$f":"Skyggetabeller!$F$182","v":0.66769470454509317},{"$f":"Skyggetabeller!$H$182","v":0.52178037789548581},{"$f":"Skyggetabeller!$J$182","v":0.39303850205166102},{"$f":"Skyggetabeller!$L$182","v":0.34434183753326031},{"$f":"Skyggetabeller!$M$182","v":0.37425149700598803}]
["Hele landet",{"$f":"Skyggetabeller!$D$186","v":0.80690339259190735},{"$f":"Skyggetabeller!$F$186","v":0.81664028707388536},{"$f":"Skyggetabeller!$H$186","v":0.82455651129367857},{"$f":"Skyggetabeller!$J$186","v":0.81181702230342301},{"$f":"Skyggetabeller!$L$186","v":0.77760363146950651},{"$f":"Skyggetabeller!$M$186","v":0.79703250661086}]
[{"$f":"Registerdata!B193","v":"Anm.: Hvis nøgletallet er angivet med * er der foretaget en diskretionering af data, da der er for få observationer. "}]
[{"$f":"Registerdata!B194","v":"Anm.: Valgte kommuner i sammenligningsgruppen: Aarhus      "}]
[{"$f":"Registerdata!B195","v":"Kilde: Socialstyrelsens egne beregninger baseret på registerdata fra Danmarks Statistik."}]
[]
[]
["Nøgletal 4 opgør antal børn og unge, der er anbragt i netværksplejefamilier. Nøgletallet belyser trin 4 på indsatstrappen. En stigning i anbringelser i netværksplejefamilier kan indikere en udvikling i foranstaltningsmønsteret, hvor barnet eller den unge bringes tættere på hverdagslivet."]
[]
[]
[]
["Nøgletal 5: Hjemmebaserede foranstaltninger"]
[]
["Figur 5.1: Udvikling i antal modtagere af hjemmebaserede foranstaltninger"]
[]
[]
[]
[]
[]
[]
[]
[]
[]
[]
[]
[]
[]
[]
[]
[]
[]
[]
[]
[]
[]
[]
[]
["Tabel 5.1: Udvikling i antal modtagere af hjemmebaserede foranstaltninger"]
[null,{"$f":"Skyggetabeller!$D$9","v":"2016-01-01"},{"$f":"Skyggetabeller!$F$9","v":"2017-01-01"},{"$f":"Skyggetabeller!$H$9","v":"2018-01-01"},{"$f":"Skyggetabeller!$J$9","v":"2019-01-01"},{"$f":"Skyggetabeller!$L$9","v":"2020-01-01"},{"$f":"Skyggetabeller!$M$9","v":"2020-07-01"}]
[{"$f":"Kommune","v":"København"},{"$f":"Skyggetabeller!$D$196","v":19.164301299503755},{"$f":"Skyggetabeller!$F$196","v":20.267271096000378},{"$f":"Skyggetabeller!$H$196","v":21.564442794840865},{"$f":"Skyggetabeller!$J$196","v":21.539305803265197},{"$f":"Skyggetabeller!$L$196","v":19.445597444550721},{"$f":"Skyggetabeller!$M$196","v":19.258472287247454}]
["Sammenligningsgruppe, gns.",{"$f":"Skyggetabeller!$D$200","v":18.508700053019712},{"$f":"Skyggetabeller!$F$200","v":17.9959620367868},{"$f":"Skyggetabeller!$H$200","v":18.404616965768042},{"$f":"Skyggetabeller!$J$200","v":20.485166726932569},{"$f":"Skyggetabeller!$L$200","v":20.394427922992644},{"$f":"Skyggetabeller!$M$200","v":19.804141716566864}]
["Hele landet",{"$f":"Skyggetabeller!$D$204","v":20.438982856300957},{"$f":"Skyggetabeller!$F$204","v":20.507601003594417},{"$f":"Skyggetabeller!$H$204","v":20.83013363650014},{"$f":"Skyggetabeller!$J$204","v":20.987452170016201},{"$f":"Skyggetabeller!$L$204","v":21.669105868269273},{"$f":"Skyggetabeller!$M$204","v":21.79133706322575}]
[{"$f":"Registerdata!B212","v":"Anm.: Hvis nøgletallet er angivet med * er der foretaget en diskretionering af data, da der er for få observationer. "}]
[{"$f":"Registerdata!B213","v":"Anm.: Valgte kommuner i sammenligningsgruppen: Aarhus      "}]
[{"$f":"Registerdata!B214","v":"Kilde: Socialstyrelsens egne beregninger baseret på registerdata fra Danmarks Statistik."}]
[]
[]
["Nøgletal 5 opgør antal børn og unge, der modtager en hjemmebaseret foranstaltning. Nøgletallet belyser trin 3 på indsatstrappen og rummer de forebyggende foranstaltninger, der kan sættes i værk primært efter Servicelovens § 52, samt ”hjemmebaserede anbringelser”.\r\n\r\nNår en kommune omlægger mod en tidligere og mere forebyggende indsats forventes det, at der iværksættes flere hjemmebaserede foranstaltninger. Det forventes med tiden at forebygge behovet for institutionsanbringelser og plejefamilieanbringelser.\r\n"]
[]
["Nøgletal 6: Forebyggende indsatser (§ 11.3 tilbud)"]
[]
["Figur 6.1: Udvikling i antal modtagere af forebyggende indsatser"]
[]
[]
[]
[]
[]
[]
[]
[]
[]
[]
[]
[]
[]
[]
[]
[]
[]
[]
[]
[]
[]
[]
["Tabel 6.1: Udvikling i antallet af anbragte i netværksplejefamilie"]
[null,{"$f":"Skyggetabeller!$D$9","v":"2016-01-01"},{"$f":"Skyggetabeller!$F$9","v":"2017-01-01"},{"$f":"Skyggetabeller!$H$9","v":"2018-01-01"},{"$f":"Skyggetabeller!$J$9","v":"2019-01-01"},{"$f":"Skyggetabeller!$L$9","v":"2020-01-01"},{"$f":"Skyggetabeller!$M$9","v":"2020-07-01"}]
[{"$f":"Kommune","v":"København"},{"$f":"Skyggetabeller!$D$273","v":"-"},{"$f":"Skyggetabeller!$F$273","v":"-"},{"$f":"Skyggetabeller!$H$273","v":"-"},{"$f":"Skyggetabeller!$J$273","v":"-"},{"$f":"Skyggetabeller!$L$273","v":"-"},{"$f":"Skyggetabeller!$M$273","v":"-"}]
[]
[]
[]
[]
["Nøgletal 6 opgør antal børn og unge, der modtager en forebyggende indsats efter Servicelovens § 11, stk. 3. Nøgletallet belyser dermed trin 2 på indsatstrappen. Trinnet vedrør de forebyggende tilbud til børn og unge med en afgrænset problematik.\r\n\r\nNøgletallet forventes at stige over tid, da omlægningen netop indebærer, at flere børn og unge får forebyggende indsatser og derigennem undgår de mere indgribende indsatser på højere trin på indsatstrappen.\r\n"]
[]
[]
["Nøgletal 7: Tidligere institutionsanbragte"]
[]
["Figur 7.1: Faktisk og forventet udvikling i antal flytninger fra botilbud"]
[]
[]
[]
[]
[]
[]
[]
[]
[]
[]
[]
[]
[]
[]
[]
[]
[]
[]
[]
[]
[]
["Tabel 7.1: Udvikling i antal modtagere af hjemmebaserede foranstaltninger"]
[null,{"$f":"Skyggetabeller!$D$9","v":"2016-01-01"},{"$f":"Skyggetabeller!$F$9","v":"2017-01-01"},{"$f":"Skyggetabeller!$H$9","v":"2018-01-01"},{"$f":"Skyggetabeller!$J$9","v":"2019-01-01"},{"$f":"Skyggetabeller!$L$9","v":"2020-01-01"},{"$f":"Skyggetabeller!$M$9","v":"2020-07-01"}]
[{"$f":"Kommune","v":"København"},{"$f":"Skyggetabeller!$D$296","v":0.25896414342629481},{"$f":"Skyggetabeller!$F$296","v":0.19742489270386265},{"$f":"Skyggetabeller!$H$296","v":0.26548672566371684},{"$f":"Skyggetabeller!$J$296","v":0.22119815668202766},{"$f":"Skyggetabeller!$L$296","v":0.37305699481865284},{"$f":"Skyggetabeller!$M$296","v":0.19375000000000001}]
["Sammenligningsgruppe, gns.",{"$f":"Skyggetabeller!$D$300","v":0.15789473684210525},{"$f":"Skyggetabeller!$F$300","v":0.17733990147783252},{"$f":"Skyggetabeller!$H$300","v":0.18421052631578946},{"$f":"Skyggetabeller!$J$300","v":0.16666666666666666},{"$f":"Skyggetabeller!$L$300","v":0.17415730337078653},{"$f":"Skyggetabeller!$M$300","v":0.26900584795321636}]
["Hele landet",{"$f":"Skyggetabeller!$D$304","v":0.17758865248226952},{"$f":"Skyggetabeller!$F$304","v":0.18462434478741993},{"$f":"Skyggetabeller!$H$304","v":0.20127057464626047},{"$f":"Skyggetabeller!$J$304","v":0.19847103793002058},{"$f":"Skyggetabeller!$L$304","v":0.19902319902319901},{"$f":"Skyggetabeller!$M$304","v":0.1704406364749082}]
[{"$f":"Registerdata!B301","v":"Anm.: Hvis nøgletallet er angivet med * er der foretaget en diskretionering af data, da der er for få observationer. "}]
[{"$f":"Registerdata!B302","v":"Anm.: Valgte kommuner i sammenligningsgruppen: Aarhus      "}]
[{"$f":"Registerdata!B303","v":"Kilde: Socialstyrelsens egne beregninger baseret på registerdata fra Danmarks Statistik."}]
[]
["Nøgletal 7 opgør andel af børn og unge, der ved sidste opgørelse var institutionsanbragt og som nu ikke er anbragt på denne vis. Nøgletallet belyser dermed bevægelser fra trin 6 og ned ad indsatstrappen. En stigning i nøgletallet indikerer, at børn og unge bringes ned ad indsatstrappen og tættere på hverdagslivet."]
[]
[]
["Nøgletal 8: Fra hjemmebaseret foranstaltninger og op ad indsatstrappen"]
[]
["Figur 8.1: Udvikling i bevægelsen fra hjemmebaserede foranstaltninger og op ad trappen"]
[]
[]
[]
[]
[]
[]
[]
[]
[]
[]
[]
[]
[]
[]
[]
[]
[]
[]
[]
[]
[]
["Tabel 8.1: Udvikling i bevægelsen fra hjemmebaserede foranstaltninger og op ad trappen"]
[null,{"$f":"Skyggetabeller!$D$9","v":"2016-01-01"},{"$f":"Skyggetabeller!$F$9","v":"2017-01-01"},{"$f":"Skyggetabeller!$H$9","v":"2018-01-01"},{"$f":"Skyggetabeller!$J$9","v":"2019-01-01"},{"$f":"Skyggetabeller!$L$9","v":"2020-01-01"},{"$f":"Skyggetabeller!$M$9","v":"2020-07-01"}]
[{"$f":"Kommune","v":"København"},{"$f":"Skyggetabeller!$D$344","v":"#I/T"},{"$f":"Skyggetabeller!$F$344","v":2.8474903474903474E-2},{"$f":"Skyggetabeller!$H$344","v":2.5500910746812388E-2},{"$f":"Skyggetabeller!$J$344","v":2.5053078556263271E-2},{"$f":"Skyggetabeller!$L$344","v":2.0711391265195857E-2},{"$f":"Skyggetabeller!$M$344","v":2.3004694835680753E-2}]
["Sammenligningsgruppe, gns.",{"$f":"Skyggetabeller!$D$348","v":"-"},{"$f":"Skyggetabeller!$F$348","v":"-"},{"$f":"Skyggetabeller!$H$348","v":"-"},{"$f":"Skyggetabeller!$J$348","v":2.6050420168067228E-2},{"$f":"Skyggetabeller!$L$348","v":1.780185758513932E-2},{"$f":"Skyggetabeller!$M$348","v":2.9320987654320986E-2}]
["Hele landet",{"$f":"Skyggetabeller!$D$352","v":3.3403732597732855E-2},{"$f":"Skyggetabeller!$F$352","v":3.5115415795536974E-2},{"$f":"Skyggetabeller!$H$352","v":3.2549652011543029E-2},{"$f":"Skyggetabeller!$J$352","v":3.0509340028083913E-2},{"$f":"Skyggetabeller!$L$352","v":3.0507480199471988E-2},{"$f":"Skyggetabeller!$M$352","v":3.0592424732923278E-2}]
[{"$f":"Registerdata!B359","v":"Anm.: Hvis nøgletallet er angivet med * er der foretaget en diskretionering af data, da der er for få observationer. "}]
[{"$f":"Registerdata!B360","v":"Anm.: Valgte kommuner i sammenligningsgruppen: Aarhus      "}]
[{"$f":"Registerdata!B361","v":"Kilde: Socialstyrelsens egne beregninger baseret på registerdata fra Danmarks Statistik."}]
[]
["Nøgletal 8 opgør andel børn og unge, der ved sidste opgørelse modtog en hjemmebaseret foranstaltning, der ikke var en anbringelse, som et år senere er anbragt uden for hjemmet. Nøgletallet belyser dermed bevægelser fra indsatstrappens trin 3 og op ad trappen. En stigning i nøgletallet indikerer, at det ikke er lykkedes at forebygge en eskalering af barnets udfordringer."]
[]
[]
["Nøgletal 9: Fra hjemmebaseret foranstaltning og ned ad indsatstrappen"]
[]
["Figur 9.1: Udvikling i bevægelsen fra hjemmebaserede foranstaltninger og ned ad trappen"]
[]
[]
[]
[]
[]
[]
[]
[]
[]
[]
[]
[]
[]
[]
[]
[]
[]
[]
[]
[]
[]
["Tabel 9.1: Udvikling i bevægelsen fra hjemmebaserede foranstaltninger og ned ad trappen"]
[null,{"$f":"Skyggetabeller!$D$9","v":"2016-01-01"},{"$f":"Skyggetabeller!$F$9","v":"2017-01-01"},{"$f":"Skyggetabeller!$H$9","v":"2018-01-01"},{"$f":"Skyggetabeller!$J$9","v":"2019-01-01"},{"$f":"Skyggetabeller!$L$9","v":"2020-01-01"},{"$f":"Skyggetabeller!$M$9","v":"2020-07-01"}]
[{"$f":"Kommune","v":"København"},{"$f":"Skyggetabeller!$D$362","v":0.24624157594608606},{"$f":"Skyggetabeller!$F$362","v":0.24559733460257022},{"$f":"Skyggetabeller!$H$362","v":0.2476489028213166},{"$f":"Skyggetabeller!$J$362","v":0.26384228187919462},{"$f":"Skyggetabeller!$L$362","v":0.28048235819562306},{"$f":"Skyggetabeller!$M$362","v":0.21206496519721577}]
["Sammenligningsgruppe, gns.",{"$f":"Skyggetabeller!$D$366","v":0.270544783010157},{"$f":"Skyggetabeller!$F$366","v":0.27423580786026203},{"$f":"Skyggetabeller!$H$366","v":0.24907407407407409},{"$f":"Skyggetabeller!$J$366","v":0.25790349417637271},{"$f":"Skyggetabeller!$L$366","v":0.28835774865073244},{"$f":"Skyggetabeller!$M$366","v":0.24405218726016883}]
["Hele landet",{"$f":"Skyggetabeller!$D$370","v":0.22114979347551209},{"$f":"Skyggetabeller!$F$370","v":0.22640797854508884},{"$f":"Skyggetabeller!$H$370","v":0.23439649781113195},{"$f":"Skyggetabeller!$J$370","v":0.24190436241610738},{"$f":"Skyggetabeller!$L$370","v":0.24869608411292327},{"$f":"Skyggetabeller!$M$370","v":0.2328756187130768}]
[{"$f":"Registerdata!B379","v":"Anm.: Hvis nøgletallet er angivet med * er der foretaget en diskretionering af data, da der er for få observationer. "}]
[{"$f":"Registerdata!B380","v":"Anm.: Valgte kommuner i sammenligningsgruppen: Aarhus      "}]
[{"$f":"Registerdata!B381","v":"Kilde: Socialstyrelsens egne beregninger baseret på registerdata fra Danmarks Statistik."}]
[]
[]
["Nøgletal 9 opgør andel af børn og unge, der ved sidste opgørelse modtog en hjemmebaseret foranstaltning og som nu, hverken er anbragt eller modtager en hjemmebaseret foranstaltning. Nøgletallet belyser dermed bevægelser fra indsatstrappens trin 3 og ned. En stigning nøgletallet indikerer, at man hurtigere og på mere effektiv vis formår at ruste børn, unge og familier til at klare sig uden særlig støtte."]
[]
[]
[]
[]
[]
["Nøgletal 10: Udvikling i forebyggende indsatser (§ 11.3 tilbud)"]
[]
["Figur 10.1: Udvikling i antal modtagere af forebyggende indsatser"]
[]
[]
[]
[]
[]
[]
[]
[]
[]
[]
[]
[]
[]
[]
[]
[]
[]
[]
[]
[]
[]
[]
["Tabel 10.1: Udvikling i forebyggende foranstaltninger"]
[null,{"$f":"Skyggetabeller!$D$9","v":"2016-01-01"},{"$f":"Skyggetabeller!$F$9","v":"2017-01-01"},{"$f":"Skyggetabeller!$H$9","v":"2018-01-01"},{"$f":"Skyggetabeller!$J$9","v":"2019-01-01"},{"$f":"Skyggetabeller!$L$9","v":"2020-01-01"},{"$f":"Skyggetabeller!$M$9","v":"2020-07-01"}]
["Andel modtagere af en myndighedsbevilget § 11, stk. 3-indsats (første 6 mdr.), hvor der er truffet en afgørelse om en § 50 undersøgelse",{"$f":"Skyggetabeller!$D$379","v":"-"},{"$f":"Skyggetabeller!$F$379","v":"-"},{"$f":"Skyggetabeller!$H$379","v":"-"},{"$f":"Skyggetabeller!$J$379","v":"-"},{"$f":"Skyggetabeller!$L$379","v":"-"},{"$f":"Skyggetabeller!$M$379","v":"-"}]
[]
[]
[]
["Nøgletal 10 opgør andel børn og unge, der har modtaget støtte efter Servicelovens § 11, stk. 3 i forrige halvår (6-12 måneder forud for nedslaget), hvorefter der er truffet afgørelse om at udføre en børnefaglig undersøgelse efter Servicelovens § 50 i det seneste halvår. Eksempelvis vil nøgletallet for datanedslaget 1/7-2021 vedrøre de børn og unge, der i løbet af halvåret 1/7-2020 – 1/1-2021 har modtaget §11, stk. 3 indsats, og hvor der er truffet afgørelse om en børnefaglig undersøgelse for barnet eller den unge i løbet af halvåret 1/1-2021 – 1/7-2021.\r\n\r\nEn stigning i dette nøgletal kan indikere, at § 11, stk. 3-tilbud tilbydes i sager, hvor der straks burde have været truffet beslutning om at udføre en børnefaglig undersøgelse, og at der dermed ikke er ydet den rette støtte på det rette tidspunkt.\r\n\r\n"]
[]
[]
[]
["Nøgletal 11: Opfølgninger"]
[]
["Figur 11.1: Udvikling i opfølgninger"]
[]
[]
[]
[]
[]
[]
[]
[]
[]
[]
[]
[]
[]
[]
[]
[]
[]
[]
[]
[]
[]
["Tabel 11.1: Udvikling i opfølgninger"]
[null,{"$f":"Skyggetabeller!$D$9","v":"2016-01-01"},{"$f":"Skyggetabeller!$F$9","v":"2017-01-01"},{"$f":"Skyggetabeller!$H$9","v":"2018-01-01"},{"$f":"Skyggetabeller!$J$9","v":"2019-01-01"},{"$f":"Skyggetabeller!$L$9","v":"2020-01-01"},{"$f":"Skyggetabeller!$M$9","v":"2020-07-01"}]
["Gns. Antal dage mellem opfølgninger for institutionsanbringelser",{"$f":"Skyggetabeller!$D$402","v":"-"},{"$f":"Skyggetabeller!$F$402","v":"-"},{"$f":"Skyggetabeller!$H$402","v":"-"},{"$f":"Skyggetabeller!$J$402","v":"-"},{"$f":"Skyggetabeller!$L$402","v":"-"},{"$f":"Skyggetabeller!$M$402","v":"-"}]
["Gns. Antal dage mellem opfølgninger på plejefamilier",{"$f":"Skyggetabeller!$D$407","v":"-"},{"$f":"Skyggetabeller!$F$407","v":"-"},{"$f":"Skyggetabeller!$H$407","v":"-"},{"$f":"Skyggetabeller!$J$407","v":"-"},{"$f":"Skyggetabeller!$L$407","v":"-"},{"$f":"Skyggetabeller!$M$407","v":"-"}]
["Gns. Antal dage mellem opfølgninger på hjemmebaserede foranstaltninger",{"$f":"Skyggetabeller!$D$412","v":"-"},{"$f":"Skyggetabeller!$F$412","v":"-"},{"$f":"Skyggetabeller!$H$412","v":"-"},{"$f":"Skyggetabeller!$J$412","v":"-"},{"$f":"Skyggetabeller!$L$412","v":"-"},{"$f":"Skyggetabeller!$M$412","v":"-"}]
[]
[]
[]
["Nøgletal 11 opgør den gennemsnitlige frekvens i afholdte opfølgninger for henholdsvis:\r\n1.\tInstitutionsanbringelser\r\n2.\tAnbragte i plejefamilier\r\n3.\tModtagere af hjemmebaserede foranstaltninger\r\n\r\nHyppige opfølgning er vigtig i forhold til den løbende justering af indsatsen. En hyppigere opfølgning på barnets/den unges udvikling og progression, end den lovpligtige opfølgning hver 6. måned, kan sikre, at barnet/den unge kommer tættere på hverdagslivet."]
[]
[]
[]
[]
[]
[]
[]
[]
[]
[]
[]
[]
[]
[]
[]
[]
[]
[]
[]
[]
[]
[]
[]
[]
[]
[]
[]
[]
[]
[]
[]
[]
[]
[]
[]
[]
[]
[]
[]
[]
[]
[]
[null,{"$f":"\"Fra \"&Startside!B8&\", v\"&MID(Startside!B11,2,10)","v":"Fra Indsatstrappens Nøgletal, version 2.0"}]
[null,{"$f":"TODAY()","v":"2023-10-26"}]

{"sheet":"Infotekster","index":8,"n_rows":37,"n_cols":5,"rows_kept":37,"cut":false,"hidden":true,"merged":[]}
[]
[]
[]
[null,"Infoboks navn","Fane","Nøgletal","Tekst"]
[null,"Info_kommune1","Dine valg",null,"Her kan du vælge den kommune, som skal være udgangspunktet for din analyse."]
[null,"Info_sammenlign2","Dine valg",null,"Her kan du vælge en sammenligningsgruppe bestående af 1-7 kommuner. \nTryk på \"Dan gruppe\" når alle de ønskede kommuner er krydset af."]
[null,"Info _NT3","Registerdata + Nøgletalsanalyse","Nøgletal 1","Defintion:\nAndelen er opgjort som antal børn og unge (0-17 år), der er anbragt på institution eller socialpædagogisk opholdssted pr. 1.000 0-17-årige indbyggere.\n\nDatakilde:\nStatistikken Børn og Unge anbragte forløbsregister (BUAF).\n\nLovgrundlag:\n§ 52, stk. 3, nr. 7, \n§ 58, jf. § 66, stk. 1, nr. 6-7 \n§ 68a\n§ 68b\n§75, stk. 1 (SEL)\n§74a (Straffeloven)\n§78, stk. 2 (Straffe-fuldbyrdelsesloven)\n§765 (Retsplejeloven)\n§ 14 (Lov om bekæmpelse af ungdomskriminalitet)\n§ 15 (Lov om bekæmpelse af ungdomskriminalitet)\n§ 16 (Lov om bekæmpelse af ungdomskriminalitet)\n§ 17 (Lov om bekæmpelse af ungdomskriminalitet)\n§ 23 (Lov om bekæmpelse af ungdomskriminalitet)"]
[null,"Info_NT4","Registerdata + Nøgletalsanalyse","Nøgletal 1.1","Defintion:\nAndelen er opgjort som antal anbragte på døgninstitutioner ud af samtlige institutionsanbragte i alderen 0-17 år.\n\nDatakilde:\nStatistikken Børn og Unge anbragte forløbsregister (BUAF).\n\nLovgrundlag:\n§ 52, stk. 3, nr. 7, \n§ 58, jf. § 66, stk. 1, nr. 6-7 \n§ 68a\n§ 68b\n§75, stk. 1 (SEL)\n§74a (Straffeloven)\n§78, stk. 2 (Straffe-fuldbyrdelsesloven)\n§765 (Retsplejeloven)\n§ 14 (Lov om bekæmpelse af ungdomskriminalitet)\n§ 15 (lov om bekæmpelse af ungdomskriminalitet)\n§ 23 (Lov om bekæmpelse af ungdomskriminalitet)"]
[null,"Info_NT5","Registerdata + Nøgletalsanalyse","Nøgletal 1.2","Defintion:\nAndelen er opgjort som antal anbragte på sikrede døgninstitutioner ud af samtlige institutionsanbragte.\n\nDatakilde:\nStatistikken Børn og Unge anbragte forløbsregister (BUAF).\n\nLovgrundlag:\n§ 52, stk. 3, nr. 7, \n§ 58, jf. § 66, stk. 1, nr. 6-7 \n§ 68a\n§ 68b\n§75, stk. 1 (SEL)\n§74a (Straffeloven)\n§78, stk. 2 (Straffe-fuldbyrdelsesloven)\n§765 (Retsplejeloven)\n§ 14 (Lov om bekæmpelse af ungdomskriminalitet)\n§ 16 (Lov om bekæmpelse af ungdomskriminalitet)\n§ 17 (Lov om bekæmpelse af ungdomskriminalitet)\n§ 23 (Lov om bekæmpelse af ungdomskriminalitet)"]
[null,"Info_NT6","Registerdata + Nøgletalsanalyse","Nøgletal 1.3","Defintion:\nAndelen er opgjort som antal anbragte på socialpædagogiske opholdssteder af samtlige institutionsanbragte.\n\nDatakilde:\nStatistikken Børn og Unge anbragte forløbsregister (BUAF).\n\nLovgrundlag:\n§ 52, stk. 3, nr. 7, \n§ 58, jf. § 66, stk. 1, nr. 6-7 \n§ 68a\n§ 68b\n§75, stk. 1 (SEL)\n§74a (Straffeloven)\n§78, stk. 2 (Straffe-fuldbyrdelsesloven)\n§765 (Retsplejeloven)\n§ 14 (Lov om bekæmpelse af ungdomskriminalitet)\n§ 23 (Lov om bekæmpelse af ungdomskriminalitet)"]
[null,"Info_NT7","Registerdata + Nøgletalsanalyse","Nøgletal 2","Defintion:\nVarigheden er opgjort som det gennemsnitlige antal dage, hvor børn og unge (0-17 år) er anbragt på institution eller socialpædagogisk opholdssted, for igangværende anbringelser.\n\nDatakilde:\nStatistikken Børn og Unge anbragte forløbsregister (BUAF).\n\nLovgrundlag:\n§ 52, stk. 3, nr. 7, \n§ 58, jf. § 66, stk. 1, nr. 6-7 \n§ 68a\n§ 68b\n§75, stk. 1 (SEL)\n§74a (Straffeloven)\n§78, stk. 2 (Straffe-fuldbyrdelsesloven)\n§765 (Retsplejeloven)\n§ 14 (Lov om bekæmpelse af ungdomskriminalitet)\n§ 15 (Lov om bekæmpelse af ungdomskriminalitet)\n§ 16 (Lov om bekæmpelse af ungdomskriminalitet)\n§ 17 (Lov om bekæmpelse af ungdomskriminalitet)\n§ 23 (Lov om bekæmpelse af ungdomskriminalitet)"]
[null,"Info_NT8","Registerdata + Nøgletalsanalyse","Nøgletal 2.1","Defintion:\nVarigheden er opgjort som den gennemsnitlige varighed af igangværende døgninstitutionsanbringelser.\n\nDatakilde:\nStatistikken Børn og Unge anbragte forløbsregister (BUAF).\n\nLovgrundlag:\n§ 52, stk. 3, nr. 7, \n§ 58, jf. § 66, stk. 1, nr. 6-7 \n§ 68a\n§ 68b\n§75, stk. 1 (SEL)\n§74a (Straffeloven)\n§78, stk. 2 (Straffe-fuldbyrdelsesloven)\n§765 (Retsplejeloven)\n§ 14 (Lov om bekæmpelse af ungdomskriminalitet)\n§ 15 (lov om bekæmpelse af ungdomskriminalitet)\n§ 23 (Lov om bekæmpelse af ungdomskriminalitet)"]
[null,"Info_NT9","Registerdata + Nøgletalsanalyse","Nøgletal 2.2","Defintion:\nVarigheden er opgjort som den gennemsnitlige varighed af igangværende anbringelser på sikrede døgninstitutioner.\n\nDatakilde:\nStatistikken Børn og Unge anbragte forløbsregister (BUAF).\n\nLovgrundlag:\n§ 52, stk. 3, nr. 7, \n§ 58, jf. § 66, stk. 1, nr. 6-7 \n§ 68a\n§ 68b\n§75, stk. 1 (SEL)\n§74a (Straffeloven)\n§78, stk. 2 (Straffe-fuldbyrdelsesloven)\n§765 (Retsplejeloven)\n§ 14 (Lov om bekæmpelse af ungdomskriminalitet)\n§ 16 (Lov om bekæmpelse af ungdomskriminalitet)\n§ 17 (Lov om bekæmpelse af ungdomskriminalitet)\n§ 23 (Lov om bekæmpelse af ungdomskriminalitet)"]
[null,"Info_NT10","Registerdata + Nøgletalsanalyse","Nøgletal 2.3","Defintion:\nVarigheden er opgjort som den gennemsnitlige varighed af anbringelser på socialpædagogiske opholdssteder.\n\nDatakilde:\nStatistikken Børn og Unge anbragte forløbsregister (BUAF).\n\nLovgrundlag:\n§ 52, stk. 3, nr. 7, \n§ 58, jf. § 66, stk. 1, nr. 6-7 \n§ 68a\n§ 68b\n§75, stk. 1 (SEL)\n§74a (Straffeloven)\n§78, stk. 2 (Straffe-fuldbyrdelsesloven)\n§765 (Retsplejeloven)\n§ 14 (Lov om bekæmpelse af ungdomskriminalitet)\n§ 23 (Lov om bekæmpelse af ungdomskriminalitet)"]
[null,"Info_NT11","Registerdata + Nøgletalsanalyse","Nøgletal 3","Defintion:\nAndelen er opgjort som antal børn og unge (0-17 år), der er anbragt i plejefamilie pr. 1.000 0-17-årige indbyggere.\n\nDatakilde:\nStatistikken Børn og Unge anbragte forløbsregister (BUAF).\n\nLovgrundlag:\n§ 52, stk. 3, nr. 7\n§ 58, jf. § 66, stk. 1, nr. 1-3 \n§ 68a\n§ 68b\n§75, stk. 1 (SEL)\n§ 14 (Lov om bekæmpelse af ungdomskriminalitet)\n§ 23 (Lov om bekæmpelse af ungdomskriminalitet)"]
[null,"Info_NT12","Registerdata + Nøgletalsanalyse","Nøgletal 4","Defintion:\nAndelen er opgjort som antal børn og unge (0-17 år), der er anbragt i netværksplejefamilier pr. 1.000 0-17-årige indbyggere.\n\nDatakilde:\nStatistikken Børn og Unge anbragte forløbsregister (BUAF).\n\nLovgrundlag:\n§ 52, stk. 3, nr. 7,\n§ 58, jf. § 66, stk. 1, nr. 4 \n§ 68a\n§ 68b\n§75, stk. 1 (SEL)\n§ 14 (Lov om bekæmpelse af ungdomskriminalitet)\n§ 23 (Lov om bekæmpelse af ungdomskriminalitet)"]
[null,"Info_NT13","Registerdata + Nøgletalsanalyse","Nøgletal 5","Defintion:\nAndelen er opgjort som antal modtagere af hjemmebaserede foranstaltninger i alt pr. 1000 0-17-årig.\n\nDatakilde:\nStatistikkerne Børn og Unge anbragte forløbsregister (BUAF) og Børn og unge forebyggende foranstaltninger (BUFO).\n\nLovgrundlag:\nDøgnophold:\n§ 52, stk. 3 nr. 4\nHjemmebaserede anbringelser:\nEget værelse, kollegium, kollegielignende opholdssted\nKost- og eller efterskole\nForældrerettede indsatser:\n§ 54\n§ 52a, stk. 1 nr. 3\nForebyggende foranstaltninger (resterende ud over døgnophold og forældrerettede indsatser):\n§ 52, stk. 3 nr. 1\n§ 52, stk. 3 nr. 2\n§ 52, stk. 3 nr. 3\n§ 52, stk. 3 nr. 6\n§ 52, stk. 3 nr. 9\n§ 52a, stk. 1 nr. 1\n§ 52a, stk. 1 nr. 2\n§ 52, stk. 3 nr. 5\n§ 55, stk. 2 (fra 2016)\n§ 52, stk. 3 nr. 6\n§ 52, stk. 3 nr. 3 (fra 2015)\n§ 52, stk. 3 nr. 6\n§ 52, stk. 3 nr. 8\n§ 54a\n§ 57a\n§ 57b\n§ 57c"]
[null,"Info_NT14","Registerdata + Nøgletalsanalyse","Nøgletal 5.1","Defintion:\nAndelen er opgjort som antal modtagere af døgnophold for både forældremyndighedsindehaveren, barnet eller den unge og andre medlemmer af familien pr. 1000 0-17-årig.\n\nDatakilde:\nStatistikken Børn og Unge anbragte forløbsregister (BUAF).\n\nLovgrundlag:\n§ 52, stk. 3, nr. 4 (SEL)\n§ 14 (Lov om bekæmpelse af ungdomskriminalitet)\n§ 23 (Lov om bekæmpelse af ungdomskriminalitet)"]
[null,"Info_NT15","Registerdata + Nøgletalsanalyse","Nøgletal 5.2","Defintion:\nAndelen er opgjort som antal modtagere af hjemmebaserede anbringelser pr. 1000 0-17-årige.\n\nDatakilde:\nStatistikken Børn og Unge anbragte forløbsregister (BUAF).\n\nLovgrundlag:\n§ 52, stk. 3, nr. 7, \n§ 58, jf.§ 66, stk. 1, nr. 4 \n§ 68a\n§ 68b\n§75, stk. 1 (SEL)\n§ 14 (Lov om bekæmpelse af ungdomskriminalitet)\n§ 23 (Lov om bekæmpelse af ungdomskriminalitet)"]
[null,"Info_NT16","Registerdata + Nøgletalsanalyse","Nøgletal 5.3","Defintion:\nAndelen er opgjort som antal børn og unge, der modtager forebyggende foranstaltninger pr. 1.000 0-17-årig [Eksklusiv 5.1 og 5.4]\n\nDatakilde:\nStatistikken Børn og Unge anbragte forløbsregister (BUAF).\n\nLovgrundlag:\n§ 52, stk. 3, nr. 1-3 og 5-6 samt 8-9\n§ 52a, stk. 1, nr. 1-2 \n§ 57a\n§ 57b (SEL)\n§ 12 (Lov om bekæmpelse af ungdomskriminalitet)\n§ 13 (Lov om bekæmpelse af ungdomskriminalitet)"]
[null,"Info_NT17","Registerdata + Nøgletalsanalyse","Nøgletal 5.4","Defintion:\nAndelen er opgjort som antal modtagere af forældrerettede indsatser under barnets eller den unges anbringelse pr. 1.000 0-17-årig\n\nDatakilde:\nStatistikken Børn og Unge anbragte forløbsregister (BUAF).\n\nLovgrundlag:\n§ 52a, stk. 1, nr. 3 \n§ 54"]
[null,"Info_NT18","Indtastningsark + Nøgletalsanalyse","Nøgletal 6","Definition:\nAndelen er opjort som det samlede antal § 11, stk. 3-tilbud  (enten myndigheds- eller ikke-myndighedsbevilgede) pr. 1.000 0-17-årig.\n\nDatakilde:\nKommunernes egne indtastninger.\n\nLovgrundlag:\n§ 11, stk. 3 (SEL)\n"]
[null,"Info_NT19","Indtastningsark + Nøgletalsanalyse","Nøgletal 6.1","Definition:\nAndelen er opjort som det samlede antal myndighedsbevilgede § 11, stk. 3-tilbud pr. 1.000 0-17-årig.\n\nDatakilde:\nKommunernes egne indtastninger.\n\nLovgrundlag:\n§ 11, stk. 3 (SEL)"]
[null,"Info_NT20","Indtastningsark + Nøgletalsanalyse","Nøgletal 6.2","Definition:\nAndelen er opjort som det samlede antal øvrige (ikke-myndighedsbevilgede) § 11, stk. 3-tilbud pr. 1.000 0-17-årig.\n\nDatakilde:\nKommunernes egne indtastninger.\n\nLovgrundlag:\n§ 11, stk. 3 (SEL)"]
[null,"Info_NT21","Registerdata + Nøgletalsanalyse","Nøgletal 7","Defintion:\nAndel børn og unge der ved sidste nedslagsdato var institutionsanbragt eller anbragt på socialpædagogiske opholdssteder, og som nu ikke er anbragte på denne vis.\n\nDatakilde:\nStatistikken Børn og Unge anbragte forløbsregister (BUAF).\n\nLovgrundlag ved sidste nedslagsdato:\n§ 52, stk. 3, nr. 7, \n§ 58, jf. § 66, stk. 1, nr. 6-7 \n§ 68a\n§ 68b\n§75, stk. 1 (SEL)\n§74a (Straffeloven)\n§78, stk. 2 (Straffe-fuldbyrdelsesloven)\n§765 (Retsplejeloven)\n§ 14 (Lov om bekæmpelse af ungdomskriminalitet)\n§ 15 (Lov om bekæmpelse af ungdomskriminalitet)\n§ 16 (Lov om bekæmpelse af ungdomskriminalitet)\n§ 17 (Lov om bekæmpelse af ungdomskriminalitet)\n§ 23 (Lov om bekæmpelse af ungdomskriminalitet)\n\nVed den aktuelle nedslagsdato er anbringelsesstedtypen forskellig fra de ovenstående – dvs. barnet kan nu være anbragt i en anden form såsom anbringelse ved plejefamilie, netværksplejefamilie, kost- og efterskole, eget værelse, kollegium, kollegielignende opholdssted eller døgnophold. Alternativt er barnet ikke længere anbragt, men kan modtage forebyggende foranstaltninger. "]
[null,"Info_NT22","Registerdata + Nøgletalsanalyse","Nøgletal 7.1","Defintion:\nAndel børn og unge der ved sidste nedslagsdato var institutionsanbragt eller anbragt på socialpædagogiske opholdssteder, men som ved denne måling er anbragt i anden form.\n\nDatakilde:\nStatistikken Børn og Unge anbragte forløbsregister (BUAF).\n\nLovgrundlag ved sidste nedslagsdato:\nLovgrundlag ved sidste nedslagsdato:\n§ 52, stk. 3, nr. 7, \n§ 58, jf. § 66, stk. 1, nr. 6-7 \n§ 68a\n§ 68b\n§75, stk. 1 (SEL)\n§74a (Straffeloven)\n§78, stk. 2 (Straffe-fuldbyrdelsesloven)\n§765 (Retsplejeloven)\n§ 14 (Lov om bekæmpelse af ungdomskriminalitet)\n§ 15 (Lov om bekæmpelse af ungdomskriminalitet)\n§ 16 (Lov om bekæmpelse af ungdomskriminalitet)\n§ 17 (Lov om bekæmpelse af ungdomskriminalitet)\n§ 23 (Lov om bekæmpelse af ungdomskriminalitet)\n\nLovgrundlag ved den aktuelle nedslagsdato:\n§ 52, stk. 3, nr. 4, \n§ 58, jf. § 66, stk. 1, nr. 1-5 \n§ 68a \n§ 68b\n§75, stk. 1 (SEL)\n§ 14 (Lov om bekæmpelse af ungdomskriminalitet)\n§ 23 (Lov om bekæmpelse af ungdomskriminalitet)"]
[null,"Info_NT23","Registerdata + Nøgletalsanalyse","Nøgletal 7.2","Defintion:\nAndel børn og unge der ved sidste nedslagsdato var institutionsanbragt eller anbragt på socialpædagogiske opholdssteder, men som ved denne måling ikke er anbragt.\n\nDatakilde:\nStatistikken Børn og Unge anbragte forløbsregister (BUAF).\n\nLovgrundlag ved sidste nedslagsdato:\n§ 52, stk. 3, nr. 7, \n§ 58, jf. § 66, stk. 1, nr. 6-7 \n§ 68a\n§ 68b\n§75, stk. 1 (SEL)\n§74a (Straffeloven)\n§78, stk. 2 (Straffe-fuldbyrdelsesloven)\n§765 (Retsplejeloven)\n§ 14 (Lov om bekæmpelse af ungdomskriminalitet)\n§ 15 (Lov om bekæmpelse af ungdomskriminalitet)\n§ 16 (Lov om bekæmpelse af ungdomskriminalitet)\n§ 17 (Lov om bekæmpelse af ungdomskriminalitet)\n§ 23 (Lov om bekæmpelse af ungdomskriminalitet)\nVed den aktuelle nedslagsdato:\nBarnet er ikke længere anbragt, men kan modtage følgende paragrafkoder (PGF):\n\nForebyggende foranstaltninger (ekskl. døgnophold og forældrerettede indsatser):\n• 406: § 52, stk. 3 nr. 1\n• 415: § 52, stk. 3 nr. 2\n• 420: § 52, stk. 3 nr. 3\n• 430: § 52, stk. 3 nr. 6\n• 440: § 52, stk. 3 nr. 9\n• 445: § 52a, stk. 1 nr. 1\n• 450: § 52a, stk. 1 nr. 2\n• 210: § 52, stk. 3 nr. 5\n• 215: § 55, stk. 2 (fra 2016)\n• 220: § 52, stk. 3 nr. 6\n• 225: § 52, stk. 3 nr. 3 (fra 2015)\n• 230: § 52, stk. 3 nr. 6\n• 240: § 52, stk. 3 nr. 8\n• 245: § 54a\n• 455: § 57a\n• 260: § 57b\n• 274: § 57c"]
[null,"Info_NT24","Registerdata + Nøgletalsanalyse","Nøgletal 8","Defintion:\nAndelen af børn og unge, der ved sidste nedslagsdato modtog en hjemmebaseret foranstaltning, og ikke var anbragt, som på opgørelsestidspunktet er anbragt uden for hjemmet.\n\nDatakilde:\nStatistikken Børn og Unge anbragte forløbsregister (BUAF).\n\nLovgrundlag ved sidste nedslagsdato:\n§ 52, stk. 3, nr. 1-6 og 8-9\n§ 52a, stk. 1-2 \n§ 57a\n§ 57b\n§ 57c\n§ 66, stk 1, nr. 4 (SEL)\n§ 12 (Lov om bekæmpelse af ungdomskriminalitet)\n§ 13 (Lov om bekæmpelse af ungdomskriminalitet)\n\nParagrafkoder (PGF) og anbringelsesstedtyper (ANSTED_KLAS) som er inkluderet i opgørelsen ved den aktuelle nedslagsdato:\nDøgnophold:\n• 425: § 52, stk. 3 nr. 4\nHjemmebaserede anbringelser:\n• 6: Eget værelse, kollegium, kollegielignende opholdssted\n• 11: Kost- og eller efterskole\nForældrerettede indsatser:\n• 435: § 54\n• 451: § 52a, stk. 1 nr. 3\nAnbringelser trin 4-6:\n• 1: Netværksplejefamilie (inkl. Slægtsanbringelse)\n• 2: Almindelig plejefamilie, generelt godkendt\n• 3: Almindelig plejefamilie, konkret godkendt (frem til 30-06-2019)\n• 4: Kommunal plejefamilie, generelt godkendt\n• 5: Kommunal plejefamilie, konkret godkendt (frem til 30-06-2019)\n• 14: Almindelig plejefamilie (frem til 31-12-2014)\n• 15: Kommunal plejefamilie (fra 01-01-2011)\n• 21: Almen plejefamilie (fra 01-07-2019)\n• 23: Forstærket plejefamilie (fra 01-07-2019)\n• 25: Specialiseret plejefamilie (fra 01-07-2019) \n• 6: Eget værelse, kollegium, kollegielignende opholdssted\n• 11: Kost- og eller efterskole\n• 9: Døgninstitution, almindelig afdeling\n• 7: Delvis lukket døgninstitution eller delvis lukket afdeling på åben døgninstitution\n• 8: Døgninstitution, sikret afdeling\n• 12: Socialpædagogisk opholdssted \n• 13: Skibsprojekt"]
[null,"Info_NT25","Registerdata + Nøgletalsanalyse","Nøgletal 9","Definition:\nAndelen af børn og unge, der ved sidste nedslagsdato modtog en hjemmebaseret foranstaltning, som på opgørelsestidspunktet hverken modtager en hjemmebaseret foranstaltning eller er anbragt uden for hjemmet.\n\nDatakilde:\nStatistikken Børn og Unge anbragte forløbsregister (BUAF).\n\nLovgrundlag ved sidste nedslagsdato:\n§ 52, stk. 3, nr. 1-6 og 8-9\n§ 52a \n§ 54 \n§ 57a\n§ 57b\n§ 57c\n§ 66, stk.1, nr. 4 (SEL)\n§ 12 (Lov om bekæmpelse af ungdomskriminalitet)\n§ 13 (Lov om bekæmpelse af ungdomskriminalitet)\n§ 14 (Lov om bekæmpelse af ungdomskriminalitet)\n§ 23 (Lov om bekæmpelse af ungdomskriminalitet)\n\nVed den aktuelle nedslagsdato:\nModtager ikke hjemmebaseret foranstaltning og er ikke anbragt."]
[null,"Info_NT26","Indtastningsark + Nøgletalsanalyse","Nøgletal 10","Definition:\nAndel børn og unge, der har modtaget en § 11, stk. 3-indsats  (enten myndigheds- eller ikke-myndighedsbevilgede) i løbet af forrige halvår, hvor der i løbet af seneste halvår træffes en afgørelse om en § 50 undersøgelse.\n\nDatakilde:\nStatistikken Børn og Unge anbragte forløbsregister (BUAF).\n\nLovgrundlag:\n§ 11, stk. 3 (SEL)\n\nDenne måling:\nAfgørelser om § 50 undersøgelser.\n\nLovgrundlag:\n§ 50 (SEL)"]
[null,"Info_NT27","Indtastningsark + Nøgletalsanalyse","Nøgletal 10.1","Definition:\nAndel børn og unge, der har modtaget en myndighedsbevilget § 11, stk. 3-indsats i løbet af forrige halvår, hvor der i løbet af seneste halvår træffes en afgørelse om en § 50 undersøgelse.\n\nDatakilde:\nStatistikken Børn og Unge anbragte forløbsregister (BUAF).\n\nLovgrundlag:\n§ 11, stk. 3 (SEL)\n\nDenne måling:\nAfgørelser om § 50 undersøgelser.\n\nLovgrundlag:\n§ 50 (SEL)"]
[null,"Info_NT28","Indtastningsark + Nøgletalsanalyse","Nøgletal 10.2","Definition:\nAndel børn og unge, der har modtaget en ikke-myndighedsbevilgede § 11, stk. 3-indsats i løbet af forrige halvår, hvor der i løbet af seneste halvår træffes en afgørelse om en § 50 undersøgelse.\n\nDatakilde:\nStatistikken Børn og Unge anbragte forløbsregister (BUAF).\n\nLovgrundlag:\n§ 11, stk. 3 (SEL)\n\nDenne måling:\nAfgørelser om § 50 undersøgelser.\n\nLovgrundlag:\n§ 50 (SEL)"]
[null,"Info_NT29","Indtastningsark + Nøgletalsanalyse","Nøgletal 11.1","Definition:\nGennemsnitlig antal opfølgninger pr. institutionsanbringelser og anbringelser på socialpædagogiske opholdssteder:\n- Delvis lukket døgninstitution eller delvis lukket afdeling på åben døgninstitution\n- Døgninstitution, sikret afdeling\n- Døgninstitution, almindelig afdeling\n- Socialpædagogisk opholdssted\n- Skibsprojekt\n\nDatakilde:\nKommunernes egne indtastninger.\n\nLovgrundlag:\n§ 52, stk. 3, nr. 7, \n§ 58, jf. § 66, stk. 1, nr. 5-6 \n§75, stk. 1 (SEL)\n\n§74a (Straffeloven)\n§78, stk. 2 (straffe-fuldbyrdelsesloven)\n§765 (retsplejeloven)"]
[null,"Info_NT30","Indtastningsark + Nøgletalsanalyse","Nøgletal 11.2","Definition:\nGennemsnitlig antal opfølgninger pr. anbringelser i plejefamilier (inden for året).\nAnbragte i almindelige og kommunale plejefamilier (generelt og konkret godkendte) samt netværksplejefamilier.\n\nDatakilde:\nKommunernes egne indtastninger.\n\nLovgrundlag:\n§ 52, stk. 3, nr. 7\n§ 58, jf. § 66, stk. 1, nr. 1-3 \n§75, stk. 1 (SEL)\n\n§765 (retsplejeloven)"]
[null,"Info_NT31","Indtastningsark + Nøgletalsanalyse","Nøgletal 11.3","Definition:\nGennemsnitlig antal opfølgninger pr. hjemmebaserede foranstaltning  (inden for året). Modtagere af hjemmebaserede foranstaltninger:\n- Døgnophold for både forældremyndighedsinde-haveren, barnet eller den unge og andre medlemmer af familien\n- Eget værelse, kollegium, kollegielignende opholdssted\n- Kost- og efterskole \n- Forebyggende foranstaltninger\n- Familierettede indsatser under anbringelse\n\nDatakilde:\nKommunernes egne indtastninger.\n\nLovgrundlag:\n§ 52, stk. 3, nr. 1-6 og 8-9\n§ 52a \n§ 54 \n§ 57a\n§ 57b\n§ 66, stk.1, nr. 4 (SEL)"]
[null,"Info_NT32",null,"NT 11","Definition: Gennemsnitlig antal opfølgninger pr. institutionsanbringelser og anbringelser på socialpædagogiske opholdssteder:\n- Delvis lukket døgninstitution eller delvis lukket afdeling på åben døgninstitution\n- Døgninstitution, sikret afdeling\n- Døgninstitution, almindelig afdeling\n- Socialpædagogisk opholdssted\n- Skibsprojekt\n\nDatakilde:\nKommunernes egne indtastninger.\n\nLovgrundlag:\n§ 52, stk. 3, nr. 7, \n§ 58, jf. § 66, stk. 1, nr. 5-6 \n§75, stk. 1 (SEL)\n\n§74a (Straffeloven)\n§78, stk. 2 (straffe-fuldbyrdelsesloven)\n§765 (retsplejeloven)\n\nDefinition: Gennemsnitlig antal opfølgninger pr. anbringelser i plejefamilier (inden for året).\nAnbragte i almindelige og kommunale plejefamilier (generelt og konkret godkendte) samt netværksplejefamilier.\n\nDatakilde:\nKommunernes egne indtastninger.\n\nLovgrundlag:\n§ 52, stk. 3, nr. 7\n§ 58, jf. § 66, stk. 1, nr. 1-3 \n§75, stk. 1 (SEL)\n\n§765 (retsplejeloven)\n\nDefinition: Gennemsnitlig antal opfølgninger pr. hjemmebaserede foranstaltning  (inden for året). Modtagere af hjemmebaserede foranstaltninger:\n- Døgnophold for både forældremyndighedsinde-haveren, barnet eller den unge og andre medlemmer af familien\n- Eget værelse, kollegium, kollegielignende opholdssted\n- Kost- og efterskole \n- Forebyggende foranstaltninger\n- Familierettede indsatser under anbringelse\n\nDatakilde:\nKommunernes egne indtastninger.\n\nLovgrundlag:\n§ 52, stk. 3, nr. 1-6 og 8-9\n§ 52a \n§ 54 \n§ 57a\n§ 57b\n§ 66, stk.1, nr. 4 (SEL)"]
[null,"Info_NT33"]

{"sheet":"Data","index":9,"n_rows":1771,"n_cols":39,"rows_kept":1771,"cut":false,"hidden":true,"merged":[]}
[]
[]
[null,"Nødvendige data og hjælpeark"]
[]
[null,null,2,3,4,5,6,7,8,9,10,11,12,13,14,15,16,17,18,19,20,21,22,23,24,25,26,27,28,29,30,31,32,33,34,35,36,37,38]
[null,"Nøgletal",null,null,1,"1.1","1.2","1.3",2,"2.1","2.2","2.3",3,4,5,"5.1","5.2","5.3","5.4",6,"6.1","6.2",7,7,"7.1","7.1","7.2","7.2",8,8,9,9,10,10,"10.1","10.1","10.2","10.2"]
[null,"Kommune","Antal indbyggere","Dato","Antal institutionsanbragte ","Antal anbragte på døgninstitution","Antal anbragte på sikret døgninstitution","Antal anbragte på socialpædagogiske opholdssteder","Varighed igangværende institutionsanbringelser","Varighed igangværende anbringelser på døgninstitution","Varighed igangværende anbringelser på sikret døgninstitution","Varighed igangværende anbringelser på socialpædagogisk opholdssted","Antal anbragte i plejefamilier","Antal anbragte i netværksplejefamilier","Antal modtagere af hjemmebaserede foranstaltninger","Antal modtagere af døgnophold","Antal modtagere af hjemmebaserede anbringelser","Antal modtagere af forebyggende foranstaltninger","Antal modtagere af forældrerettede indsatser","Forebyggende indsatser (§ 11, stk. 3-tilbud)","Myndighedsbevilgede § 11, stk. 3-tilbud (pr. 1.000 0-17-årige)","Øvrige § 11, stk. 3-tilbud (pr. 1.000 0-17-årige)","Antal institutionsanbragte 0-17 årige, og som nu ikke er anbragt på denne form","Antal institutionsanbragte 0-17 årige pr. forrige opgørelse","0-17 årige, der ved sidste opgørelse var institutionsanbragt, men nu er anbragt i anden form","Antal 0-17-årige institutionsanbragte forrige opgørelse","0-17 årige, der ved sidste opgørelse var institutionsanbragt, men nu ikke er anbragt","Antal 0-17-årige institutionsanbragte forrige opgørelse","0-17-årige, der ved sidste opgørelse modtog en hjemmebaseret foranstaltning, som nu er anbragt","Antal 0-17-årige, der modtog hjemmebaseret foranstaltning, og ikke var anbragt pr. forrige opgørelse","0-17-årige, der ved sidste opgørelse modtog hjemmebaseret foranstaltning, men som nu hverken modtager hjemmebaseret foranstaltning eller er anbragt","Antal 0-17-årige som ved forrige opgørelse modtog hjemmebaseret foranstaltning","Andel børn og unge, der har modtaget en § 11, stk. 3-indsats inden for de første 6 måneder af året, hvor der efterfølgende træffes en afgørelse om en § 50 undersøgelse i alt","Antal 0-17-årige der inden for de første 6 måneder har påbegyndt en § 11, stk. 3-indsats","Børn der har modtaget en myndighedsbevilget § 11, stk. 3-indsats inden for de første 6 måneder af året, hvor der efterfølgende træffes en afgørelse om en § 50 undersøgelse","Antal 0-17-årige der inden for de første 6 måneder har påbegyndt en myndighedsbevilget § 11, stk. 3-indsats","Børn der har modtaget en ikke-myndighedsbevilget § 11, stk. 3-indsats inden for de første 6 måneder af året, hvor der efterfølgende træffes en afgørelse om en § 50 undersøgelse","Antal 0-17-årige der inden for de første 6 måneder har påbegyndt en ikke-myndighedsbevilget § 11, stk. 3-indsats","Region"]
[null,"København",102902,"2015-07-01",251,195,7,49,196642,147614,2886,46142,388,113,1929,"*",21,1892,"*",null,null,null,null,null,null,null,null,null,null,null,null,null,null,null,null,null,null,null,"Region Hovedstaden"]
[null,"Frederiksberg",18190,"2015-07-01",54,45,"*","*",44216,37228,"*","*",39,3,187,0,5,177,5,null,null,null,null,null,null,null,null,null,null,null,null,null,null,null,null,null,null,null,"Region Hovedstaden"]
[null,"Ballerup",10478,"2015-07-01",0,"*","*",26,28005,"*","*",18913,40,5,345,"*","*",333,6,null,null,null,null,null,null,null,null,null,null,null,null,null,null,null,null,null,null,null,"Region Hovedstaden"]
[null,"Brøndby",7314,"2015-07-01",39,20,4,15,25296,8561,"*","*",55,8,136,"*","*",128,"*",null,null,null,null,null,null,null,null,null,null,null,null,null,null,null,null,null,null,null,"Region Hovedstaden"]
[null,"Dragør",3167,"2015-07-01","*","*",0,0,"*","*","*","*",3,0,28,0,0,28,0,null,null,null,null,null,null,null,null,null,null,null,null,null,null,null,null,null,null,null,"Region Hovedstaden"]
[null,"Gentofte",17191,"2015-07-01",27,21,0,6,22946,19017,"*",3929,22,5,130,3,"*",124,"*",null,null,null,null,null,null,null,null,null,null,null,null,null,null,null,null,null,null,null,"Region Hovedstaden"]
[null,"Gladsaxe",15067,"2015-07-01",33,12,0,21,33749,11980,"*",21769,44,8,310,"*","*",301,"*",null,null,null,null,null,null,null,null,null,null,null,null,null,null,null,null,null,null,null,"Region Hovedstaden"]
[null,"Glostrup",4492,"2015-07-01",6,"*","*","*",4427,"*","*","*",16,4,43,"*","*","*","*",null,null,null,null,null,null,null,null,null,null,null,null,null,null,null,null,null,null,null,"Region Hovedstaden"]
[null,"Herlev",6283,"2015-07-01",25,18,0,7,18888,14228,"*",4660,21,8,97,"*",4,89,"*",null,null,null,null,null,null,null,null,null,null,null,null,null,null,null,null,null,null,null,"Region Hovedstaden"]
[null,"Albertslund",6225,"2015-07-01",33,22,"*","*",26870,20458,"*","*",33,4,129,0,3,115,11,null,null,null,null,null,null,null,null,null,null,null,null,null,null,null,null,null,null,null,"Region Hovedstaden"]
[null,"Hvidovre",11461,"2015-07-01",32,"*","*",20,22312,"*","*",14648,36,7,237,"*",7,227,"*",null,null,null,null,null,null,null,null,null,null,null,null,null,null,null,null,null,null,null,"Region Hovedstaden"]
[null,"Høje-Taastrup",11191,"2015-07-01",46,12,3,31,54397,"*","*",34472,41,3,224,0,5,209,10,null,null,null,null,null,null,null,null,null,null,null,null,null,null,null,null,null,null,null,"Region Hovedstaden"]
[null,"Lyngby-Taarbæk",11835,"2015-07-01",20,9,0,11,14561,9327,"*",5234,19,6,163,"*","*",158,"*",null,null,null,null,null,null,null,null,null,null,null,null,null,null,null,null,null,null,null,"Region Hovedstaden"]
[null,"Rødovre",7906,"2015-07-01",15,3,0,12,19073,"*","*","*",44,9,124,"*","*",117,"*",null,null,null,null,null,null,null,null,null,null,null,null,null,null,null,null,null,null,null,"Region Hovedstaden"]
[null,"Ishøj",5096,"2015-07-01",39,7,0,32,32284,9996,"*",22288,25,4,157,"*","*","*","*",null,null,null,null,null,null,null,null,null,null,null,null,null,null,null,null,null,null,null,"Region Hovedstaden"]
[null,"Tårnby",9274,"2015-07-01",13,7,0,6,11445,5461,"*",5984,29,9,97,"*","*","*","*",null,null,null,null,null,null,null,null,null,null,null,null,null,null,null,null,null,null,null,"Region Hovedstaden"]
[null,"Vallensbæk",3677,"2015-07-01",9,"*","*","*",3403,"*","*","*",7,0,50,"*","*","*","*",null,null,null,null,null,null,null,null,null,null,null,null,null,null,null,null,null,null,null,"Region Hovedstaden"]
[null,"Furesø",9523,"2015-07-01",17,7,0,10,7063,3357,"*",3706,22,5,114,"*","*",110,"*",null,null,null,null,null,null,null,null,null,null,null,null,null,null,null,null,null,null,null,"Region Hovedstaden"]
[null,"Allerød",6039,"2015-07-01",17,5,0,12,8200,4592,"*",3608,5,"*",57,"*","*","*","*",null,null,null,null,null,null,null,null,null,null,null,null,null,null,null,null,null,null,null,"Region Hovedstaden"]
[null,"Fredensborg",8936,"2015-07-01",15,9,"*","*",8610,5822,"*","*",19,8,205,"*","*","*","*",null,null,null,null,null,null,null,null,null,null,null,null,null,null,null,null,null,null,null,"Region Hovedstaden"]
[null,"Helsingør",12693,"2015-07-01",47,"*","*",24,57579,"*","*",28770,61,9,284,0,6,267,11,null,null,null,null,null,null,null,null,null,null,null,null,null,null,null,null,null,null,null,"Region Hovedstaden"]
[null,"Hillerød",11356,"2015-07-01",24,9,0,15,22397,5283,"*",17114,32,5,203,"*","*",192,5,null,null,null,null,null,null,null,null,null,null,null,null,null,null,null,null,null,null,null,"Region Hovedstaden"]
[null,"Hørsholm",5297,"2015-07-01",7,3,0,4,3387,"*","*","*",10,"*",47,0,3,44,0,null,null,null,null,null,null,null,null,null,null,null,null,null,null,null,null,null,null,null,"Region Hovedstaden"]
[null,"Rudersdal",12827,"2015-07-01",33,26,0,7,26619,23901,"*",2718,28,4,179,"*",6,169,"*",null,null,null,null,null,null,null,null,null,null,null,null,null,null,null,null,null,null,null,"Region Hovedstaden"]
[null,"Egedal",10572,"2015-07-01",19,9,0,10,14382,6183,"*",8199,22,3,176,0,3,167,6,null,null,null,null,null,null,null,null,null,null,null,null,null,null,null,null,null,null,null,"Region Hovedstaden"]
[null,"Frederikssund",9567,"2015-07-01",19,5,0,14,23798,13483,"*",10315,38,6,237,0,7,223,7,null,null,null,null,null,null,null,null,null,null,null,null,null,null,null,null,null,null,null,"Region Hovedstaden"]
[null,"Greve",10910,"2015-07-01",27,"*","*",17,16767,"*","*",9261,39,5,215,6,"*",204,"*",null,null,null,null,null,null,null,null,null,null,null,null,null,null,null,null,null,null,null,"Region Sjælland"]
[null,"Køge",13147,"2015-07-01",34,18,"*","*",20064,11222,"*","*",46,5,194,"*",3,187,"*",null,null,null,null,null,null,null,null,null,null,null,null,null,null,null,null,null,null,null,"Region Sjælland"]
[null,"Halsnæs",5920,"2015-07-01",40,22,0,18,33618,19274,"*",14344,33,6,131,"*","*",124,3,null,null,null,null,null,null,null,null,null,null,null,null,null,null,null,null,null,null,null,"Region Hovedstaden"]
[null,"Roskilde",18144,"2015-07-01",64,35,0,29,66333,39207,"*",27126,68,7,283,0,11,269,3,null,null,null,null,null,null,null,null,null,null,null,null,null,null,null,null,null,null,null,"Region Sjælland"]
[null,"Solrød",5094,"2015-07-01",14,4,0,10,11578,"*","*","*",11,0,67,"*","*","*","*",null,null,null,null,null,null,null,null,null,null,null,null,null,null,null,null,null,null,null,"Region Sjælland"]
[null,"Gribskov",8165,"2015-07-01",23,15,0,8,20945,13607,"*",7338,13,11,226,0,8,218,0,null,null,null,null,null,null,null,null,null,null,null,null,null,null,null,null,null,null,null,"Region Hovedstaden"]
[null,"Odsherred",5579,"2015-07-01",30,16,"*","*",22371,11689,"*","*",48,9,255,"*","*",244,8,null,null,null,null,null,null,null,null,null,null,null,null,null,null,null,null,null,null,null,"Region Sjælland"]
[null,"Holbæk",15072,"2015-07-01",47,14,0,33,43979,16123,"*",27856,94,14,293,"*","*",275,13,null,null,null,null,null,null,null,null,null,null,null,null,null,null,null,null,null,null,null,"Region Sjælland"]
[null,"Faxe",7249,"2015-07-01",21,4,0,17,18745,"*","*","*",42,10,171,"*","*",166,"*",null,null,null,null,null,null,null,null,null,null,null,null,null,null,null,null,null,null,null,"Region Sjælland"]
[null,"Kalundborg",9772,"2015-07-01",48,28,0,20,41456,27739,"*",13717,96,10,234,"*","*",223,"*",null,null,null,null,null,null,null,null,null,null,null,null,null,null,null,null,null,null,null,"Region Sjælland"]
[null,"Ringsted",7316,"2015-07-01",28,15,0,13,20227,9985,"*",10242,38,3,171,"*","*",165,"*",null,null,null,null,null,null,null,null,null,null,null,null,null,null,null,null,null,null,null,"Region Sjælland"]
[null,"Slagelse",15292,"2015-07-01",48,"*","*",35,49968,"*","*",35520,129,15,266,0,6,254,6,null,null,null,null,null,null,null,null,null,null,null,null,null,null,null,null,null,null,null,"Region Sjælland"]
[null,"Stevns",4305,"2015-07-01",17,10,0,7,20569,10961,"*",9608,23,"*",78,0,"*",75,"*",null,null,null,null,null,null,null,null,null,null,null,null,null,null,null,null,null,null,null,"Region Sjælland"]
[null,"Sorø",6384,"2015-07-01",19,"*","*",15,16098,"*","*",13371,31,7,184,"*",17,162,"*",null,null,null,null,null,null,null,null,null,null,null,null,null,null,null,null,null,null,null,"Region Sjælland"]
[null,"Lejre",6198,"2015-07-01",17,8,0,9,10001,6577,"*",3424,9,"*",130,"*","*","*","*",null,null,null,null,null,null,null,null,null,null,null,null,null,null,null,null,null,null,null,"Region Sjælland"]
[null,"Lolland",7293,"2015-07-01",45,"*","*",28,42980,"*","*",30112,168,16,174,"*","*",161,"*",null,null,null,null,null,null,null,null,null,null,null,null,null,null,null,null,null,null,null,"Region Sjælland"]
[null,"Næstved",16732,"2015-07-01",75,"*","*",37,87670,"*","*",46410,75,10,242,3,9,223,7,null,null,null,null,null,null,null,null,null,null,null,null,null,null,null,null,null,null,null,"Region Sjælland"]
[null,"Guldborgsund",10811,"2015-07-01",59,17,0,42,47399,18795,"*",28604,132,12,245,"*",10,231,"*",null,null,null,null,null,null,null,null,null,null,null,null,null,null,null,null,null,null,null,"Region Sjælland"]
[null,"Vordingborg",8546,"2015-07-01",40,14,0,26,31174,14342,"*",16832,82,6,96,0,4,79,13,null,null,null,null,null,null,null,null,null,null,null,null,null,null,null,null,null,null,null,"Region Sjælland"]
[null,"Bornholm",6886,"2015-07-01",19,10,"*","*",16867,12514,"*","*",62,5,173,0,3,166,4,null,null,null,null,null,null,null,null,null,null,null,null,null,null,null,null,null,null,null,"Region Hovedstaden"]
[null,"Middelfart",8115,"2015-07-01",24,17,"*","*",13382,6243,"*","*",49,3,219,"*","*",214,"*",null,null,null,null,null,null,null,null,null,null,null,null,null,null,null,null,null,null,null,"Region Syddanmark"]
[null,"Assens",8758,"2015-07-01",16,3,0,13,24811,"*","*","*",104,3,172,"*","*",165,"*",null,null,null,null,null,null,null,null,null,null,null,null,null,null,null,null,null,null,null,"Region Syddanmark"]
[null,"Faaborg-Midtfyn",10518,"2015-07-01",36,18,"*","*",34489,16452,"*","*",68,10,135,3,9,123,0,null,null,null,null,null,null,null,null,null,null,null,null,null,null,null,null,null,null,null,"Region Syddanmark"]
[null,"Kerteminde",4837,"2015-07-01",19,12,0,7,25177,16862,"*",8315,22,4,45,"*","*","*","*",null,null,null,null,null,null,null,null,null,null,null,null,null,null,null,null,null,null,null,"Region Syddanmark"]
[null,"Nyborg",6405,"2015-07-01",16,11,0,5,14873,10305,"*",4568,59,9,133,0,0,128,5,null,null,null,null,null,null,null,null,null,null,null,null,null,null,null,null,null,null,null,"Region Syddanmark"]
[null,"Odense",38331,"2015-07-01",141,75,3,63,161933,101119,"*","*",238,27,877,0,9,863,5,null,null,null,null,null,null,null,null,null,null,null,null,null,null,null,null,null,null,null,"Region Syddanmark"]
[null,"Svendborg",11425,"2015-07-01",43,20,0,23,60816,26139,"*",34677,103,7,373,0,3,370,0,null,null,null,null,null,null,null,null,null,null,null,null,null,null,null,null,null,null,null,"Region Syddanmark"]
[null,"Nordfyns",6114,"2015-07-01",13,10,0,3,10614,"*","*","*",24,5,79,0,5,74,0,null,null,null,null,null,null,null,null,null,null,null,null,null,null,null,null,null,null,null,"Region Syddanmark"]
[null,"Langeland",1872,"2015-07-01",22,15,0,7,30632,18382,"*",12250,31,3,36,"*","*","*","*",null,null,null,null,null,null,null,null,null,null,null,null,null,null,null,null,null,null,null,"Region Syddanmark"]
[null,"Ærø",921,"2015-07-01","*","*",0,"*","*","*","*","*",3,"*",11,"*","*","*","*",null,null,null,null,null,null,null,null,null,null,null,null,null,null,null,null,null,null,null,"Region Syddanmark"]
[null,"Haderslev",11471,"2015-07-01",29,7,0,22,13199,7167,"*",6032,124,19,232,0,6,222,4,null,null,null,null,null,null,null,null,null,null,null,null,null,null,null,null,null,null,null,"Region Syddanmark"]
[null,"Billund",5741,"2015-07-01",13,5,0,8,8504,5710,"*",2794,58,3,151,0,"*",148,"*",null,null,null,null,null,null,null,null,null,null,null,null,null,null,null,null,null,null,null,"Region Syddanmark"]
[null,"Sønderborg",15171,"2015-07-01",27,20,0,7,18259,15842,"*",2417,90,7,431,"*","*",409,"*",null,null,null,null,null,null,null,null,null,null,null,null,null,null,null,null,null,null,null,"Region Syddanmark"]
[null,"Tønder",7518,"2015-07-01",19,13,"*","*",18795,15730,"*","*",106,10,178,"*","*",175,0,null,null,null,null,null,null,null,null,null,null,null,null,null,null,null,null,null,null,null,"Region Syddanmark"]
[null,"Esbjerg",23461,"2015-07-01",156,69,4,83,150111,"*","*",62815,119,20,909,6,13,883,7,null,null,null,null,null,null,null,null,null,null,null,null,null,null,null,null,null,null,null,"Region Syddanmark"]
[null,"Fanø",582,"2015-07-01","*","*",0,"*","*","*","*","*","*",0,5,0,0,5,0,null,null,null,null,null,null,null,null,null,null,null,null,null,null,null,null,null,null,null,"Region Syddanmark"]
[null,"Varde",10839,"2015-07-01",22,"*","*","*",21306,"*","*","*",73,21,474,"*","*","*","*",null,null,null,null,null,null,null,null,null,null,null,null,null,null,null,null,null,null,null,"Region Syddanmark"]
[null,"Vejen",9591,"2015-07-01",39,10,0,29,35935,11927,"*",24008,69,13,218,"*","*","*","*",null,null,null,null,null,null,null,null,null,null,null,null,null,null,null,null,null,null,null,"Region Syddanmark"]
[null,"Aabenraa",12269,"2015-07-01",49,32,"*","*",47591,36896,"*","*",123,9,325,"*","*",321,0,null,null,null,null,null,null,null,null,null,null,null,null,null,null,null,null,null,null,null,"Region Syddanmark"]
[null,"Fredericia",10661,"2015-07-01",15,8,"*","*",13075,9235,"*","*",66,12,185,"*","*",175,"*",null,null,null,null,null,null,null,null,null,null,null,null,null,null,null,null,null,null,null,"Region Syddanmark"]
[null,"Horsens",18808,"2015-07-01",49,23,3,23,43047,17876,"*","*",107,13,480,"*","*",469,"*",null,null,null,null,null,null,null,null,null,null,null,null,null,null,null,null,null,null,null,"Region Midtjylland"]
[null,"Kolding",19913,"2015-07-01",42,24,0,18,36063,21517,"*",14546,127,12,291,"*",14,267,"*",null,null,null,null,null,null,null,null,null,null,null,null,null,null,null,null,null,null,null,"Region Syddanmark"]
[null,"Vejle",24827,"2015-07-01",59,36,"*","*",54121,39056,"*","*",132,22,603,"*","*",579,19,null,null,null,null,null,null,null,null,null,null,null,null,null,null,null,null,null,null,null,"Region Syddanmark"]
[null,"Herning",19253,"2015-07-01",45,40,"*","*",36473,35685,"*","*",106,9,300,7,4,284,5,null,null,null,null,null,null,null,null,null,null,null,null,null,null,null,null,null,null,null,"Region Midtjylland"]
[null,"Holstebro",12603,"2015-07-01",37,28,5,4,32735,28972,"*","*",95,9,254,"*","*",199,52,null,null,null,null,null,null,null,null,null,null,null,null,null,null,null,null,null,null,null,"Region Midtjylland"]
[null,"Lemvig",4089,"2015-07-01",15,7,"*","*",17211,12636,"*","*",37,4,90,0,"*",87,"*",null,null,null,null,null,null,null,null,null,null,null,null,null,null,null,null,null,null,null,"Region Midtjylland"]
[null,"Struer",4416,"2015-07-01",11,5,0,6,7186,4330,"*",2856,39,5,81,"*","*","*","*",null,null,null,null,null,null,null,null,null,null,null,null,null,null,null,null,null,null,null,"Region Midtjylland"]
[null,"Syddjurs",8646,"2015-07-01",13,4,0,9,14959,"*","*","*",61,7,324,"*","*",314,6,null,null,null,null,null,null,null,null,null,null,null,null,null,null,null,null,null,null,null,"Region Midtjylland"]
[null,"Norddjurs",7085,"2015-07-01",45,34,"*","*",38270,30969,"*","*",66,10,261,3,3,252,3,null,null,null,null,null,null,null,null,null,null,null,null,null,null,null,null,null,null,null,"Region Midtjylland"]
[null,"Favrskov",11890,"2015-07-01",37,19,"*","*",30389,14850,"*","*",55,"*",122,"*","*",117,"*",null,null,null,null,null,null,null,null,null,null,null,null,null,null,null,null,null,null,null,"Region Midtjylland"]
[null,"Odder",4760,"2015-07-01",6,"*","*","*",10480,"*","*","*",15,8,95,"*","*",91,"*",null,null,null,null,null,null,null,null,null,null,null,null,null,null,null,null,null,null,null,"Region Midtjylland"]
[null,"Randers",20142,"2015-07-01",43,"*","*",26,32189,"*","*",19527,141,17,379,"*","*",366,7,null,null,null,null,null,null,null,null,null,null,null,null,null,null,null,null,null,null,null,"Region Midtjylland"]
[null,"Silkeborg",20747,"2015-07-01",37,26,0,11,67098,44473,"*",22625,93,11,234,"*","*",228,"*",null,null,null,null,null,null,null,null,null,null,null,null,null,null,null,null,null,null,null,"Region Midtjylland"]
[null,"Samsø",584,"2015-07-01","*","*",0,"*","*","*","*","*",10,"*",27,"*","*","*","*",null,null,null,null,null,null,null,null,null,null,null,null,null,null,null,null,null,null,null,"Region Midtjylland"]
[null,"Skanderborg",14961,"2015-07-01",24,9,0,15,26404,9163,"*",17241,56,10,177,0,6,171,0,null,null,null,null,null,null,null,null,null,null,null,null,null,null,null,null,null,null,null,"Region Midtjylland"]
[null,"Aarhus",62101,"2015-07-01",190,138,6,46,187571,150650,376,36545,209,36,1083,"*",19,1050,"*",null,null,null,null,null,null,null,null,null,null,null,null,null,null,null,null,null,null,null,"Region Midtjylland"]
[null,"Ikast-Brande",9222,"2015-07-01",17,13,0,4,10229,"*","*","*",45,16,139,"*","*","*","*",null,null,null,null,null,null,null,null,null,null,null,null,null,null,null,null,null,null,null,"Region Midtjylland"]
[null,"Ringkøbing-Skjern",12637,"2015-07-01",34,26,0,8,37421,27791,"*",9630,87,7,317,"*","*",308,"*",null,null,null,null,null,null,null,null,null,null,null,null,null,null,null,null,null,null,null,"Region Midtjylland"]
[null,"Hedensted",10754,"2015-07-01",34,25,"*","*",27545,17455,"*","*",25,8,351,"*",4,342,"*",null,null,null,null,null,null,null,null,null,null,null,null,null,null,null,null,null,null,null,"Region Midtjylland"]
[null,"Morsø",4067,"2015-07-01",21,16,0,5,14746,10811,"*",3935,33,3,121,"*","*","*","*",null,null,null,null,null,null,null,null,null,null,null,null,null,null,null,null,null,null,null,"Region Nordjylland"]
[null,"Skive",9570,"2015-07-01",27,13,0,14,19972,13185,"*",6787,52,18,223,0,"*",220,"*",null,null,null,null,null,null,null,null,null,null,null,null,null,null,null,null,null,null,null,"Region Midtjylland"]
[null,"Thisted",9014,"2015-07-01",34,18,"*","*",31777,20632,"*","*",102,6,288,0,3,285,0,null,null,null,null,null,null,null,null,null,null,null,null,null,null,null,null,null,null,null,"Region Nordjylland"]
[null,"Viborg",21252,"2015-07-01",42,33,"*","*",53597,44396,"*","*",109,7,473,"*","*",461,5,null,null,null,null,null,null,null,null,null,null,null,null,null,null,null,null,null,null,null,"Region Midtjylland"]
[null,"Brønderslev",7934,"2015-07-01",32,8,0,24,26367,10191,"*",16176,115,6,159,"*","*","*","*",null,null,null,null,null,null,null,null,null,null,null,null,null,null,null,null,null,null,null,"Region Nordjylland"]
[null,"Frederikshavn",11046,"2015-07-01",30,18,"*","*",26356,17117,"*","*",118,15,235,"*",6,225,"*",null,null,null,null,null,null,null,null,null,null,null,null,null,null,null,null,null,null,null,"Region Nordjylland"]
[null,"Vesthimmerlands",7819,"2015-07-01",32,9,0,23,20671,8118,"*",12553,70,11,263,0,3,255,5,null,null,null,null,null,null,null,null,null,null,null,null,null,null,null,null,null,null,null,"Region Nordjylland"]
[null,"Læsø",245,"2015-07-01","*",0,0,"*","*","*","*","*","*","*",4,"*","*","*","*",null,null,null,null,null,null,null,null,null,null,null,null,null,null,null,null,null,null,null,"Region Nordjylland"]
[null,"Rebild",6874,"2015-07-01",16,11,0,5,23539,17672,"*",5867,19,6,96,"*",7,84,"*",null,null,null,null,null,null,null,null,null,null,null,null,null,null,null,null,null,null,null,"Region Nordjylland"]
[null,"Mariagerfjord",8743,"2015-07-01",35,17,0,18,33493,19801,"*",13692,81,8,209,"*","*",204,"*",null,null,null,null,null,null,null,null,null,null,null,null,null,null,null,null,null,null,null,"Region Nordjylland"]
[null,"Jammerbugt",8089,"2015-07-01",29,8,0,21,31803,10216,"*",21587,75,9,302,0,"*",299,"*",null,null,null,null,null,null,null,null,null,null,null,null,null,null,null,null,null,null,null,"Region Nordjylland"]
[null,"Aalborg",38610,"2015-07-01",142,85,0,57,124698,84574,"*",40124,321,47,598,0,4,580,14,null,null,null,null,null,null,null,null,null,null,null,null,null,null,null,null,null,null,null,"Region Nordjylland"]
[null,"Hjørring",13243,"2015-07-01",43,21,0,22,30608,20605,"*",10003,142,4,243,"*","*",235,"*",null,null,null,null,null,null,null,null,null,null,null,null,null,null,null,null,null,null,null,"Region Nordjylland"]
[null,"København",103578,"2016-01-01",230,169,7,54,185478,131733,3323,50422,382,105,1985,17,26,1938,4,null,null,null,65,251,11,251,54,251,null,null,475,1929,null,null,null,null,null,null,"Region Hovedstaden"]
[null,"Frederiksberg",18265,"2016-01-01",64,54,"*","*",51907,43832,"*","*",41,4,176,0,6,165,5,null,null,null,null,54,0,54,null,54,10,182,29,187,null,null,null,null,null,null,"Region Hovedstaden"]
[null,"Ballerup",10438,"2016-01-01",36,"*","*",21,26152,"*","*",16965,40,5,346,"*",6,333,"*",null,null,null,11,42,0,42,11,42,12,339,64,345,null,null,null,null,null,null,"Region Hovedstaden"]
[null,"Brøndby",7361,"2016-01-01",34,18,"*","*",25290,10674,"*","*",52,9,133,"*","*",127,"*",null,null,null,9,39,null,39,null,39,null,null,31,136,null,null,null,null,null,null,"Region Hovedstaden"]
[null,"Dragør",3223,"2016-01-01","*","*",0,"*","*","*","*","*",3,0,29,"*","*","*","*",null,null,null,null,null,null,null,null,null,null,null,6,28,null,null,null,null,null,null,"Region Hovedstaden"]
[null,"Gentofte",17207,"2016-01-01",29,23,0,6,24463,19430,"*",5033,20,5,114,"*","*","*","*",null,null,null,5,27,0,27,5,27,null,null,45,130,null,null,null,null,null,null,"Region Hovedstaden"]
[null,"Gladsaxe",15112,"2016-01-01",31,10,0,21,32717,10444,"*",22273,46,9,277,0,7,267,3,null,null,null,6,33,0,33,6,33,null,null,81,310,null,null,null,null,null,null,"Region Hovedstaden"]
[null,"Glostrup",4502,"2016-01-01",8,"*","*","*",5552,"*","*","*",14,4,54,0,0,54,0,null,null,null,0,6,0,6,0,6,null,null,9,43,null,null,null,null,null,null,"Region Hovedstaden"]
[null,"Herlev",6329,"2016-01-01",27,15,0,12,18159,12557,"*",5602,22,7,109,0,4,102,3,null,null,null,6,25,null,25,null,25,null,null,21,97,null,null,null,null,null,null,"Region Hovedstaden"]
[null,"Albertslund",6291,"2016-01-01",30,22,"*","*",26248,21118,"*","*",32,4,131,0,4,119,8,null,null,null,7,33,0,33,7,33,6,126,20,129,null,null,null,null,null,null,"Region Hovedstaden"]
[null,"Hvidovre",11519,"2016-01-01",27,13,0,14,20890,7353,"*",13537,38,7,242,"*",4,234,"*",null,null,null,10,32,null,32,null,32,null,null,42,237,null,null,null,null,null,null,"Region Hovedstaden"]
[null,"Høje-Taastrup",11215,"2016-01-01",46,13,3,30,60415,"*","*",37962,40,3,211,0,4,198,9,null,null,null,3,46,0,46,3,46,9,219,58,224,null,null,null,null,null,null,"Region Hovedstaden"]
[null,"Lyngby-Taarbæk",11892,"2016-01-01",17,8,"*","*",13532,8367,"*","*",19,6,159,"*","*","*","*",null,null,null,4,20,0,20,4,20,null,null,35,163,null,null,null,null,null,null,"Region Hovedstaden"]
[null,"Rødovre",7967,"2016-01-01",13,3,0,10,20394,"*","*","*",43,10,154,"*","*",146,"*",null,null,null,null,15,0,15,null,15,null,null,11,124,null,null,null,null,null,null,"Region Hovedstaden"]
[null,"Ishøj",5105,"2016-01-01",39,"*","*",32,33945,"*","*",24627,25,4,147,"*","*","*","*",null,null,null,3,39,0,39,3,39,null,null,51,157,null,null,null,null,null,null,"Region Hovedstaden"]
[null,"Tårnby",9380,"2016-01-01",8,5,0,3,6317,"*","*","*",29,9,109,"*","*",105,"*",null,null,null,7,13,0,13,7,13,null,null,17,97,null,null,null,null,null,null,"Region Hovedstaden"]
[null,"Vallensbæk",3682,"2016-01-01",7,"*","*","*",3899,"*","*","*",7,0,51,"*","*","*","*",null,null,null,null,9,0,9,null,9,null,null,17,50,null,null,null,null,null,null,"Region Hovedstaden"]
[null,"Furesø",9595,"2016-01-01",16,6,0,10,8907,3855,"*",5052,24,5,110,"*","*","*","*",null,null,null,4,17,0,17,4,17,null,null,17,114,null,null,null,null,null,null,"Region Hovedstaden"]
[null,"Allerød",6068,"2016-01-01",15,"*","*","*",7326,"*","*","*",5,"*",56,0,3,53,0,null,null,null,4,17,null,17,null,17,null,null,9,57,null,null,null,null,null,null,"Region Hovedstaden"]
[null,"Fredensborg",8939,"2016-01-01",17,9,"*","*",10748,7305,"*","*",17,6,199,"*",0,196,"*",null,null,null,3,15,0,15,3,15,null,null,32,205,null,null,null,null,null,null,"Region Hovedstaden"]
[null,"Helsingør",12660,"2016-01-01",39,"*","*",20,57818,"*","*",29311,61,10,297,0,7,278,12,null,null,null,9,47,null,47,null,47,8,278,57,284,null,null,null,null,null,null,"Region Hovedstaden"]
[null,"Hillerød",11390,"2016-01-01",22,7,0,15,22948,5570,"*",17378,30,5,195,0,3,188,4,null,null,null,3,24,0,24,3,24,3,197,48,203,null,null,null,null,null,null,"Region Hovedstaden"]
[null,"Hørsholm",5306,"2016-01-01",7,3,0,4,4343,"*","*","*",9,"*",48,"*","*",44,"*",null,null,null,null,7,0,7,null,7,3,44,5,47,null,null,null,null,null,null,"Region Hovedstaden"]
[null,"Rudersdal",12885,"2016-01-01",29,23,0,6,20508,17281,"*",3227,28,5,129,"*",5,121,"*",null,null,null,9,33,0,33,9,33,null,null,80,179,null,null,null,null,null,null,"Region Hovedstaden"]
[null,"Egedal",10563,"2016-01-01",18,9,0,9,15922,7839,"*",8083,21,3,200,0,4,189,7,null,null,null,null,19,0,19,null,19,3,173,19,176,null,null,null,null,null,null,"Region Hovedstaden"]
[null,"Frederikssund",9484,"2016-01-01",18,"*","*","*",11011,"*","*","*",38,6,216,0,6,204,6,null,null,null,6,19,3,19,3,19,5,230,52,237,null,null,null,null,null,null,"Region Hovedstaden"]
[null,"Greve",10984,"2016-01-01",31,"*","*",21,16003,"*","*",8380,38,7,207,10,4,190,3,null,null,null,6,27,0,27,6,27,null,null,42,215,null,null,null,null,null,null,"Region Sjælland"]
[null,"Køge",13156,"2016-01-01",29,14,"*","*",17580,10621,"*","*",47,5,206,"*","*",201,"*",null,null,null,9,34,0,34,9,34,null,null,65,194,null,null,null,null,null,null,"Region Sjælland"]
[null,"Halsnæs",5906,"2016-01-01",34,21,0,13,30157,19539,"*",10618,37,7,134,"*",4,127,"*",null,null,null,8,40,null,40,null,40,7,127,24,131,null,null,null,null,null,null,"Region Hovedstaden"]
[null,"Roskilde",18283,"2016-01-01",62,40,0,22,60924,40435,"*",20489,70,8,286,0,6,277,3,null,null,null,13,64,0,64,13,64,8,272,90,283,null,null,null,null,null,null,"Region Sjælland"]
[null,"Solrød",5136,"2016-01-01",13,4,0,9,10165,"*","*","*",11,0,61,"*","*","*","*",null,null,null,4,14,null,14,null,14,null,null,14,67,null,null,null,null,null,null,"Region Sjælland"]
[null,"Gribskov",8169,"2016-01-01",24,16,0,8,20446,13399,"*",7047,14,12,210,0,9,201,0,null,null,null,4,23,0,23,4,23,12,218,63,226,null,null,null,null,null,null,"Region Hovedstaden"]
[null,"Odsherred",5563,"2016-01-01",29,16,"*","*",26818,14282,"*","*",48,8,272,"*","*",253,16,null,null,null,null,30,0,30,null,30,6,252,11,255,null,null,null,null,null,null,"Region Sjælland"]
[null,"Holbæk",15069,"2016-01-01",54,16,0,38,42592,11773,"*",30819,97,13,284,0,5,270,9,null,null,null,7,47,0,47,7,47,14,288,57,293,null,null,null,null,null,null,"Region Sjælland"]
[null,"Faxe",7217,"2016-01-01",25,5,0,20,14593,6370,"*",8223,44,14,173,"*","*",169,"*",null,null,null,4,21,0,21,4,21,null,null,35,171,null,null,null,null,null,null,"Region Sjælland"]
[null,"Kalundborg",9828,"2016-01-01",55,30,0,25,35240,20304,"*",14936,89,10,179,"*","*",172,"*",null,null,null,9,48,null,48,null,48,null,null,76,234,null,null,null,null,null,null,"Region Sjælland"]
[null,"Ringsted",7316,"2016-01-01",26,16,0,10,19579,9183,"*",10396,37,"*",165,0,5,160,0,null,null,null,4,28,0,28,4,28,null,null,31,171,null,null,null,null,null,null,"Region Sjælland"]
[null,"Slagelse",15355,"2016-01-01",46,11,0,35,45282,15856,"*",29426,123,16,274,4,5,262,3,null,null,null,7,48,0,48,7,48,7,260,52,266,null,null,null,null,null,null,"Region Sjælland"]
[null,"Stevns",4272,"2016-01-01",21,11,0,10,19713,8486,"*",11227,26,"*",84,"*","*","*","*",null,null,null,null,17,null,17,null,17,null,null,10,78,null,null,null,null,null,null,"Region Sjælland"]
[null,"Sorø",6344,"2016-01-01",20,4,0,16,17491,"*","*","*",32,9,197,0,15,178,4,null,null,null,null,19,0,19,null,19,null,null,36,184,null,null,null,null,null,null,"Region Sjælland"]
[null,"Lejre",6197,"2016-01-01",14,7,0,7,9401,6999,"*",2402,11,"*",111,"*","*","*","*",null,null,null,5,17,0,17,5,17,null,null,24,130,null,null,null,null,null,null,"Region Sjælland"]
[null,"Lolland",7225,"2016-01-01",41,15,0,26,43424,14851,"*",28573,174,15,159,"*","*",145,"*",null,null,null,6,45,null,45,null,45,null,null,67,174,null,null,null,null,null,null,"Region Sjælland"]
[null,"Næstved",16824,"2016-01-01",77,"*","*",38,79363,"*","*",46036,79,10,268,0,10,250,8,null,null,null,10,75,3,75,7,75,16,230,32,242,null,null,null,null,null,null,"Region Sjælland"]
[null,"Guldborgsund",10749,"2016-01-01",66,19,0,47,50291,17774,"*",32517,130,12,225,"*","*",215,"*",null,null,null,7,59,0,59,7,59,null,null,53,245,null,null,null,null,null,null,"Region Sjælland"]
[null,"Vordingborg",8573,"2016-01-01",44,14,0,30,36186,15268,"*",20918,89,6,89,0,4,77,8,null,null,null,4,40,0,40,4,40,8,92,42,96,null,null,null,null,null,null,"Region Sjælland"]
[null,"Bornholm",6783,"2016-01-01",20,10,"*","*",14710,10267,"*","*",65,5,156,"*",3,149,"*",null,null,null,3,19,0,19,3,19,10,170,43,173,null,null,null,null,null,null,"Region Hovedstaden"]
[null,"Middelfart",8074,"2016-01-01",23,16,0,7,11132,6673,"*",4459,48,"*",218,"*","*","*","*",null,null,null,5,24,0,24,5,24,null,null,37,219,null,null,null,null,null,null,"Region Syddanmark"]
[null,"Assens",8690,"2016-01-01",12,"*","*",9,17178,"*","*",13559,98,4,202,0,4,198,0,null,null,null,6,16,0,16,6,16,null,null,32,172,null,null,null,null,null,null,"Region Syddanmark"]
[null,"Faaborg-Midtfyn",10583,"2016-01-01",34,18,0,16,35870,18722,"*",17148,72,12,125,0,8,117,0,null,null,null,5,36,0,36,5,36,10,123,45,135,null,null,null,null,null,null,"Region Syddanmark"]
[null,"Kerteminde",4807,"2016-01-01",17,11,0,6,26951,18598,"*",8353,25,5,44,"*","*","*","*",null,null,null,null,19,0,19,null,19,null,null,3,45,null,null,null,null,null,null,"Region Syddanmark"]
[null,"Nyborg",6438,"2016-01-01",15,11,0,4,9767,"*","*","*",54,11,115,0,0,110,5,null,null,null,3,16,0,16,3,16,5,133,25,133,null,null,null,null,null,null,"Region Syddanmark"]
[null,"Odense",38264,"2016-01-01",149,84,"*","*",150687,92609,"*","*",235,28,815,"*","*",803,"*",null,null,null,22,141,5,141,17,141,22,868,223,877,null,null,null,null,null,null,"Region Syddanmark"]
[null,"Svendborg",11512,"2016-01-01",36,14,0,22,53182,21202,"*",31980,105,7,411,"*","*",406,"*",null,null,null,9,43,0,43,9,43,10,370,48,373,null,null,null,null,null,null,"Region Syddanmark"]
[null,"Nordfyns",6120,"2016-01-01",12,"*","*","*",8054,"*","*","*",23,4,81,0,5,76,0,null,null,null,4,13,0,13,4,13,5,74,17,79,null,null,null,null,null,null,"Region Syddanmark"]
[null,"Langeland",1867,"2016-01-01",20,13,0,7,29779,17792,"*",11987,32,3,52,"*","*","*","*",null,null,null,5,22,null,22,null,22,null,null,3,36,null,null,null,null,null,null,"Region Syddanmark"]
[null,"Ærø",924,"2016-01-01",3,"*",0,"*","*","*","*","*",3,"*",13,"*","*","*","*",null,null,null,null,null,null,null,null,null,null,null,5,11,null,null,null,null,null,null,"Region Syddanmark"]
[null,"Haderslev",11498,"2016-01-01",30,"*","*",23,15629,"*","*",8444,125,21,228,0,3,222,3,null,null,null,3,29,null,29,null,29,11,226,53,232,null,null,null,null,null,null,"Region Syddanmark"]
[null,"Billund",5778,"2016-01-01",10,"*","*","*",6504,"*","*","*",60,"*",143,"*","*",140,0,null,null,null,5,13,null,13,null,13,null,null,37,151,null,null,null,null,null,null,"Region Syddanmark"]
[null,"Sønderborg",15000,"2016-01-01",25,18,0,7,16231,13816,"*",2415,86,4,451,0,17,430,4,null,null,null,5,27,0,27,5,27,null,null,62,431,null,null,null,null,null,null,"Region Syddanmark"]
[null,"Tønder",7481,"2016-01-01",18,12,"*","*",18893,15773,"*","*",106,10,158,"*","*",154,0,null,null,null,null,19,0,19,null,19,4,175,47,178,null,null,null,null,null,null,"Region Syddanmark"]
[null,"Esbjerg",23415,"2016-01-01",152,68,0,84,159171,91364,"*",67807,114,20,960,3,9,938,10,null,null,null,18,156,0,156,18,156,17,890,104,909,null,null,null,null,null,null,"Region Syddanmark"]
[null,"Fanø",578,"2016-01-01",3,"*",0,"*","*","*","*","*","*",0,4,0,0,4,0,null,null,null,null,null,null,null,null,null,null,null,0,5,null,null,null,null,null,null,"Region Syddanmark"]
[null,"Varde",10772,"2016-01-01",19,16,0,3,18613,"*","*","*",72,21,473,"*","*",470,0,null,null,null,4,22,0,22,4,22,null,null,100,474,null,null,null,null,null,null,"Region Syddanmark"]
[null,"Vejen",9609,"2016-01-01",39,9,0,30,31245,11302,"*",19943,71,13,223,0,0,223,0,null,null,null,6,39,0,39,6,39,null,null,57,218,null,null,null,null,null,null,"Region Syddanmark"]
[null,"Aabenraa",12220,"2016-01-01",45,25,"*","*",40152,27956,"*","*",117,9,314,"*","*",309,"*",null,null,null,10,49,null,49,null,49,9,321,73,325,null,null,null,null,null,null,"Region Syddanmark"]
[null,"Fredericia",10614,"2016-01-01",16,5,0,11,9918,4861,"*",5057,66,12,235,"*","*",225,"*",null,null,null,null,15,0,15,null,15,null,null,18,185,null,null,null,null,null,null,"Region Syddanmark"]
[null,"Horsens",18981,"2016-01-01",55,28,3,24,41064,18390,"*","*",109,14,489,"*",7,476,"*",null,null,null,9,49,0,49,9,49,null,null,107,480,null,null,null,null,null,null,"Region Midtjylland"]
[null,"Kolding",20021,"2016-01-01",35,19,0,16,30880,19217,"*",11663,130,12,333,"*",12,311,"*",null,null,null,14,42,4,42,10,42,null,null,68,291,null,null,null,null,null,null,"Region Syddanmark"]
[null,"Vejle",24912,"2016-01-01",60,45,0,15,43833,33381,"*",10452,136,24,544,3,4,528,9,null,null,null,17,59,null,59,null,59,20,598,129,603,null,null,null,null,null,null,"Region Syddanmark"]
[null,"Herning",19245,"2016-01-01",45,42,"*","*",36246,35410,"*","*",100,10,352,5,6,334,7,null,null,null,11,45,null,45,null,45,16,289,36,300,null,null,null,null,null,null,"Region Midtjylland"]
[null,"Holstebro",12605,"2016-01-01",31,23,4,4,33019,28659,"*","*",90,9,284,0,0,234,50,null,null,null,8,37,null,37,null,37,3,251,62,254,null,null,null,null,null,null,"Region Midtjylland"]
[null,"Lemvig",3996,"2016-01-01",15,7,0,8,19096,13924,"*",5172,36,6,74,0,"*",71,"*",null,null,null,null,15,0,15,null,15,null,null,23,90,null,null,null,null,null,null,"Region Midtjylland"]
[null,"Struer",4443,"2016-01-01",11,6,0,5,8714,5310,"*",3404,36,5,79,"*","*","*","*",null,null,null,null,11,0,11,null,11,null,null,29,81,null,null,null,null,null,null,"Region Midtjylland"]
[null,"Syddjurs",8607,"2016-01-01",11,5,0,6,12364,5005,"*",7359,56,9,326,"*","*",313,9,null,null,null,4,13,0,13,4,13,5,320,56,324,null,null,null,null,null,null,"Region Midtjylland"]
[null,"Norddjurs",7055,"2016-01-01",50,37,"*","*",46602,37149,"*","*",70,9,269,"*","*",263,"*",null,null,null,null,45,0,45,null,45,9,255,42,261,null,null,null,null,null,null,"Region Midtjylland"]
[null,"Favrskov",11825,"2016-01-01",41,21,0,20,32464,18426,"*",14038,52,"*",129,"*","*","*","*",null,null,null,null,37,0,37,null,37,null,null,13,122,null,null,null,null,null,null,"Region Midtjylland"]
[null,"Odder",4791,"2016-01-01",6,"*","*","*",9105,"*","*","*",17,7,124,0,"*",121,"*",null,null,null,null,6,0,6,null,6,null,null,8,95,null,null,null,null,null,null,"Region Midtjylland"]
[null,"Randers",20096,"2016-01-01",42,"*","*",25,37651,"*","*",22452,142,15,373,"*","*",365,"*",null,null,null,7,43,0,43,7,43,6,373,124,379,null,null,null,null,null,null,"Region Midtjylland"]
[null,"Silkeborg",20777,"2016-01-01",33,23,0,10,63983,40498,"*",23485,92,14,234,"*",7,224,"*",null,null,null,5,37,null,37,null,37,null,null,72,234,null,null,null,null,null,null,"Region Midtjylland"]
[null,"Samsø",570,"2016-01-01","*","*",0,"*","*","*","*","*",9,"*",23,"*","*","*","*",null,null,null,null,null,null,null,null,null,null,null,6,27,null,null,null,null,null,null,"Region Midtjylland"]
[null,"Skanderborg",15125,"2016-01-01",19,9,0,10,22918,10749,"*",12169,55,10,196,"*","*","*","*",null,null,null,8,24,3,24,5,24,3,171,49,177,null,null,null,null,null,null,"Region Midtjylland"]
[null,"Aarhus",62241,"2016-01-01",189,127,7,55,200604,156966,839,42799,208,37,1152,3,30,1103,16,null,null,null,30,190,4,190,26,190,null,null,293,1083,null,null,null,null,null,null,"Region Midtjylland"]
[null,"Ikast-Brande",9231,"2016-01-01",15,10,0,5,7617,6234,"*",1383,50,16,40,"*","*","*","*",null,null,null,null,17,0,17,null,17,null,null,105,139,null,null,null,null,null,null,"Region Midtjylland"]
[null,"Ringkøbing-Skjern",12590,"2016-01-01",34,25,0,9,40224,30516,"*",9708,78,8,315,0,"*",312,"*",null,null,null,4,34,0,34,4,34,null,null,46,317,null,null,null,null,null,null,"Region Midtjylland"]
[null,"Hedensted",10696,"2016-01-01",34,21,0,13,28699,17027,"*",11672,24,7,314,"*","*",307,"*",null,null,null,5,34,0,34,5,34,null,null,84,351,null,null,null,null,null,null,"Region Midtjylland"]
[null,"Morsø",4020,"2016-01-01",16,10,0,6,12790,9125,"*",3665,32,3,119,"*","*","*","*",null,null,null,7,21,null,21,null,21,null,null,26,121,null,null,null,null,null,null,"Region Nordjylland"]
[null,"Skive",9566,"2016-01-01",26,14,0,12,19358,12230,"*",7128,54,16,212,"*","*",208,"*",null,null,null,6,27,0,27,6,27,null,null,41,223,null,null,null,null,null,null,"Region Midtjylland"]
[null,"Thisted",8981,"2016-01-01",25,13,0,12,29218,18532,"*",10686,100,6,282,"*","*","*","*",null,null,null,10,34,0,34,10,34,4,285,60,288,null,null,null,null,null,null,"Region Nordjylland"]
[null,"Viborg",21343,"2016-01-01",44,34,"*","*",55881,46552,"*","*",108,11,527,6,"*",514,"*",null,null,null,6,42,0,42,6,42,15,466,45,473,null,null,null,null,null,null,"Region Midtjylland"]
[null,"Brønderslev",7995,"2016-01-01",28,6,0,22,22416,7782,"*",14634,111,6,155,"*","*",150,"*",null,null,null,6,32,null,32,null,32,null,null,34,159,null,null,null,null,null,null,"Region Nordjylland"]
[null,"Frederikshavn",10918,"2016-01-01",32,21,"*","*",23068,16651,"*","*",128,15,248,"*","*",241,"*",null,null,null,8,30,null,30,null,30,null,null,55,235,null,null,null,null,null,null,"Region Nordjylland"]
[null,"Vesthimmerlands",7781,"2016-01-01",34,8,0,26,21805,8711,"*",13094,67,7,268,"*","*",261,"*",null,null,null,3,32,0,32,3,32,7,260,50,263,null,null,null,null,null,null,"Region Nordjylland"]
[null,"Læsø",249,"2016-01-01",0,0,0,0,"*","*","*","*","*","*",4,"*","*","*","*",null,null,null,null,null,null,null,null,null,null,null,0,4,null,null,null,null,null,null,"Region Nordjylland"]
[null,"Rebild",6933,"2016-01-01",14,8,0,6,23798,16898,"*",6900,21,6,90,0,3,83,4,null,null,null,null,16,0,16,null,16,null,null,24,96,null,null,null,null,null,null,"Region Nordjylland"]
[null,"Mariagerfjord",8648,"2016-01-01",34,15,0,19,30101,16586,"*",13515,77,11,226,3,"*",219,"*",null,null,null,4,35,0,35,4,35,null,null,66,209,null,null,null,null,null,null,"Region Nordjylland"]
[null,"Jammerbugt",8050,"2016-01-01",29,9,0,20,35255,11718,"*",23537,73,6,273,"*","*",270,"*",null,null,null,null,29,0,29,null,29,null,null,83,302,null,null,null,null,null,null,"Region Nordjylland"]
[null,"Aalborg",38747,"2016-01-01",148,85,"*","*",126411,82315,"*","*",326,49,744,"*","*",725,11,null,null,null,20,142,4,142,16,142,23,594,121,598,null,null,null,null,null,null,"Region Nordjylland"]
[null,"Hjørring",13239,"2016-01-01",42,21,"*","*",35450,23762,"*","*",145,4,181,0,0,175,6,null,null,null,6,43,null,43,null,43,null,null,103,243,null,null,null,null,null,null,"Region Nordjylland"]
[null,"København",104797,"2016-07-01",233,175,6,52,186030,133739,3189,49102,369,101,2101,10,19,2069,3,null,null,null,47,230,5,230,42,230,57,1942,424,1985,null,null,null,null,null,null,"Region Hovedstaden"]
[null,"Frederiksberg",18346,"2016-07-01",62,50,"*","*",46999,39561,"*","*",42,4,157,"*",8,142,"*",null,null,null,15,64,3,64,12,64,13,170,71,176,null,null,null,null,null,null,"Region Hovedstaden"]
[null,"Ballerup",10380,"2016-07-01",36,"*","*",22,25191,"*","*",17160,43,5,310,"*",5,300,"*",null,null,null,7,36,0,36,7,36,null,null,71,346,null,null,null,null,null,null,"Region Hovedstaden"]
[null,"Brøndby",7358,"2016-07-01",39,23,0,16,26433,10849,"*",15584,53,9,121,"*",3,114,"*",null,null,null,6,34,0,34,6,34,null,null,38,133,null,null,null,null,null,null,"Region Hovedstaden"]
[null,"Dragør",3224,"2016-07-01","*","*",0,"*","*","*","*","*",3,0,29,0,0,29,0,null,null,null,null,null,null,null,null,null,null,null,9,29,null,null,null,null,null,null,"Region Hovedstaden"]
[null,"Gentofte",17160,"2016-07-01",30,27,0,3,23331,"*","*","*",21,6,110,"*","*",103,"*",null,null,null,7,29,null,29,null,29,null,null,46,114,null,null,null,null,null,null,"Region Hovedstaden"]
[null,"Gladsaxe",15156,"2016-07-01",35,14,0,21,31578,12063,"*",19515,45,9,275,0,5,265,5,null,null,null,4,31,0,31,4,31,7,270,55,277,null,null,null,null,null,null,"Region Hovedstaden"]
[null,"Glostrup",4542,"2016-07-01",8,5,0,3,3374,"*","*","*",14,4,65,3,0,62,0,null,null,null,3,8,0,8,3,8,null,null,8,54,null,null,null,null,null,null,"Region Hovedstaden"]
[null,"Herlev",6321,"2016-07-01",27,14,0,13,16941,10216,"*",6725,23,8,94,"*","*",89,"*",null,null,null,5,27,null,27,null,27,7,105,17,109,null,null,null,null,null,null,"Region Hovedstaden"]
[null,"Albertslund",6204,"2016-07-01",29,19,"*","*",27112,21766,"*","*",33,5,156,0,3,145,8,null,null,null,4,30,0,30,4,30,4,127,35,131,null,null,null,null,null,null,"Region Hovedstaden"]
[null,"Hvidovre",11606,"2016-07-01",25,13,0,12,16869,6735,"*",10134,36,7,276,"*","*",272,"*",null,null,null,6,27,null,27,null,27,null,null,40,242,null,null,null,null,null,null,"Region Hovedstaden"]
[null,"Høje-Taastrup",11206,"2016-07-01",64,24,3,37,52342,"*","*",31481,51,"*",201,0,4,190,7,null,null,null,9,46,null,46,null,46,13,207,85,211,null,null,null,null,null,null,"Region Hovedstaden"]
[null,"Lyngby-Taarbæk",11884,"2016-07-01",19,"*","*",13,5549,"*","*",3747,19,7,155,"*","*","*","*",null,null,null,3,17,0,17,3,17,null,null,41,159,null,null,null,null,null,null,"Region Hovedstaden"]
[null,"Rødovre",8044,"2016-07-01",11,3,0,8,18715,"*","*","*",43,10,163,"*","*",158,"*",null,null,null,4,13,0,13,4,13,null,null,19,154,null,null,null,null,null,null,"Region Hovedstaden"]
[null,"Ishøj",5133,"2016-07-01",38,"*","*",30,36010,"*","*",27886,26,4,122,0,0,122,0,null,null,null,3,39,0,39,3,39,null,null,52,147,null,null,null,null,null,null,"Region Hovedstaden"]
[null,"Tårnby",9415,"2016-07-01",9,6,0,3,7861,"*","*","*",29,6,101,"*","*",92,"*",null,null,null,0,8,0,8,0,8,null,null,35,109,null,null,null,null,null,null,"Region Hovedstaden"]
[null,"Vallensbæk",3690,"2016-07-01",7,"*","*","*",2807,"*","*","*",7,0,49,"*","*","*","*",null,null,null,3,7,0,7,3,7,null,null,13,51,null,null,null,null,null,null,"Region Hovedstaden"]
[null,"Furesø",9654,"2016-07-01",16,6,0,10,9359,4471,"*",4888,24,3,128,0,"*",125,"*",null,null,null,3,16,null,16,null,16,null,null,25,110,null,null,null,null,null,null,"Region Hovedstaden"]
[null,"Allerød",6052,"2016-07-01",11,"*","*","*",5428,"*","*","*",5,"*",48,"*","*",44,"*",null,null,null,5,15,null,15,null,15,3,53,20,56,null,null,null,null,null,null,"Region Hovedstaden"]
[null,"Fredensborg",8883,"2016-07-01",20,13,"*","*",7869,5543,"*","*",19,6,184,0,0,181,3,null,null,null,null,17,0,17,null,17,null,null,49,199,null,null,null,null,null,null,"Region Hovedstaden"]
[null,"Helsingør",12664,"2016-07-01",35,17,"*","*",59196,30130,"*","*",61,10,292,0,5,276,11,null,null,null,5,39,0,39,5,39,8,290,74,297,null,null,null,null,null,null,"Region Hovedstaden"]
[null,"Hillerød",11364,"2016-07-01",22,6,0,16,18321,5624,"*",12697,36,5,219,"*","*",215,"*",null,null,null,7,22,0,22,7,22,5,192,38,195,null,null,null,null,null,null,"Region Hovedstaden"]
[null,"Hørsholm",5273,"2016-07-01",9,4,0,5,5952,"*","*","*",5,6,38,"*","*","*","*",null,null,null,0,7,0,7,0,7,null,null,9,48,null,null,null,null,null,null,"Region Hovedstaden"]
[null,"Rudersdal",12885,"2016-07-01",27,21,0,6,20564,16954,"*",3610,25,7,209,"*",4,199,"*",null,null,null,3,29,0,29,3,29,null,null,20,129,null,null,null,null,null,null,"Region Hovedstaden"]
[null,"Egedal",10523,"2016-07-01",22,11,"*","*",17872,7975,"*","*",21,5,221,0,0,215,6,null,null,null,null,18,0,18,null,18,5,196,28,200,null,null,null,null,null,null,"Region Hovedstaden"]
[null,"Frederikssund",9426,"2016-07-01",15,"*","*","*",10646,"*","*","*",40,7,190,0,6,179,5,null,null,null,3,18,0,18,3,18,9,210,44,216,null,null,null,null,null,null,"Region Hovedstaden"]
[null,"Greve",11020,"2016-07-01",28,8,0,20,16185,7782,"*",8403,43,5,200,3,4,193,0,null,null,null,10,31,0,31,10,31,13,193,46,207,null,null,null,null,null,null,"Region Sjælland"]
[null,"Køge",13082,"2016-07-01",29,"*","*",14,12391,"*","*",5463,54,4,226,4,0,217,5,null,null,null,9,29,0,29,9,29,null,null,50,206,null,null,null,null,null,null,"Region Sjælland"]
[null,"Halsnæs",5863,"2016-07-01",33,20,0,13,27694,16388,"*",11306,36,10,155,"*",5,144,"*",null,null,null,9,34,0,34,9,34,null,null,27,134,null,null,null,null,null,null,"Region Hovedstaden"]
[null,"Roskilde",18327,"2016-07-01",64,41,0,23,59020,37902,"*",21118,68,8,283,"*","*",275,"*",null,null,null,12,62,0,62,12,62,10,280,108,286,null,null,null,null,null,null,"Region Sjælland"]
[null,"Solrød",5170,"2016-07-01",13,"*","*","*",12106,"*","*","*",10,0,63,"*","*","*","*",null,null,null,3,13,0,13,3,13,null,null,7,61,null,null,null,null,null,null,"Region Sjælland"]
[null,"Gribskov",8080,"2016-07-01",29,20,0,9,23847,16207,"*",7640,13,11,239,0,6,233,0,null,null,null,null,24,0,24,null,24,6,201,34,210,null,null,null,null,null,null,"Region Hovedstaden"]
[null,"Odsherred",5553,"2016-07-01",24,16,"*","*",23864,14154,"*","*",45,10,270,"*","*",245,22,null,null,null,6,29,0,29,6,29,5,269,39,272,null,null,null,null,null,null,"Region Sjælland"]
[null,"Holbæk",15076,"2016-07-01",55,"*","*",40,40219,"*","*",31111,100,14,306,0,5,289,12,null,null,null,11,54,0,54,11,54,12,279,60,284,null,null,null,null,null,null,"Region Sjælland"]
[null,"Faxe",7145,"2016-07-01",28,4,0,24,17459,"*","*","*",45,12,162,"*","*",155,"*",null,null,null,3,25,null,25,null,25,null,null,42,173,null,null,null,null,null,null,"Region Sjælland"]
[null,"Kalundborg",9748,"2016-07-01",53,26,"*","*",30374,15972,"*","*",83,10,180,0,10,170,0,null,null,null,18,55,3,55,15,55,null,null,50,179,null,null,null,null,null,null,"Region Sjælland"]
[null,"Ringsted",7285,"2016-07-01",36,19,"*","*",18264,11557,"*","*",39,"*",166,0,"*",163,"*",null,null,null,3,26,0,26,3,26,8,160,34,165,null,null,null,null,null,null,"Region Sjælland"]
[null,"Slagelse",15304,"2016-07-01",48,14,0,34,49087,17948,"*",31139,128,13,210,3,5,199,3,null,null,null,7,46,null,46,null,46,13,265,126,274,null,null,null,null,null,null,"Region Sjælland"]
[null,"Stevns",4275,"2016-07-01",24,"*","*",13,17311,"*","*",8974,26,"*",100,0,3,94,3,null,null,null,4,21,0,21,4,21,null,null,20,84,null,null,null,null,null,null,"Region Sjælland"]
[null,"Sorø",6330,"2016-07-01",19,"*","*",13,13836,"*","*",9813,34,9,213,"*",6,202,"*",null,null,null,4,20,null,20,null,20,7,182,29,197,null,null,null,null,null,null,"Region Sjælland"]
[null,"Lejre",6171,"2016-07-01",12,8,0,4,8552,"*","*","*",16,3,82,"*","*","*","*",null,null,null,5,14,0,14,5,14,null,null,34,111,null,null,null,null,null,null,"Region Sjælland"]
[null,"Lolland",7140,"2016-07-01",38,"*","*",23,33125,"*","*",17529,169,16,307,"*",17,286,"*",null,null,null,13,41,3,41,10,41,null,null,41,159,null,null,null,null,null,null,"Region Sjælland"]
[null,"Næstved",16744,"2016-07-01",79,36,0,43,85654,35155,"*",50499,83,12,291,0,11,275,5,null,null,null,9,77,null,77,null,77,15,258,103,268,null,null,null,null,null,null,"Region Sjælland"]
[null,"Guldborgsund",10772,"2016-07-01",67,19,0,48,47831,11956,"*",35875,123,7,190,"*","*",178,"*",null,null,null,10,66,0,66,10,66,null,null,63,225,null,null,null,null,null,null,"Region Sjælland"]
[null,"Vordingborg",8543,"2016-07-01",42,11,0,31,31047,12659,"*",18388,108,6,94,0,5,81,8,null,null,null,7,44,0,44,7,44,9,85,32,89,null,null,null,null,null,null,"Region Sjælland"]
[null,"Bornholm",6717,"2016-07-01",18,11,"*","*",14681,12177,"*","*",70,6,143,"*",3,136,"*",null,null,null,4,20,0,20,4,20,null,null,39,156,null,null,null,null,null,null,"Region Hovedstaden"]
[null,"Middelfart",8034,"2016-07-01",23,14,"*","*",12990,7682,"*","*",45,"*",245,"*","*",240,"*",null,null,null,5,23,0,23,5,23,null,null,13,218,null,null,null,null,null,null,"Region Syddanmark"]
[null,"Assens",8666,"2016-07-01",10,"*","*",6,16381,"*","*",12154,96,5,185,0,3,182,0,null,null,null,3,12,0,12,3,12,4,198,41,202,null,null,null,null,null,null,"Region Syddanmark"]
[null,"Faaborg-Midtfyn",10532,"2016-07-01",37,20,0,17,38109,21208,"*",16901,80,13,180,"*","*",171,"*",null,null,null,null,34,0,34,null,34,10,117,46,125,null,null,null,null,null,null,"Region Syddanmark"]
[null,"Kerteminde",4759,"2016-07-01",18,13,0,5,27524,19814,"*",7710,25,6,53,"*","*","*","*",null,null,null,null,17,0,17,null,17,null,null,null,44,null,null,null,null,null,null,"Region Syddanmark"]
[null,"Nyborg",6429,"2016-07-01",17,14,0,3,6421,"*","*","*",53,9,91,0,0,87,4,null,null,null,4,15,0,15,4,15,null,null,50,115,null,null,null,null,null,null,"Region Syddanmark"]
[null,"Odense",38244,"2016-07-01",168,95,"*","*",156376,93679,"*","*",237,28,933,0,5,924,4,null,null,null,22,149,0,149,22,149,null,null,147,815,null,null,null,null,null,null,"Region Syddanmark"]
[null,"Svendborg",11505,"2016-07-01",34,13,0,21,40900,16984,"*",23916,97,7,418,"*","*","*","*",null,null,null,7,36,0,36,7,36,null,null,52,411,null,null,null,null,null,null,"Region Syddanmark"]
[null,"Nordfyns",6137,"2016-07-01",14,"*","*","*",6590,"*","*","*",26,4,57,0,5,52,0,null,null,null,null,12,0,12,null,12,6,76,29,81,null,null,null,null,null,null,"Region Syddanmark"]
[null,"Langeland",1884,"2016-07-01",19,13,0,6,30466,18453,"*",12013,29,3,59,"*","*","*","*",null,null,null,null,20,0,20,null,20,null,null,12,52,null,null,null,null,null,null,"Region Syddanmark"]
[null,"Ærø",888,"2016-07-01","*","*",0,0,"*","*","*","*",3,"*",14,0,0,14,0,null,null,null,null,3,0,3,null,3,null,null,6,13,null,null,null,null,null,null,"Region Syddanmark"]
[null,"Haderslev",11414,"2016-07-01",25,"*","*",17,9846,"*","*",6301,123,21,197,0,4,190,3,null,null,null,10,30,0,30,10,30,9,225,79,228,null,null,null,null,null,null,"Region Syddanmark"]
[null,"Billund",5794,"2016-07-01",10,"*","*","*",4390,"*","*","*",52,"*",156,"*","*",153,"*",null,null,null,3,10,0,10,3,10,null,null,39,143,null,null,null,null,null,null,"Region Syddanmark"]
[null,"Sønderborg",14930,"2016-07-01",30,20,"*","*",19981,16893,"*","*",84,5,328,0,21,303,4,null,null,null,null,25,0,25,null,25,26,434,148,451,null,null,null,null,null,null,"Region Syddanmark"]
[null,"Tønder",7489,"2016-07-01",14,10,"*","*",18374,15801,"*","*",104,11,153,"*","*",150,"*",null,null,null,5,18,null,18,null,18,7,154,39,158,null,null,null,null,null,null,"Region Syddanmark"]
[null,"Esbjerg",23421,"2016-07-01",130,60,0,70,148300,84368,"*",63932,112,25,961,"*",7,948,"*",null,null,null,37,152,null,152,null,152,27,948,95,960,null,null,null,null,null,null,"Region Syddanmark"]
[null,"Fanø",601,"2016-07-01","*",0,0,"*","*","*","*","*","*",0,5,0,0,5,0,null,null,null,null,3,0,3,null,3,0,4,0,4,null,null,null,null,null,null,"Region Syddanmark"]
[null,"Varde",10747,"2016-07-01",18,"*","*","*",19607,"*","*","*",74,19,444,0,"*",441,"*",null,null,null,3,19,null,19,null,19,10,470,117,473,null,null,null,null,null,null,"Region Syddanmark"]
[null,"Vejen",9573,"2016-07-01",35,8,0,27,27433,10791,"*",16642,71,12,166,"*","*","*","*",null,null,null,7,39,null,39,null,39,5,223,98,223,null,null,null,null,null,null,"Region Syddanmark"]
[null,"Aabenraa",12126,"2016-07-01",36,23,0,13,36904,27016,"*",9888,116,9,309,"*","*",303,"*",null,null,null,11,45,0,45,11,45,null,null,74,314,null,null,null,null,null,null,"Region Syddanmark"]
[null,"Fredericia",10593,"2016-07-01",17,7,0,10,10414,4326,"*",6088,73,13,260,"*","*",254,"*",null,null,null,4,16,0,16,4,16,null,null,43,235,null,null,null,null,null,null,"Region Syddanmark"]
[null,"Horsens",19072,"2016-07-01",55,28,4,23,37001,21462,"*","*",118,17,441,"*","*",428,"*",null,null,null,13,55,4,55,9,55,null,null,127,489,null,null,null,null,null,null,"Region Midtjylland"]
[null,"Kolding",19930,"2016-07-01",38,22,"*","*",27909,18723,"*","*",128,16,358,"*","*",350,"*",null,null,null,10,35,0,35,10,35,null,null,122,333,null,null,null,null,null,null,"Region Syddanmark"]
[null,"Vejle",24988,"2016-07-01",65,51,0,14,47576,38302,"*",9274,132,26,520,0,5,505,10,null,null,null,13,60,3,60,10,60,18,537,85,544,null,null,null,null,null,null,"Region Syddanmark"]
[null,"Herning",19276,"2016-07-01",34,28,0,6,25389,24896,"*",493,101,9,369,"*","*",357,7,null,null,null,18,45,null,45,null,45,11,341,65,352,null,null,null,null,null,null,"Region Midtjylland"]
[null,"Holstebro",12660,"2016-07-01",29,21,3,5,27485,23565,"*","*",93,8,301,"*","*",269,"*",null,null,null,8,31,null,31,null,31,5,284,75,284,null,null,null,null,null,null,"Region Midtjylland"]
[null,"Lemvig",3906,"2016-07-01",11,5,0,6,13904,10709,"*",3195,35,6,73,"*","*","*","*",null,null,null,5,15,0,15,5,15,null,null,15,74,null,null,null,null,null,null,"Region Midtjylland"]
[null,"Struer",4388,"2016-07-01",12,4,0,8,7550,"*","*","*",38,4,83,"*","*",79,"*",null,null,null,4,11,null,11,null,11,null,null,10,79,null,null,null,null,null,null,"Region Midtjylland"]
[null,"Syddjurs",8500,"2016-07-01",12,7,0,5,8276,5212,"*",3064,61,10,373,"*","*",357,11,null,null,null,3,11,null,11,null,11,8,322,55,326,null,null,null,null,null,null,"Region Midtjylland"]
[null,"Norddjurs",6985,"2016-07-01",47,35,0,12,45291,36365,"*",8926,75,9,211,"*","*",204,"*",null,null,null,8,50,0,50,8,50,null,null,99,269,null,null,null,null,null,null,"Region Midtjylland"]
[null,"Favrskov",11804,"2016-07-01",42,24,0,18,34350,20547,"*",13803,51,"*",137,0,"*",134,"*",null,null,null,7,41,0,41,7,41,null,null,25,129,null,null,null,null,null,null,"Region Midtjylland"]
[null,"Odder",4801,"2016-07-01",7,"*","*","*",4120,"*","*","*",16,7,128,"*","*","*","*",null,null,null,null,6,0,6,null,6,null,null,14,124,null,null,null,null,null,null,"Region Midtjylland"]
[null,"Randers",20040,"2016-07-01",33,11,3,19,31440,"*","*",17784,150,19,349,"*","*",334,10,null,null,null,12,42,null,42,null,42,null,null,109,373,null,null,null,null,null,null,"Region Midtjylland"]
[null,"Silkeborg",20668,"2016-07-01",28,17,"*","*",61480,37215,"*","*",89,19,269,"*","*",263,"*",null,null,null,7,33,null,33,null,33,null,null,53,234,null,null,null,null,null,null,"Region Midtjylland"]
[null,"Samsø",574,"2016-07-01","*",0,0,"*","*","*","*","*",9,"*",23,0,3,20,0,null,null,null,null,null,null,null,null,null,null,null,5,23,null,null,null,null,null,null,"Region Midtjylland"]
[null,"Skanderborg",15176,"2016-07-01",15,8,"*","*",21771,11574,"*","*",54,11,201,"*","*",197,"*",null,null,null,5,19,null,19,null,19,null,null,58,196,null,null,null,null,null,null,"Region Midtjylland"]
[null,"Aarhus",62670,"2016-07-01",203,138,4,61,208297,162998,"*","*",215,38,1145,"*",19,1110,"*",null,null,null,31,189,3,189,28,189,52,1119,301,1152,null,null,null,null,null,null,"Region Midtjylland"]
[null,"Ikast-Brande",9166,"2016-07-01",16,10,0,6,10367,8054,"*",2313,49,14,50,"*","*","*","*",null,null,null,0,15,0,15,0,15,null,null,10,40,null,null,null,null,null,null,"Region Midtjylland"]
[null,"Ringkøbing-Skjern",12469,"2016-07-01",33,25,0,8,41905,33179,"*",8726,83,7,312,"*","*",307,"*",null,null,null,4,34,0,34,4,34,null,null,60,315,null,null,null,null,null,null,"Region Midtjylland"]
[null,"Hedensted",10686,"2016-07-01",37,19,0,18,29295,19840,"*",9455,27,7,287,0,3,281,3,null,null,null,5,34,null,34,null,34,null,null,59,314,null,null,null,null,null,null,"Region Midtjylland"]
[null,"Morsø",4005,"2016-07-01",12,7,0,5,10932,8000,"*",2932,35,3,133,0,0,133,0,null,null,null,5,16,null,16,null,16,null,null,20,119,null,null,null,null,null,null,"Region Nordjylland"]
[null,"Skive",9455,"2016-07-01",28,14,0,14,20377,12176,"*",8201,57,13,169,"*","*","*","*",null,null,null,7,26,3,26,4,26,null,null,110,212,null,null,null,null,null,null,"Region Midtjylland"]
[null,"Thisted",8897,"2016-07-01",21,13,0,8,18805,14733,"*",4072,92,7,271,"*","*",266,"*",null,null,null,7,25,null,25,null,25,null,null,93,282,null,null,null,null,null,null,"Region Nordjylland"]
[null,"Viborg",21315,"2016-07-01",37,27,3,7,49127,40872,"*","*",120,15,324,0,3,316,5,null,null,null,14,44,4,44,10,44,null,null,261,527,null,null,null,null,null,null,"Region Midtjylland"]
[null,"Brønderslev",7981,"2016-07-01",29,7,0,22,24634,8982,"*",15652,113,6,167,0,"*",163,"*",null,null,null,4,28,null,28,null,28,null,null,37,155,null,null,null,null,null,null,"Region Nordjylland"]
[null,"Frederikshavn",10884,"2016-07-01",30,19,"*","*",22638,16428,"*","*",132,16,189,"*",3,181,"*",null,null,null,4,32,0,32,4,32,null,null,93,248,null,null,null,null,null,null,"Region Nordjylland"]
[null,"Vesthimmerlands",7746,"2016-07-01",29,7,0,22,23992,9515,"*",14477,66,4,266,"*","*",261,"*",null,null,null,6,34,0,34,6,34,null,null,51,268,null,null,null,null,null,null,"Region Nordjylland"]
[null,"Læsø",254,"2016-07-01","*","*",0,0,"*","*","*","*","*","*",6,0,0,6,0,null,null,null,0,0,0,0,0,0,null,null,null,4,null,null,null,null,null,null,"Region Nordjylland"]
[null,"Rebild",6918,"2016-07-01",10,6,0,4,16404,"*","*","*",22,5,111,"*","*",103,"*",null,null,null,4,14,0,14,4,14,null,null,8,90,null,null,null,null,null,null,"Region Nordjylland"]
[null,"Mariagerfjord",8586,"2016-07-01",42,15,0,27,34029,18418,"*",15611,77,12,212,"*",3,205,"*",null,null,null,3,34,0,34,3,34,null,null,73,226,null,null,null,null,null,null,"Region Nordjylland"]
[null,"Jammerbugt",8026,"2016-07-01",28,9,0,19,35837,13356,"*",22481,72,5,261,"*","*","*","*",null,null,null,5,29,0,29,5,29,null,null,60,273,null,null,null,null,null,null,"Region Nordjylland"]
[null,"Aalborg",38788,"2016-07-01",156,97,"*","*",122304,80746,"*","*",318,46,786,0,9,766,11,null,null,null,19,148,4,148,15,148,24,736,166,744,null,null,null,null,null,null,"Region Nordjylland"]
[null,"Hjørring",13087,"2016-07-01",43,"*","*",22,36191,"*","*",13526,151,4,231,0,3,221,7,null,null,null,6,42,null,42,null,42,8,181,55,181,null,null,null,null,null,null,"Region Nordjylland"]
[null,"København",105885,"2017-01-01",224,170,7,47,176992,126890,2067,48035,355,105,2146,10,23,2108,5,null,null,null,46,233,9,233,37,233,59,2072,516,2101,null,null,null,null,null,null,"Region Hovedstaden"]
[null,"Frederiksberg",18509,"2017-01-01",65,53,"*","*",54210,46979,"*","*",43,7,140,"*",4,130,"*",null,null,null,5,62,null,62,null,62,null,null,33,157,null,null,null,null,null,null,"Region Hovedstaden"]
[null,"Ballerup",10380,"2017-01-01",38,17,0,21,27326,10750,"*",16576,45,4,289,"*","*",282,3,null,null,null,5,36,0,36,5,36,null,null,63,310,null,null,null,null,null,null,"Region Hovedstaden"]
[null,"Brøndby",7454,"2017-01-01",40,24,"*","*",27179,14147,"*","*",51,8,99,"*","*",94,"*",null,null,null,6,39,0,39,6,39,null,null,34,121,null,null,null,null,null,null,"Region Hovedstaden"]
[null,"Dragør",3260,"2017-01-01","*","*",0,"*","*","*","*","*",5,0,35,"*","*","*","*",null,null,null,null,null,null,null,null,null,null,null,8,29,null,null,null,null,null,null,"Region Hovedstaden"]
[null,"Gentofte",17170,"2017-01-01",43,39,0,4,27905,"*","*","*",21,8,133,"*","*",127,"*",null,null,null,4,30,0,30,4,30,null,null,21,110,null,null,null,null,null,null,"Region Hovedstaden"]
[null,"Gladsaxe",15219,"2017-01-01",35,18,0,17,28797,12063,"*",16734,43,9,269,0,4,261,4,null,null,null,10,35,null,35,null,35,8,270,61,275,null,null,null,null,null,null,"Region Hovedstaden"]
[null,"Glostrup",4536,"2017-01-01",10,6,0,4,4798,"*","*","*",16,4,63,0,0,63,0,null,null,null,null,8,0,8,null,8,0,62,17,65,null,null,null,null,null,null,"Region Hovedstaden"]
[null,"Herlev",6305,"2017-01-01",22,12,0,10,16418,11559,"*",4859,22,8,88,"*","*",83,"*",null,null,null,9,27,0,27,9,27,null,null,15,94,null,null,null,null,null,null,"Region Hovedstaden"]
[null,"Albertslund",6201,"2017-01-01",29,19,0,10,23646,20079,"*",3567,33,6,182,"*","*",172,6,null,null,null,5,29,null,29,null,29,4,153,18,156,null,null,null,null,null,null,"Region Hovedstaden"]
[null,"Hvidovre",11541,"2017-01-01",21,8,0,13,13904,4682,"*",9222,40,7,283,"*",3,277,"*",null,null,null,7,25,null,25,null,25,null,null,45,276,null,null,null,null,null,null,"Region Hovedstaden"]
[null,"Høje-Taastrup",11186,"2017-01-01",57,"*","*",31,56780,"*","*",33408,47,3,193,0,6,181,6,null,null,null,9,64,0,64,9,64,5,197,40,201,null,null,null,null,null,null,"Region Hovedstaden"]
[null,"Lyngby-Taarbæk",11886,"2017-01-01",24,"*","*",16,6400,"*","*",3815,18,9,162,"*","*",157,"*",null,null,null,3,19,null,19,null,19,null,null,30,155,null,null,null,null,null,null,"Region Hovedstaden"]
[null,"Rødovre",8129,"2017-01-01",14,4,0,10,17192,"*","*","*",43,8,191,"*","*",183,5,null,null,null,null,11,null,11,0,11,null,null,26,163,null,null,null,null,null,null,"Region Hovedstaden"]
[null,"Ishøj",5158,"2017-01-01",33,"*","*",27,33291,"*","*",24459,26,4,146,"*","*",142,"*",null,null,null,9,38,null,38,null,38,6,122,24,122,null,null,null,null,null,null,"Region Hovedstaden"]
[null,"Tårnby",9424,"2017-01-01",11,6,0,5,8987,4114,"*",4873,37,6,98,0,3,92,3,null,null,null,null,9,0,9,null,9,null,null,32,101,null,null,null,null,null,null,"Region Hovedstaden"]
[null,"Vallensbæk",3758,"2017-01-01",6,"*","*","*",3007,"*","*","*",7,0,43,"*","*","*","*",null,null,null,null,7,0,7,null,7,null,null,18,49,null,null,null,null,null,null,"Region Hovedstaden"]
[null,"Furesø",9638,"2017-01-01",17,5,0,12,9600,3011,"*",6589,26,4,123,"*","*","*","*",null,null,null,3,16,0,16,3,16,null,null,22,128,null,null,null,null,null,null,"Region Hovedstaden"]
[null,"Allerød",6058,"2017-01-01",10,"*","*","*",6263,"*","*","*",6,"*",52,"*","*","*","*",null,null,null,null,11,0,11,null,11,null,null,9,48,null,null,null,null,null,null,"Region Hovedstaden"]
[null,"Fredensborg",8892,"2017-01-01",18,15,0,3,9170,"*","*","*",18,5,178,0,3,170,5,null,null,null,6,20,0,20,6,20,7,184,42,184,null,null,null,null,null,null,"Region Hovedstaden"]
[null,"Helsingør",12563,"2017-01-01",38,"*","*",19,59773,"*","*",30239,62,9,274,0,5,259,10,null,null,null,5,35,0,35,5,35,10,287,69,292,null,null,null,null,null,null,"Region Hovedstaden"]
[null,"Hillerød",11338,"2017-01-01",25,"*","*",19,19564,"*","*",14527,35,3,216,0,"*",213,"*",null,null,null,3,22,0,22,3,22,null,null,38,219,null,null,null,null,null,null,"Region Hovedstaden"]
[null,"Hørsholm",5255,"2017-01-01",9,4,0,5,7027,"*","*","*",7,6,39,0,4,35,0,null,null,null,null,9,0,9,null,9,null,null,12,38,null,null,null,null,null,null,"Region Hovedstaden"]
[null,"Rudersdal",12925,"2017-01-01",27,20,0,7,21060,17353,"*",3707,27,5,217,"*",6,206,"*",null,null,null,3,27,0,27,3,27,null,null,48,209,null,null,null,null,null,null,"Region Hovedstaden"]
[null,"Egedal",10473,"2017-01-01",20,"*","*",11,16406,"*","*",9808,24,5,223,0,0,218,5,null,null,null,5,22,null,22,null,22,5,221,42,221,null,null,null,null,null,null,"Region Hovedstaden"]
[null,"Frederikssund",9368,"2017-01-01",15,3,0,12,10987,"*","*","*",45,6,170,0,9,156,5,null,null,null,null,15,0,15,null,15,10,184,49,190,null,null,null,null,null,null,"Region Hovedstaden"]
[null,"Greve",11096,"2017-01-01",25,9,0,16,18643,8964,"*",9679,43,4,214,12,"*",198,"*",null,null,null,5,28,null,28,null,28,7,193,46,200,null,null,null,null,null,null,"Region Sjælland"]
[null,"Køge",13051,"2017-01-01",36,"*","*",21,15698,"*","*",6178,58,4,241,"*",4,233,"*",null,null,null,5,29,null,29,null,29,10,222,68,226,null,null,null,null,null,null,"Region Sjælland"]
[null,"Halsnæs",5817,"2017-01-01",40,25,"*","*",26504,15538,"*","*",42,8,150,"*",7,140,"*",null,null,null,6,33,0,33,6,33,null,null,34,155,null,null,null,null,null,null,"Region Hovedstaden"]
[null,"Roskilde",18424,"2017-01-01",58,39,0,19,55214,36160,"*",19054,74,7,277,"*","*",265,"*",null,null,null,14,64,0,64,14,64,null,null,99,283,null,null,null,null,null,null,"Region Sjælland"]
[null,"Solrød",5195,"2017-01-01",9,"*","*","*",8338,"*","*","*",9,0,57,"*","*","*","*",null,null,null,3,13,0,13,3,13,null,null,11,63,null,null,null,null,null,null,"Region Sjælland"]
[null,"Gribskov",8027,"2017-01-01",31,21,"*","*",23158,17212,"*","*",14,11,226,"*","*",221,"*",null,null,null,7,29,0,29,7,29,7,233,67,239,null,null,null,null,null,null,"Region Hovedstaden"]
[null,"Odsherred",5591,"2017-01-01",16,11,"*","*",12021,7556,"*","*",42,12,268,"*","*",242,22,null,null,null,10,24,0,24,10,24,5,267,38,270,null,null,null,null,null,null,"Region Sjælland"]
[null,"Holbæk",15180,"2017-01-01",52,"*","*",35,38865,"*","*",26767,97,14,287,"*","*",273,8,null,null,null,10,55,null,55,null,55,13,301,68,306,null,null,null,null,null,null,"Region Sjælland"]
[null,"Faxe",7194,"2017-01-01",23,"*","*","*",14208,"*","*","*",48,11,163,"*",6,154,"*",null,null,null,9,28,null,28,null,28,null,null,29,162,null,null,null,null,null,null,"Region Sjælland"]
[null,"Kalundborg",9658,"2017-01-01",64,28,5,31,37415,19860,390,17165,79,12,173,"*","*",164,"*",null,null,null,3,53,0,53,3,53,16,170,45,180,null,null,null,null,null,null,"Region Sjælland"]
[null,"Ringsted",7311,"2017-01-01",34,17,"*","*",19670,12922,"*","*",35,3,146,"*","*","*","*",null,null,null,8,36,null,36,null,36,null,null,51,166,null,null,null,null,null,null,"Region Sjælland"]
[null,"Slagelse",15305,"2017-01-01",48,"*","*",35,49545,"*","*",31393,140,15,237,"*","*",231,3,null,null,null,11,48,null,48,null,48,17,202,59,210,null,null,null,null,null,null,"Region Sjælland"]
[null,"Stevns",4310,"2017-01-01",24,"*","*",13,18598,"*","*",8237,29,4,96,"*","*",92,"*",null,null,null,null,24,0,24,null,24,5,97,32,100,null,null,null,null,null,null,"Region Sjælland"]
[null,"Sorø",6264,"2017-01-01",16,7,0,9,10230,4276,"*",5954,32,10,219,"*",5,210,"*",null,null,null,7,19,0,19,7,19,null,null,35,213,null,null,null,null,null,null,"Region Sjælland"]
[null,"Lejre",6119,"2017-01-01",10,7,0,3,8287,"*","*","*",24,3,79,"*","*","*","*",null,null,null,null,12,0,12,null,12,null,null,12,82,null,null,null,null,null,null,"Region Sjælland"]
[null,"Lolland",7007,"2017-01-01",38,"*","*",25,31553,"*","*",20070,168,14,303,"*","*",284,"*",null,null,null,6,38,0,38,6,38,null,null,76,307,null,null,null,null,null,null,"Region Sjælland"]
[null,"Næstved",16735,"2017-01-01",77,33,0,44,78801,30424,"*",48377,83,9,293,0,13,276,4,null,null,null,11,79,null,79,null,79,15,280,54,291,null,null,null,null,null,null,"Region Sjælland"]
[null,"Guldborgsund",10820,"2017-01-01",67,21,0,46,46129,13792,"*",32337,127,6,155,"*","*",143,"*",null,null,null,13,67,4,67,9,67,null,null,50,190,null,null,null,null,null,null,"Region Sjælland"]
[null,"Vordingborg",8505,"2017-01-01",43,13,0,30,34950,13072,"*",21878,107,5,122,0,5,112,5,null,null,null,5,42,0,42,5,42,6,89,30,94,null,null,null,null,null,null,"Region Sjælland"]
[null,"Bornholm",6678,"2017-01-01",27,14,"*","*",15738,11821,"*","*",70,6,167,"*","*",163,"*",null,null,null,null,18,null,18,null,18,null,null,23,143,null,null,null,null,null,null,"Region Hovedstaden"]
[null,"Middelfart",8045,"2017-01-01",24,17,0,7,14001,8096,"*",5905,41,"*",254,0,0,250,4,null,null,null,6,23,null,23,null,23,null,null,30,245,null,null,null,null,null,null,"Region Syddanmark"]
[null,"Assens",8662,"2017-01-01",11,"*","*",7,18233,"*","*",13270,107,5,186,0,4,182,0,null,null,null,0,10,0,10,0,10,6,182,39,185,null,null,null,null,null,null,"Region Syddanmark"]
[null,"Faaborg-Midtfyn",10519,"2017-01-01",40,22,0,18,40894,23563,"*",17331,81,12,191,"*","*",182,"*",null,null,null,3,37,0,37,3,37,null,null,26,180,null,null,null,null,null,null,"Region Syddanmark"]
[null,"Kerteminde",4750,"2017-01-01",22,18,0,4,29350,"*","*","*",22,8,52,0,0,52,0,null,null,null,null,18,0,18,null,18,null,null,4,53,null,null,null,null,null,null,"Region Syddanmark"]
[null,"Nyborg",6471,"2017-01-01",20,17,0,3,9180,"*","*","*",52,8,81,"*","*","*","*",null,null,null,3,17,0,17,3,17,6,91,25,91,null,null,null,null,null,null,"Region Syddanmark"]
[null,"Odense",38230,"2017-01-01",160,89,4,67,163206,100540,"*","*",237,29,917,"*","*",910,"*",null,null,null,23,168,4,168,19,168,18,928,216,933,null,null,null,null,null,null,"Region Syddanmark"]
[null,"Svendborg",11504,"2017-01-01",35,12,0,23,32958,11124,"*",21834,101,6,409,"*","*","*","*",null,null,null,7,34,0,34,7,34,null,null,81,418,null,null,null,null,null,null,"Region Syddanmark"]
[null,"Nordfyns",6129,"2017-01-01",14,11,"*","*",8089,5018,"*","*",29,7,59,0,3,56,0,null,null,null,3,14,null,14,null,14,5,52,18,57,null,null,null,null,null,null,"Region Syddanmark"]
[null,"Langeland",1871,"2017-01-01",16,9,0,7,21150,7944,"*",13206,27,3,74,"*","*",70,0,null,null,null,4,19,0,19,4,19,null,null,13,59,null,null,null,null,null,null,"Region Syddanmark"]
[null,"Ærø",848,"2017-01-01","*","*",0,0,"*","*","*","*",3,"*",11,"*","*","*","*",null,null,null,null,null,null,null,null,null,0,14,7,14,null,null,null,null,null,null,"Region Syddanmark"]
[null,"Haderslev",11356,"2017-01-01",29,"*","*",22,12561,"*","*",7988,122,20,210,"*","*",202,4,null,null,null,7,25,0,25,7,25,10,193,55,197,null,null,null,null,null,null,"Region Syddanmark"]
[null,"Billund",5773,"2017-01-01",15,3,0,12,6473,"*","*","*",49,"*",143,"*","*","*","*",null,null,null,null,10,0,10,null,10,null,null,45,156,null,null,null,null,null,null,"Region Syddanmark"]
[null,"Sønderborg",14892,"2017-01-01",25,16,"*","*",16950,14366,"*","*",87,4,344,"*","*",329,"*",null,null,null,10,30,null,30,null,30,19,307,63,328,null,null,null,null,null,null,"Region Syddanmark"]
[null,"Tønder",7507,"2017-01-01",15,7,"*","*",14083,12732,"*","*",107,12,147,"*","*","*","*",null,null,null,5,14,0,14,5,14,null,null,42,153,null,null,null,null,null,null,"Region Syddanmark"]
[null,"Esbjerg",23369,"2017-01-01",125,60,0,65,143484,85506,"*",57978,105,24,986,0,5,978,3,null,null,null,20,130,null,130,null,130,null,null,92,961,null,null,null,null,null,null,"Region Syddanmark"]
[null,"Fanø",608,"2017-01-01","*",0,0,"*","*","*","*","*","*",0,7,0,0,7,0,null,null,null,null,null,null,null,null,null,0,5,null,5,null,null,null,null,null,null,"Region Syddanmark"]
[null,"Varde",10703,"2017-01-01",16,13,0,3,15697,"*","*","*",70,17,424,"*","*","*","*",null,null,null,6,18,0,18,6,18,null,null,133,444,null,null,null,null,null,null,"Region Syddanmark"]
[null,"Vejen",9443,"2017-01-01",37,9,0,28,30430,12415,"*",18015,73,12,159,"*","*","*","*",null,null,null,6,35,null,35,null,35,null,null,46,166,null,null,null,null,null,null,"Region Syddanmark"]
[null,"Aabenraa",12112,"2017-01-01",30,18,0,12,36515,25429,"*",11086,115,9,302,"*","*",297,"*",null,null,null,6,36,null,36,null,36,null,null,70,309,null,null,null,null,null,null,"Region Syddanmark"]
[null,"Fredericia",10584,"2017-01-01",19,"*","*",10,11711,"*","*",5870,72,11,283,"*","*",278,"*",null,null,null,null,17,0,17,null,17,null,null,42,260,null,null,null,null,null,null,"Region Syddanmark"]
[null,"Horsens",19180,"2017-01-01",57,28,4,25,36664,22299,"*","*",119,17,450,"*","*",442,"*",null,null,null,11,55,null,55,null,55,null,null,89,441,null,null,null,null,null,null,"Region Midtjylland"]
[null,"Kolding",19986,"2017-01-01",31,21,0,10,26333,18615,"*",7718,130,15,351,"*",6,342,"*",null,null,null,11,38,4,38,7,38,null,null,109,358,null,null,null,null,null,null,"Region Syddanmark"]
[null,"Vejle",25101,"2017-01-01",49,35,"*","*",40616,34254,"*","*",142,23,515,"*","*",499,"*",null,null,null,24,65,8,65,16,65,12,515,102,520,null,null,null,null,null,null,"Region Syddanmark"]
[null,"Herning",19224,"2017-01-01",31,23,3,5,26703,25467,"*","*",108,10,399,"*","*",382,10,null,null,null,10,34,5,34,5,34,14,364,44,369,null,null,null,null,null,null,"Region Midtjylland"]
[null,"Holstebro",12656,"2017-01-01",26,17,4,5,25865,20721,"*","*",92,9,308,0,3,254,51,null,null,null,6,29,0,29,6,29,null,null,87,301,null,null,null,null,null,null,"Region Midtjylland"]
[null,"Lemvig",3867,"2017-01-01",11,4,0,7,14152,"*","*","*",33,8,73,"*","*",70,"*",null,null,null,null,11,null,11,0,11,null,null,8,73,null,null,null,null,null,null,"Region Midtjylland"]
[null,"Struer",4340,"2017-01-01",7,3,0,4,6431,"*","*","*",37,4,96,"*","*",91,"*",null,null,null,6,12,0,12,6,12,null,null,21,83,null,null,null,null,null,null,"Region Midtjylland"]
[null,"Syddjurs",8505,"2017-01-01",11,6,0,5,6293,4856,"*",1437,60,9,376,6,3,353,14,null,null,null,null,12,0,12,null,12,9,368,78,373,null,null,null,null,null,null,"Region Midtjylland"]
[null,"Norddjurs",6940,"2017-01-01",47,37,0,10,48351,38373,"*",9978,71,7,231,"*","*",223,"*",null,null,null,5,47,null,47,null,47,null,null,31,211,null,null,null,null,null,null,"Region Midtjylland"]
[null,"Favrskov",11821,"2017-01-01",39,23,0,16,38957,23776,"*",15181,53,"*",140,0,"*",137,"*",null,null,null,5,42,0,42,5,42,null,null,14,137,null,null,null,null,null,null,"Region Midtjylland"]
[null,"Odder",4849,"2017-01-01",8,"*","*","*",3908,"*","*","*",18,7,125,"*","*","*","*",null,null,null,null,7,0,7,null,7,null,null,24,128,null,null,null,null,null,null,"Region Midtjylland"]
[null,"Randers",20053,"2017-01-01",29,12,3,14,26911,"*","*",11808,160,15,300,"*","*",285,8,null,null,null,8,33,0,33,8,33,14,344,121,349,null,null,null,null,null,null,"Region Midtjylland"]
[null,"Silkeborg",20590,"2017-01-01",24,14,"*","*",46239,31449,"*","*",93,22,267,"*","*",264,0,null,null,null,5,28,0,28,5,28,null,null,90,269,null,null,null,null,null,null,"Region Midtjylland"]
[null,"Samsø",554,"2017-01-01","*",0,0,"*","*","*","*","*",8,"*",21,0,3,18,0,null,null,null,null,null,null,null,null,null,5,20,null,23,null,null,null,null,null,null,"Region Midtjylland"]
[null,"Skanderborg",15237,"2017-01-01",14,10,0,4,20982,"*","*","*",55,10,184,"*","*","*","*",null,null,null,4,15,0,15,4,15,null,null,55,201,null,null,null,null,null,null,"Region Midtjylland"]
[null,"Aarhus",62903,"2017-01-01",191,133,3,55,208831,162866,"*","*",221,42,1132,"*",24,1098,"*",null,null,null,36,203,6,203,30,203,null,null,314,1145,null,null,null,null,null,null,"Region Midtjylland"]
[null,"Ikast-Brande",9223,"2017-01-01",12,6,0,6,5971,3917,"*",2054,46,16,63,"*","*",60,0,null,null,null,6,16,null,16,null,16,null,null,13,50,null,null,null,null,null,null,"Region Midtjylland"]
[null,"Ringkøbing-Skjern",12493,"2017-01-01",30,23,0,7,37091,33338,"*",3753,90,6,311,0,"*",308,"*",null,null,null,8,33,0,33,8,33,null,null,53,312,null,null,null,null,null,null,"Region Midtjylland"]
[null,"Hedensted",10686,"2017-01-01",45,"*","*",28,30052,"*","*",12949,29,6,278,0,3,272,3,null,null,null,5,37,0,37,5,37,6,284,53,287,null,null,null,null,null,null,"Region Midtjylland"]
[null,"Morsø",4010,"2017-01-01",10,7,0,3,10397,"*","*","*",43,3,104,"*","*","*","*",null,null,null,3,12,null,12,null,12,4,133,38,133,null,null,null,null,null,null,"Region Nordjylland"]
[null,"Skive",9381,"2017-01-01",32,18,"*","*",25609,15321,"*","*",58,14,188,"*","*","*","*",null,null,null,null,28,0,28,null,28,null,null,28,169,null,null,null,null,null,null,"Region Midtjylland"]
[null,"Thisted",8816,"2017-01-01",23,16,0,7,22403,17116,"*",5287,89,7,236,"*",4,226,"*",null,null,null,null,21,0,21,null,21,null,null,92,271,null,null,null,null,null,null,"Region Nordjylland"]
[null,"Viborg",21394,"2017-01-01",38,27,5,6,47958,39025,3155,5778,126,18,318,"*","*",311,"*",null,null,null,5,37,null,37,null,37,6,321,104,324,null,null,null,null,null,null,"Region Midtjylland"]
[null,"Brønderslev",7943,"2017-01-01",29,"*","*",21,29319,"*","*",19071,115,5,174,0,"*",171,"*",null,null,null,null,29,0,29,null,29,null,null,40,167,null,null,null,null,null,null,"Region Nordjylland"]
[null,"Frederikshavn",10818,"2017-01-01",30,20,"*","*",16933,13369,"*","*",130,14,236,"*","*",230,3,null,null,null,6,30,null,30,null,30,null,null,39,189,null,null,null,null,null,null,"Region Nordjylland"]
[null,"Vesthimmerlands",7733,"2017-01-01",27,6,0,21,25010,9392,"*",15618,65,4,272,"*","*",267,"*",null,null,null,4,29,0,29,4,29,null,null,48,266,null,null,null,null,null,null,"Region Nordjylland"]
[null,"Læsø",241,"2017-01-01","*","*",0,0,"*","*","*","*","*","*",4,0,0,4,0,null,null,null,null,null,null,null,null,null,0,6,null,6,null,null,null,null,null,null,"Region Nordjylland"]
[null,"Rebild",6996,"2017-01-01",9,"*","*","*",15382,"*","*","*",29,6,106,0,0,99,7,null,null,null,null,10,0,10,null,10,null,null,16,111,null,null,null,null,null,null,"Region Nordjylland"]
[null,"Mariagerfjord",8517,"2017-01-01",43,15,0,28,34533,19095,"*",15438,78,10,235,"*","*",228,3,null,null,null,4,42,0,42,4,42,null,null,72,212,null,null,null,null,null,null,"Region Nordjylland"]
[null,"Jammerbugt",8020,"2017-01-01",29,9,0,20,35433,14182,"*",21251,79,4,236,0,0,232,4,null,null,null,5,28,0,28,5,28,null,null,74,261,null,null,null,null,null,null,"Region Nordjylland"]
[null,"Aalborg",38921,"2017-01-01",160,107,"*","*",102453,66998,"*","*",314,44,832,0,14,812,6,null,null,null,30,156,null,156,null,156,37,777,179,786,null,null,null,null,null,null,"Region Nordjylland"]
[null,"Hjørring",13029,"2017-01-01",39,"*","*",20,31414,"*","*",12795,148,4,232,"*","*",226,"*",null,null,null,10,43,0,43,10,43,7,228,54,231,null,null,null,null,null,null,"Region Nordjylland"]
[null,"København",106913,"2017-07-01",226,181,6,39,164546,118827,2443,43276,347,112,2233,14,23,2193,3,null,null,null,50,224,4,224,46,224,59,2113,501,2146,null,null,null,null,null,null,"Region Hovedstaden"]
[null,"Frederiksberg",18515,"2017-07-01",69,55,"*","*",58566,49346,"*","*",47,10,135,"*","*",130,"*",null,null,null,11,65,null,65,null,65,null,null,50,140,null,null,null,null,null,null,"Region Hovedstaden"]
[null,"Ballerup",10343,"2017-07-01",39,19,0,20,24772,7597,"*",17175,42,4,297,0,"*",294,"*",null,null,null,6,38,0,38,6,38,5,285,73,289,null,null,null,null,null,null,"Region Hovedstaden"]
[null,"Brøndby",7387,"2017-07-01",40,"*","*",21,25441,"*","*",13689,50,7,96,"*","*","*","*",null,null,null,8,40,null,40,null,40,null,null,28,99,null,null,null,null,null,null,"Region Hovedstaden"]
[null,"Dragør",3240,"2017-07-01","*","*",0,0,"*","*","*","*",6,0,38,"*","*","*","*",null,null,null,null,null,null,null,null,null,null,null,7,35,null,null,null,null,null,null,"Region Hovedstaden"]
[null,"Gentofte",17097,"2017-07-01",51,40,0,11,28841,25540,"*",3301,18,7,153,"*","*",147,"*",null,null,null,12,43,null,43,null,43,null,null,37,133,null,null,null,null,null,null,"Region Hovedstaden"]
[null,"Gladsaxe",15347,"2017-07-01",39,20,0,19,30856,14058,"*",16798,44,9,268,0,6,258,4,null,null,null,4,35,0,35,4,35,8,265,45,269,null,null,null,null,null,null,"Region Hovedstaden"]
[null,"Glostrup",4505,"2017-07-01",10,"*","*","*",5734,"*","*","*",16,3,56,0,0,56,0,null,null,null,null,10,0,10,null,10,null,null,7,63,null,null,null,null,null,null,"Region Hovedstaden"]
[null,"Herlev",6363,"2017-07-01",22,12,0,10,17279,11341,"*",5938,22,8,82,"*","*",78,"*",null,null,null,5,22,0,22,5,22,null,null,10,88,null,null,null,null,null,null,"Region Hovedstaden"]
[null,"Albertslund",6180,"2017-07-01",30,17,0,13,21292,15970,"*",5322,32,5,168,0,4,158,6,null,null,null,4,29,0,29,4,29,7,178,63,182,null,null,null,null,null,null,"Region Hovedstaden"]
[null,"Hvidovre",11583,"2017-07-01",24,"*","*",12,16815,"*","*",10305,40,10,245,"*","*",240,"*",null,null,null,3,21,0,21,3,21,null,null,91,283,null,null,null,null,null,null,"Region Hovedstaden"]
[null,"Høje-Taastrup",11081,"2017-07-01",52,27,"*","*",52150,24208,"*","*",48,3,218,0,4,210,4,null,null,null,10,57,0,57,10,57,6,187,58,193,null,null,null,null,null,null,"Region Hovedstaden"]
[null,"Lyngby-Taarbæk",11861,"2017-07-01",33,"*","*",25,9046,"*","*",5316,21,10,158,"*",4,151,"*",null,null,null,8,24,0,24,8,24,null,null,34,162,null,null,null,null,null,null,"Region Hovedstaden"]
[null,"Rødovre",8199,"2017-07-01",12,3,0,9,13789,"*","*","*",44,9,185,0,3,177,5,null,null,null,5,14,0,14,5,14,10,188,26,191,null,null,null,null,null,null,"Region Hovedstaden"]
[null,"Ishøj",5181,"2017-07-01",35,5,0,30,31060,6933,"*",24127,29,7,135,"*","*","*","*",null,null,null,3,33,null,33,null,33,null,null,40,146,null,null,null,null,null,null,"Region Hovedstaden"]
[null,"Tårnby",9433,"2017-07-01",12,7,0,5,9949,4498,"*",5451,39,7,108,"*","*",102,"*",null,null,null,4,11,null,11,null,11,8,95,25,98,null,null,null,null,null,null,"Region Hovedstaden"]
[null,"Vallensbæk",3807,"2017-07-01",5,"*","*","*",3627,"*","*","*",7,0,40,0,0,40,0,null,null,null,null,6,0,6,null,6,null,null,15,43,null,null,null,null,null,null,"Region Hovedstaden"]
[null,"Furesø",9679,"2017-07-01",9,3,0,6,6990,"*","*","*",24,5,155,"*","*","*","*",null,null,null,8,17,null,17,null,17,null,null,22,123,null,null,null,null,null,null,"Region Hovedstaden"]
[null,"Allerød",6069,"2017-07-01",9,"*","*","*",5824,"*","*","*",9,"*",54,"*","*","*","*",null,null,null,null,10,null,10,null,10,null,null,15,52,null,null,null,null,null,null,"Region Hovedstaden"]
[null,"Fredensborg",8826,"2017-07-01",22,16,0,6,11592,8806,"*",2786,21,3,182,0,4,174,4,null,null,null,3,18,0,18,3,18,7,175,26,178,null,null,null,null,null,null,"Region Hovedstaden"]
[null,"Helsingør",12562,"2017-07-01",37,18,"*","*",60244,28229,"*","*",58,9,258,"*","*",240,13,null,null,null,6,38,0,38,6,38,5,269,88,274,null,null,null,null,null,null,"Region Hovedstaden"]
[null,"Hillerød",11322,"2017-07-01",28,7,0,21,22039,4673,"*",17366,35,4,244,0,4,240,0,null,null,null,3,25,0,25,3,25,null,null,30,216,null,null,null,null,null,null,"Region Hovedstaden"]
[null,"Hørsholm",5260,"2017-07-01",6,3,0,3,5921,"*","*","*",9,5,41,"*","*",37,"*",null,null,null,3,9,0,9,3,9,3,35,5,39,null,null,null,null,null,null,"Region Hovedstaden"]
[null,"Rudersdal",12832,"2017-07-01",28,17,0,11,22343,17096,"*",5247,29,4,200,"*",5,192,"*",null,null,null,3,27,0,27,3,27,null,null,58,217,null,null,null,null,null,null,"Region Hovedstaden"]
[null,"Egedal",10343,"2017-07-01",19,"*","*",11,14837,"*","*",9802,24,8,210,0,0,205,5,null,null,null,5,20,null,20,null,20,4,223,32,223,null,null,null,null,null,null,"Region Hovedstaden"]
[null,"Frederikssund",9355,"2017-07-01",18,4,0,14,10678,"*","*","*",49,8,164,0,9,149,6,null,null,null,3,15,0,15,3,15,9,161,28,170,null,null,null,null,null,null,"Region Hovedstaden"]
[null,"Greve",11060,"2017-07-01",29,4,3,22,17817,"*","*",10835,44,4,221,8,3,210,0,null,null,null,5,25,null,25,null,25,null,null,42,214,null,null,null,null,null,null,"Region Sjælland"]
[null,"Køge",12984,"2017-07-01",35,"*","*",24,16603,"*","*",9571,63,9,258,"*",4,250,"*",null,null,null,10,36,null,36,null,36,null,null,49,241,null,null,null,null,null,null,"Region Sjælland"]
[null,"Halsnæs",5791,"2017-07-01",40,24,"*","*",26168,14214,"*","*",42,6,163,"*","*",154,"*",null,null,null,9,40,null,40,null,40,null,null,40,150,null,null,null,null,null,null,"Region Hovedstaden"]
[null,"Roskilde",18439,"2017-07-01",64,45,0,19,55282,39445,"*",15837,73,10,245,0,8,233,4,null,null,null,12,58,null,58,null,58,null,null,102,277,null,null,null,null,null,null,"Region Sjælland"]
[null,"Solrød",5182,"2017-07-01",11,4,0,7,7867,"*","*","*",8,0,61,"*","*","*","*",null,null,null,null,9,0,9,null,9,null,null,11,57,null,null,null,null,null,null,"Region Sjælland"]
[null,"Gribskov",7968,"2017-07-01",31,21,"*","*",27985,20229,"*","*",15,12,242,4,"*",234,"*",null,null,null,3,31,3,31,0,31,null,null,28,226,null,null,null,null,null,null,"Region Hovedstaden"]
[null,"Odsherred",5544,"2017-07-01",19,13,"*","*",15114,9728,"*","*",39,12,255,"*","*",233,18,null,null,null,0,16,0,16,0,16,6,264,36,268,null,null,null,null,null,null,"Region Sjælland"]
[null,"Holbæk",15007,"2017-07-01",56,14,5,37,43788,13172,323,30293,94,14,278,"*","*",262,10,null,null,null,7,52,0,52,7,52,13,281,47,287,null,null,null,null,null,null,"Region Sjælland"]
[null,"Faxe",7150,"2017-07-01",26,3,0,23,17274,"*","*","*",52,11,213,"*",5,205,"*",null,null,null,null,23,0,23,null,23,null,null,56,163,null,null,null,null,null,null,"Region Sjælland"]
[null,"Kalundborg",9551,"2017-07-01",61,31,3,27,43508,23073,"*","*",88,13,180,0,4,176,0,null,null,null,11,64,null,64,null,64,null,null,34,173,null,null,null,null,null,null,"Region Sjælland"]
[null,"Ringsted",7282,"2017-07-01",38,15,3,20,17204,"*","*",4973,36,4,170,0,0,167,3,null,null,null,5,34,0,34,5,34,null,null,37,146,null,null,null,null,null,null,"Region Sjælland"]
[null,"Slagelse",15260,"2017-07-01",49,"*","*",34,43703,"*","*",27300,138,15,247,"*","*",241,3,null,null,null,10,48,null,48,null,48,10,234,81,237,null,null,null,null,null,null,"Region Sjælland"]
[null,"Stevns",4296,"2017-07-01",23,10,0,13,21873,11283,"*",10590,30,4,114,"*","*",110,"*",null,null,null,null,24,0,24,null,24,null,null,23,96,null,null,null,null,null,null,"Region Sjælland"]
[null,"Sorø",6269,"2017-07-01",16,"*","*",8,8969,"*","*",3965,35,9,228,"*","*",221,"*",null,null,null,4,16,0,16,4,16,null,null,33,219,null,null,null,null,null,null,"Region Sjælland"]
[null,"Lejre",6087,"2017-07-01",10,7,0,3,6169,"*","*","*",22,3,71,"*","*","*","*",null,null,null,null,10,0,10,null,10,null,null,23,79,null,null,null,null,null,null,"Region Sjælland"]
[null,"Lolland",6997,"2017-07-01",43,"*","*",26,36370,"*","*",22425,170,14,300,0,12,285,3,null,null,null,4,38,0,38,4,38,null,null,87,303,null,null,null,null,null,null,"Region Sjælland"]
[null,"Næstved",16688,"2017-07-01",89,"*","*",50,79201,"*","*",49239,81,9,261,"*",6,250,"*",null,null,null,7,77,0,77,7,77,12,280,89,293,null,null,null,null,null,null,"Region Sjælland"]
[null,"Guldborgsund",10767,"2017-07-01",69,24,0,45,50387,17407,"*",32980,124,6,129,0,12,117,0,null,null,null,10,67,null,67,null,67,null,null,47,155,null,null,null,null,null,null,"Region Sjælland"]
[null,"Vordingborg",8410,"2017-07-01",57,19,0,38,30936,11401,"*",19535,110,8,103,"*","*",97,"*",null,null,null,4,43,0,43,4,43,10,117,53,122,null,null,null,null,null,null,"Region Sjælland"]
[null,"Bornholm",6633,"2017-07-01",30,15,0,15,15778,10542,"*",5236,71,5,181,"*","*",176,"*",null,null,null,4,27,0,27,4,27,null,null,36,167,null,null,null,null,null,null,"Region Hovedstaden"]
[null,"Middelfart",7974,"2017-07-01",20,14,0,6,14510,8542,"*",5968,45,"*",210,"*","*","*","*",null,null,null,8,24,0,24,8,24,5,254,69,254,null,null,null,null,null,null,"Region Syddanmark"]
[null,"Assens",8573,"2017-07-01",15,4,3,8,13545,"*","*",7350,104,5,205,0,3,202,0,null,null,null,null,11,0,11,null,11,3,182,38,186,null,null,null,null,null,null,"Region Syddanmark"]
[null,"Faaborg-Midtfyn",10413,"2017-07-01",39,21,0,18,39440,22577,"*",16863,79,13,205,"*","*",194,"*",null,null,null,9,40,0,40,9,40,null,null,65,191,null,null,null,null,null,null,"Region Syddanmark"]
[null,"Kerteminde",4718,"2017-07-01",19,16,0,3,24118,"*","*","*",23,9,64,0,0,64,0,null,null,null,5,22,null,22,null,22,null,null,null,52,null,null,null,null,null,null,"Region Syddanmark"]
[null,"Nyborg",6427,"2017-07-01",20,17,0,3,7989,"*","*","*",53,7,99,0,"*",96,"*",null,null,null,11,20,0,20,11,20,null,null,26,81,null,null,null,null,null,null,"Region Syddanmark"]
[null,"Odense",38085,"2017-07-01",149,69,5,75,161184,95032,766,65386,235,31,959,"*","*",952,"*",null,null,null,39,160,8,160,31,160,null,null,170,917,null,null,null,null,null,null,"Region Syddanmark"]
[null,"Svendborg",11434,"2017-07-01",44,22,0,22,33532,11671,"*",21861,106,6,395,"*","*",392,"*",null,null,null,5,35,0,35,5,35,null,null,69,409,null,null,null,null,null,null,"Region Syddanmark"]
[null,"Nordfyns",6093,"2017-07-01",17,12,"*","*",10614,6768,"*","*",28,6,82,0,5,77,0,null,null,null,null,14,0,14,null,14,5,56,18,59,null,null,null,null,null,null,"Region Syddanmark"]
[null,"Langeland",1856,"2017-07-01",16,10,0,6,21090,7681,"*",13409,27,4,56,"*","*",52,0,null,null,null,null,16,0,16,null,16,7,70,16,74,null,null,null,null,null,null,"Region Syddanmark"]
[null,"Ærø",846,"2017-07-01","*","*",0,0,"*","*","*","*",3,"*",10,"*","*","*","*",null,null,null,null,null,null,null,null,null,null,null,6,11,null,null,null,null,null,null,"Region Syddanmark"]
[null,"Haderslev",11256,"2017-07-01",29,"*","*",19,13745,"*","*",7589,127,21,187,0,5,182,0,null,null,null,7,29,3,29,4,29,12,206,83,210,null,null,null,null,null,null,"Region Syddanmark"]
[null,"Billund",5722,"2017-07-01",18,"*","*",14,4465,"*","*",3717,50,"*",149,"*","*","*","*",null,null,null,5,15,0,15,5,15,null,null,45,143,null,null,null,null,null,null,"Region Syddanmark"]
[null,"Sønderborg",14753,"2017-07-01",21,11,0,10,17689,13539,"*",4150,89,7,341,"*","*",328,"*",null,null,null,7,25,null,25,null,25,null,null,57,344,null,null,null,null,null,null,"Region Syddanmark"]
[null,"Tønder",7387,"2017-07-01",22,11,0,11,14790,12241,"*",2549,97,12,204,"*","*",200,"*",null,null,null,3,15,0,15,3,15,null,null,27,147,null,null,null,null,null,null,"Region Syddanmark"]
[null,"Esbjerg",23179,"2017-07-01",123,55,0,68,143826,80146,"*",63680,111,23,980,"*","*",973,"*",null,null,null,18,125,null,125,null,125,25,981,116,986,null,null,null,null,null,null,"Region Syddanmark"]
[null,"Fanø",604,"2017-07-01","*",0,0,"*","*","*","*","*","*",0,10,"*","*","*","*",null,null,null,null,null,null,null,null,null,0,7,null,7,null,null,null,null,null,null,"Region Syddanmark"]
[null,"Varde",10586,"2017-07-01",16,11,0,5,13975,12138,"*",1837,69,20,431,"*","*",426,"*",null,null,null,null,16,0,16,null,16,null,null,101,424,null,null,null,null,null,null,"Region Syddanmark"]
[null,"Vejen",9376,"2017-07-01",32,"*","*",24,23699,"*","*",14538,72,9,154,"*","*","*","*",null,null,null,6,37,0,37,6,37,null,null,50,159,null,null,null,null,null,null,"Region Syddanmark"]
[null,"Aabenraa",12045,"2017-07-01",28,18,0,10,29191,21403,"*",7788,116,7,324,"*",3,318,"*",null,null,null,9,30,null,30,null,30,null,null,73,302,null,null,null,null,null,null,"Region Syddanmark"]
[null,"Fredericia",10562,"2017-07-01",19,6,0,13,11111,3410,"*",7701,79,11,265,"*","*",261,"*",null,null,null,5,19,0,19,5,19,null,null,121,283,null,null,null,null,null,null,"Region Syddanmark"]
[null,"Horsens",19150,"2017-07-01",55,"*","*",28,35774,"*","*",13901,118,20,426,0,"*",423,"*",null,null,null,13,57,3,57,10,57,null,null,120,450,null,null,null,null,null,null,"Region Midtjylland"]
[null,"Kolding",19961,"2017-07-01",27,18,0,9,23293,17557,"*",5736,123,14,333,"*","*",326,"*",null,null,null,12,31,null,31,null,31,null,null,113,351,null,null,null,null,null,null,"Region Syddanmark"]
[null,"Vejle",25084,"2017-07-01",43,31,0,12,39322,33279,"*",6043,149,26,525,"*","*",512,"*",null,null,null,15,49,null,49,null,49,null,null,103,515,null,null,null,null,null,null,"Region Syddanmark"]
[null,"Herning",19200,"2017-07-01",23,16,"*","*",20588,18696,"*","*",112,11,302,0,8,294,0,null,null,null,10,31,4,31,6,31,9,392,167,399,null,null,null,null,null,null,"Region Midtjylland"]
[null,"Holstebro",12682,"2017-07-01",29,21,4,4,29855,23552,"*","*",87,12,285,"*","*",238,"*",null,null,null,null,26,0,26,null,26,3,305,95,308,null,null,null,null,null,null,"Region Midtjylland"]
[null,"Lemvig",3829,"2017-07-01",10,5,0,5,13712,9805,"*",3907,31,6,74,0,"*",71,"*",null,null,null,3,11,0,11,3,11,null,null,23,73,null,null,null,null,null,null,"Region Midtjylland"]
[null,"Struer",4256,"2017-07-01",7,3,0,4,7698,"*","*","*",39,4,101,0,3,98,0,null,null,null,0,7,0,7,0,7,null,null,12,96,null,null,null,null,null,null,"Region Midtjylland"]
[null,"Syddjurs",8394,"2017-07-01",10,4,0,6,4419,"*","*","*",59,10,367,"*","*",342,20,null,null,null,3,11,0,11,3,11,9,367,91,376,null,null,null,null,null,null,"Region Midtjylland"]
[null,"Norddjurs",6864,"2017-07-01",41,29,0,12,42817,30837,"*",11980,72,9,230,"*","*",222,"*",null,null,null,11,47,null,47,null,47,null,null,70,231,null,null,null,null,null,null,"Region Midtjylland"]
[null,"Favrskov",11791,"2017-07-01",38,23,0,15,32519,22530,"*",9989,56,3,122,0,"*",119,"*",null,null,null,8,39,0,39,8,39,null,null,39,140,null,null,null,null,null,null,"Region Midtjylland"]
[null,"Odder",4845,"2017-07-01",7,"*","*","*",3819,"*","*","*",18,7,129,"*","*","*","*",null,null,null,null,8,0,8,null,8,null,null,17,125,null,null,null,null,null,null,"Region Midtjylland"]
[null,"Randers",19971,"2017-07-01",31,16,6,9,22709,16893,969,4847,161,17,315,"*","*",300,9,null,null,null,8,29,null,29,null,29,8,293,99,300,null,null,null,null,null,null,"Region Midtjylland"]
[null,"Silkeborg",20597,"2017-07-01",22,13,"*","*",39823,27572,"*","*",98,20,334,"*","*","*","*",null,null,null,4,24,0,24,4,24,4,264,59,267,null,null,null,null,null,null,"Region Midtjylland"]
[null,"Samsø",556,"2017-07-01","*",0,0,"*","*","*","*","*",7,"*",13,0,3,10,0,null,null,null,null,null,null,null,null,null,3,18,9,21,null,null,null,null,null,null,"Region Midtjylland"]
[null,"Skanderborg",15249,"2017-07-01",17,9,"*","*",19952,11206,"*","*",53,9,195,0,0,195,0,null,null,null,null,14,0,14,null,14,null,null,59,184,null,null,null,null,null,null,"Region Midtjylland"]
[null,"Aarhus",63077,"2017-07-01",190,133,4,53,206091,163378,"*","*",225,37,1080,"*",25,1043,"*",null,null,null,35,191,0,191,35,191,null,null,298,1132,null,null,null,null,null,null,"Region Midtjylland"]
[null,"Ikast-Brande",9198,"2017-07-01",17,11,"*","*",6687,4711,"*","*",49,14,58,0,"*",55,"*",null,null,null,3,12,0,12,3,12,6,60,17,63,null,null,null,null,null,null,"Region Midtjylland"]
[null,"Ringkøbing-Skjern",12409,"2017-07-01",32,25,0,7,37263,34187,"*",3076,92,8,277,0,3,271,3,null,null,null,3,30,0,30,3,30,null,null,83,311,null,null,null,null,null,null,"Region Midtjylland"]
[null,"Hedensted",10583,"2017-07-01",62,16,0,46,35677,18471,"*",17206,27,5,278,"*","*",272,"*",null,null,null,5,45,0,45,5,45,null,null,50,278,null,null,null,null,null,null,"Region Midtjylland"]
[null,"Morsø",3953,"2017-07-01",10,"*","*","*",8086,"*","*","*",43,4,96,"*","*",91,"*",null,null,null,null,10,0,10,null,10,null,null,30,104,null,null,null,null,null,null,"Region Nordjylland"]
[null,"Skive",9287,"2017-07-01",31,16,"*","*",25544,14675,"*","*",58,14,190,0,"*",187,"*",null,null,null,5,32,0,32,5,32,null,null,56,188,null,null,null,null,null,null,"Region Midtjylland"]
[null,"Thisted",8764,"2017-07-01",29,22,0,7,25529,20131,"*",5398,88,6,240,3,3,231,3,null,null,null,null,23,0,23,null,23,null,null,67,236,null,null,null,null,null,null,"Region Nordjylland"]
[null,"Viborg",21350,"2017-07-01",41,30,3,8,45961,38181,"*","*",126,22,338,0,5,327,6,null,null,null,5,38,null,38,null,38,null,null,86,318,null,null,null,null,null,null,"Region Midtjylland"]
[null,"Brønderslev",7905,"2017-07-01",28,6,0,22,26880,9690,"*",17190,113,6,174,"*","*","*","*",null,null,null,6,29,0,29,6,29,null,null,42,174,null,null,null,null,null,null,"Region Nordjylland"]
[null,"Frederikshavn",10743,"2017-07-01",27,16,"*","*",14650,10580,"*","*",133,14,267,"*","*",263,"*",null,null,null,10,30,3,30,7,30,8,233,69,236,null,null,null,null,null,null,"Region Nordjylland"]
[null,"Vesthimmerlands",7633,"2017-07-01",26,4,0,22,22247,"*","*","*",67,12,258,"*","*",254,"*",null,null,null,5,27,null,27,null,27,null,null,72,272,null,null,null,null,null,null,"Region Nordjylland"]
[null,"Læsø",233,"2017-07-01","*","*",0,0,"*","*","*","*","*","*",7,0,0,7,0,null,null,null,null,null,null,null,null,null,0,4,0,4,null,null,null,null,null,null,"Region Nordjylland"]
[null,"Rebild",7065,"2017-07-01",11,8,0,3,15624,"*","*","*",31,6,89,0,0,82,7,null,null,null,null,9,0,9,null,9,null,null,36,106,null,null,null,null,null,null,"Region Nordjylland"]
[null,"Mariagerfjord",8410,"2017-07-01",45,12,0,33,36189,17807,"*",18382,74,8,258,3,"*",250,"*",null,null,null,8,43,null,43,null,43,8,231,72,235,null,null,null,null,null,null,"Region Nordjylland"]
[null,"Jammerbugt",7999,"2017-07-01",31,"*","*",23,29474,"*","*",19897,71,5,222,"*","*",217,"*",null,null,null,6,29,0,29,6,29,7,236,51,236,null,null,null,null,null,null,"Region Nordjylland"]
[null,"Aalborg",38876,"2017-07-01",150,95,"*","*",107032,65695,"*","*",314,43,823,"*",12,801,"*",null,null,null,30,160,8,160,22,160,29,818,194,832,null,null,null,null,null,null,"Region Nordjylland"]
[null,"Hjørring",12912,"2017-07-01",47,"*","*",24,33197,"*","*",14385,145,3,206,"*","*","*","*",null,null,null,6,39,null,39,null,39,null,null,68,232,null,null,null,null,null,null,"Region Nordjylland"]
[null,"København",107770,"2018-01-01",214,174,6,34,154847,109211,2098,43538,348,110,2324,13,23,2283,5,null,null,null,60,226,10,226,50,226,56,2196,553,2233,null,null,null,null,null,null,"Region Hovedstaden"]
[null,"Frederiksberg",18424,"2018-01-01",64,51,"*","*",62770,51937,"*","*",46,11,134,"*","*",128,"*",null,null,null,9,69,null,69,null,69,null,null,25,135,null,null,null,null,null,null,"Region Hovedstaden"]
[null,"Ballerup",10338,"2018-01-01",32,17,"*","*",19268,8479,"*","*",40,3,329,0,3,321,5,null,null,null,12,39,0,39,12,39,null,null,45,297,null,null,null,null,null,null,"Region Hovedstaden"]
[null,"Brøndby",7430,"2018-01-01",39,"*","*",21,27190,"*","*",15977,47,8,86,0,"*",83,"*",null,null,null,8,40,0,40,8,40,null,null,25,96,null,null,null,null,null,null,"Region Hovedstaden"]
[null,"Dragør",3231,"2018-01-01","*","*",0,0,"*","*","*","*",6,0,36,"*","*","*","*",null,null,null,null,null,null,null,null,null,null,null,11,38,null,null,null,null,null,null,"Region Hovedstaden"]
[null,"Gentofte",17085,"2018-01-01",41,31,0,10,30148,25797,"*",4351,21,7,170,"*","*",166,"*",null,null,null,13,51,null,51,null,51,null,null,24,153,null,null,null,null,null,null,"Region Hovedstaden"]
[null,"Gladsaxe",15316,"2018-01-01",34,17,0,17,25175,7138,"*",18037,44,10,279,0,6,267,6,null,null,null,8,39,0,39,8,39,8,262,44,268,null,null,null,null,null,null,"Region Hovedstaden"]
[null,"Glostrup",4579,"2018-01-01",8,8,0,0,4179,4179,"*","*",15,3,41,0,0,41,0,null,null,null,3,10,0,10,3,10,null,null,15,56,null,null,null,null,null,null,"Region Hovedstaden"]
[null,"Herlev",6398,"2018-01-01",24,14,0,10,17857,10079,"*",7778,20,6,78,"*","*",73,"*",null,null,null,null,22,0,22,null,22,null,null,8,82,null,null,null,null,null,null,"Region Hovedstaden"]
[null,"Albertslund",6120,"2018-01-01",30,17,0,13,22178,14791,"*",7387,31,5,158,0,6,146,6,null,null,null,3,30,0,30,3,30,7,164,38,168,null,null,null,null,null,null,"Region Hovedstaden"]
[null,"Hvidovre",11681,"2018-01-01",25,14,"*","*",14263,6991,"*","*",43,9,225,"*","*",221,"*",null,null,null,6,24,null,24,null,24,null,null,74,245,null,null,null,null,null,null,"Region Hovedstaden"]
[null,"Høje-Taastrup",11044,"2018-01-01",47,24,0,23,50549,21285,"*",29264,50,3,228,0,4,215,9,null,null,null,11,52,null,52,null,52,8,214,51,218,null,null,null,null,null,null,"Region Hovedstaden"]
[null,"Lyngby-Taarbæk",11921,"2018-01-01",32,"*","*",26,13054,"*","*",8658,22,9,152,"*","*",147,"*",null,null,null,7,33,0,33,7,33,null,null,25,158,null,null,null,null,null,null,"Region Hovedstaden"]
[null,"Rødovre",8310,"2018-01-01",17,6,0,11,11162,2184,"*",8978,45,6,163,"*","*",156,"*",null,null,null,null,12,0,12,null,12,9,182,40,185,null,null,null,null,null,null,"Region Hovedstaden"]
[null,"Ishøj",5174,"2018-01-01",35,6,0,29,30218,7405,"*",22813,28,7,137,"*","*","*","*",null,null,null,5,35,0,35,5,35,null,null,36,135,null,null,null,null,null,null,"Region Hovedstaden"]
[null,"Tårnby",9438,"2018-01-01",10,5,0,5,10645,4710,"*",5935,36,6,104,"*","*",99,"*",null,null,null,4,12,0,12,4,12,null,null,34,108,null,null,null,null,null,null,"Region Hovedstaden"]
[null,"Vallensbæk",3893,"2018-01-01",5,"*","*","*",4190,"*","*","*",6,0,41,0,0,41,0,null,null,null,null,5,0,5,null,5,null,null,6,40,null,null,null,null,null,null,"Region Hovedstaden"]
[null,"Furesø",9688,"2018-01-01",9,4,0,5,7917,"*","*","*",29,5,151,"*","*","*","*",null,null,null,null,9,0,9,null,9,null,null,23,155,null,null,null,null,null,null,"Region Hovedstaden"]
[null,"Allerød",6103,"2018-01-01",11,"*","*",7,5531,"*","*",5084,7,"*",53,"*","*","*","*",null,null,null,null,9,0,9,null,9,null,null,12,54,null,null,null,null,null,null,"Region Hovedstaden"]
[null,"Fredensborg",8868,"2018-01-01",25,19,0,6,13053,11838,"*",1215,20,3,165,0,4,154,7,null,null,null,3,22,0,22,3,22,11,178,41,182,null,null,null,null,null,null,"Region Hovedstaden"]
[null,"Helsingør",12553,"2018-01-01",35,17,"*","*",59603,28123,"*","*",56,8,239,0,4,224,11,null,null,null,3,37,0,37,3,37,5,253,78,258,null,null,null,null,null,null,"Region Hovedstaden"]
[null,"Hillerød",11327,"2018-01-01",25,4,0,21,22366,"*","*","*",35,5,237,"*","*",232,"*",null,null,null,4,28,0,28,4,28,3,240,52,244,null,null,null,null,null,null,"Region Hovedstaden"]
[null,"Hørsholm",5225,"2018-01-01",8,"*","*","*",4558,"*","*","*",8,3,34,0,"*",31,"*",null,null,null,3,6,0,6,3,6,null,null,13,41,null,null,null,null,null,null,"Region Hovedstaden"]
[null,"Rudersdal",12804,"2018-01-01",28,18,0,10,19517,15748,"*",3769,31,3,194,"*",5,185,"*",null,null,null,5,28,null,28,null,28,null,null,37,200,null,null,null,null,null,null,"Region Hovedstaden"]
[null,"Egedal",10308,"2018-01-01",15,7,0,8,11177,5361,"*",5816,23,9,212,0,0,207,5,null,null,null,7,19,null,19,null,19,4,210,30,210,null,null,null,null,null,null,"Region Hovedstaden"]
[null,"Frederikssund",9278,"2018-01-01",19,5,0,14,7801,2948,"*",4853,42,9,196,0,11,182,3,null,null,null,6,18,0,18,6,18,10,155,23,164,null,null,null,null,null,null,"Region Hovedstaden"]
[null,"Greve",11008,"2018-01-01",27,5,3,19,12285,"*","*",9105,41,3,241,3,4,231,3,null,null,null,9,29,null,29,null,29,8,210,42,221,null,null,null,null,null,null,"Region Sjælland"]
[null,"Køge",12931,"2018-01-01",37,12,0,25,15991,6006,"*",9985,65,6,260,"*",5,252,"*",null,null,null,9,35,0,35,9,35,null,null,78,258,null,null,null,null,null,null,"Region Sjælland"]
[null,"Halsnæs",5777,"2018-01-01",43,27,"*","*",22855,12554,"*","*",45,5,185,"*",7,175,"*",null,null,null,7,40,null,40,null,40,null,null,27,163,null,null,null,null,null,null,"Region Hovedstaden"]
[null,"Roskilde",18452,"2018-01-01",61,43,0,18,55236,39391,"*",15845,71,7,253,0,6,247,0,null,null,null,16,64,0,64,16,64,13,237,78,245,null,null,null,null,null,null,"Region Sjælland"]
[null,"Solrød",5278,"2018-01-01",14,"*","*","*",6644,"*","*","*",8,"*",60,"*","*","*","*",null,null,null,null,11,0,11,null,11,null,null,5,61,null,null,null,null,null,null,"Region Sjælland"]
[null,"Gribskov",7893,"2018-01-01",29,21,0,8,26350,17651,"*",8699,17,10,212,4,3,201,4,null,null,null,3,31,0,31,3,31,null,null,85,242,null,null,null,null,null,null,"Region Hovedstaden"]
[null,"Odsherred",5478,"2018-01-01",24,19,"*","*",16846,12506,"*","*",39,9,238,"*","*",218,17,null,null,null,3,19,0,19,3,19,11,251,43,255,null,null,null,null,null,null,"Region Sjælland"]
[null,"Holbæk",14916,"2018-01-01",53,13,3,37,41555,"*","*",32000,93,12,256,0,7,245,4,null,null,null,12,56,0,56,12,56,15,272,70,278,null,null,null,null,null,null,"Region Sjælland"]
[null,"Faxe",7142,"2018-01-01",28,"*","*",24,17538,"*","*",17034,54,10,223,3,5,212,3,null,null,null,4,26,0,26,4,26,null,null,46,213,null,null,null,null,null,null,"Region Sjælland"]
[null,"Kalundborg",9574,"2018-01-01",57,"*","*",28,42372,"*","*",17228,85,20,202,"*",4,194,"*",null,null,null,12,61,0,61,12,61,9,176,32,180,null,null,null,null,null,null,"Region Sjælland"]
[null,"Ringsted",7321,"2018-01-01",39,14,0,25,20578,13002,"*",7576,35,4,168,"*","*","*","*",null,null,null,6,38,0,38,6,38,5,170,42,170,null,null,null,null,null,null,"Region Sjælland"]
[null,"Slagelse",15225,"2018-01-01",64,"*","*",48,42880,"*","*",26393,131,15,331,"*","*",324,"*",null,null,null,6,49,null,49,null,49,18,244,36,247,null,null,null,null,null,null,"Region Sjælland"]
[null,"Stevns",4302,"2018-01-01",22,10,0,12,23553,11482,"*",12071,30,5,128,0,"*",125,"*",null,null,null,4,23,0,23,4,23,null,null,24,114,null,null,null,null,null,null,"Region Sjælland"]
[null,"Sorø",6257,"2018-01-01",13,7,"*","*",7904,6162,"*","*",34,9,250,"*","*",244,"*",null,null,null,4,16,0,16,4,16,null,null,27,228,null,null,null,null,null,null,"Region Sjælland"]
[null,"Lejre",6107,"2018-01-01",10,5,0,5,6618,4339,"*",2279,22,"*",77,"*","*",74,0,null,null,null,null,10,0,10,null,10,null,null,10,71,null,null,null,null,null,null,"Region Sjælland"]
[null,"Lolland",6887,"2018-01-01",46,"*","*",28,33421,"*","*",17795,172,14,320,"*",11,302,"*",null,null,null,6,43,0,43,6,43,20,288,60,300,null,null,null,null,null,null,"Region Sjælland"]
[null,"Næstved",16644,"2018-01-01",100,42,0,58,71727,29989,"*",41738,77,8,273,"*",11,255,"*",null,null,null,13,89,null,89,null,89,null,null,47,261,null,null,null,null,null,null,"Region Sjælland"]
[null,"Guldborgsund",10751,"2018-01-01",72,30,0,42,45826,14098,"*",31728,123,9,236,"*","*",224,"*",null,null,null,15,69,null,69,null,69,10,117,18,129,null,null,null,null,null,null,"Region Sjælland"]
[null,"Vordingborg",8357,"2018-01-01",51,13,0,38,31110,11797,"*",19313,115,6,96,"*",3,89,"*",null,null,null,16,57,null,57,null,57,null,null,49,103,null,null,null,null,null,null,"Region Sjælland"]
[null,"Bornholm",6645,"2018-01-01",31,"*","*",16,18009,"*","*",7372,71,4,179,"*","*",174,"*",null,null,null,7,30,null,30,null,30,null,null,28,181,null,null,null,null,null,null,"Region Hovedstaden"]
[null,"Middelfart",7949,"2018-01-01",20,15,0,5,13828,9265,"*",4563,50,"*",186,"*","*","*","*",null,null,null,4,20,null,20,null,20,null,null,47,210,null,null,null,null,null,null,"Region Syddanmark"]
[null,"Assens",8523,"2018-01-01",14,"*","*",9,13995,"*","*",8852,102,6,180,"*","*",176,"*",null,null,null,3,15,0,15,3,15,6,202,56,205,null,null,null,null,null,null,"Region Syddanmark"]
[null,"Faaborg-Midtfyn",10473,"2018-01-01",36,19,"*","*",37867,24929,"*","*",80,10,189,0,9,180,0,null,null,null,8,39,null,39,null,39,null,null,47,205,null,null,null,null,null,null,"Region Syddanmark"]
[null,"Kerteminde",4686,"2018-01-01",20,17,0,3,19858,"*","*","*",23,10,61,0,0,61,0,null,null,null,6,19,null,19,null,19,null,null,6,64,null,null,null,null,null,null,"Region Syddanmark"]
[null,"Nyborg",6433,"2018-01-01",22,17,0,5,11144,9126,"*",2018,51,7,116,"*","*","*","*",null,null,null,null,20,0,20,null,20,null,null,14,99,null,null,null,null,null,null,"Region Syddanmark"]
[null,"Odense",38027,"2018-01-01",155,83,3,69,152111,82953,"*","*",238,27,901,0,5,893,3,null,null,null,27,149,null,149,null,149,null,null,238,959,null,null,null,null,null,null,"Region Syddanmark"]
[null,"Svendborg",11379,"2018-01-01",39,21,0,18,24128,6224,"*",17904,102,5,392,"*","*",389,0,null,null,null,13,44,null,44,null,44,null,null,77,395,null,null,null,null,null,null,"Region Syddanmark"]
[null,"Nordfyns",6015,"2018-01-01",14,10,0,4,11198,"*","*","*",26,5,101,"*","*",95,"*",null,null,null,6,17,null,17,null,17,8,77,17,82,null,null,null,null,null,null,"Region Syddanmark"]
[null,"Langeland",1830,"2018-01-01",18,12,0,6,24214,9701,"*",14513,26,4,35,"*","*","*","*",null,null,null,0,16,0,16,0,16,5,52,17,56,null,null,null,null,null,null,"Region Syddanmark"]
[null,"Ærø",856,"2018-01-01","*","*",0,"*","*","*","*","*",3,"*",12,0,0,12,0,null,null,null,null,null,null,null,null,null,null,null,null,10,null,null,null,null,null,null,"Region Syddanmark"]
[null,"Haderslev",11224,"2018-01-01",26,7,0,19,15499,6811,"*",8688,126,16,185,"*","*",179,"*",null,null,null,8,29,4,29,4,29,8,182,76,187,null,null,null,null,null,null,"Region Syddanmark"]
[null,"Billund",5687,"2018-01-01",15,"*","*","*",5868,"*","*","*",51,"*",161,"*","*","*","*",null,null,null,5,18,0,18,5,18,null,null,35,149,null,null,null,null,null,null,"Region Syddanmark"]
[null,"Sønderborg",14639,"2018-01-01",22,11,0,11,21091,15286,"*",5805,93,7,329,"*","*",322,"*",null,null,null,null,21,0,21,null,21,null,null,64,341,null,null,null,null,null,null,"Region Syddanmark"]
[null,"Tønder",7340,"2018-01-01",21,6,0,15,13674,8959,"*",4715,100,10,221,"*","*","*","*",null,null,null,6,22,null,22,null,22,null,null,36,204,null,null,null,null,null,null,"Region Syddanmark"]
[null,"Esbjerg",23179,"2018-01-01",126,63,"*","*",135891,78398,"*","*",111,25,951,"*","*",946,"*",null,null,null,21,123,null,123,null,123,null,null,117,980,null,null,null,null,null,null,"Region Syddanmark"]
[null,"Fanø",622,"2018-01-01","*",0,0,"*","*","*","*","*","*",0,10,"*","*","*","*",null,null,null,null,null,null,null,null,null,null,null,null,10,null,null,null,null,null,null,"Region Syddanmark"]
[null,"Varde",10554,"2018-01-01",17,7,0,10,12505,9450,"*",3055,66,20,416,0,0,416,0,null,null,null,null,16,0,16,null,16,null,null,134,431,null,null,null,null,null,null,"Region Syddanmark"]
[null,"Vejen",9384,"2018-01-01",33,"*","*",26,26073,"*","*",15752,72,7,166,"*","*","*","*",null,null,null,6,32,0,32,6,32,null,null,44,154,null,null,null,null,null,null,"Region Syddanmark"]
[null,"Aabenraa",12014,"2018-01-01",28,20,0,8,22980,18790,"*",4190,110,7,338,0,"*",334,"*",null,null,null,8,28,null,28,null,28,null,null,76,324,null,null,null,null,null,null,"Region Syddanmark"]
[null,"Fredericia",10561,"2018-01-01",14,5,0,9,8951,3976,"*",4975,82,10,298,0,4,294,0,null,null,null,5,19,0,19,5,19,null,null,51,265,null,null,null,null,null,null,"Region Syddanmark"]
[null,"Horsens",19218,"2018-01-01",57,20,3,34,33578,"*","*",10688,106,18,429,"*",3,423,"*",null,null,null,13,55,0,55,13,55,null,null,107,426,null,null,null,null,null,null,"Region Midtjylland"]
[null,"Kolding",19975,"2018-01-01",28,18,0,10,26445,19297,"*",7148,122,12,316,"*","*",312,"*",null,null,null,4,27,null,27,null,27,null,null,109,333,null,null,null,null,null,null,"Region Syddanmark"]
[null,"Vejle",25102,"2018-01-01",38,30,0,8,37586,32351,"*",5235,148,26,556,"*","*",545,"*",null,null,null,12,43,4,43,8,43,null,null,105,525,null,null,null,null,null,null,"Region Syddanmark"]
[null,"Herning",19170,"2018-01-01",16,12,"*","*",21101,19821,"*","*",114,11,331,0,8,319,4,null,null,null,9,23,null,23,null,23,12,294,70,302,null,null,null,null,null,null,"Region Midtjylland"]
[null,"Holstebro",12713,"2018-01-01",26,20,"*","*",30692,24921,"*","*",86,14,285,0,0,233,52,null,null,null,6,29,null,29,null,29,null,null,83,285,null,null,null,null,null,null,"Region Midtjylland"]
[null,"Lemvig",3764,"2018-01-01",8,5,0,3,13429,"*","*","*",32,6,68,"*","*","*","*",null,null,null,null,10,null,10,null,10,null,null,12,74,null,null,null,null,null,null,"Region Midtjylland"]
[null,"Struer",4244,"2018-01-01",6,"*","*","*",3987,"*","*","*",42,3,95,0,0,95,0,null,null,null,3,7,null,7,null,7,0,98,38,101,null,null,null,null,null,null,"Region Midtjylland"]
[null,"Syddjurs",8473,"2018-01-01",8,3,0,5,2710,"*","*","*",55,10,216,"*",3,210,"*",null,null,null,3,10,0,10,3,10,4,362,206,367,null,null,null,null,null,null,"Region Midtjylland"]
[null,"Norddjurs",6885,"2018-01-01",46,32,0,14,49723,35292,"*",14431,74,9,262,"*","*",255,"*",null,null,null,null,41,0,41,null,41,null,null,22,230,null,null,null,null,null,null,"Region Midtjylland"]
[null,"Favrskov",11812,"2018-01-01",36,24,"*","*",31389,24580,"*","*",54,4,130,"*","*",126,"*",null,null,null,9,38,null,38,null,38,null,null,22,122,null,null,null,null,null,null,"Region Midtjylland"]
[null,"Odder",4846,"2018-01-01",8,"*","*","*",4467,"*","*","*",14,8,130,"*","*",127,0,null,null,null,null,7,0,7,null,7,null,null,22,129,null,null,null,null,null,null,"Region Midtjylland"]
[null,"Randers",19903,"2018-01-01",29,12,5,12,23826,17044,907,5875,159,20,346,4,4,332,6,null,null,null,7,31,null,31,null,31,11,309,75,315,null,null,null,null,null,null,"Region Midtjylland"]
[null,"Silkeborg",20643,"2018-01-01",16,9,"*","*",30159,19271,"*","*",95,19,361,"*","*",356,"*",null,null,null,6,22,0,22,6,22,null,null,79,334,null,null,null,null,null,null,"Region Midtjylland"]
[null,"Samsø",562,"2018-01-01","*",0,0,"*","*","*","*","*",7,"*",11,0,3,8,0,null,null,null,null,null,null,null,null,null,4,10,null,13,null,null,null,null,null,null,"Region Midtjylland"]
[null,"Skanderborg",15383,"2018-01-01",12,6,0,6,19997,10470,"*",9527,54,8,213,"*","*","*","*",null,null,null,5,17,0,17,5,17,null,null,39,195,null,null,null,null,null,null,"Region Midtjylland"]
[null,"Aarhus",63245,"2018-01-01",180,119,4,57,194184,148645,"*","*",228,33,1164,"*",18,1133,"*",null,null,null,35,190,5,190,30,190,null,null,269,1080,null,null,null,null,null,null,"Region Midtjylland"]
[null,"Ikast-Brande",9195,"2018-01-01",19,14,0,5,8348,6182,"*",2166,49,15,73,0,"*",70,"*",null,null,null,3,17,0,17,3,17,null,null,6,58,null,null,null,null,null,null,"Region Midtjylland"]
[null,"Ringkøbing-Skjern",12311,"2018-01-01",39,30,"*","*",43047,39260,"*","*",98,7,276,"*","*","*","*",null,null,null,null,32,0,32,null,32,10,274,50,277,null,null,null,null,null,null,"Region Midtjylland"]
[null,"Hedensted",10533,"2018-01-01",61,13,0,48,43397,18409,"*",24988,25,5,293,0,"*",289,"*",null,null,null,5,62,0,62,5,62,null,null,28,278,null,null,null,null,null,null,"Region Midtjylland"]
[null,"Morsø",3890,"2018-01-01",8,"*","*","*",9349,"*","*","*",47,"*",74,0,0,74,0,null,null,null,null,10,null,10,null,10,null,null,27,96,null,null,null,null,null,null,"Region Nordjylland"]
[null,"Skive",9194,"2018-01-01",26,16,0,10,26412,16733,"*",9679,60,14,234,0,"*",230,"*",null,null,null,6,31,0,31,6,31,null,null,32,190,null,null,null,null,null,null,"Region Midtjylland"]
[null,"Thisted",8753,"2018-01-01",28,21,0,7,23226,16540,"*",6686,81,7,214,"*",5,204,"*",null,null,null,4,29,null,29,null,29,8,234,81,240,null,null,null,null,null,null,"Region Nordjylland"]
[null,"Viborg",21313,"2018-01-01",38,24,"*","*",46805,37917,"*","*",138,20,314,0,4,304,6,null,null,null,10,41,0,41,10,41,12,333,99,338,null,null,null,null,null,null,"Region Midtjylland"]
[null,"Brønderslev",7875,"2018-01-01",29,6,0,23,31014,10794,"*",20220,110,6,169,"*","*","*","*",null,null,null,3,28,0,28,3,28,null,null,47,174,null,null,null,null,null,null,"Region Nordjylland"]
[null,"Frederikshavn",10687,"2018-01-01",31,16,0,15,13808,8804,"*",5004,125,15,306,"*","*","*","*",null,null,null,6,27,null,27,null,27,null,null,47,267,null,null,null,null,null,null,"Region Nordjylland"]
[null,"Vesthimmerlands",7608,"2018-01-01",28,6,0,22,25238,6729,"*",18509,64,12,258,0,"*",254,"*",null,null,null,3,26,0,26,3,26,null,null,56,258,null,null,null,null,null,null,"Region Nordjylland"]
[null,"Læsø",231,"2018-01-01",3,3,0,0,"*","*","*","*","*","*",7,0,0,7,0,null,null,null,null,null,null,null,null,null,0,7,0,7,null,null,null,null,null,null,"Region Nordjylland"]
[null,"Rebild",7079,"2018-01-01",10,7,0,3,11006,"*","*","*",33,5,91,0,0,85,6,null,null,null,null,11,0,11,null,11,null,null,14,89,null,null,null,null,null,null,"Region Nordjylland"]
[null,"Mariagerfjord",8377,"2018-01-01",39,12,0,27,36600,16774,"*",19826,70,9,195,"*","*",188,"*",null,null,null,10,45,0,45,10,45,null,null,127,258,null,null,null,null,null,null,"Region Nordjylland"]
[null,"Jammerbugt",7982,"2018-01-01",28,"*","*",20,28983,"*","*",18413,68,3,196,"*","*",191,"*",null,null,null,5,31,0,31,5,31,null,null,81,222,null,null,null,null,null,null,"Region Nordjylland"]
[null,"Aalborg",39077,"2018-01-01",140,89,"*","*",104374,65585,"*","*",314,42,820,"*",7,805,"*",null,null,null,30,150,5,150,25,150,null,null,248,823,null,null,null,null,null,null,"Region Nordjylland"]
[null,"Hjørring",12806,"2018-01-01",33,"*","*",18,27314,"*","*",11991,150,8,242,0,0,239,3,null,null,null,17,47,null,47,null,47,null,null,55,206,null,null,null,null,null,null,"Region Nordjylland"]
[null,"København",108734,"2018-07-01",217,174,10,33,156577,109671,2830,44076,351,107,2384,14,15,2351,4,null,null,null,51,214,6,214,45,214,69,2288,517,2324,null,null,null,null,null,null,"Region Hovedstaden"]
[null,"Frederiksberg",18444,"2018-07-01",60,45,"*","*",61434,48039,"*","*",49,10,139,0,0,136,3,null,null,null,14,64,0,64,14,64,null,null,42,134,null,null,null,null,null,null,"Region Hovedstaden"]
[null,"Ballerup",10306,"2018-07-01",32,20,0,12,17876,9336,"*",8540,38,4,338,"*","*",329,6,null,null,null,9,32,null,32,null,32,10,326,57,329,null,null,null,null,null,null,"Region Hovedstaden"]
[null,"Brøndby",7449,"2018-07-01",39,"*","*",20,21922,"*","*",11437,44,6,85,"*","*",81,"*",null,null,null,8,39,0,39,8,39,null,null,13,86,null,null,null,null,null,null,"Region Hovedstaden"]
[null,"Dragør",3217,"2018-07-01",6,"*","*","*",960,"*","*","*",5,0,40,"*","*","*","*",null,null,null,null,null,null,null,null,null,null,null,6,36,null,null,null,null,null,null,"Region Hovedstaden"]
[null,"Gentofte",16887,"2018-07-01",41,32,0,9,25173,19987,"*",5186,23,5,199,"*","*",195,"*",null,null,null,9,41,3,41,6,41,null,null,21,170,null,null,null,null,null,null,"Region Hovedstaden"]
[null,"Gladsaxe",15258,"2018-07-01",35,18,"*","*",24891,9677,"*","*",47,11,273,0,6,264,3,null,null,null,4,34,0,34,4,34,9,273,177,279,null,null,null,null,null,null,"Region Hovedstaden"]
[null,"Glostrup",4572,"2018-07-01",9,9,0,0,4352,4352,"*","*",17,3,51,0,0,51,0,null,null,null,null,8,0,8,null,8,null,null,7,41,null,null,null,null,null,null,"Region Hovedstaden"]
[null,"Herlev",6401,"2018-07-01",23,17,0,6,17649,12185,"*",5464,21,7,149,"*","*",144,"*",null,null,null,8,24,0,24,8,24,null,null,12,78,null,null,null,null,null,null,"Region Hovedstaden"]
[null,"Albertslund",6063,"2018-07-01",31,20,0,11,23916,15637,"*",8279,33,5,128,"*",8,115,"*",null,null,null,4,30,0,30,4,30,11,152,63,158,null,null,null,null,null,null,"Region Hovedstaden"]
[null,"Hvidovre",11778,"2018-07-01",28,17,"*","*",12945,5413,"*","*",40,10,211,"*","*",206,"*",null,null,null,5,25,0,25,5,25,null,null,53,225,null,null,null,null,null,null,"Region Hovedstaden"]
[null,"Høje-Taastrup",10993,"2018-07-01",48,17,0,31,46372,20243,"*",26129,48,3,211,"*","*",207,"*",null,null,null,6,47,0,47,6,47,9,224,77,228,null,null,null,null,null,null,"Region Hovedstaden"]
[null,"Lyngby-Taarbæk",11935,"2018-07-01",36,7,0,29,15606,3939,"*",11667,21,7,149,"*","*",144,"*",null,null,null,6,32,0,32,6,32,null,null,31,152,null,null,null,null,null,null,"Region Hovedstaden"]
[null,"Rødovre",8396,"2018-07-01",18,7,0,11,13137,3194,"*",9943,43,5,155,"*","*",150,"*",null,null,null,null,17,0,17,null,17,null,null,40,163,null,null,null,null,null,null,"Region Hovedstaden"]
[null,"Ishøj",5130,"2018-07-01",34,"*","*",28,24098,"*","*",17075,28,7,128,"*","*","*","*",null,null,null,6,35,0,35,6,35,null,null,31,137,null,null,null,null,null,null,"Region Hovedstaden"]
[null,"Tårnby",9478,"2018-07-01",10,5,0,5,7328,5292,"*",2036,35,8,122,"*","*","*","*",null,null,null,3,10,0,10,3,10,null,null,27,104,null,null,null,null,null,null,"Region Hovedstaden"]
[null,"Vallensbæk",3964,"2018-07-01",4,"*","*","*","*","*","*","*",5,0,46,0,0,46,0,null,null,null,null,5,0,5,null,5,null,null,9,41,null,null,null,null,null,null,"Region Hovedstaden"]
[null,"Furesø",9630,"2018-07-01",8,"*","*","*",5282,"*","*","*",31,5,155,"*","*","*","*",null,null,null,5,9,0,9,5,9,null,null,37,151,null,null,null,null,null,null,"Region Hovedstaden"]
[null,"Allerød",6137,"2018-07-01",12,"*","*",7,5375,"*","*",4374,8,"*",63,0,0,63,0,null,null,null,null,11,0,11,null,11,null,null,3,53,null,null,null,null,null,null,"Region Hovedstaden"]
[null,"Fredensborg",8773,"2018-07-01",31,15,7,9,10408,8192,116,2100,19,3,153,"*","*",148,"*",null,null,null,6,25,0,25,6,25,7,161,30,165,null,null,null,null,null,null,"Region Hovedstaden"]
[null,"Helsingør",12419,"2018-07-01",32,15,0,17,55657,24878,"*",30779,56,7,262,"*","*",243,12,null,null,null,3,35,0,35,3,35,7,235,53,239,null,null,null,null,null,null,"Region Hovedstaden"]
[null,"Hillerød",11306,"2018-07-01",22,4,0,18,20982,"*","*","*",36,8,243,"*","*",236,"*",null,null,null,5,25,0,25,5,25,null,null,50,237,null,null,null,null,null,null,"Region Hovedstaden"]
[null,"Hørsholm",5209,"2018-07-01",7,"*","*","*",5666,"*","*","*",8,"*",34,0,"*",31,"*",null,null,null,null,8,0,8,null,8,null,null,6,34,null,null,null,null,null,null,"Region Hovedstaden"]
[null,"Rudersdal",12742,"2018-07-01",29,19,"*","*",22169,18277,"*","*",37,3,195,"*",3,187,"*",null,null,null,null,28,0,28,null,28,null,null,43,194,null,null,null,null,null,null,"Region Hovedstaden"]
[null,"Egedal",10227,"2018-07-01",17,9,0,8,9106,3163,"*",5943,25,5,201,"*","*",193,"*",null,null,null,3,15,0,15,3,15,5,212,39,212,null,null,null,null,null,null,"Region Hovedstaden"]
[null,"Frederikssund",9214,"2018-07-01",21,5,0,16,9756,3853,"*",5903,41,6,195,"*",10,178,"*",null,null,null,3,19,null,19,null,19,11,185,48,196,null,null,null,null,null,null,"Region Hovedstaden"]
[null,"Greve",10962,"2018-07-01",31,9,3,19,14830,"*","*",11084,40,3,225,"*","*",218,3,null,null,null,5,27,null,27,null,27,8,234,63,241,null,null,null,null,null,null,"Region Sjælland"]
[null,"Køge",12946,"2018-07-01",37,14,0,23,18283,7891,"*",10392,72,6,280,"*",4,271,"*",null,null,null,8,37,0,37,8,37,null,null,65,260,null,null,null,null,null,null,"Region Sjælland"]
[null,"Halsnæs",5734,"2018-07-01",55,33,"*","*",27235,14495,"*","*",47,4,188,3,3,178,4,null,null,null,4,43,null,43,null,43,null,null,40,185,null,null,null,null,null,null,"Region Hovedstaden"]
[null,"Roskilde",18396,"2018-07-01",54,37,0,17,44329,30095,"*",14234,68,11,242,"*","*",238,"*",null,null,null,14,61,null,61,null,61,10,247,81,253,null,null,null,null,null,null,"Region Sjælland"]
[null,"Solrød",5344,"2018-07-01",8,"*","*","*",4312,"*","*","*",10,3,54,"*","*","*","*",null,null,null,7,14,0,14,7,14,null,null,15,60,null,null,null,null,null,null,"Region Sjælland"]
[null,"Gribskov",7803,"2018-07-01",26,21,0,5,23737,19702,"*",4035,22,10,206,4,3,196,3,null,null,null,5,29,0,29,5,29,9,205,31,212,null,null,null,null,null,null,"Region Hovedstaden"]
[null,"Odsherred",5412,"2018-07-01",24,16,3,5,17661,12481,"*","*",46,9,227,"*","*",208,16,null,null,null,4,24,null,24,null,24,11,235,35,238,null,null,null,null,null,null,"Region Sjælland"]
[null,"Holbæk",14901,"2018-07-01",50,"*","*",39,39244,"*","*",28949,93,13,260,0,4,253,3,null,null,null,15,53,null,53,null,53,7,249,69,256,null,null,null,null,null,null,"Region Sjælland"]
[null,"Faxe",7105,"2018-07-01",30,7,0,23,17640,1127,"*",16513,50,12,217,0,5,208,4,null,null,null,3,28,0,28,3,28,5,215,65,223,null,null,null,null,null,null,"Region Sjælland"]
[null,"Kalundborg",9439,"2018-07-01",56,28,"*","*",37357,24906,"*","*",81,17,186,"*","*",179,"*",null,null,null,14,57,null,57,null,57,null,null,78,202,null,null,null,null,null,null,"Region Sjælland"]
[null,"Ringsted",7274,"2018-07-01",45,"*","*",29,20021,"*","*",9402,33,5,152,"*","*",148,"*",null,null,null,5,39,0,39,5,39,null,null,48,168,null,null,null,null,null,null,"Region Sjælland"]
[null,"Slagelse",15107,"2018-07-01",64,15,0,49,46385,18658,"*",27727,131,16,281,"*",5,273,"*",null,null,null,11,64,null,64,null,64,null,null,149,331,null,null,null,null,null,null,"Region Sjælland"]
[null,"Stevns",4326,"2018-07-01",19,10,0,9,17376,8585,"*",8791,27,6,120,"*","*",116,"*",null,null,null,4,22,0,22,4,22,null,null,34,128,null,null,null,null,null,null,"Region Sjælland"]
[null,"Sorø",6261,"2018-07-01",8,"*","*","*",7032,"*","*","*",32,9,274,0,6,268,0,null,null,null,5,13,null,13,null,13,null,null,42,250,null,null,null,null,null,null,"Region Sjælland"]
[null,"Lejre",6075,"2018-07-01",9,5,0,4,7841,"*","*","*",22,"*",63,"*","*",60,0,null,null,null,null,10,0,10,null,10,3,74,31,77,null,null,null,null,null,null,"Region Sjælland"]
[null,"Lolland",6788,"2018-07-01",41,"*","*",26,24898,"*","*",14713,170,16,267,"*",10,253,"*",null,null,null,11,46,0,46,11,46,null,null,110,320,null,null,null,null,null,null,"Region Sjælland"]
[null,"Næstved",16474,"2018-07-01",97,44,3,50,69780,"*","*",39259,79,8,268,"*",6,258,"*",null,null,null,17,100,3,100,14,100,null,null,74,273,null,null,null,null,null,null,"Region Sjælland"]
[null,"Guldborgsund",10649,"2018-07-01",79,32,0,47,48114,14781,"*",33333,123,10,261,"*","*",251,"*",null,null,null,13,72,5,72,8,72,null,null,67,236,null,null,null,null,null,null,"Region Sjælland"]
[null,"Vordingborg",8252,"2018-07-01",58,9,0,49,33211,7934,"*",25277,110,6,72,"*","*",68,"*",null,null,null,7,51,0,51,7,51,null,null,52,96,null,null,null,null,null,null,"Region Sjælland"]
[null,"Bornholm",6621,"2018-07-01",32,15,0,17,17129,11086,"*",6043,69,4,175,"*","*",170,"*",null,null,null,8,31,null,31,null,31,null,null,33,179,null,null,null,null,null,null,"Region Hovedstaden"]
[null,"Middelfart",7898,"2018-07-01",20,14,0,6,12296,10543,"*",1753,50,3,179,"*","*","*","*",null,null,null,null,20,0,20,null,20,null,null,47,186,null,null,null,null,null,null,"Region Syddanmark"]
[null,"Assens",8493,"2018-07-01",14,5,0,9,16397,5916,"*",10481,99,6,155,"*","*",151,"*",null,null,null,null,14,0,14,null,14,null,null,60,180,null,null,null,null,null,null,"Region Syddanmark"]
[null,"Faaborg-Midtfyn",10462,"2018-07-01",30,16,"*","*",36444,22213,"*","*",86,12,179,4,9,166,0,null,null,null,11,36,null,36,null,36,15,180,79,189,null,null,null,null,null,null,"Region Syddanmark"]
[null,"Kerteminde",4659,"2018-07-01",16,"*","*","*",19420,"*","*","*",23,9,58,"*","*","*","*",null,null,null,5,20,null,20,null,20,4,61,12,61,null,null,null,null,null,null,"Region Syddanmark"]
[null,"Nyborg",6332,"2018-07-01",24,17,0,7,8806,5556,"*",3250,55,8,98,"*","*","*","*",null,null,null,8,22,null,22,null,22,null,null,37,116,null,null,null,null,null,null,"Region Syddanmark"]
[null,"Odense",37955,"2018-07-01",165,82,"*","*",155970,81344,"*","*",236,27,787,"*",5,777,"*",null,null,null,23,155,null,155,null,155,29,896,272,901,null,null,null,null,null,null,"Region Syddanmark"]
[null,"Svendborg",11331,"2018-07-01",45,24,"*","*",26794,7658,"*","*",107,6,245,"*","*",240,"*",null,null,null,4,39,null,39,null,39,9,389,206,392,null,null,null,null,null,null,"Region Syddanmark"]
[null,"Nordfyns",5993,"2018-07-01",16,11,0,5,10727,6262,"*",4465,24,3,80,"*","*",76,"*",null,null,null,null,14,0,14,null,14,null,null,35,101,null,null,null,null,null,null,"Region Syddanmark"]
[null,"Langeland",1814,"2018-07-01",17,12,0,5,22659,8002,"*",14657,30,4,70,"*","*",67,0,null,null,null,3,18,null,18,null,18,null,null,10,35,null,null,null,null,null,null,"Region Syddanmark"]
[null,"Ærø",836,"2018-07-01","*",0,0,"*","*","*","*","*",3,"*",10,0,0,10,0,null,null,null,null,null,null,null,null,null,0,12,3,12,null,null,null,null,null,null,"Region Syddanmark"]
[null,"Haderslev",11121,"2018-07-01",31,6,0,25,19245,7556,"*",11689,144,17,226,"*",5,217,"*",null,null,null,null,26,0,26,null,26,null,null,67,185,null,null,null,null,null,null,"Region Syddanmark"]
[null,"Billund",5659,"2018-07-01",16,"*","*",12,3348,"*","*",2759,49,3,167,0,"*",164,"*",null,null,null,5,15,0,15,5,15,null,null,41,161,null,null,null,null,null,null,"Region Syddanmark"]
[null,"Sønderborg",14527,"2018-07-01",22,14,"*","*",18047,15052,"*","*",97,7,328,"*","*",324,"*",null,null,null,7,22,0,22,7,22,null,null,65,329,null,null,null,null,null,null,"Region Syddanmark"]
[null,"Tønder",7241,"2018-07-01",22,"*","*",17,13025,"*","*",6616,95,9,222,"*",0,219,"*",null,null,null,3,21,0,21,3,21,null,null,42,221,null,null,null,null,null,null,"Region Syddanmark"]
[null,"Esbjerg",23148,"2018-07-01",123,65,3,55,120628,71668,"*","*",107,23,960,3,"*",952,"*",null,null,null,20,126,null,126,null,126,null,null,85,951,null,null,null,null,null,null,"Region Syddanmark"]
[null,"Fanø",618,"2018-07-01","*","*",0,"*","*","*","*","*",4,0,7,"*","*","*","*",null,null,null,null,null,null,null,null,null,null,null,null,10,null,null,null,null,null,null,"Region Syddanmark"]
[null,"Varde",10396,"2018-07-01",15,5,0,10,12337,8180,"*",4157,62,18,426,0,0,426,0,null,null,null,4,17,0,17,4,17,null,null,90,416,null,null,null,null,null,null,"Region Syddanmark"]
[null,"Vejen",9315,"2018-07-01",30,"*","*",22,27167,"*","*",15444,73,6,128,"*","*","*","*",null,null,null,4,33,0,33,4,33,null,null,61,166,null,null,null,null,null,null,"Region Syddanmark"]
[null,"Aabenraa",11830,"2018-07-01",31,24,"*","*",25710,20932,"*","*",106,7,342,"*","*","*","*",null,null,null,5,28,null,28,null,28,null,null,78,338,null,null,null,null,null,null,"Region Syddanmark"]
[null,"Fredericia",10527,"2018-07-01",13,6,0,7,8588,4468,"*",4120,81,10,265,"*","*",258,"*",null,null,null,4,14,null,14,null,14,12,294,102,298,null,null,null,null,null,null,"Region Syddanmark"]
[null,"Horsens",19169,"2018-07-01",52,"*","*",33,35285,"*","*",12993,116,19,456,0,"*",452,"*",null,null,null,15,57,null,57,null,57,null,null,100,429,null,null,null,null,null,null,"Region Midtjylland"]
[null,"Kolding",19940,"2018-07-01",30,20,"*","*",21174,15608,"*","*",116,13,305,0,"*",302,"*",null,null,null,6,28,null,28,null,28,null,null,99,316,null,null,null,null,null,null,"Region Syddanmark"]
[null,"Vejle",24942,"2018-07-01",39,30,"*","*",32963,29801,"*","*",158,24,566,"*","*",556,"*",null,null,null,11,38,3,38,8,38,null,null,100,556,null,null,null,null,null,null,"Region Syddanmark"]
[null,"Herning",19104,"2018-07-01",16,13,0,3,18656,"*","*","*",120,12,293,"*","*",287,"*",null,null,null,6,16,0,16,6,16,8,323,123,331,null,null,null,null,null,null,"Region Midtjylland"]
[null,"Holstebro",12661,"2018-07-01",32,23,"*","*",25679,20815,"*","*",83,15,279,"*","*",228,"*",null,null,null,5,26,0,26,5,26,7,285,108,285,null,null,null,null,null,null,"Region Midtjylland"]
[null,"Lemvig",3748,"2018-07-01",8,4,0,4,14082,"*","*","*",35,4,39,"*","*",35,0,null,null,null,null,8,0,8,null,8,null,null,37,68,null,null,null,null,null,null,"Region Midtjylland"]
[null,"Struer",4188,"2018-07-01",10,5,0,5,3485,2595,"*",890,41,3,110,0,0,110,0,null,null,null,null,6,0,6,null,6,null,null,26,95,null,null,null,null,null,null,"Region Midtjylland"]
[null,"Syddjurs",8454,"2018-07-01",12,"*","*",8,3312,"*","*",2306,54,9,234,"*","*",230,"*",null,null,null,null,8,0,8,null,8,null,null,66,216,null,null,null,null,null,null,"Region Midtjylland"]
[null,"Norddjurs",6790,"2018-07-01",42,33,"*","*",43108,34307,"*","*",74,9,234,"*","*",227,"*",null,null,null,9,46,0,46,9,46,null,null,81,262,null,null,null,null,null,null,"Region Midtjylland"]
[null,"Favrskov",11780,"2018-07-01",36,23,"*","*",29593,20801,"*","*",56,4,121,"*","*",117,"*",null,null,null,7,36,0,36,7,36,null,null,29,130,null,null,null,null,null,null,"Region Midtjylland"]
[null,"Odder",4813,"2018-07-01",10,6,0,4,5301,"*","*","*",14,8,123,"*","*","*","*",null,null,null,null,8,0,8,null,8,null,null,18,130,null,null,null,null,null,null,"Region Midtjylland"]
[null,"Randers",19775,"2018-07-01",30,13,6,11,22651,15696,1486,5469,152,17,358,"*","*",348,6,null,null,null,4,29,0,29,4,29,10,338,79,346,null,null,null,null,null,null,"Region Midtjylland"]
[null,"Silkeborg",20615,"2018-07-01",14,9,"*","*",25491,15547,"*","*",99,14,402,"*","*",397,"*",null,null,null,4,16,0,16,4,16,null,null,83,361,null,null,null,null,null,null,"Region Midtjylland"]
[null,"Samsø",560,"2018-07-01","*",0,0,"*","*","*","*","*",7,"*",10,"*","*","*","*",null,null,null,null,null,null,null,null,null,null,null,3,11,null,null,null,null,null,null,"Region Midtjylland"]
[null,"Skanderborg",15443,"2018-07-01",16,8,0,8,16846,6311,"*",10535,54,7,198,"*","*","*","*",null,null,null,0,12,0,12,0,12,null,null,59,213,null,null,null,null,null,null,"Region Midtjylland"]
[null,"Aarhus",63510,"2018-07-01",168,116,7,45,170529,132428,902,37199,240,27,1202,"*","*",1174,16,null,null,null,37,180,null,180,null,180,null,null,300,1164,null,null,null,null,null,null,"Region Midtjylland"]
[null,"Ikast-Brande",9129,"2018-07-01",21,17,0,4,11194,"*","*","*",48,15,123,0,"*",120,"*",null,null,null,null,19,0,19,null,19,null,null,7,73,null,null,null,null,null,null,"Region Midtjylland"]
[null,"Ringkøbing-Skjern",12249,"2018-07-01",36,28,"*","*",45955,41882,"*","*",99,7,267,0,0,263,4,null,null,null,6,39,0,39,6,39,null,null,57,276,null,null,null,null,null,null,"Region Midtjylland"]
[null,"Hedensted",10430,"2018-07-01",55,10,0,45,43249,15839,"*",27410,24,4,260,"*","*","*","*",null,null,null,10,61,0,61,10,61,null,null,51,293,null,null,null,null,null,null,"Region Midtjylland"]
[null,"Morsø",3856,"2018-07-01",5,"*","*","*",5441,"*","*","*",46,4,82,0,0,79,3,null,null,null,3,8,0,8,3,8,null,null,28,74,null,null,null,null,null,null,"Region Nordjylland"]
[null,"Skive",9077,"2018-07-01",21,13,0,8,21147,17286,"*",3861,63,12,176,0,"*",173,"*",null,null,null,8,26,0,26,8,26,null,null,77,234,null,null,null,null,null,null,"Region Midtjylland"]
[null,"Thisted",8731,"2018-07-01",31,22,"*","*",26623,19695,"*","*",71,7,234,"*",5,226,"*",null,null,null,3,28,null,28,null,28,null,null,51,214,null,null,null,null,null,null,"Region Nordjylland"]
[null,"Viborg",21204,"2018-07-01",43,29,"*","*",44872,36806,"*","*",149,20,303,"*",4,295,"*",null,null,null,5,38,0,38,5,38,17,310,96,314,null,null,null,null,null,null,"Region Midtjylland"]
[null,"Brønderslev",7882,"2018-07-01",28,7,0,21,28894,10874,"*",18020,111,7,174,"*","*",169,"*",null,null,null,5,29,null,29,null,29,null,null,47,169,null,null,null,null,null,null,"Region Nordjylland"]
[null,"Frederikshavn",10647,"2018-07-01",31,16,0,15,13903,9306,"*",4597,117,16,280,"*","*","*","*",null,null,null,8,31,0,31,8,31,null,null,103,306,null,null,null,null,null,null,"Region Nordjylland"]
[null,"Vesthimmerlands",7525,"2018-07-01",34,7,0,27,27778,7737,"*",20041,74,7,248,0,"*",245,"*",null,null,null,null,28,0,28,null,28,null,null,73,258,null,null,null,null,null,null,"Region Nordjylland"]
[null,"Læsø",232,"2018-07-01",3,3,0,0,"*","*","*","*",0,0,4,0,0,4,0,null,null,null,0,3,0,3,0,3,0,7,null,7,null,null,null,null,null,null,"Region Nordjylland"]
[null,"Rebild",7099,"2018-07-01",11,8,0,3,11722,"*","*","*",33,5,79,0,0,74,5,null,null,null,null,10,0,10,null,10,null,null,29,91,null,null,null,null,null,null,"Region Nordjylland"]
[null,"Mariagerfjord",8363,"2018-07-01",37,11,0,26,37831,15506,"*",22325,73,8,159,"*","*","*","*",null,null,null,6,39,0,39,6,39,null,null,86,195,null,null,null,null,null,null,"Region Nordjylland"]
[null,"Jammerbugt",7899,"2018-07-01",31,"*","*",22,32017,"*","*",21037,69,4,186,"*","*",183,0,null,null,null,4,28,0,28,4,28,null,null,54,196,null,null,null,null,null,null,"Region Nordjylland"]
[null,"Aalborg",39003,"2018-07-01",133,85,"*","*",111359,71252,"*","*",307,42,828,"*","*",818,"*",null,null,null,22,140,4,140,18,140,null,null,206,820,null,null,null,null,null,null,"Region Nordjylland"]
[null,"Hjørring",12691,"2018-07-01",37,"*","*",19,27661,"*","*",12248,146,11,248,0,0,245,3,null,null,null,6,33,0,33,6,33,11,242,44,242,null,null,null,null,null,null,"Region Nordjylland"]
[null,"København",109335,"2019-01-01",204,161,10,33,149429,102873,2993,43563,339,112,2355,15,19,2318,3,null,null,null,48,217,9,217,39,217,59,2355,629,2384,null,null,null,null,null,null,"Region Hovedstaden"]
[null,"Frederiksberg",18378,"2019-01-01",54,38,"*","*",46535,33206,"*","*",46,9,147,"*","*",143,"*",null,null,null,17,60,null,60,null,60,4,139,23,139,null,null,null,null,null,null,"Region Hovedstaden"]
[null,"Ballerup",10285,"2019-01-01",36,22,0,14,19595,10206,"*",9389,34,7,346,"*","*",339,"*",null,null,null,3,32,0,32,3,32,7,335,61,338,null,null,null,null,null,null,"Region Hovedstaden"]
[null,"Brøndby",7418,"2019-01-01",31,15,0,16,16422,8350,"*",8072,45,5,80,"*","*","*","*",null,null,null,13,39,0,39,13,39,null,null,19,85,null,null,null,null,null,null,"Region Hovedstaden"]
[null,"Dragør",3231,"2019-01-01",7,"*","*","*",1971,"*","*","*",4,0,56,"*","*","*","*",null,null,null,null,6,0,6,null,6,null,null,4,40,null,null,null,null,null,null,"Region Hovedstaden"]
[null,"Gentofte",16841,"2019-01-01",38,28,0,10,27332,21428,"*",5904,25,5,209,"*","*",205,"*",null,null,null,6,41,0,41,6,41,null,null,29,199,null,null,null,null,null,null,"Region Hovedstaden"]
[null,"Gladsaxe",15295,"2019-01-01",30,15,"*","*",22785,10720,"*","*",44,14,256,"*",3,250,"*",null,null,null,10,35,null,35,null,35,3,267,87,273,null,null,null,null,null,null,"Region Hovedstaden"]
[null,"Glostrup",4563,"2019-01-01",6,6,0,0,4961,4961,"*","*",20,3,50,0,0,50,0,null,null,null,3,9,null,9,null,9,0,51,7,51,null,null,null,null,null,null,"Region Hovedstaden"]
[null,"Herlev",6422,"2019-01-01",28,18,0,10,19898,12897,"*",7001,19,7,164,0,"*",160,"*",null,null,null,null,23,0,23,null,23,null,null,16,149,null,null,null,null,null,null,"Region Hovedstaden"]
[null,"Albertslund",6084,"2019-01-01",29,18,0,11,21795,12465,"*",9330,33,4,121,0,7,111,3,null,null,null,3,31,0,31,3,31,null,null,25,128,null,null,null,null,null,null,"Region Hovedstaden"]
[null,"Hvidovre",11771,"2019-01-01",27,15,"*","*",14196,5197,"*","*",40,10,201,"*","*",195,"*",null,null,null,6,28,null,28,null,28,null,null,69,211,null,null,null,null,null,null,"Region Hovedstaden"]
[null,"Høje-Taastrup",10937,"2019-01-01",41,13,0,28,41227,17743,"*",23484,46,4,212,0,3,206,3,null,null,null,7,48,0,48,7,48,null,null,47,211,null,null,null,null,null,null,"Region Hovedstaden"]
[null,"Lyngby-Taarbæk",11954,"2019-01-01",32,6,0,26,17319,4132,"*",13187,20,8,157,"*","*",151,"*",null,null,null,7,36,0,36,7,36,null,null,25,149,null,null,null,null,null,null,"Region Hovedstaden"]
[null,"Rødovre",8546,"2019-01-01",21,"*","*",11,16247,"*","*",11515,41,5,155,"*","*",149,"*",null,null,null,null,18,0,18,null,18,null,null,30,155,null,null,null,null,null,null,"Region Hovedstaden"]
[null,"Ishøj",5115,"2019-01-01",29,"*","*",24,21019,"*","*",13976,27,5,134,"*","*","*","*",null,null,null,7,34,null,34,null,34,null,null,33,128,null,null,null,null,null,null,"Region Hovedstaden"]
[null,"Tårnby",9501,"2019-01-01",10,"*","*","*",5708,"*","*","*",40,4,128,"*","*",124,"*",null,null,null,3,10,null,10,null,10,null,null,27,122,null,null,null,null,null,null,"Region Hovedstaden"]
[null,"Vallensbæk",4007,"2019-01-01",4,"*",0,"*","*","*","*","*",5,"*",39,0,0,39,0,null,null,null,null,4,0,4,null,4,3,46,15,46,null,null,null,null,null,null,"Region Hovedstaden"]
[null,"Furesø",9624,"2019-01-01",9,3,0,6,5784,"*","*","*",31,5,179,"*","*","*","*",null,null,null,null,8,0,8,null,8,null,null,25,155,null,null,null,null,null,null,"Region Hovedstaden"]
[null,"Allerød",6224,"2019-01-01",14,5,0,9,7086,1271,"*",5815,9,"*",72,0,0,72,0,null,null,null,null,12,0,12,null,12,null,null,11,63,null,null,null,null,null,null,"Region Hovedstaden"]
[null,"Fredensborg",8770,"2019-01-01",24,12,"*","*",12732,8659,"*","*",20,3,161,"*","*",157,"*",null,null,null,8,31,null,31,null,31,null,null,19,153,null,null,null,null,null,null,"Region Hovedstaden"]
[null,"Helsingør",12294,"2019-01-01",34,17,0,17,56898,26979,"*",29919,53,5,250,"*","*",235,"*",null,null,null,0,32,0,32,0,32,3,255,70,262,null,null,null,null,null,null,"Region Hovedstaden"]
[null,"Hillerød",11259,"2019-01-01",24,5,0,19,15547,1946,"*",13601,33,8,236,0,4,232,0,null,null,null,6,22,0,22,6,22,null,null,53,243,null,null,null,null,null,null,"Region Hovedstaden"]
[null,"Hørsholm",5196,"2019-01-01",12,9,0,3,6352,"*","*","*",7,"*",37,"*","*","*","*",null,null,null,null,7,0,7,null,7,null,null,6,34,null,null,null,null,null,null,"Region Hovedstaden"]
[null,"Rudersdal",12845,"2019-01-01",27,18,"*","*",22509,18396,"*","*",39,3,158,0,"*",154,"*",null,null,null,5,29,null,29,null,29,null,null,70,195,null,null,null,null,null,null,"Region Hovedstaden"]
[null,"Egedal",10297,"2019-01-01",13,6,0,7,9842,3445,"*",6397,23,6,194,"*","*",187,"*",null,null,null,6,17,0,17,6,17,null,null,39,201,null,null,null,null,null,null,"Region Hovedstaden"]
[null,"Frederikssund",9180,"2019-01-01",20,4,0,16,10734,"*","*","*",41,6,239,"*",7,226,"*",null,null,null,4,21,0,21,4,21,null,null,27,195,null,null,null,null,null,null,"Region Hovedstaden"]
[null,"Greve",10995,"2019-01-01",30,"*","*",22,15728,"*","*",11009,38,3,210,7,"*",200,"*",null,null,null,8,31,0,31,8,31,6,221,67,225,null,null,null,null,null,null,"Region Sjælland"]
[null,"Køge",12836,"2019-01-01",37,17,0,20,20199,10367,"*",9832,70,8,275,"*",8,263,"*",null,null,null,6,37,null,37,null,37,null,null,79,280,null,null,null,null,null,null,"Region Sjælland"]
[null,"Halsnæs",5681,"2019-01-01",48,29,3,16,24018,14897,"*","*",48,4,191,"*",5,181,"*",null,null,null,10,55,null,55,null,55,12,182,40,188,null,null,null,null,null,null,"Region Hovedstaden"]
[null,"Roskilde",18329,"2019-01-01",47,31,0,16,35555,23394,"*",12161,71,10,290,"*",4,282,"*",null,null,null,13,54,0,54,13,54,null,null,69,242,null,null,null,null,null,null,"Region Sjælland"]
[null,"Solrød",5431,"2019-01-01",8,"*","*","*",3750,"*","*","*",12,3,55,"*","*","*","*",null,null,null,null,8,0,8,null,8,null,null,8,54,null,null,null,null,null,null,"Region Sjælland"]
[null,"Gribskov",7741,"2019-01-01",26,20,0,6,22540,17525,"*",5015,21,9,228,4,3,218,3,null,null,null,3,26,0,26,3,26,8,199,24,206,null,null,null,null,null,null,"Region Hovedstaden"]
[null,"Odsherred",5386,"2019-01-01",23,16,"*","*",17716,13371,"*","*",45,9,202,"*","*",189,"*",null,null,null,3,24,0,24,3,24,4,224,43,227,null,null,null,null,null,null,"Region Sjælland"]
[null,"Holbæk",14812,"2019-01-01",50,"*","*",41,40623,"*","*",31606,85,12,278,"*","*",272,"*",null,null,null,6,50,0,50,6,50,7,256,70,260,null,null,null,null,null,null,"Region Sjælland"]
[null,"Faxe",7138,"2019-01-01",31,10,0,21,17443,2091,"*",15352,51,14,231,0,3,225,3,null,null,null,6,30,0,30,6,30,4,212,39,217,null,null,null,null,null,null,"Region Sjælland"]
[null,"Kalundborg",9355,"2019-01-01",57,22,3,32,39648,"*","*",13318,85,15,175,0,"*",171,"*",null,null,null,12,56,null,56,null,56,null,null,61,186,null,null,null,null,null,null,"Region Sjælland"]
[null,"Ringsted",7265,"2019-01-01",40,13,0,27,20372,10459,"*",9913,35,6,139,0,"*",136,"*",null,null,null,11,45,0,45,11,45,null,null,41,152,null,null,null,null,null,null,"Region Sjælland"]
[null,"Slagelse",15016,"2019-01-01",62,18,0,44,40059,16450,"*",23609,137,14,327,3,6,318,0,null,null,null,14,64,3,64,11,64,null,null,63,281,null,null,null,null,null,null,"Region Sjælland"]
[null,"Stevns",4261,"2019-01-01",16,8,0,8,16156,7686,"*",8470,26,7,133,"*","*",127,"*",null,null,null,4,19,0,19,4,19,null,null,27,120,null,null,null,null,null,null,"Region Sjælland"]
[null,"Sorø",6271,"2019-01-01",11,8,"*","*",6701,5793,"*","*",31,8,258,"*","*",254,"*",null,null,null,3,8,0,8,3,8,6,268,53,274,null,null,null,null,null,null,"Region Sjælland"]
[null,"Lejre",6103,"2019-01-01",11,8,0,3,6029,"*","*","*",19,"*",74,"*","*",71,0,null,null,null,4,9,0,9,4,9,3,60,7,63,null,null,null,null,null,null,"Region Sjælland"]
[null,"Lolland",6693,"2019-01-01",34,"*","*",22,26023,"*","*",16487,166,17,236,"*",8,223,"*",null,null,null,9,41,null,41,null,41,null,null,91,267,null,null,null,null,null,null,"Region Sjælland"]
[null,"Næstved",16384,"2019-01-01",93,"*","*",52,69753,"*","*",39446,83,6,257,"*",9,244,"*",null,null,null,19,97,3,97,16,97,null,null,62,268,null,null,null,null,null,null,"Region Sjælland"]
[null,"Guldborgsund",10539,"2019-01-01",79,28,3,48,52081,"*","*",34863,135,9,294,"*",6,284,"*",null,null,null,14,79,null,79,null,79,null,null,67,261,null,null,null,null,null,null,"Region Sjælland"]
[null,"Vordingborg",8115,"2019-01-01",59,11,0,48,36073,9803,"*",26270,104,7,60,"*",4,52,"*",null,null,null,9,58,null,58,null,58,null,null,44,72,null,null,null,null,null,null,"Region Sjælland"]
[null,"Bornholm",6592,"2019-01-01",31,16,0,15,19126,13466,"*",5660,65,4,172,0,"*",169,"*",null,null,null,8,32,null,32,null,32,null,null,25,175,null,null,null,null,null,null,"Region Hovedstaden"]
[null,"Middelfart",7913,"2019-01-01",18,11,0,7,10053,7136,"*",2917,48,4,166,0,4,162,0,null,null,null,4,20,0,20,4,20,null,null,45,179,null,null,null,null,null,null,"Region Syddanmark"]
[null,"Assens",8384,"2019-01-01",14,4,0,10,17045,"*","*","*",98,8,154,0,0,154,0,null,null,null,3,14,0,14,3,14,null,null,39,155,null,null,null,null,null,null,"Region Syddanmark"]
[null,"Faaborg-Midtfyn",10442,"2019-01-01",30,15,"*","*",24653,11877,"*","*",87,13,164,"*","*",156,"*",null,null,null,8,30,null,30,null,30,10,166,48,179,null,null,null,null,null,null,"Region Syddanmark"]
[null,"Kerteminde",4619,"2019-01-01",15,"*","*","*",15195,"*","*","*",23,10,61,"*","*","*","*",null,null,null,3,16,0,16,3,16,null,null,9,58,null,null,null,null,null,null,"Region Syddanmark"]
[null,"Nyborg",6327,"2019-01-01",26,19,0,7,13119,8581,"*",4538,53,6,110,"*","*","*","*",null,null,null,null,24,0,24,null,24,null,null,21,98,null,null,null,null,null,null,"Region Syddanmark"]
[null,"Odense",37956,"2019-01-01",158,77,4,77,146781,75068,"*","*",242,26,608,"*","*",597,"*",null,null,null,30,165,10,165,20,165,null,null,331,787,null,null,null,null,null,null,"Region Syddanmark"]
[null,"Svendborg",11296,"2019-01-01",44,26,0,18,29347,11676,"*",17671,102,5,299,0,4,295,0,null,null,null,5,45,null,45,null,45,null,null,42,245,null,null,null,null,null,null,"Region Syddanmark"]
[null,"Nordfyns",5941,"2019-01-01",15,11,0,4,11753,"*","*","*",27,3,109,0,4,102,3,null,null,null,null,16,null,16,null,16,null,null,15,80,null,null,null,null,null,null,"Region Syddanmark"]
[null,"Langeland",1769,"2019-01-01",15,12,0,3,17446,"*","*","*",31,4,67,"*","*","*","*",null,null,null,5,17,null,17,null,17,3,67,17,70,null,null,null,null,null,null,"Region Syddanmark"]
[null,"Ærø",826,"2019-01-01","*","*",0,"*","*","*","*","*","*","*",15,0,0,15,0,null,null,null,null,null,null,null,null,null,0,10,null,10,null,null,null,null,null,null,"Region Syddanmark"]
[null,"Haderslev",11068,"2019-01-01",30,"*","*",22,20467,"*","*",12538,150,16,223,"*","*",216,"*",null,null,null,6,31,0,31,6,31,null,null,79,226,null,null,null,null,null,null,"Region Syddanmark"]
[null,"Billund",5650,"2019-01-01",21,"*","*",13,4220,"*","*",2799,50,6,157,0,0,157,0,null,null,null,5,16,0,16,5,16,null,null,44,167,null,null,null,null,null,null,"Region Syddanmark"]
[null,"Sønderborg",14419,"2019-01-01",28,15,0,13,18173,14318,"*",3855,97,5,321,0,"*",317,"*",null,null,null,3,22,0,22,3,22,null,null,81,328,null,null,null,null,null,null,"Region Syddanmark"]
[null,"Tønder",7208,"2019-01-01",17,"*","*","*",8681,"*","*","*",91,9,235,"*","*","*","*",null,null,null,9,22,3,22,6,22,null,null,38,222,null,null,null,null,null,null,"Region Syddanmark"]
[null,"Esbjerg",23010,"2019-01-01",129,73,"*","*",122223,73821,"*","*",114,21,952,0,"*",948,"*",null,null,null,17,123,0,123,17,123,null,null,90,960,null,null,null,null,null,null,"Region Syddanmark"]
[null,"Fanø",617,"2019-01-01","*","*",0,"*","*","*","*","*",4,0,6,"*","*","*","*",null,null,null,null,null,null,null,null,null,null,null,null,7,null,null,null,null,null,null,"Region Syddanmark"]
[null,"Varde",10318,"2019-01-01",13,"*","*",8,11005,"*","*",2532,62,18,442,0,0,442,0,null,null,null,6,15,0,15,6,15,3,426,109,426,null,null,null,null,null,null,"Region Syddanmark"]
[null,"Vejen",9259,"2019-01-01",23,5,0,18,18852,9042,"*",9810,73,7,130,"*","*","*","*",null,null,null,9,30,0,30,9,30,null,null,40,128,null,null,null,null,null,null,"Region Syddanmark"]
[null,"Aabenraa",11821,"2019-01-01",30,21,"*","*",27279,21992,"*","*",110,6,326,"*","*",323,0,null,null,null,8,31,null,31,null,31,null,null,89,342,null,null,null,null,null,null,"Region Syddanmark"]
[null,"Fredericia",10470,"2019-01-01",15,7,0,8,10228,5340,"*",4888,79,12,282,"*","*",276,"*",null,null,null,null,13,null,13,null,13,null,null,48,265,null,null,null,null,null,null,"Region Syddanmark"]
[null,"Horsens",19284,"2019-01-01",52,"*","*",41,27761,"*","*",13537,117,19,441,"*","*",433,5,null,null,null,16,52,3,52,13,52,null,null,111,456,null,null,null,null,null,null,"Region Midtjylland"]
[null,"Kolding",19872,"2019-01-01",31,19,"*","*",18012,12072,"*","*",116,15,307,"*","*","*","*",null,null,null,7,30,null,30,null,30,null,null,89,305,null,null,null,null,null,null,"Region Syddanmark"]
[null,"Vejle",24938,"2019-01-01",45,36,"*","*",23125,20007,"*","*",158,26,547,"*","*",536,7,null,null,null,8,39,3,39,5,39,null,null,155,566,null,null,null,null,null,null,"Region Syddanmark"]
[null,"Herning",19014,"2019-01-01",16,"*","*","*",14048,"*","*","*",123,13,288,0,4,284,0,null,null,null,4,16,0,16,4,16,null,null,90,293,null,null,null,null,null,null,"Region Midtjylland"]
[null,"Holstebro",12574,"2019-01-01",28,18,"*","*",27022,21315,"*","*",84,17,286,0,3,246,37,null,null,null,8,32,null,32,null,32,null,null,89,279,null,null,null,null,null,null,"Region Midtjylland"]
[null,"Lemvig",3700,"2019-01-01",9,"*","*",5,14188,"*","*",3687,33,4,34,"*","*","*","*",null,null,null,null,8,0,8,null,8,null,null,16,39,null,null,null,null,null,null,"Region Midtjylland"]
[null,"Struer",4096,"2019-01-01",10,4,0,6,4373,"*","*","*",45,3,107,0,0,107,0,null,null,null,null,10,0,10,null,10,5,110,26,110,null,null,null,null,null,null,"Region Midtjylland"]
[null,"Syddjurs",8456,"2019-01-01",11,"*","*",7,4172,"*","*",2527,52,8,314,"*","*",311,"*",null,null,null,4,12,0,12,4,12,null,null,27,234,null,null,null,null,null,null,"Region Midtjylland"]
[null,"Norddjurs",6733,"2019-01-01",41,31,"*","*",44690,34050,"*","*",76,10,253,"*","*",246,"*",null,null,null,4,42,0,42,4,42,null,null,29,234,null,null,null,null,null,null,"Region Midtjylland"]
[null,"Favrskov",11708,"2019-01-01",33,24,0,9,25488,21487,"*",4001,56,3,120,"*","*",116,"*",null,null,null,10,36,3,36,7,36,null,null,27,121,null,null,null,null,null,null,"Region Midtjylland"]
[null,"Odder",4832,"2019-01-01",9,5,0,4,6653,"*","*","*",14,6,133,0,0,133,0,null,null,null,null,10,0,10,null,10,null,null,24,123,null,null,null,null,null,null,"Region Midtjylland"]
[null,"Randers",19642,"2019-01-01",25,15,3,7,20685,13665,"*","*",152,16,388,"*","*",377,6,null,null,null,8,30,0,30,8,30,8,354,106,358,null,null,null,null,null,null,"Region Midtjylland"]
[null,"Silkeborg",20697,"2019-01-01",21,12,"*","*",24046,17490,"*","*",98,12,473,"*","*",468,"*",null,null,null,null,14,0,14,null,14,null,null,108,402,null,null,null,null,null,null,"Region Midtjylland"]
[null,"Samsø",549,"2019-01-01","*",0,0,"*","*","*","*","*",7,"*",13,"*","*","*","*",null,null,null,null,null,null,null,null,null,null,null,5,10,null,null,null,null,null,null,"Region Midtjylland"]
[null,"Skanderborg",15530,"2019-01-01",18,7,0,11,16163,4385,"*",11778,53,8,193,"*","*","*","*",null,null,null,3,16,0,16,3,16,null,null,37,198,null,null,null,null,null,null,"Region Midtjylland"]
[null,"Aarhus",63607,"2019-01-01",174,118,10,46,159152,124068,1195,33889,239,25,1303,3,7,1280,13,null,null,null,28,168,null,168,null,168,31,1190,310,1202,null,null,null,null,null,null,"Region Midtjylland"]
[null,"Ikast-Brande",9139,"2019-01-01",15,11,0,4,8042,"*","*","*",51,14,192,0,3,189,0,null,null,null,7,21,null,21,null,21,null,null,20,123,null,null,null,null,null,null,"Region Midtjylland"]
[null,"Ringkøbing-Skjern",12212,"2019-01-01",37,24,"*","*",43084,38156,"*","*",93,7,289,"*","*","*","*",null,null,null,5,36,0,36,5,36,3,267,45,267,null,null,null,null,null,null,"Region Midtjylland"]
[null,"Hedensted",10385,"2019-01-01",48,8,0,40,39383,14727,"*",24656,26,4,247,"*","*",240,"*",null,null,null,13,55,null,55,null,55,null,null,42,260,null,null,null,null,null,null,"Region Midtjylland"]
[null,"Morsø",3855,"2019-01-01",8,5,0,3,6087,"*","*","*",44,"*",79,0,0,79,0,null,null,null,null,5,0,5,null,5,null,null,22,82,null,null,null,null,null,null,"Region Nordjylland"]
[null,"Skive",8928,"2019-01-01",19,11,"*","*",22035,17367,"*","*",59,12,197,0,"*",193,"*",null,null,null,4,21,0,21,4,21,null,null,31,176,null,null,null,null,null,null,"Region Midtjylland"]
[null,"Thisted",8761,"2019-01-01",27,19,"*","*",21398,15892,"*","*",67,8,208,"*",3,202,"*",null,null,null,5,31,0,31,5,31,null,null,59,234,null,null,null,null,null,null,"Region Nordjylland"]
[null,"Viborg",21190,"2019-01-01",31,23,"*","*",43760,37218,"*","*",137,17,364,3,5,352,4,null,null,null,14,43,null,43,null,43,null,null,66,303,null,null,null,null,null,null,"Region Midtjylland"]
[null,"Brønderslev",7856,"2019-01-01",27,"*","*",19,28057,"*","*",20025,109,7,163,0,"*",160,"*",null,null,null,5,28,0,28,5,28,null,null,52,174,null,null,null,null,null,null,"Region Nordjylland"]
[null,"Frederikshavn",10570,"2019-01-01",43,22,0,21,19140,12808,"*",6332,118,14,312,"*","*",307,"*",null,null,null,3,31,null,31,null,31,null,null,56,280,null,null,null,null,null,null,"Region Nordjylland"]
[null,"Vesthimmerlands",7438,"2019-01-01",32,7,0,25,19369,2366,"*",17003,77,5,204,"*","*",200,0,null,null,null,5,34,null,34,null,34,null,null,112,248,null,null,null,null,null,null,"Region Nordjylland"]
[null,"Læsø",234,"2019-01-01",3,3,0,0,"*","*","*","*","*",0,6,"*","*","*","*",null,null,null,0,3,0,3,0,3,0,4,0,4,null,null,null,null,null,null,"Region Nordjylland"]
[null,"Rebild",7145,"2019-01-01",10,7,0,3,11794,"*","*","*",32,6,94,0,0,90,4,null,null,null,null,11,0,11,null,11,null,null,17,79,null,null,null,null,null,null,"Region Nordjylland"]
[null,"Mariagerfjord",8297,"2019-01-01",34,11,0,23,41633,17530,"*",24103,76,8,198,5,0,193,0,null,null,null,4,37,0,37,4,37,null,null,55,159,null,null,null,null,null,null,"Region Nordjylland"]
[null,"Jammerbugt",7816,"2019-01-01",36,"*","*",26,28637,"*","*",18831,74,4,199,"*","*","*","*",null,null,null,3,31,0,31,3,31,4,183,46,186,null,null,null,null,null,null,"Region Nordjylland"]
[null,"Aalborg",39053,"2019-01-01",122,75,"*","*",108221,70598,"*","*",297,45,911,0,0,901,10,null,null,null,29,133,null,133,null,133,null,null,193,828,null,null,null,null,null,null,"Region Nordjylland"]
[null,"Hjørring",12621,"2019-01-01",40,20,"*","*",29970,17176,"*","*",151,11,242,"*","*","*","*",null,null,null,6,37,null,37,null,37,9,248,67,248,null,null,null,null,null,null,"Region Nordjylland"]
[null,"København",110138,"2019-07-01",193,153,5,35,151260,101422,3225,46613,325,107,2239,9,9,2218,3,null,null,null,50,204,4,204,46,204,46,2321,623,2355,null,null,null,null,null,null,"Region Hovedstaden"]
[null,"Frederiksberg",18392,"2019-07-01",54,41,"*","*",23837,20886,"*","*",43,12,165,"*","*",159,"*",null,null,null,10,54,0,54,10,54,null,null,58,147,null,null,null,null,null,null,"Region Hovedstaden"]
[null,"Ballerup",10258,"2019-07-01",33,23,0,10,19314,11625,"*",7689,33,8,337,"*","*",332,"*",null,null,null,5,36,0,36,5,36,null,null,63,346,null,null,null,null,null,null,"Region Hovedstaden"]
[null,"Brøndby",7343,"2019-07-01",33,16,0,17,16628,8725,"*",7903,41,6,87,"*","*","*","*",null,null,null,5,31,0,31,5,31,null,null,14,80,null,null,null,null,null,null,"Region Hovedstaden"]
[null,"Dragør",3275,"2019-07-01",8,"*","*","*",3283,"*","*","*",4,0,45,0,0,45,0,null,null,null,0,7,0,7,0,7,null,null,18,56,null,null,null,null,null,null,"Region Hovedstaden"]
[null,"Gentofte",16801,"2019-07-01",40,26,0,14,29725,22129,"*",7596,25,3,175,"*","*","*","*",null,null,null,4,38,0,38,4,38,null,null,76,209,null,null,null,null,null,null,"Region Hovedstaden"]
[null,"Gladsaxe",15347,"2019-07-01",26,"*","*",14,25092,"*","*",14075,44,13,288,"*","*",284,"*",null,null,null,5,30,null,30,null,30,null,null,53,256,null,null,null,null,null,null,"Region Hovedstaden"]
[null,"Glostrup",4623,"2019-07-01",5,5,0,0,3243,3243,"*","*",19,4,61,0,0,61,0,null,null,null,null,6,0,6,null,6,null,null,10,50,null,null,null,null,null,null,"Region Hovedstaden"]
[null,"Herlev",6487,"2019-07-01",22,14,0,8,18266,14029,"*",4237,19,7,172,0,"*",168,"*",null,null,null,6,28,null,28,null,28,null,null,19,164,null,null,null,null,null,null,"Region Hovedstaden"]
[null,"Albertslund",5980,"2019-07-01",28,18,0,10,22755,12344,"*",10411,33,4,102,0,4,95,3,null,null,null,3,29,0,29,3,29,4,114,46,121,null,null,null,null,null,null,"Region Hovedstaden"]
[null,"Hvidovre",11774,"2019-07-01",28,20,"*","*",13785,6038,"*","*",42,10,213,"*","*","*","*",null,null,null,6,27,0,27,6,27,null,null,59,201,null,null,null,null,null,null,"Region Hovedstaden"]
[null,"Høje-Taastrup",10936,"2019-07-01",40,13,0,27,46267,19233,"*",27034,46,4,234,"*","*",230,"*",null,null,null,null,41,0,41,null,41,null,null,51,212,null,null,null,null,null,null,"Region Hovedstaden"]
[null,"Lyngby-Taarbæk",11935,"2019-07-01",28,"*","*","*",13249,"*","*","*",22,5,135,0,5,130,0,null,null,null,9,32,null,32,null,32,null,null,46,157,null,null,null,null,null,null,"Region Hovedstaden"]
[null,"Rødovre",8656,"2019-07-01",20,"*","*",10,17405,"*","*",11973,38,6,161,0,0,155,6,null,null,null,4,21,null,21,null,21,null,null,34,155,null,null,null,null,null,null,"Region Hovedstaden"]
[null,"Ishøj",5099,"2019-07-01",25,4,0,21,24861,"*","*","*",25,5,148,0,0,148,0,null,null,null,4,29,null,29,null,29,null,null,34,134,null,null,null,null,null,null,"Region Hovedstaden"]
[null,"Tårnby",9517,"2019-07-01",13,4,0,9,7794,"*","*","*",35,"*",120,"*","*","*","*",null,null,null,0,10,0,10,0,10,null,null,50,128,null,null,null,null,null,null,"Region Hovedstaden"]
[null,"Vallensbæk",3999,"2019-07-01",4,"*",0,"*","*","*","*","*",5,0,37,0,0,37,0,null,null,null,0,4,0,4,0,4,0,39,9,39,null,null,null,null,null,null,"Region Hovedstaden"]
[null,"Furesø",9653,"2019-07-01",7,3,0,4,4832,"*","*","*",30,4,197,"*","*",194,"*",null,null,null,3,9,null,9,null,9,null,null,45,179,null,null,null,null,null,null,"Region Hovedstaden"]
[null,"Allerød",6181,"2019-07-01",14,4,0,10,8783,"*","*","*",7,"*",78,0,0,78,0,null,null,null,null,14,0,14,null,14,null,null,11,72,null,null,null,null,null,null,"Region Hovedstaden"]
[null,"Fredensborg",8728,"2019-07-01",22,"*","*",11,13319,"*","*",4641,19,"*",152,"*","*",147,"*",null,null,null,6,24,0,24,6,24,null,null,25,161,null,null,null,null,null,null,"Region Hovedstaden"]
[null,"Helsingør",12239,"2019-07-01",33,17,"*","*",56706,28315,"*","*",55,4,266,"*","*",255,"*",null,null,null,5,34,0,34,5,34,null,null,57,250,null,null,null,null,null,null,"Region Hovedstaden"]
[null,"Hillerød",11242,"2019-07-01",21,3,0,18,14133,"*","*","*",31,7,246,"*","*",242,"*",null,null,null,5,24,null,24,null,24,4,232,32,236,null,null,null,null,null,null,"Region Hovedstaden"]
[null,"Hørsholm",5176,"2019-07-01",13,10,0,3,8027,"*","*","*",9,"*",38,"*","*","*","*",null,null,null,null,12,null,12,0,12,null,null,7,37,null,null,null,null,null,null,"Region Hovedstaden"]
[null,"Rudersdal",12762,"2019-07-01",29,21,"*","*",24530,20166,"*","*",41,"*",149,"*","*",143,"*",null,null,null,3,27,null,27,null,27,null,null,48,158,null,null,null,null,null,null,"Region Hovedstaden"]
[null,"Egedal",10266,"2019-07-01",10,4,0,6,9213,"*","*","*",24,5,160,0,3,154,3,null,null,null,4,13,null,13,null,13,null,null,61,194,null,null,null,null,null,null,"Region Hovedstaden"]
[null,"Frederikssund",9057,"2019-07-01",20,3,0,17,11050,"*","*","*",43,4,262,"*","*",250,6,null,null,null,4,20,0,20,4,20,null,null,47,239,null,null,null,null,null,null,"Region Hovedstaden"]
[null,"Greve",11018,"2019-07-01",32,"*","*",19,16593,"*","*",11053,40,"*",214,"*","*",209,"*",null,null,null,7,30,null,30,null,30,null,null,42,210,null,null,null,null,null,null,"Region Sjælland"]
[null,"Køge",12697,"2019-07-01",34,16,0,18,20660,11209,"*",9451,72,9,237,"*","*",232,"*",null,null,null,7,37,0,37,7,37,null,null,92,275,null,null,null,null,null,null,"Region Sjælland"]
[null,"Halsnæs",5612,"2019-07-01",41,26,"*","*",25296,17366,"*","*",46,3,170,0,3,161,6,null,null,null,9,48,0,48,9,48,null,null,51,191,null,null,null,null,null,null,"Region Hovedstaden"]
[null,"Roskilde",18270,"2019-07-01",39,25,0,14,30727,22365,"*",8362,74,8,342,"*",6,332,"*",null,null,null,12,47,0,47,12,47,null,null,69,290,null,null,null,null,null,null,"Region Sjælland"]
[null,"Solrød",5469,"2019-07-01",9,"*","*","*",3047,"*","*","*",11,5,49,"*","*","*","*",null,null,null,0,8,0,8,0,8,null,null,15,55,null,null,null,null,null,null,"Region Sjælland"]
[null,"Gribskov",7646,"2019-07-01",23,19,0,4,22570,"*","*","*",20,8,265,4,"*",256,"*",null,null,null,4,26,0,26,4,26,7,221,37,228,null,null,null,null,null,null,"Region Hovedstaden"]
[null,"Odsherred",5341,"2019-07-01",28,20,"*","*",21449,16467,"*","*",45,11,199,"*","*",189,"*",null,null,null,null,23,0,23,null,23,null,null,43,202,null,null,null,null,null,null,"Region Sjælland"]
[null,"Holbæk",14633,"2019-07-01",43,"*","*",34,40147,"*","*",31398,92,12,275,"*","*",269,"*",null,null,null,10,50,null,50,null,50,null,null,64,278,null,null,null,null,null,null,"Region Sjælland"]
[null,"Faxe",7068,"2019-07-01",41,15,0,26,21640,4041,"*",17599,47,15,240,"*",3,233,"*",null,null,null,null,31,null,31,null,31,12,228,47,231,null,null,null,null,null,null,"Region Sjælland"]
[null,"Kalundborg",9236,"2019-07-01",61,"*","*",36,44361,"*","*",17841,79,12,156,0,3,150,3,null,null,null,11,57,0,57,11,57,null,null,57,175,null,null,null,null,null,null,"Region Sjælland"]
[null,"Ringsted",7190,"2019-07-01",42,"*","*",27,18712,"*","*",9421,33,7,120,"*","*","*","*",null,null,null,9,40,0,40,9,40,null,null,61,139,null,null,null,null,null,null,"Region Sjælland"]
[null,"Slagelse",14928,"2019-07-01",70,"*","*",50,43879,"*","*",25364,131,12,341,"*","*",335,"*",null,null,null,9,62,0,62,9,62,12,318,104,327,null,null,null,null,null,null,"Region Sjælland"]
[null,"Stevns",4279,"2019-07-01",20,11,0,9,17394,9344,"*",8050,25,6,125,0,3,122,0,null,null,null,0,16,0,16,0,16,null,null,38,133,null,null,null,null,null,null,"Region Sjælland"]
[null,"Sorø",6229,"2019-07-01",10,7,"*","*",8003,6744,"*","*",32,9,284,0,3,281,0,null,null,null,null,11,0,11,null,11,null,null,63,258,null,null,null,null,null,null,"Region Sjælland"]
[null,"Lejre",6110,"2019-07-01",13,6,0,7,6099,5050,"*",1049,19,"*",105,"*","*","*","*",null,null,null,null,11,0,11,null,11,3,71,11,74,null,null,null,null,null,null,"Region Sjælland"]
[null,"Lolland",6625,"2019-07-01",34,"*","*",22,25880,"*","*",14953,166,17,251,"*",6,239,"*",null,null,null,4,34,null,34,null,34,null,null,92,236,null,null,null,null,null,null,"Region Sjælland"]
[null,"Næstved",16234,"2019-07-01",90,"*","*",48,77185,"*","*",42129,80,7,313,3,10,297,3,null,null,null,12,93,null,93,null,93,null,null,50,257,null,null,null,null,null,null,"Region Sjælland"]
[null,"Guldborgsund",10472,"2019-07-01",82,"*","*",50,51653,"*","*",33448,136,8,293,"*",5,283,"*",null,null,null,9,79,null,79,null,79,null,null,79,294,null,null,null,null,null,null,"Region Sjælland"]
[null,"Vordingborg",8028,"2019-07-01",62,11,0,51,44386,11212,"*",33174,100,7,92,"*",3,86,"*",null,null,null,5,59,0,59,5,59,null,null,22,60,null,null,null,null,null,null,"Region Sjælland"]
[null,"Bornholm",6593,"2019-07-01",28,14,0,14,14292,9613,"*",4679,67,4,158,"*","*",154,"*",null,null,null,8,31,0,31,8,31,null,null,29,172,null,null,null,null,null,null,"Region Hovedstaden"]
[null,"Middelfart",7882,"2019-07-01",17,11,0,6,7469,5029,"*",2440,46,3,177,"*","*","*","*",null,null,null,5,18,null,18,null,18,null,null,62,166,null,null,null,null,null,null,"Region Syddanmark"]
[null,"Assens",8287,"2019-07-01",22,"*","*",11,19099,"*","*",12789,96,7,181,"*","*","*","*",null,null,null,null,14,0,14,null,14,5,154,32,154,null,null,null,null,null,null,"Region Syddanmark"]
[null,"Faaborg-Midtfyn",10369,"2019-07-01",37,"*","*",21,29159,"*","*",15290,87,12,213,0,5,208,0,null,null,null,5,30,null,30,null,30,null,null,54,164,null,null,null,null,null,null,"Region Syddanmark"]
[null,"Kerteminde",4602,"2019-07-01",13,10,0,3,13209,"*","*","*",23,10,88,"*","*","*","*",null,null,null,3,15,0,15,3,15,null,null,11,61,null,null,null,null,null,null,"Region Syddanmark"]
[null,"Nyborg",6256,"2019-07-01",23,15,"*","*",14930,9102,"*","*",55,6,96,"*","*","*","*",null,null,null,4,26,null,26,null,26,null,null,42,110,null,null,null,null,null,null,"Region Syddanmark"]
[null,"Odense",37874,"2019-07-01",160,84,4,72,136066,69575,"*","*",243,29,1121,3,9,1106,3,null,null,null,34,158,null,158,null,158,null,null,131,608,null,null,null,null,null,null,"Region Syddanmark"]
[null,"Svendborg",11201,"2019-07-01",44,29,0,15,25860,14742,"*",11118,99,6,248,"*","*",241,"*",null,null,null,11,44,null,44,null,44,16,295,110,299,null,null,null,null,null,null,"Region Syddanmark"]
[null,"Nordfyns",5870,"2019-07-01",19,11,0,8,13472,8663,"*",4809,29,"*",128,"*","*",121,"*",null,null,null,3,15,null,15,null,15,8,105,35,109,null,null,null,null,null,null,"Region Syddanmark"]
[null,"Langeland",1747,"2019-07-01",15,"*","*","*",12986,"*","*","*",35,4,61,0,0,61,0,null,null,null,3,15,null,15,null,15,null,null,24,67,null,null,null,null,null,null,"Region Syddanmark"]
[null,"Ærø",824,"2019-07-01",3,"*",0,"*","*","*","*","*","*","*",10,0,0,10,0,null,null,null,null,null,null,null,null,null,null,null,5,15,null,null,null,null,null,null,"Region Syddanmark"]
[null,"Haderslev",10976,"2019-07-01",31,"*","*",21,20091,"*","*",12364,150,20,182,"*","*",172,"*",null,null,null,7,30,0,30,7,30,null,null,93,223,null,null,null,null,null,null,"Region Syddanmark"]
[null,"Billund",5639,"2019-07-01",21,"*","*",11,6720,"*","*",3690,46,8,160,"*","*","*","*",null,null,null,4,21,0,21,4,21,5,157,36,157,null,null,null,null,null,null,"Region Syddanmark"]
[null,"Sønderborg",14226,"2019-07-01",26,13,0,13,21475,15720,"*",5755,97,7,326,"*","*",320,"*",null,null,null,5,28,0,28,5,28,null,null,52,321,null,null,null,null,null,null,"Region Syddanmark"]
[null,"Tønder",7155,"2019-07-01",11,"*","*","*",5747,"*","*","*",96,9,232,"*","*","*","*",null,null,null,7,17,null,17,null,17,null,null,43,235,null,null,null,null,null,null,"Region Syddanmark"]
[null,"Esbjerg",22855,"2019-07-01",140,74,"*","*",123693,71557,"*","*",121,23,570,"*","*",564,"*",null,null,null,11,129,null,129,null,129,null,null,447,952,null,null,null,null,null,null,"Region Syddanmark"]
[null,"Fanø",629,"2019-07-01","*","*",0,0,"*","*","*","*",3,0,7,0,3,4,0,null,null,null,null,null,null,null,null,null,null,null,null,6,null,null,null,null,null,null,"Region Syddanmark"]
[null,"Varde",10300,"2019-07-01",12,3,0,9,9335,"*","*","*",66,17,457,0,0,457,0,null,null,null,3,13,0,13,3,13,5,442,118,442,null,null,null,null,null,null,"Region Syddanmark"]
[null,"Vejen",9134,"2019-07-01",23,5,0,18,19969,9947,"*",10022,70,8,109,"*","*","*","*",null,null,null,4,23,0,23,4,23,null,null,34,130,null,null,null,null,null,null,"Region Syddanmark"]
[null,"Aabenraa",11685,"2019-07-01",29,25,"*","*",22208,21330,"*","*",111,4,322,"*","*",318,"*",null,null,null,10,30,0,30,10,30,15,323,74,326,null,null,null,null,null,null,"Region Syddanmark"]
[null,"Fredericia",10413,"2019-07-01",16,5,0,11,7565,3151,"*",4414,75,11,264,0,4,260,0,null,null,null,3,15,0,15,3,15,null,null,101,282,null,null,null,null,null,null,"Region Syddanmark"]
[null,"Horsens",19337,"2019-07-01",54,10,0,44,29550,15850,"*",13700,120,17,455,"*","*",449,"*",null,null,null,13,52,0,52,13,52,12,438,102,441,null,null,null,null,null,null,"Region Midtjylland"]
[null,"Kolding",19861,"2019-07-01",25,16,"*","*",18624,11688,"*","*",112,14,315,0,0,315,0,null,null,null,8,31,null,31,null,31,null,null,92,307,null,null,null,null,null,null,"Region Syddanmark"]
[null,"Vejle",24934,"2019-07-01",46,34,"*","*",22122,17937,"*","*",169,23,409,"*","*",398,7,null,null,null,14,45,3,45,11,45,18,543,269,547,null,null,null,null,null,null,"Region Syddanmark"]
[null,"Herning",18894,"2019-07-01",19,14,0,5,15254,14460,"*",794,124,12,294,"*","*",290,"*",null,null,null,4,16,0,16,4,16,8,284,89,288,null,null,null,null,null,null,"Region Midtjylland"]
[null,"Holstebro",12536,"2019-07-01",27,18,"*","*",27833,22076,"*","*",87,15,279,"*","*",246,"*",null,null,null,8,28,3,28,5,28,null,null,89,286,null,null,null,null,null,null,"Region Midtjylland"]
[null,"Lemvig",3631,"2019-07-01",6,3,0,3,14663,"*","*","*",32,3,81,0,"*",78,"*",null,null,null,3,9,null,9,null,9,null,null,4,34,null,null,null,null,null,null,"Region Midtjylland"]
[null,"Struer",4039,"2019-07-01",8,4,0,4,4261,"*","*","*",43,3,110,0,0,110,0,null,null,null,3,10,0,10,3,10,3,107,26,107,null,null,null,null,null,null,"Region Midtjylland"]
[null,"Syddjurs",8408,"2019-07-01",13,"*","*",9,5345,"*","*",2976,61,8,320,"*","*","*","*",null,null,null,0,11,0,11,0,11,null,null,71,314,null,null,null,null,null,null,"Region Midtjylland"]
[null,"Norddjurs",6574,"2019-07-01",38,27,"*","*",32719,23172,"*","*",80,9,241,"*","*",237,"*",null,null,null,13,41,null,41,null,41,null,null,82,253,null,null,null,null,null,null,"Region Midtjylland"]
[null,"Favrskov",11602,"2019-07-01",33,25,"*","*",17331,12135,"*","*",62,"*",138,0,"*",135,"*",null,null,null,null,33,null,33,null,33,null,null,18,120,null,null,null,null,null,null,"Region Midtjylland"]
[null,"Odder",4811,"2019-07-01",13,4,0,9,7346,"*","*","*",13,7,98,0,0,98,0,null,null,null,null,9,0,9,null,9,3,133,58,133,null,null,null,null,null,null,"Region Midtjylland"]
[null,"Randers",19599,"2019-07-01",30,16,3,11,21975,13549,"*","*",140,17,375,6,"*",362,"*",null,null,null,3,25,0,25,3,25,12,383,102,388,null,null,null,null,null,null,"Region Midtjylland"]
[null,"Silkeborg",20693,"2019-07-01",20,13,0,7,23198,19442,"*",3756,97,8,477,"*","*",472,"*",null,null,null,3,21,0,21,3,21,null,null,124,473,null,null,null,null,null,null,"Region Midtjylland"]
[null,"Samsø",541,"2019-07-01","*",0,0,"*","*","*","*","*",7,"*",12,"*","*","*","*",null,null,null,null,null,null,null,null,null,null,null,5,13,null,null,null,null,null,null,"Region Midtjylland"]
[null,"Skanderborg",15584,"2019-07-01",18,6,0,12,14476,4940,"*",9536,48,7,180,"*","*","*","*",null,null,null,4,18,0,18,4,18,null,null,48,193,null,null,null,null,null,null,"Region Midtjylland"]
[null,"Aarhus",63704,"2019-07-01",178,127,9,42,173246,136572,2514,34160,234,24,1297,0,5,1278,14,null,null,null,25,174,0,174,25,174,24,1293,376,1303,null,null,null,null,null,null,"Region Midtjylland"]
[null,"Ikast-Brande",9024,"2019-07-01",10,7,0,3,7802,"*","*","*",57,15,143,"*","*","*","*",null,null,null,5,15,null,15,null,15,3,189,46,192,null,null,null,null,null,null,"Region Midtjylland"]
[null,"Ringkøbing-Skjern",12031,"2019-07-01",36,20,"*","*",35731,30780,"*","*",98,7,213,"*","*","*","*",null,null,null,7,37,null,37,null,37,null,null,141,289,null,null,null,null,null,null,"Region Midtjylland"]
[null,"Hedensted",10260,"2019-07-01",44,11,0,33,33756,12669,"*",21087,24,3,247,"*","*",239,"*",null,null,null,13,48,null,48,null,48,null,null,58,247,null,null,null,null,null,null,"Region Midtjylland"]
[null,"Morsø",3813,"2019-07-01",5,"*","*","*",2199,"*","*","*",43,4,82,"*","*","*","*",null,null,null,4,8,null,8,null,8,5,79,17,79,null,null,null,null,null,null,"Region Nordjylland"]
[null,"Skive",8842,"2019-07-01",21,11,"*","*",24512,18395,"*","*",57,13,148,"*","*",144,"*",null,null,null,null,19,0,19,null,19,null,null,78,197,null,null,null,null,null,null,"Region Midtjylland"]
[null,"Thisted",8685,"2019-07-01",25,18,0,7,21549,17957,"*",3592,66,8,213,"*",5,205,"*",null,null,null,4,27,null,27,null,27,null,null,54,208,null,null,null,null,null,null,"Region Nordjylland"]
[null,"Viborg",21013,"2019-07-01",33,24,3,6,44301,37995,"*","*",140,16,258,"*",6,248,"*",null,null,null,5,31,0,31,5,31,15,356,215,364,null,null,null,null,null,null,"Region Midtjylland"]
[null,"Brønderslev",7857,"2019-07-01",20,5,0,15,21384,3574,"*",17810,112,7,170,"*","*","*","*",null,null,null,8,27,null,27,null,27,null,null,43,163,null,null,null,null,null,null,"Region Nordjylland"]
[null,"Frederikshavn",10436,"2019-07-01",45,25,0,20,21901,12382,"*",9519,118,14,326,0,"*",323,"*",null,null,null,5,43,null,43,null,43,null,null,60,312,null,null,null,null,null,null,"Region Nordjylland"]
[null,"Vesthimmerlands",7331,"2019-07-01",31,10,0,21,20122,3692,"*",16430,75,6,196,3,3,190,0,null,null,null,5,32,0,32,5,32,6,200,65,204,null,null,null,null,null,null,"Region Nordjylland"]
[null,"Læsø",236,"2019-07-01",3,3,0,0,"*","*","*","*","*",0,4,"*","*","*","*",null,null,null,0,3,0,3,0,3,null,null,null,6,null,null,null,null,null,null,"Region Nordjylland"]
[null,"Rebild",7172,"2019-07-01",12,9,0,3,10645,"*","*","*",34,8,80,0,0,77,3,null,null,null,null,10,0,10,null,10,4,94,40,94,null,null,null,null,null,null,"Region Nordjylland"]
[null,"Mariagerfjord",8160,"2019-07-01",29,"*","*",16,35695,"*","*",17131,78,7,170,"*","*",166,0,null,null,null,8,34,null,34,null,34,7,193,65,198,null,null,null,null,null,null,"Region Nordjylland"]
[null,"Jammerbugt",7804,"2019-07-01",36,8,0,28,27805,10200,"*",17605,75,"*",199,"*","*",193,"*",null,null,null,7,36,0,36,7,36,null,null,31,199,null,null,null,null,null,null,"Region Nordjylland"]
[null,"Aalborg",39091,"2019-07-01",126,71,"*","*",105036,72255,"*","*",294,44,949,0,0,936,13,null,null,null,22,122,null,122,null,122,22,911,169,911,null,null,null,null,null,null,"Region Nordjylland"]
[null,"Hjørring",12568,"2019-07-01",37,"*","*",18,28669,"*","*",11888,146,13,231,0,0,231,0,null,null,null,6,40,null,40,null,40,null,null,68,242,null,null,null,null,null,null,"Region Nordjylland"]
[null,"København",110822,"2020-01-01",160,139,"*","*",125961,94891,"*","*",312,108,2155,15,10,2125,5,null,null,null,72,193,7,193,65,193,46,2221,628,2239,null,null,null,null,null,null,"Region Hovedstaden"]
[null,"Frederiksberg",18332,"2020-01-01",47,35,"*","*",22659,17515,"*","*",42,10,182,"*","*",179,"*",null,null,null,12,54,null,54,null,54,null,null,31,165,null,null,null,null,null,null,"Region Hovedstaden"]
[null,"Ballerup",10362,"2020-01-01",32,22,"*","*",22267,13921,"*","*",34,8,353,0,"*",350,"*",null,null,null,3,33,null,33,null,33,null,null,58,337,null,null,null,null,null,null,"Region Hovedstaden"]
[null,"Brøndby",7316,"2020-01-01",32,11,0,21,13414,3810,"*",9604,40,7,108,"*","*",102,"*",null,null,null,6,33,0,33,6,33,null,null,20,87,null,null,null,null,null,null,"Region Hovedstaden"]
[null,"Dragør",3296,"2020-01-01",7,"*","*","*",4258,"*","*","*",3,0,39,0,0,39,0,null,null,null,null,8,0,8,null,8,0,45,18,45,null,null,null,null,null,null,"Region Hovedstaden"]
[null,"Gentofte",16732,"2020-01-01",39,23,0,16,28819,19725,"*",9094,24,3,199,"*","*","*","*",null,null,null,6,40,0,40,6,40,null,null,24,175,null,null,null,null,null,null,"Region Hovedstaden"]
[null,"Gladsaxe",15422,"2020-01-01",22,11,0,11,22576,9098,"*",13478,39,14,354,"*","*","*","*",null,null,null,8,26,null,26,null,26,null,null,33,288,null,null,null,null,null,null,"Region Hovedstaden"]
[null,"Glostrup",4657,"2020-01-01",3,3,0,0,"*","*","*","*",18,7,69,0,0,69,0,null,null,null,null,5,0,5,null,5,null,null,18,61,null,null,null,null,null,null,"Region Hovedstaden"]
[null,"Herlev",6455,"2020-01-01",20,12,0,8,17259,14053,"*",3206,17,6,158,"*","*","*","*",null,null,null,5,22,0,22,5,22,null,null,39,172,null,null,null,null,null,null,"Region Hovedstaden"]
[null,"Albertslund",5965,"2020-01-01",30,19,0,11,22327,13461,"*",8866,32,4,128,0,4,120,4,null,null,null,3,28,0,28,3,28,6,98,23,102,null,null,null,null,null,null,"Region Hovedstaden"]
[null,"Hvidovre",11823,"2020-01-01",34,24,"*","*",16666,8168,"*","*",39,10,240,0,0,237,3,null,null,null,4,28,0,28,4,28,null,null,50,213,null,null,null,null,null,null,"Region Hovedstaden"]
[null,"Høje-Taastrup",10943,"2020-01-01",39,18,0,21,41255,18910,"*",22345,46,3,257,0,3,251,3,null,null,null,7,40,null,40,null,40,null,null,51,234,null,null,null,null,null,null,"Region Hovedstaden"]
[null,"Lyngby-Taarbæk",11991,"2020-01-01",24,5,0,19,11526,2108,"*",9418,21,4,152,"*","*",147,"*",null,null,null,9,28,null,28,null,28,6,130,24,135,null,null,null,null,null,null,"Region Hovedstaden"]
[null,"Rødovre",8758,"2020-01-01",19,12,"*","*",13323,6957,"*","*",35,5,168,0,4,160,4,null,null,null,6,20,null,20,null,20,6,161,31,161,null,null,null,null,null,null,"Region Hovedstaden"]
[null,"Ishøj",5090,"2020-01-01",23,4,0,19,24212,"*","*","*",24,4,145,0,0,145,0,null,null,null,4,25,0,25,4,25,0,148,27,148,null,null,null,null,null,null,"Region Hovedstaden"]
[null,"Tårnby",9568,"2020-01-01",8,"*","*","*",7330,"*","*","*",40,"*",138,"*","*",134,"*",null,null,null,5,13,null,13,null,13,null,null,23,120,null,null,null,null,null,null,"Region Hovedstaden"]
[null,"Vallensbæk",4005,"2020-01-01",5,"*","*","*",1964,"*","*","*",5,"*",38,0,0,38,0,null,null,null,0,4,0,4,0,4,null,null,10,37,null,null,null,null,null,null,"Region Hovedstaden"]
[null,"Furesø",9660,"2020-01-01",9,4,"*","*",5939,"*","*","*",29,4,206,"*","*","*","*",null,null,null,null,7,0,7,null,7,null,null,34,197,null,null,null,null,null,null,"Region Hovedstaden"]
[null,"Allerød",6156,"2020-01-01",15,6,0,9,10078,1660,"*",8418,6,"*",77,"*","*","*","*",null,null,null,3,14,null,14,null,14,0,78,22,78,null,null,null,null,null,null,"Region Hovedstaden"]
[null,"Fredensborg",8730,"2020-01-01",22,9,0,13,11234,5816,"*",5418,20,3,146,0,3,139,4,null,null,null,7,22,0,22,7,22,null,null,28,152,null,null,null,null,null,null,"Region Hovedstaden"]
[null,"Helsingør",12221,"2020-01-01",33,16,"*","*",57903,28938,"*","*",53,4,277,"*","*",264,"*",null,null,null,4,33,null,33,null,33,null,null,45,266,null,null,null,null,null,null,"Region Hovedstaden"]
[null,"Hillerød",11189,"2020-01-01",25,"*","*",19,12139,"*","*",9877,25,8,254,0,5,249,0,null,null,null,3,21,null,21,null,21,null,null,46,246,null,null,null,null,null,null,"Region Hovedstaden"]
[null,"Hørsholm",5151,"2020-01-01",13,10,0,3,8657,"*","*","*",9,"*",33,"*","*",30,"*",null,null,null,null,13,0,13,null,13,null,null,8,38,null,null,null,null,null,null,"Region Hovedstaden"]
[null,"Rudersdal",12843,"2020-01-01",27,21,"*","*",22507,18591,"*","*",43,4,152,"*","*","*","*",null,null,null,5,29,0,29,5,29,null,null,37,149,null,null,null,null,null,null,"Region Hovedstaden"]
[null,"Egedal",10265,"2020-01-01",11,5,0,6,8205,1784,"*",6421,22,3,178,0,4,170,4,null,null,null,null,10,null,10,null,10,5,157,31,160,null,null,null,null,null,null,"Region Hovedstaden"]
[null,"Frederikssund",8956,"2020-01-01",24,"*","*",17,12929,"*","*",7890,36,3,241,0,3,232,6,null,null,null,null,20,0,20,null,20,5,256,69,262,null,null,null,null,null,null,"Region Hovedstaden"]
[null,"Greve",11100,"2020-01-01",34,12,3,19,17569,"*","*",10352,38,"*",203,6,"*",194,"*",null,null,null,5,32,null,32,null,32,null,null,59,214,null,null,null,null,null,null,"Region Sjælland"]
[null,"Køge",12695,"2020-01-01",31,17,"*","*",21475,13533,"*","*",73,10,256,0,4,249,3,null,null,null,8,34,null,34,null,34,null,null,78,237,null,null,null,null,null,null,"Region Sjælland"]
[null,"Halsnæs",5595,"2020-01-01",40,26,"*","*",24191,18090,"*","*",49,3,178,"*","*",167,6,null,null,null,8,41,0,41,8,41,7,167,39,170,null,null,null,null,null,null,"Region Hovedstaden"]
[null,"Roskilde",18370,"2020-01-01",34,22,0,12,29850,21319,"*",8531,75,10,368,"*",6,356,"*",null,null,null,11,39,0,39,11,39,null,null,83,342,null,null,null,null,null,null,"Region Sjælland"]
[null,"Solrød",5527,"2020-01-01",14,"*","*","*",5260,"*","*","*",11,4,68,0,0,65,3,null,null,null,0,9,0,9,0,9,null,null,7,49,null,null,null,null,null,null,"Region Sjælland"]
[null,"Gribskov",7579,"2020-01-01",23,17,"*","*",16518,14309,"*","*",21,9,180,4,"*",171,"*",null,null,null,4,23,0,23,4,23,null,null,113,265,null,null,null,null,null,null,"Region Hovedstaden"]
[null,"Odsherred",5254,"2020-01-01",31,21,"*","*",26038,20049,"*","*",49,11,179,"*","*",173,"*",null,null,null,null,28,0,28,null,28,null,null,45,199,null,null,null,null,null,null,"Region Sjælland"]
[null,"Holbæk",14710,"2020-01-01",42,3,3,36,33555,"*","*",31347,86,12,263,"*","*",256,"*",null,null,null,10,43,null,43,null,43,null,null,88,275,null,null,null,null,null,null,"Region Sjælland"]
[null,"Faxe",7050,"2020-01-01",38,12,0,26,23197,4660,"*",18537,47,13,292,"*","*",282,5,null,null,null,11,41,null,41,null,41,null,null,34,240,null,null,null,null,null,null,"Region Sjælland"]
[null,"Kalundborg",9140,"2020-01-01",52,18,3,31,35170,"*","*",17355,83,11,170,0,3,164,3,null,null,null,17,61,null,61,null,61,8,153,39,156,null,null,null,null,null,null,"Region Sjælland"]
[null,"Ringsted",7170,"2020-01-01",39,"*","*",24,20756,"*","*",9014,29,6,124,0,4,120,0,null,null,null,9,42,null,42,null,42,null,null,39,120,null,null,null,null,null,null,"Region Sjælland"]
[null,"Slagelse",14851,"2020-01-01",70,"*","*",49,50079,"*","*",27933,127,16,368,5,4,356,3,null,null,null,11,70,null,70,null,70,null,null,104,341,null,null,null,null,null,null,"Region Sjælland"]
[null,"Stevns",4255,"2020-01-01",20,11,0,9,16667,9135,"*",7532,26,7,130,"*","*",125,"*",null,null,null,3,20,null,20,null,20,7,122,23,125,null,null,null,null,null,null,"Region Sjælland"]
[null,"Sorø",6197,"2020-01-01",8,"*","*","*",4557,"*","*","*",27,7,278,"*","*",273,"*",null,null,null,3,10,0,10,3,10,null,null,87,284,null,null,null,null,null,null,"Region Sjælland"]
[null,"Lejre",6137,"2020-01-01",18,"*","*",12,8279,"*","*",2438,19,"*",116,"*","*",111,"*",null,null,null,0,13,0,13,0,13,null,null,23,105,null,null,null,null,null,null,"Region Sjælland"]
[null,"Lolland",6557,"2020-01-01",41,"*","*",30,26983,"*","*",14934,161,20,277,"*",9,261,"*",null,null,null,6,34,0,34,6,34,null,null,61,251,null,null,null,null,null,null,"Region Sjælland"]
[null,"Næstved",16210,"2020-01-01",106,45,3,58,82391,"*","*",43271,72,6,332,"*",10,316,"*",null,null,null,5,90,null,90,null,90,19,300,48,313,null,null,null,null,null,null,"Region Sjælland"]
[null,"Guldborgsund",10371,"2020-01-01",83,"*","*",58,48594,"*","*",32633,132,11,312,6,4,299,3,null,null,null,15,82,5,82,10,82,null,null,78,293,null,null,null,null,null,null,"Region Sjælland"]
[null,"Vordingborg",7916,"2020-01-01",66,11,0,55,49755,11492,"*",38263,100,6,142,4,3,131,4,null,null,null,6,62,null,62,null,62,null,null,29,92,null,null,null,null,null,null,"Region Sjælland"]
[null,"Bornholm",6585,"2020-01-01",27,13,0,14,14472,9972,"*",4500,58,"*",161,0,"*",157,"*",null,null,null,5,28,0,28,5,28,null,null,25,158,null,null,null,null,null,null,"Region Hovedstaden"]
[null,"Middelfart",7862,"2020-01-01",15,11,0,4,6579,"*","*","*",44,3,179,0,0,179,0,null,null,null,5,17,0,17,5,17,null,null,47,177,null,null,null,null,null,null,"Region Syddanmark"]
[null,"Assens",8202,"2020-01-01",21,11,"*","*",14799,8177,"*","*",93,7,179,"*","*","*","*",null,null,null,3,22,0,22,3,22,null,null,54,181,null,null,null,null,null,null,"Region Syddanmark"]
[null,"Faaborg-Midtfyn",10288,"2020-01-01",36,16,0,20,27134,12453,"*",14681,83,10,252,"*",5,244,"*",null,null,null,6,37,0,37,6,37,8,208,33,213,null,null,null,null,null,null,"Region Syddanmark"]
[null,"Kerteminde",4575,"2020-01-01",12,9,0,3,14623,"*","*","*",26,8,89,"*","*","*","*",null,null,null,null,13,null,13,null,13,null,null,11,88,null,null,null,null,null,null,"Region Syddanmark"]
[null,"Nyborg",6249,"2020-01-01",20,16,0,4,15819,"*","*","*",53,4,124,0,0,124,0,null,null,null,5,23,0,23,5,23,null,null,20,96,null,null,null,null,null,null,"Region Syddanmark"]
[null,"Odense",37850,"2020-01-01",169,87,3,79,151357,78442,"*","*",235,29,1163,"*",15,1141,"*",null,null,null,20,160,null,160,null,160,34,1109,245,1121,null,null,null,null,null,null,"Region Syddanmark"]
[null,"Svendborg",11234,"2020-01-01",42,28,0,14,25900,17701,"*",8199,100,5,270,"*",4,262,"*",null,null,null,9,44,4,44,5,44,null,null,68,248,null,null,null,null,null,null,"Region Syddanmark"]
[null,"Nordfyns",5847,"2020-01-01",22,14,0,8,15369,9594,"*",5775,32,"*",159,"*","*",153,"*",null,null,null,4,19,0,19,4,19,null,null,27,128,null,null,null,null,null,null,"Region Syddanmark"]
[null,"Langeland",1706,"2020-01-01",17,"*","*","*",15853,"*","*","*",35,4,68,"*","*","*","*",null,null,null,0,15,0,15,0,15,0,61,10,61,null,null,null,null,null,null,"Region Syddanmark"]
[null,"Ærø",810,"2020-01-01",3,"*",0,"*","*","*","*","*","*","*",11,0,0,11,0,null,null,null,0,3,0,3,0,3,0,10,3,10,null,null,null,null,null,null,"Region Syddanmark"]
[null,"Haderslev",10902,"2020-01-01",30,"*","*",20,23386,"*","*",14154,143,20,168,"*","*",156,"*",null,null,null,5,31,null,31,null,31,null,null,85,182,null,null,null,null,null,null,"Region Syddanmark"]
[null,"Billund",5648,"2020-01-01",18,6,0,12,5617,2697,"*",2920,51,7,187,"*","*","*","*",null,null,null,8,21,null,21,null,21,null,null,34,160,null,null,null,null,null,null,"Region Syddanmark"]
[null,"Sønderborg",14157,"2020-01-01",25,15,0,10,19589,14534,"*",5055,98,5,282,"*","*",274,"*",null,null,null,8,26,null,26,null,26,null,null,98,326,null,null,null,null,null,null,"Region Syddanmark"]
[null,"Tønder",7089,"2020-01-01",18,"*","*","*",7186,"*","*","*",96,13,226,"*","*","*","*",null,null,null,0,11,0,11,0,11,null,null,50,232,null,null,null,null,null,null,"Region Syddanmark"]
[null,"Esbjerg",22831,"2020-01-01",142,77,"*","*",120849,69363,"*","*",123,21,557,0,8,549,0,null,null,null,25,140,4,140,21,140,null,null,112,570,null,null,null,null,null,null,"Region Syddanmark"]
[null,"Fanø",628,"2020-01-01","*","*",0,0,"*","*","*","*","*",0,10,0,3,7,0,null,null,null,null,null,null,null,null,null,null,null,null,7,null,null,null,null,null,null,"Region Syddanmark"]
[null,"Varde",10262,"2020-01-01",11,4,0,7,9967,"*","*","*",67,17,428,0,0,428,0,null,null,null,null,12,0,12,null,12,6,457,142,457,null,null,null,null,null,null,"Region Syddanmark"]
[null,"Vejen",9069,"2020-01-01",25,5,0,20,22490,10867,"*",11623,67,8,115,"*","*","*","*",null,null,null,null,23,0,23,null,23,null,null,46,109,null,null,null,null,null,null,"Region Syddanmark"]
[null,"Aabenraa",11677,"2020-01-01",28,24,"*","*",24261,22818,"*","*",114,4,348,"*","*",345,0,null,null,null,6,29,null,29,null,29,null,null,74,322,null,null,null,null,null,null,"Region Syddanmark"]
[null,"Fredericia",10296,"2020-01-01",14,4,0,10,7535,"*","*","*",73,10,331,0,5,326,0,null,null,null,5,16,null,16,null,16,8,260,55,264,null,null,null,null,null,null,"Region Syddanmark"]
[null,"Horsens",19386,"2020-01-01",55,12,0,43,32970,17510,"*",15460,114,17,442,0,4,433,5,null,null,null,13,54,0,54,13,54,null,null,117,455,null,null,null,null,null,null,"Region Midtjylland"]
[null,"Kolding",19793,"2020-01-01",28,15,"*","*",16584,9386,"*","*",113,13,322,0,"*",319,"*",null,null,null,5,25,0,25,5,25,11,315,92,315,null,null,null,null,null,null,"Region Syddanmark"]
[null,"Vejle",24986,"2020-01-01",47,43,"*","*",21308,19233,"*","*",171,22,406,"*","*",399,"*",null,null,null,16,46,4,46,12,46,17,405,131,409,null,null,null,null,null,null,"Region Syddanmark"]
[null,"Herning",18890,"2020-01-01",21,15,0,6,15917,14595,"*",1322,120,11,328,0,5,319,4,null,null,null,7,19,0,19,7,19,null,null,84,294,null,null,null,null,null,null,"Region Midtjylland"]
[null,"Holstebro",12567,"2020-01-01",29,21,"*","*",23118,16320,"*","*",85,14,244,"*","*",237,"*",null,null,null,4,27,0,27,4,27,null,null,96,279,null,null,null,null,null,null,"Region Midtjylland"]
[null,"Lemvig",3563,"2020-01-01",7,4,0,3,14079,"*","*","*",33,4,83,"*","*","*","*",null,null,null,null,6,null,6,0,6,null,null,20,81,null,null,null,null,null,null,"Region Midtjylland"]
[null,"Struer",3997,"2020-01-01",8,3,0,5,4350,"*","*","*",42,4,109,0,0,109,0,null,null,null,3,8,0,8,3,8,3,110,28,110,null,null,null,null,null,null,"Region Midtjylland"]
[null,"Syddjurs",8427,"2020-01-01",17,"*","*",14,6288,"*","*",3762,61,6,341,"*","*","*","*",null,null,null,3,13,0,13,3,13,null,null,49,320,null,null,null,null,null,null,"Region Midtjylland"]
[null,"Norddjurs",6452,"2020-01-01",41,30,"*","*",29753,20741,"*","*",76,8,244,"*","*",240,"*",null,null,null,6,38,0,38,6,38,null,null,41,241,null,null,null,null,null,null,"Region Midtjylland"]
[null,"Favrskov",11646,"2020-01-01",29,23,"*","*",15773,12073,"*","*",66,"*",171,"*","*",167,"*",null,null,null,7,33,null,33,null,33,null,null,20,138,null,null,null,null,null,null,"Region Midtjylland"]
[null,"Odder",4812,"2020-01-01",14,3,0,11,6270,"*","*","*",12,5,128,0,0,128,0,null,null,null,null,13,0,13,null,13,4,98,22,98,null,null,null,null,null,null,"Region Midtjylland"]
[null,"Randers",19544,"2020-01-01",35,18,"*","*",23955,14378,"*","*",135,20,371,"*","*",362,6,null,null,null,3,30,0,30,3,30,null,null,118,375,null,null,null,null,null,null,"Region Midtjylland"]
[null,"Silkeborg",20867,"2020-01-01",21,11,0,10,23707,19039,"*",4668,94,6,524,"*","*",520,"*",null,null,null,4,20,0,20,4,20,null,null,131,477,null,null,null,null,null,null,"Region Midtjylland"]
[null,"Samsø",529,"2020-01-01","*",0,0,"*","*","*","*","*",7,"*",15,"*","*","*","*",null,null,null,null,null,null,null,null,null,null,null,5,12,null,null,null,null,null,null,"Region Midtjylland"]
[null,"Skanderborg",15751,"2020-01-01",19,6,0,13,17219,5877,"*",11342,48,6,191,"*","*","*","*",null,null,null,null,18,0,18,null,18,null,null,34,180,null,null,null,null,null,null,"Region Midtjylland"]
[null,"Aarhus",63890,"2020-01-01",171,120,16,35,172055,138504,3886,29665,232,22,1303,"*","*",1280,16,null,null,null,31,178,0,178,31,178,23,1292,374,1297,null,null,null,null,null,null,"Region Midtjylland"]
[null,"Ikast-Brande",9014,"2020-01-01",14,9,0,5,8506,6054,"*",2452,54,12,124,"*","*","*","*",null,null,null,null,10,0,10,null,10,null,null,20,143,null,null,null,null,null,null,"Region Midtjylland"]
[null,"Ringkøbing-Skjern",11905,"2020-01-01",38,25,"*","*",35503,30599,"*","*",97,6,308,0,"*",304,"*",null,null,null,6,36,0,36,6,36,null,null,22,213,null,null,null,null,null,null,"Region Midtjylland"]
[null,"Hedensted",10218,"2020-01-01",36,10,0,26,31039,14423,"*",16616,23,3,212,"*","*",207,"*",null,null,null,12,44,0,44,12,44,null,null,84,247,null,null,null,null,null,null,"Region Midtjylland"]
[null,"Morsø",3811,"2020-01-01",6,3,0,3,1320,"*","*","*",43,6,100,0,0,96,4,null,null,null,null,5,0,5,null,5,null,null,12,82,null,null,null,null,null,null,"Region Nordjylland"]
[null,"Skive",8718,"2020-01-01",21,10,"*","*",18342,11213,"*","*",62,15,150,"*","*",146,"*",null,null,null,4,21,0,21,4,21,null,null,35,148,null,null,null,null,null,null,"Region Midtjylland"]
[null,"Thisted",8651,"2020-01-01",33,25,0,8,24300,19248,"*",5052,75,6,205,0,4,198,3,null,null,null,3,25,0,25,3,25,null,null,50,213,null,null,null,null,null,null,"Region Nordjylland"]
[null,"Viborg",20990,"2020-01-01",37,26,"*","*",43208,36225,"*","*",134,16,299,"*",6,289,"*",null,null,null,5,33,0,33,5,33,null,null,67,258,null,null,null,null,null,null,"Region Midtjylland"]
[null,"Brønderslev",7827,"2020-01-01",20,5,0,15,18407,2256,"*",16151,116,9,185,0,"*",182,"*",null,null,null,5,20,0,20,5,20,null,null,52,170,null,null,null,null,null,null,"Region Nordjylland"]
[null,"Frederikshavn",10435,"2020-01-01",41,23,0,18,23857,12641,"*",11216,109,13,319,"*","*",315,"*",null,null,null,10,45,3,45,7,45,null,null,87,326,null,null,null,null,null,null,"Region Nordjylland"]
[null,"Vesthimmerlands",7252,"2020-01-01",25,7,0,18,17618,2265,"*",15353,76,5,217,"*",3,211,"*",null,null,null,9,31,null,31,null,31,9,190,62,196,null,null,null,null,null,null,"Region Nordjylland"]
[null,"Læsø",224,"2020-01-01","*","*",0,"*","*","*","*","*",0,0,4,0,0,4,0,null,null,null,null,3,0,3,null,3,null,null,null,4,null,null,null,null,null,null,"Region Nordjylland"]
[null,"Rebild",7159,"2020-01-01",12,8,0,4,9977,"*","*","*",35,7,93,0,0,89,4,null,null,null,null,12,0,12,null,12,0,80,18,80,null,null,null,null,null,null,"Region Nordjylland"]
[null,"Mariagerfjord",8110,"2020-01-01",28,"*","*",14,34011,"*","*",15656,77,8,206,"*","*",202,0,null,null,null,4,29,null,29,null,29,8,166,37,170,null,null,null,null,null,null,"Region Nordjylland"]
[null,"Jammerbugt",7774,"2020-01-01",33,8,0,25,28045,10437,"*",17608,72,"*",190,"*","*","*","*",null,null,null,10,36,0,36,10,36,null,null,59,199,null,null,null,null,null,null,"Region Nordjylland"]
[null,"Aalborg",39205,"2020-01-01",142,73,6,63,105190,66882,277,38031,284,43,971,"*","*",954,13,null,null,null,22,126,null,126,null,126,26,949,238,949,null,null,null,null,null,null,"Region Nordjylland"]
[null,"Hjørring",12564,"2020-01-01",28,"*","*",15,27367,"*","*",11645,148,16,257,"*","*","*","*",null,null,null,12,37,null,37,null,37,6,231,55,231,null,null,null,null,null,null,"Region Nordjylland"]
[null,"København",111068,"2020-07-01",180,147,9,24,128612,93866,801,33945,295,108,2139,8,10,2110,11,null,null,null,31,160,3,160,28,160,49,2130,457,2155,null,null,null,null,null,null,"Region Hovedstaden"]
[null,"Frederiksberg",18385,"2020-07-01",49,36,0,13,24618,19014,"*",5604,38,8,205,"*","*",198,"*",null,null,null,8,47,null,47,null,47,null,null,39,182,null,null,null,null,null,null,"Region Hovedstaden"]
[null,"Ballerup",10453,"2020-07-01",31,21,0,10,23843,14865,"*",8978,34,10,316,0,0,313,3,null,null,null,6,32,0,32,6,32,null,null,74,353,null,null,null,null,null,null,"Region Hovedstaden"]
[null,"Brøndby",7332,"2020-07-01",34,10,0,24,13442,4023,"*",9419,41,5,106,"*","*","*","*",null,null,null,7,32,0,32,7,32,null,null,26,108,null,null,null,null,null,null,"Region Hovedstaden"]
[null,"Dragør",3306,"2020-07-01",7,"*","*","*",4885,"*","*","*",3,0,41,0,0,41,0,null,null,null,null,7,0,7,null,7,null,null,9,39,null,null,null,null,null,null,"Region Hovedstaden"]
[null,"Gentofte",16652,"2020-07-01",31,16,0,15,28660,18534,"*",10126,26,4,200,"*","*",195,"*",null,null,null,11,39,3,39,8,39,null,null,40,199,null,null,null,null,null,null,"Region Hovedstaden"]
[null,"Gladsaxe",15437,"2020-07-01",24,14,0,10,23786,10369,"*",13417,38,12,411,"*","*",405,"*",null,null,null,3,22,null,22,null,22,null,null,50,354,null,null,null,null,null,null,"Region Hovedstaden"]
[null,"Glostrup",4678,"2020-07-01",3,"*",0,"*","*","*","*","*",19,6,76,0,0,76,0,null,null,null,null,3,0,3,null,3,null,null,17,69,null,null,null,null,null,null,"Region Hovedstaden"]
[null,"Herlev",6418,"2020-07-01",21,12,"*","*",19960,15284,"*","*",16,5,159,"*","*",155,0,null,null,null,null,20,null,20,0,20,null,null,35,158,null,null,null,null,null,null,"Region Hovedstaden"]
[null,"Albertslund",5893,"2020-07-01",31,19,0,12,25210,15578,"*",9632,36,4,145,0,4,136,5,null,null,null,null,30,0,30,null,30,5,124,23,128,null,null,null,null,null,null,"Region Hovedstaden"]
[null,"Hvidovre",11836,"2020-07-01",36,21,"*","*",16881,10366,"*","*",40,10,244,"*","*",240,"*",null,null,null,6,34,0,34,6,34,6,240,54,240,null,null,null,null,null,null,"Region Hovedstaden"]
[null,"Høje-Taastrup",11005,"2020-07-01",44,23,0,21,47589,22475,"*",25114,46,5,263,"*","*",258,"*",null,null,null,null,39,0,39,null,39,8,254,47,257,null,null,null,null,null,null,"Region Hovedstaden"]
[null,"Lyngby-Taarbæk",11985,"2020-07-01",25,"*","*",19,12989,"*","*",10036,24,6,188,"*","*","*","*",null,null,null,3,24,0,24,3,24,null,null,18,152,null,null,null,null,null,null,"Region Hovedstaden"]
[null,"Rødovre",8861,"2020-07-01",23,17,"*","*",14155,7639,"*","*",31,5,182,"*","*",177,"*",null,null,null,5,19,0,19,5,19,6,164,22,168,null,null,null,null,null,null,"Region Hovedstaden"]
[null,"Ishøj",5092,"2020-07-01",20,4,0,16,21248,"*","*","*",23,4,147,0,0,147,0,null,null,null,4,23,null,23,null,23,0,145,24,145,null,null,null,null,null,null,"Region Hovedstaden"]
[null,"Tårnby",9531,"2020-07-01",10,5,0,5,7690,4248,"*",3442,36,0,148,"*","*",145,0,null,null,null,null,8,0,8,null,8,null,null,27,138,null,null,null,null,null,null,"Region Hovedstaden"]
[null,"Vallensbæk",3980,"2020-07-01",4,"*",0,"*","*","*","*","*",6,"*",54,0,0,54,0,null,null,null,null,5,0,5,null,5,0,38,9,38,null,null,null,null,null,null,"Region Hovedstaden"]
[null,"Furesø",9699,"2020-07-01",14,7,0,7,6871,2317,"*",4554,28,3,192,"*","*","*","*",null,null,null,null,9,0,9,null,9,null,null,70,206,null,null,null,null,null,null,"Region Hovedstaden"]
[null,"Allerød",6154,"2020-07-01",13,5,0,8,9034,1997,"*",7037,6,0,70,"*","*","*","*",null,null,null,3,15,0,15,3,15,null,null,19,77,null,null,null,null,null,null,"Region Hovedstaden"]
[null,"Fredensborg",8720,"2020-07-01",19,7,0,12,6991,4110,"*",2881,19,4,139,0,"*",135,"*",null,null,null,6,22,null,22,null,22,4,143,30,146,null,null,null,null,null,null,"Region Hovedstaden"]
[null,"Helsingør",12235,"2020-07-01",31,16,"*","*",54552,24718,"*","*",49,5,262,"*","*",250,9,null,null,null,4,33,0,33,4,33,null,null,46,277,null,null,null,null,null,null,"Region Hovedstaden"]
[null,"Hillerød",11152,"2020-07-01",30,"*","*",20,16073,"*","*",12406,25,8,240,0,6,231,3,null,null,null,4,25,null,25,null,25,14,249,41,254,null,null,null,null,null,null,"Region Hovedstaden"]
[null,"Hørsholm",5105,"2020-07-01",12,"*","*","*",10095,"*","*","*",9,"*",37,"*","*","*","*",null,null,null,3,13,0,13,3,13,null,null,null,33,null,null,null,null,null,null,"Region Hovedstaden"]
[null,"Rudersdal",12775,"2020-07-01",21,17,"*","*",20872,17972,"*","*",41,4,164,0,0,161,3,null,null,null,7,27,0,27,7,27,null,null,28,152,null,null,null,null,null,null,"Region Hovedstaden"]
[null,"Egedal",10252,"2020-07-01",13,6,0,7,10083,2420,"*",7663,23,3,186,0,3,179,4,null,null,null,null,11,0,11,null,11,5,174,41,178,null,null,null,null,null,null,"Region Hovedstaden"]
[null,"Frederikssund",8921,"2020-07-01",18,"*","*",11,13535,"*","*",7440,37,3,241,"*",4,232,"*",null,null,null,6,24,null,24,null,24,8,238,56,241,null,null,null,null,null,null,"Region Hovedstaden"]
[null,"Greve",11068,"2020-07-01",34,"*","*",22,20990,"*","*",12594,38,"*",208,"*","*",202,"*",null,null,null,4,34,0,34,4,34,null,null,43,203,null,null,null,null,null,null,"Region Sjælland"]
[null,"Køge",12696,"2020-07-01",30,15,0,15,23793,14875,"*",8918,69,11,258,"*",5,250,"*",null,null,null,6,31,0,31,6,31,11,252,57,256,null,null,null,null,null,null,"Region Sjælland"]
[null,"Halsnæs",5614,"2020-07-01",41,27,"*","*",27217,19724,"*","*",53,"*",195,0,4,186,5,null,null,null,7,40,0,40,7,40,10,173,29,178,null,null,null,null,null,null,"Region Hovedstaden"]
[null,"Roskilde",18439,"2020-07-01",30,20,0,10,25514,18628,"*",6886,77,11,410,"*","*",404,"*",null,null,null,12,34,null,34,null,34,null,null,71,368,null,null,null,null,null,null,"Region Sjælland"]
[null,"Solrød",5536,"2020-07-01",18,"*","*","*",7362,"*","*","*",10,4,66,"*","*",62,"*",null,null,null,null,14,0,14,null,14,null,null,15,68,null,null,null,null,null,null,"Region Sjælland"]
[null,"Gribskov",7532,"2020-07-01",27,16,"*","*",18154,15993,"*","*",23,9,198,0,"*",195,"*",null,null,null,null,23,0,23,null,23,null,null,46,180,null,null,null,null,null,null,"Region Hovedstaden"]
[null,"Odsherred",5169,"2020-07-01",30,20,"*","*",25486,17677,"*","*",51,12,146,"*","*","*","*",null,null,null,3,31,null,31,null,31,null,null,52,179,null,null,null,null,null,null,"Region Sjælland"]
[null,"Holbæk",14568,"2020-07-01",41,4,0,37,39247,"*","*","*",80,10,284,"*","*",280,"*",null,null,null,6,42,0,42,6,42,null,null,59,263,null,null,null,null,null,null,"Region Sjælland"]
[null,"Faxe",6981,"2020-07-01",40,10,0,30,23749,4137,"*",19612,48,12,262,"*","*",256,"*",null,null,null,6,38,null,38,null,38,6,287,78,292,null,null,null,null,null,null,"Region Sjælland"]
[null,"Kalundborg",9073,"2020-07-01",45,15,0,30,37423,17762,"*",19661,84,10,177,"*","*",168,"*",null,null,null,12,52,3,52,9,52,9,167,46,170,null,null,null,null,null,null,"Region Sjælland"]
[null,"Ringsted",7154,"2020-07-01",39,14,0,25,24331,11961,"*",12370,24,7,106,0,3,103,0,null,null,null,4,39,0,39,4,39,3,120,43,124,null,null,null,null,null,null,"Region Sjælland"]
[null,"Slagelse",14825,"2020-07-01",73,"*","*",54,57575,"*","*",33751,124,14,434,"*","*",421,7,null,null,null,9,70,0,70,9,70,15,359,66,368,null,null,null,null,null,null,"Region Sjælland"]
[null,"Stevns",4247,"2020-07-01",16,9,0,7,17247,9173,"*",8074,24,6,88,"*","*",82,"*",null,null,null,6,20,0,20,6,20,null,null,72,130,null,null,null,null,null,null,"Region Sjælland"]
[null,"Sorø",6147,"2020-07-01",10,"*","*","*",5683,"*","*","*",25,9,200,"*",4,192,"*",null,null,null,null,8,null,8,null,8,null,null,80,278,null,null,null,null,null,null,"Region Sjælland"]
[null,"Lejre",6175,"2020-07-01",14,"*","*",9,9757,"*","*",3448,23,3,107,"*","*",104,0,null,null,null,4,18,null,18,null,18,null,null,30,116,null,null,null,null,null,null,"Region Sjælland"]
[null,"Lolland",6443,"2020-07-01",45,"*","*",32,28423,"*","*",15207,156,18,277,"*","*",266,"*",null,null,null,3,41,0,41,3,41,null,null,64,277,null,null,null,null,null,null,"Region Sjælland"]
[null,"Næstved",16092,"2020-07-01",103,44,3,56,83606,"*","*",44745,67,6,358,"*",7,343,"*",null,null,null,13,106,0,106,13,106,null,null,50,332,null,null,null,null,null,null,"Region Sjælland"]
[null,"Guldborgsund",10257,"2020-07-01",84,"*","*",57,55275,"*","*",35130,133,12,347,"*",3,340,"*",null,null,null,9,83,0,83,9,83,10,302,52,312,null,null,null,null,null,null,"Region Sjælland"]
[null,"Vordingborg",7819,"2020-07-01",69,11,0,58,51052,9194,"*",41858,98,7,180,5,5,166,4,null,null,null,8,66,0,66,8,66,8,135,31,142,null,null,null,null,null,null,"Region Sjælland"]
[null,"Bornholm",6557,"2020-07-01",29,14,0,15,17384,12045,"*",5339,57,"*",156,0,"*",153,"*",null,null,null,3,27,0,27,3,27,null,null,26,161,null,null,null,null,null,null,"Region Hovedstaden"]
[null,"Middelfart",7864,"2020-07-01",15,10,0,5,9125,6069,"*",3056,45,3,180,0,0,180,0,null,null,null,null,15,0,15,null,15,4,179,42,179,null,null,null,null,null,null,"Region Syddanmark"]
[null,"Assens",8124,"2020-07-01",24,12,"*","*",17763,9737,"*","*",86,6,168,"*","*","*","*",null,null,null,null,21,0,21,null,21,null,null,46,179,null,null,null,null,null,null,"Region Syddanmark"]
[null,"Faaborg-Midtfyn",10261,"2020-07-01",37,15,0,22,27832,10240,"*",17592,84,13,229,"*","*",221,"*",null,null,null,7,36,3,36,4,36,null,null,76,252,null,null,null,null,null,null,"Region Syddanmark"]
[null,"Kerteminde",4522,"2020-07-01",14,10,0,4,16214,"*","*","*",24,8,107,"*","*",102,"*",null,null,null,null,12,null,12,0,12,null,null,24,89,null,null,null,null,null,null,"Region Syddanmark"]
[null,"Nyborg",6186,"2020-07-01",19,15,0,4,17151,"*","*","*",56,"*",108,"*","*","*","*",null,null,null,null,20,0,20,null,20,null,null,43,124,null,null,null,null,null,null,"Region Syddanmark"]
[null,"Odense",37914,"2020-07-01",167,84,5,78,139457,71763,439,67255,234,26,1221,"*",18,1190,"*",null,null,null,26,169,3,169,23,169,null,null,240,1163,null,null,null,null,null,null,"Region Syddanmark"]
[null,"Svendborg",11146,"2020-07-01",41,26,0,15,27841,18495,"*",9346,103,3,264,0,3,258,3,null,null,null,5,42,null,42,null,42,null,null,67,270,null,null,null,null,null,null,"Region Syddanmark"]
[null,"Nordfyns",5789,"2020-07-01",29,15,"*","*",18120,10781,"*","*",36,3,171,"*","*",161,"*",null,null,null,null,22,0,22,null,22,null,null,38,159,null,null,null,null,null,null,"Region Syddanmark"]
[null,"Langeland",1670,"2020-07-01",13,"*","*","*",9385,"*","*","*",37,"*",60,0,0,60,0,null,null,null,7,17,null,17,null,17,null,null,23,68,null,null,null,null,null,null,"Region Syddanmark"]
[null,"Ærø",808,"2020-07-01",6,"*","*","*",1732,"*","*","*","*","*",6,0,0,6,0,null,null,null,0,3,0,3,0,3,null,null,6,11,null,null,null,null,null,null,"Region Syddanmark"]
[null,"Haderslev",10850,"2020-07-01",26,5,3,18,18777,"*","*",14413,138,21,161,"*","*",156,"*",null,null,null,9,30,null,30,null,30,null,null,70,168,null,null,null,null,null,null,"Region Syddanmark"]
[null,"Billund",5570,"2020-07-01",19,8,0,11,6860,4053,"*",2807,54,7,173,"*","*",168,"*",null,null,null,4,18,0,18,4,18,null,null,52,187,null,null,null,null,null,null,"Region Syddanmark"]
[null,"Sønderborg",13965,"2020-07-01",27,19,0,8,18532,14465,"*",4067,94,5,293,"*","*",287,"*",null,null,null,4,25,0,25,4,25,null,null,50,282,null,null,null,null,null,null,"Region Syddanmark"]
[null,"Tønder",6939,"2020-07-01",21,"*","*","*",10148,"*","*","*",104,12,251,3,0,248,0,null,null,null,null,18,0,18,null,18,null,null,48,226,null,null,null,null,null,null,"Region Syddanmark"]
[null,"Esbjerg",22786,"2020-07-01",154,82,"*","*",125562,70021,"*","*",120,25,585,"*",6,574,"*",null,null,null,17,142,0,142,17,142,27,549,103,557,null,null,null,null,null,null,"Region Syddanmark"]
[null,"Fanø",626,"2020-07-01","*","*",0,0,"*","*","*","*","*",0,5,"*","*","*","*",null,null,null,null,null,null,null,null,null,null,null,6,10,null,null,null,null,null,null,"Region Syddanmark"]
[null,"Varde",10135,"2020-07-01",13,5,0,8,10763,7573,"*",3190,67,19,442,0,0,442,0,null,null,null,null,11,0,11,null,11,4,428,116,428,null,null,null,null,null,null,"Region Syddanmark"]
[null,"Vejen",9016,"2020-07-01",29,6,0,23,24202,9908,"*",14294,64,8,163,"*","*","*","*",null,null,null,3,25,0,25,3,25,null,null,26,115,null,null,null,null,null,null,"Region Syddanmark"]
[null,"Aabenraa",11533,"2020-07-01",28,24,"*","*",24256,23342,"*","*",118,5,332,"*","*","*","*",null,null,null,7,28,0,28,7,28,16,345,71,348,null,null,null,null,null,null,"Region Syddanmark"]
[null,"Fredericia",10199,"2020-07-01",16,"*","*",9,9073,"*","*",4413,76,13,335,"*","*",330,"*",null,null,null,null,14,0,14,null,14,11,326,97,331,null,null,null,null,null,null,"Region Syddanmark"]
[null,"Horsens",19427,"2020-07-01",68,11,0,57,36650,16476,"*",20174,114,22,382,0,9,369,4,null,null,null,6,55,0,55,6,55,21,438,155,442,null,null,null,null,null,null,"Region Midtjylland"]
[null,"Kolding",19724,"2020-07-01",32,13,5,14,17398,7823,844,8731,115,15,350,0,"*",347,"*",null,null,null,5,28,null,28,null,28,null,null,82,322,null,null,null,null,null,null,"Region Syddanmark"]
[null,"Vejle",24950,"2020-07-01",48,43,"*","*",24674,23457,"*","*",176,23,429,"*","*",421,"*",null,null,null,12,47,3,47,9,47,null,null,92,406,null,null,null,null,null,null,"Region Syddanmark"]
[null,"Herning",18936,"2020-07-01",22,14,0,8,17823,15494,"*",2329,113,12,294,"*","*",284,6,null,null,null,4,21,0,21,4,21,9,323,115,328,null,null,null,null,null,null,"Region Midtjylland"]
[null,"Holstebro",12522,"2020-07-01",30,21,"*","*",25272,17785,"*","*",87,14,239,"*","*",233,"*",null,null,null,5,29,null,29,null,29,null,null,72,244,null,null,null,null,null,null,"Region Midtjylland"]
[null,"Lemvig",3517,"2020-07-01",7,4,0,3,15192,"*","*","*",30,6,78,"*","*","*","*",null,null,null,null,7,0,7,null,7,null,null,13,83,null,null,null,null,null,null,"Region Midtjylland"]
[null,"Struer",3939,"2020-07-01",7,"*","*",4,868,"*","*","*",43,4,120,"*","*","*","*",null,null,null,3,8,0,8,3,8,null,null,15,109,null,null,null,null,null,null,"Region Midtjylland"]
[null,"Syddjurs",8429,"2020-07-01",15,"*","*",12,8733,"*","*",5661,60,8,338,"*","*","*","*",null,null,null,null,17,0,17,null,17,null,null,55,341,null,null,null,null,null,null,"Region Midtjylland"]
[null,"Norddjurs",6387,"2020-07-01",36,28,"*","*",27798,19774,"*","*",76,9,188,"*","*",183,"*",null,null,null,7,41,0,41,7,41,null,null,85,244,null,null,null,null,null,null,"Region Midtjylland"]
[null,"Favrskov",11625,"2020-07-01",35,27,"*","*",18098,13407,"*","*",66,4,169,"*","*",164,"*",null,null,null,3,29,0,29,3,29,null,null,37,171,null,null,null,null,null,null,"Region Midtjylland"]
[null,"Odder",4810,"2020-07-01",11,"*","*","*",6965,"*","*","*",11,5,116,0,0,116,0,null,null,null,3,14,0,14,3,14,null,null,33,128,null,null,null,null,null,null,"Region Midtjylland"]
[null,"Randers",19497,"2020-07-01",35,17,"*","*",21720,12407,"*","*",132,22,366,"*","*",357,6,null,null,null,8,35,null,35,null,35,9,368,100,371,null,null,null,null,null,null,"Region Midtjylland"]
[null,"Silkeborg",20941,"2020-07-01",18,11,0,7,19496,17401,"*",2095,90,6,559,"*","*","*","*",null,null,null,5,21,null,21,null,21,null,null,136,524,null,null,null,null,null,null,"Region Midtjylland"]
[null,"Samsø",530,"2020-07-01","*","*",0,0,"*","*","*","*",7,"*",9,0,0,9,0,null,null,null,null,null,null,null,null,null,null,null,7,15,null,null,null,null,null,null,"Region Midtjylland"]
[null,"Skanderborg",15841,"2020-07-01",18,"*","*",12,13438,"*","*",7075,46,6,182,"*","*","*","*",null,null,null,5,19,0,19,5,19,null,null,47,191,null,null,null,null,null,null,"Region Midtjylland"]
[null,"Aarhus",64128,"2020-07-01",173,127,11,35,165391,139069,1688,24634,233,24,1270,"*","*",1251,15,null,null,null,46,171,4,171,42,171,38,1296,318,1303,null,null,null,null,null,null,"Region Midtjylland"]
[null,"Ikast-Brande",8947,"2020-07-01",15,10,0,5,8228,4897,"*",3331,54,12,118,"*","*","*","*",null,null,null,null,14,0,14,null,14,null,null,7,124,null,null,null,null,null,null,"Region Midtjylland"]
[null,"Ringkøbing-Skjern",11699,"2020-07-01",33,19,"*","*",32963,27029,"*","*",90,6,290,"*","*","*","*",null,null,null,9,38,0,38,9,38,null,null,70,308,null,null,null,null,null,null,"Region Midtjylland"]
[null,"Hedensted",10067,"2020-07-01",33,8,0,25,31426,11536,"*",19890,23,3,186,0,0,182,4,null,null,null,6,36,0,36,6,36,null,null,61,212,null,null,null,null,null,null,"Region Midtjylland"]
[null,"Morsø",3764,"2020-07-01",5,"*","*","*",1701,"*","*","*",44,6,110,"*",0,107,"*",null,null,null,null,6,0,6,null,6,null,null,15,100,null,null,null,null,null,null,"Region Nordjylland"]
[null,"Skive",8599,"2020-07-01",19,"*","*",10,14731,"*","*",5909,60,13,126,"*",3,119,"*",null,null,null,5,21,0,21,5,21,null,null,64,150,null,null,null,null,null,null,"Region Midtjylland"]
[null,"Thisted",8581,"2020-07-01",31,23,0,8,24946,19881,"*",5065,75,6,178,0,3,171,4,null,null,null,4,33,0,33,4,33,9,201,67,205,null,null,null,null,null,null,"Region Nordjylland"]
[null,"Viborg",20778,"2020-07-01",38,24,"*","*",47385,38660,"*","*",141,13,299,6,3,284,6,null,null,null,6,37,null,37,null,37,null,null,109,299,null,null,null,null,null,null,"Region Midtjylland"]
[null,"Brønderslev",7769,"2020-07-01",22,6,0,16,19014,2091,"*",16923,116,9,171,"*","*","*","*",null,null,null,3,20,0,20,3,20,null,null,43,185,null,null,null,null,null,null,"Region Nordjylland"]
[null,"Frederikshavn",10320,"2020-07-01",42,23,0,19,24599,14060,"*",10539,113,13,297,0,"*",294,"*",null,null,null,8,41,null,41,null,41,null,null,82,319,null,null,null,null,null,null,"Region Nordjylland"]
[null,"Vesthimmerlands",7189,"2020-07-01",29,"*","*",19,19022,"*","*",15882,77,4,214,"*","*",209,"*",null,null,null,3,25,0,25,3,25,null,null,51,217,null,null,null,null,null,null,"Region Nordjylland"]
[null,"Læsø",226,"2020-07-01","*","*",0,0,"*","*","*","*",0,0,3,0,0,3,0,null,null,null,null,null,null,null,null,null,0,4,null,4,null,null,null,null,null,null,"Region Nordjylland"]
[null,"Rebild",7247,"2020-07-01",16,9,0,7,12766,10004,"*",2762,33,6,90,0,0,86,4,null,null,null,0,12,0,12,0,12,null,null,23,93,null,null,null,null,null,null,"Region Nordjylland"]
[null,"Mariagerfjord",7986,"2020-07-01",32,18,0,14,31806,17451,"*",14355,80,8,198,"*","*","*","*",null,null,null,5,28,0,28,5,28,13,202,51,206,null,null,null,null,null,null,"Region Nordjylland"]
[null,"Jammerbugt",7720,"2020-07-01",29,7,0,22,23466,11545,"*",11921,70,"*",185,"*","*","*","*",null,null,null,6,33,null,33,null,33,null,null,32,190,null,null,null,null,null,null,"Region Nordjylland"]
[null,"Aalborg",39274,"2020-07-01",136,69,3,64,107336,66789,"*","*",271,44,1052,"*","*",1031,13,null,null,null,25,142,null,142,null,142,17,967,167,971,null,null,null,null,null,null,"Region Nordjylland"]
[null,"Hjørring",12438,"2020-07-01",33,"*","*",21,24213,"*","*",10215,143,21,254,"*","*","*","*",null,null,null,7,28,0,28,7,28,null,null,69,257,null,null,null,null,null,null,"Region Nordjylland"]
[null,"København",110927,"2021-01-01",201,159,17,25,128494,95550,1693,31251,288,115,2042,6,15,2007,14,null,null,null,38,180,7,180,31,180,65,2121,575,2139,null,null,null,null,null,null,"Region Hovedstaden"]
[null,"Frederiksberg",18063,"2021-01-01",48,31,4,13,22972,17129,"*","*",34,10,212,5,"*",204,"*",null,null,null,9,49,0,49,9,49,null,null,55,205,null,null,null,null,null,null,"Region Hovedstaden"]
[null,"Ballerup",10449,"2021-01-01",29,18,"*","*",22570,13207,"*","*",29,10,310,"*",0,307,"*",null,null,null,5,31,0,31,5,31,null,null,63,316,null,null,null,null,null,null,"Region Hovedstaden"]
[null,"Brøndby",7344,"2021-01-01",35,10,0,25,12768,5220,"*",7548,44,7,126,0,"*",123,"*",null,null,null,7,34,null,34,null,34,null,null,20,106,null,null,null,null,null,null,"Region Hovedstaden"]
[null,"Dragør",3325,"2021-01-01",5,"*","*","*",2961,"*","*","*",4,0,43,0,0,43,0,null,null,null,3,7,0,7,3,7,null,null,5,41,null,null,null,null,null,null,"Region Hovedstaden"]
[null,"Gentofte",16610,"2021-01-01",26,13,"*","*",26817,15132,"*","*",26,3,209,"*","*",203,3,null,null,null,6,31,0,31,6,31,null,null,36,200,null,null,null,null,null,null,"Region Hovedstaden"]
[null,"Gladsaxe",15494,"2021-01-01",26,15,0,11,22715,11258,"*",11457,36,12,438,"*","*",431,"*",null,null,null,3,24,null,24,null,24,null,null,73,411,null,null,null,null,null,null,"Region Hovedstaden"]
[null,"Glostrup",4699,"2021-01-01",4,"*",0,"*","*","*","*","*",17,6,98,0,0,98,0,null,null,null,0,3,0,3,0,3,0,76,18,76,null,null,null,null,null,null,"Region Hovedstaden"]
[null,"Herlev",6400,"2021-01-01",19,11,0,8,17859,13123,"*",4736,16,5,167,0,"*",164,"*",null,null,null,5,21,0,21,5,21,4,155,31,159,null,null,null,null,null,null,"Region Hovedstaden"]
[null,"Albertslund",5856,"2021-01-01",28,16,0,12,24015,13261,"*",10754,34,6,130,"*","*",123,"*",null,null,null,6,31,null,31,null,31,6,141,42,145,null,null,null,null,null,null,"Region Hovedstaden"]
[null,"Hvidovre",11861,"2021-01-01",41,26,"*","*",20401,12653,"*","*",43,12,235,"*","*",228,"*",null,null,null,6,36,null,36,null,36,null,null,65,244,null,null,null,null,null,null,"Region Hovedstaden"]
[null,"Høje-Taastrup",11144,"2021-01-01",43,21,0,22,48740,21657,"*",27083,47,5,261,"*","*",255,"*",null,null,null,5,44,0,44,5,44,null,null,58,263,null,null,null,null,null,null,"Region Hovedstaden"]
[null,"Lyngby-Taarbæk",12033,"2021-01-01",29,"*","*",20,16359,"*","*",12182,24,6,211,"*","*","*","*",null,null,null,null,25,null,25,null,25,null,null,30,188,null,null,null,null,null,null,"Region Hovedstaden"]
[null,"Rødovre",8917,"2021-01-01",23,15,0,8,15733,8759,"*",6974,29,5,175,0,"*",171,"*",null,null,null,4,23,0,23,4,23,null,null,43,182,null,null,null,null,null,null,"Region Hovedstaden"]
[null,"Ishøj",5084,"2021-01-01",22,4,0,18,22993,"*","*","*",22,4,144,0,0,144,0,null,null,null,3,20,0,20,3,20,null,null,37,147,null,null,null,null,null,null,"Region Hovedstaden"]
[null,"Tårnby",9560,"2021-01-01",10,6,0,4,6753,"*","*","*",35,"*",144,0,"*",141,"*",null,null,null,3,10,0,10,3,10,5,145,30,148,null,null,null,null,null,null,"Region Hovedstaden"]
[null,"Vallensbæk",3998,"2021-01-01",4,"*",0,"*","*","*","*","*",6,"*",54,0,0,54,0,null,null,null,0,4,0,4,0,4,0,54,14,54,null,null,null,null,null,null,"Region Hovedstaden"]
[null,"Furesø",9723,"2021-01-01",15,9,"*","*",7373,3191,"*","*",26,3,206,"*","*",203,"*",null,null,null,null,14,null,14,null,14,null,null,39,192,null,null,null,null,null,null,"Region Hovedstaden"]
[null,"Allerød",6223,"2021-01-01",11,3,0,8,8804,"*","*","*",8,0,81,"*","*","*","*",null,null,null,3,13,0,13,3,13,null,null,18,70,null,null,null,null,null,null,"Region Hovedstaden"]
[null,"Fredensborg",8811,"2021-01-01",22,"*","*",12,9539,"*","*",5089,20,4,137,"*",5,126,"*",null,null,null,0,19,0,19,0,19,null,null,23,139,null,null,null,null,null,null,"Region Hovedstaden"]
[null,"Helsingør",12205,"2021-01-01",32,19,"*","*",53541,24074,"*","*",46,6,251,"*","*",240,"*",null,null,null,4,31,0,31,4,31,4,259,39,262,null,null,null,null,null,null,"Region Hovedstaden"]
[null,"Hillerød",11122,"2021-01-01",35,10,0,25,17563,4961,"*",12602,23,9,226,"*","*",222,"*",null,null,null,8,30,0,30,8,30,9,234,46,240,null,null,null,null,null,null,"Region Hovedstaden"]
[null,"Hørsholm",5182,"2021-01-01",11,7,0,4,9889,"*","*","*",9,"*",34,"*","*","*","*",null,null,null,3,12,0,12,3,12,null,null,14,37,null,null,null,null,null,null,"Region Hovedstaden"]
[null,"Rudersdal",12991,"2021-01-01",13,"*","*","*",16118,"*","*","*",41,7,161,"*","*",155,"*",null,null,null,9,21,null,21,null,21,3,164,41,164,null,null,null,null,null,null,"Region Hovedstaden"]
[null,"Egedal",10322,"2021-01-01",16,8,0,8,12645,3830,"*",8815,21,3,175,"*","*",166,"*",null,null,null,null,13,null,13,null,13,5,183,49,186,null,null,null,null,null,null,"Region Hovedstaden"]
[null,"Frederikssund",8848,"2021-01-01",13,7,3,3,8177,6863,"*","*",32,3,266,"*",6,256,"*",null,null,null,8,18,null,18,null,18,null,null,53,241,null,null,null,null,null,null,"Region Hovedstaden"]
[null,"Greve",11061,"2021-01-01",36,"*","*",26,22924,"*","*",15687,42,"*",240,3,0,237,0,null,null,null,4,34,0,34,4,34,null,null,45,208,null,null,null,null,null,null,"Region Sjælland"]
[null,"Køge",12723,"2021-01-01",28,13,0,15,22971,15197,"*",7774,78,8,290,"*","*",283,"*",null,null,null,7,30,null,30,null,30,null,null,62,258,null,null,null,null,null,null,"Region Sjælland"]
[null,"Halsnæs",5579,"2021-01-01",40,28,"*","*",26745,21622,"*","*",50,"*",228,"*","*",221,"*",null,null,null,8,41,0,41,8,41,6,191,40,195,null,null,null,null,null,null,"Region Hovedstaden"]
[null,"Roskilde",18500,"2021-01-01",34,18,"*","*",22862,18607,"*","*",80,10,416,"*","*",411,"*",null,null,null,7,30,0,30,7,30,null,null,119,410,null,null,null,null,null,null,"Region Sjælland"]
[null,"Solrød",5540,"2021-01-01",19,"*","*","*",8477,"*","*","*",10,3,68,0,"*",64,"*",null,null,null,null,18,null,18,null,18,null,null,17,66,null,null,null,null,null,null,"Region Sjælland"]
[null,"Gribskov",7438,"2021-01-01",30,"*","*",16,12642,"*","*",4188,22,6,246,0,0,246,0,null,null,null,4,27,0,27,4,27,null,null,37,198,null,null,null,null,null,null,"Region Hovedstaden"]
[null,"Odsherred",5127,"2021-01-01",31,20,"*","*",26409,17046,"*","*",46,10,130,"*","*",127,"*",null,null,null,3,30,0,30,3,30,null,null,42,146,null,null,null,null,null,null,"Region Sjælland"]
[null,"Holbæk",14564,"2021-01-01",39,"*","*",36,36476,"*","*",33725,79,11,317,0,3,309,5,null,null,null,11,41,3,41,8,41,null,null,67,284,null,null,null,null,null,null,"Region Sjælland"]
[null,"Faxe",7005,"2021-01-01",52,13,0,39,26539,5808,"*",20731,48,14,311,"*","*",303,4,null,null,null,3,40,0,40,3,40,null,null,46,262,null,null,null,null,null,null,"Region Sjælland"]
[null,"Kalundborg",9123,"2021-01-01",41,"*","*",24,34773,"*","*",16703,83,10,217,"*","*",207,"*",null,null,null,9,45,null,45,null,45,null,null,27,177,null,null,null,null,null,null,"Region Sjælland"]
[null,"Ringsted",7128,"2021-01-01",33,13,0,20,23944,13442,"*",10502,22,7,125,"*","*","*","*",null,null,null,8,39,0,39,8,39,null,null,25,106,null,null,null,null,null,null,"Region Sjælland"]
[null,"Slagelse",14829,"2021-01-01",69,15,0,54,54688,22007,"*",32681,118,15,435,"*","*",426,5,null,null,null,14,73,0,73,14,73,6,428,133,434,null,null,null,null,null,null,"Region Sjælland"]
[null,"Stevns",4280,"2021-01-01",13,4,0,9,9691,"*","*","*",22,4,95,"*","*",92,0,null,null,null,6,16,0,16,6,16,null,null,29,88,null,null,null,null,null,null,"Region Sjælland"]
[null,"Sorø",6182,"2021-01-01",13,10,0,3,5206,"*","*","*",22,9,189,"*",3,183,"*",null,null,null,3,10,null,10,null,10,null,null,23,200,null,null,null,null,null,null,"Region Sjælland"]
[null,"Lejre",6243,"2021-01-01",16,8,"*","*",10031,7173,"*","*",23,4,115,"*","*",110,"*",null,null,null,4,14,null,14,null,14,4,104,25,107,null,null,null,null,null,null,"Region Sjælland"]
[null,"Lolland",6366,"2021-01-01",52,"*","*",35,28778,"*","*",18324,149,17,251,"*","*",246,"*",null,null,null,5,45,0,45,5,45,null,null,95,277,null,null,null,null,null,null,"Region Sjælland"]
[null,"Næstved",16084,"2021-01-01",111,45,3,63,85407,"*","*",48273,69,5,338,"*",4,328,"*",null,null,null,14,103,null,103,null,103,null,null,84,358,null,null,null,null,null,null,"Region Sjælland"]
[null,"Guldborgsund",10220,"2021-01-01",87,"*","*",59,57999,"*","*",39701,119,18,360,4,7,346,3,null,null,null,9,84,0,84,9,84,null,null,63,347,null,null,null,null,null,null,"Region Sjælland"]
[null,"Vordingborg",7779,"2021-01-01",76,17,0,59,57026,11591,"*",45435,88,9,166,"*",4,158,"*",null,null,null,7,69,0,69,7,69,6,170,69,180,null,null,null,null,null,null,"Region Sjælland"]
[null,"Bornholm",6622,"2021-01-01",30,15,0,15,16891,11569,"*",5322,57,"*",160,0,3,154,3,null,null,null,9,29,null,29,null,29,null,null,28,156,null,null,null,null,null,null,"Region Hovedstaden"]
[null,"Middelfart",7870,"2021-01-01",14,9,0,5,9425,5449,"*",3976,50,"*",185,0,0,185,0,null,null,null,null,15,null,15,0,15,5,180,34,180,null,null,null,null,null,null,"Region Syddanmark"]
[null,"Assens",8098,"2021-01-01",22,11,"*","*",17874,10311,"*","*",92,6,154,"*","*","*","*",null,null,null,6,24,0,24,6,24,null,null,36,168,null,null,null,null,null,null,"Region Syddanmark"]
[null,"Faaborg-Midtfyn",10326,"2021-01-01",30,12,0,18,17468,4014,"*",13454,90,11,242,"*",9,229,"*",null,null,null,11,37,null,37,null,37,null,null,40,229,null,null,null,null,null,null,"Region Syddanmark"]
[null,"Kerteminde",4491,"2021-01-01",13,10,0,3,17261,"*","*","*",24,7,121,"*","*",117,"*",null,null,null,3,14,0,14,3,14,null,null,15,107,null,null,null,null,null,null,"Region Syddanmark"]
[null,"Nyborg",6158,"2021-01-01",20,"*","*","*",15856,"*","*","*",59,4,125,0,0,125,0,null,null,null,null,19,null,19,null,19,null,null,23,108,null,null,null,null,null,null,"Region Syddanmark"]
[null,"Odense",37878,"2021-01-01",170,84,4,82,130212,62628,"*","*",231,28,1253,10,18,1221,4,null,null,null,27,167,3,167,24,167,null,null,230,1221,null,null,null,null,null,null,"Region Syddanmark"]
[null,"Svendborg",11252,"2021-01-01",44,32,0,12,30748,20813,"*",9935,104,3,305,0,7,293,5,null,null,null,8,41,null,41,null,41,17,261,48,264,null,null,null,null,null,null,"Region Syddanmark"]
[null,"Nordfyns",5765,"2021-01-01",31,15,"*","*",22020,12594,"*","*",38,3,178,"*",8,166,"*",null,null,null,null,29,null,29,null,29,null,null,41,171,null,null,null,null,null,null,"Region Syddanmark"]
[null,"Langeland",1665,"2021-01-01",14,14,0,0,5323,5323,"*","*",39,"*",64,0,0,64,0,null,null,null,3,13,null,13,null,13,3,60,9,60,null,null,null,null,null,null,"Region Syddanmark"]
[null,"Ærø",798,"2021-01-01",5,"*","*","*",1874,"*","*","*","*","*","*","*","*","*","*",null,null,null,null,6,null,6,0,6,null,null,3,6,null,null,null,null,null,null,"Region Syddanmark"]
[null,"Haderslev",10743,"2021-01-01",26,5,3,18,18803,"*","*",14025,139,22,179,"*","*",173,"*",null,null,null,5,26,null,26,null,26,null,null,61,161,null,null,null,null,null,null,"Region Syddanmark"]
[null,"Billund",5567,"2021-01-01",20,7,0,13,8516,3829,"*",4687,55,7,160,0,"*",157,"*",null,null,null,null,19,0,19,null,19,null,null,65,173,null,null,null,null,null,null,"Region Syddanmark"]
[null,"Sønderborg",13908,"2021-01-01",31,24,0,7,19024,17103,"*",1921,98,4,290,"*",3,284,"*",null,null,null,3,27,null,27,null,27,null,null,63,293,null,null,null,null,null,null,"Region Syddanmark"]
[null,"Tønder",6891,"2021-01-01",22,"*","*",16,8857,"*","*",7446,105,9,248,"*","*","*","*",null,null,null,4,21,0,21,4,21,6,248,50,251,null,null,null,null,null,null,"Region Syddanmark"]
[null,"Esbjerg",22747,"2021-01-01",152,76,3,73,134630,72494,"*","*",122,26,620,"*",6,610,"*",null,null,null,24,154,null,154,null,154,null,null,126,585,null,null,null,null,null,null,"Region Syddanmark"]
[null,"Fanø",616,"2021-01-01","*","*",0,0,"*","*","*","*","*",0,"*",0,"*",0,0,null,null,null,null,null,null,null,null,null,null,null,null,5,null,null,null,null,null,null,"Region Syddanmark"]
[null,"Varde",10073,"2021-01-01",12,5,0,7,12013,8493,"*",3520,69,16,378,"*","*","*","*",null,null,null,null,13,null,13,0,13,5,442,148,442,null,null,null,null,null,null,"Region Syddanmark"]
[null,"Vejen",9009,"2021-01-01",30,5,0,25,24335,9191,"*",15144,60,8,174,0,0,171,3,null,null,null,6,29,0,29,6,29,null,null,50,163,null,null,null,null,null,null,"Region Syddanmark"]
[null,"Aabenraa",11475,"2021-01-01",32,26,"*","*",27475,25911,"*","*",114,7,343,0,3,340,0,null,null,null,4,28,null,28,null,28,null,null,78,332,null,null,null,null,null,null,"Region Syddanmark"]
[null,"Fredericia",10113,"2021-01-01",18,"*","*",13,9315,"*","*",4555,72,15,354,"*","*",349,"*",null,null,null,5,16,0,16,5,16,null,null,95,335,null,null,null,null,null,null,"Region Syddanmark"]
[null,"Horsens",19592,"2021-01-01",63,11,0,52,33561,13761,"*",19800,120,26,341,0,11,325,5,null,null,null,16,68,6,68,10,68,18,373,123,382,null,null,null,null,null,null,"Region Midtjylland"]
[null,"Kolding",19748,"2021-01-01",28,13,0,15,15464,6676,"*",8788,114,14,344,0,3,341,0,null,null,null,12,32,null,32,null,32,null,null,108,350,null,null,null,null,null,null,"Region Syddanmark"]
[null,"Vejle",25048,"2021-01-01",49,43,0,6,19873,19119,"*",754,167,21,414,"*","*",408,"*",null,null,null,13,48,4,48,9,48,null,null,140,429,null,null,null,null,null,null,"Region Syddanmark"]
[null,"Herning",18816,"2021-01-01",25,18,0,7,16400,13994,"*",2406,108,17,345,"*","*",336,6,null,null,null,7,22,0,22,7,22,12,290,82,294,null,null,null,null,null,null,"Region Midtjylland"]
[null,"Holstebro",12515,"2021-01-01",28,20,"*","*",26932,19213,"*","*",86,14,234,"*","*",230,"*",null,null,null,7,30,null,30,null,30,null,null,62,239,null,null,null,null,null,null,"Region Midtjylland"]
[null,"Lemvig",3488,"2021-01-01",9,6,0,3,16567,"*","*","*",25,3,82,"*","*","*","*",null,null,null,0,7,0,7,0,7,null,null,18,78,null,null,null,null,null,null,"Region Midtjylland"]
[null,"Struer",3884,"2021-01-01",7,"*","*","*",703,"*","*","*",46,4,102,"*","*","*","*",null,null,null,4,7,null,7,null,7,null,null,35,120,null,null,null,null,null,null,"Region Midtjylland"]
[null,"Syddjurs",8515,"2021-01-01",15,"*","*",12,11493,"*","*",7869,64,11,351,"*","*",346,"*",null,null,null,0,15,0,15,0,15,null,null,40,338,null,null,null,null,null,null,"Region Midtjylland"]
[null,"Norddjurs",6390,"2021-01-01",35,29,0,6,30064,22300,"*",7764,77,8,214,"*","*",210,"*",null,null,null,5,36,null,36,null,36,null,null,31,188,null,null,null,null,null,null,"Region Midtjylland"]
[null,"Favrskov",11625,"2021-01-01",36,26,"*","*",21277,16079,"*","*",62,"*",189,0,"*",186,"*",null,null,null,3,35,0,35,3,35,null,null,41,169,null,null,null,null,null,null,"Region Midtjylland"]
[null,"Odder",4833,"2021-01-01",10,"*","*","*",6822,"*","*","*",11,7,136,"*","*","*","*",null,null,null,3,11,null,11,null,11,null,null,33,116,null,null,null,null,null,null,"Region Midtjylland"]
[null,"Randers",19468,"2021-01-01",33,18,0,15,22296,12399,"*",9897,137,25,366,"*","*",352,10,null,null,null,8,35,null,35,null,35,13,363,100,366,null,null,null,null,null,null,"Region Midtjylland"]
[null,"Silkeborg",21114,"2021-01-01",18,11,0,7,21668,18678,"*",2990,86,10,556,"*","*","*","*",null,null,null,null,18,null,18,null,18,null,null,161,559,null,null,null,null,null,null,"Region Midtjylland"]
[null,"Samsø",542,"2021-01-01",3,"*",0,"*","*","*","*","*",6,"*",15,0,0,15,0,null,null,null,null,null,null,null,null,null,0,9,null,9,null,null,null,null,null,null,"Region Midtjylland"]
[null,"Skanderborg",15951,"2021-01-01",22,"*","*",13,15013,"*","*",7324,46,7,198,0,"*",195,"*",null,null,null,4,18,0,18,4,18,null,null,50,182,null,null,null,null,null,null,"Region Midtjylland"]
[null,"Aarhus",64334,"2021-01-01",175,123,15,37,172915,144465,1831,26619,224,26,1252,"*","*",1233,15,null,null,null,28,173,0,173,28,173,22,1266,355,1270,null,null,null,null,null,null,"Region Midtjylland"]
[null,"Ikast-Brande",8926,"2021-01-01",14,9,0,5,7635,4139,"*",3496,53,12,115,"*","*","*","*",null,null,null,5,15,null,15,null,15,null,null,3,118,null,null,null,null,null,null,"Region Midtjylland"]
[null,"Ringkøbing-Skjern",11639,"2021-01-01",35,22,"*","*",35006,27733,"*","*",88,5,285,0,"*",282,"*",null,null,null,4,33,0,33,4,33,null,null,77,290,null,null,null,null,null,null,"Region Midtjylland"]
[null,"Hedensted",10097,"2021-01-01",36,8,0,28,31919,9817,"*",22102,25,"*",176,"*","*",172,"*",null,null,null,4,33,0,33,4,33,3,186,44,186,null,null,null,null,null,null,"Region Midtjylland"]
[null,"Morsø",3733,"2021-01-01",3,3,0,0,"*","*","*","*",46,6,96,0,0,93,3,null,null,null,null,5,null,5,0,5,null,null,26,110,null,null,null,null,null,null,"Region Nordjylland"]
[null,"Skive",8520,"2021-01-01",21,"*","*",11,15407,"*","*",5622,55,13,162,"*","*",157,"*",null,null,null,3,19,0,19,3,19,null,null,28,126,null,null,null,null,null,null,"Region Midtjylland"]
[null,"Thisted",8477,"2021-01-01",28,22,0,6,25766,20596,"*",5170,73,6,163,"*","*",156,"*",null,null,null,4,31,0,31,4,31,null,null,53,178,null,null,null,null,null,null,"Region Nordjylland"]
[null,"Viborg",20723,"2021-01-01",35,25,"*","*",38759,36439,"*","*",143,16,310,0,3,299,8,null,null,null,9,38,0,38,9,38,7,290,109,299,null,null,null,null,null,null,"Region Midtjylland"]
[null,"Brønderslev",7725,"2021-01-01",21,5,0,16,16860,2964,"*",13896,115,7,166,"*","*","*","*",null,null,null,5,22,null,22,null,22,null,null,57,171,null,null,null,null,null,null,"Region Nordjylland"]
[null,"Frederikshavn",10301,"2021-01-01",46,27,0,19,23872,14889,"*",8983,107,11,299,"*","*",294,"*",null,null,null,8,42,null,42,null,42,null,null,84,297,null,null,null,null,null,null,"Region Nordjylland"]
[null,"Vesthimmerlands",7126,"2021-01-01",29,"*","*",18,20763,"*","*",16495,77,6,213,5,"*",205,"*",null,null,null,5,29,0,29,5,29,null,null,74,214,null,null,null,null,null,null,"Region Nordjylland"]
[null,"Læsø",225,"2021-01-01","*","*",0,0,"*","*","*","*",0,0,6,0,0,6,0,null,null,null,null,null,null,null,null,null,0,3,0,3,null,null,null,null,null,null,"Region Nordjylland"]
[null,"Rebild",7276,"2021-01-01",15,9,0,6,12259,9601,"*",2658,32,6,95,"*","*","*","*",null,null,null,null,16,0,16,null,16,0,90,19,90,null,null,null,null,null,null,"Region Nordjylland"]
[null,"Mariagerfjord",7954,"2021-01-01",27,14,"*","*",29337,17157,"*","*",81,8,214,"*",0,210,"*",null,null,null,9,32,0,32,9,32,null,null,45,198,null,null,null,null,null,null,"Region Nordjylland"]
[null,"Jammerbugt",7719,"2021-01-01",27,6,0,21,24375,11497,"*",12878,76,"*",216,0,"*",213,"*",null,null,null,null,29,null,29,null,29,null,null,51,185,null,null,null,null,null,null,"Region Nordjylland"]
[null,"Aalborg",39370,"2021-01-01",145,78,3,64,118959,73018,"*","*",277,43,1067,"*",10,1047,"*",null,null,null,18,136,null,136,null,136,38,1044,236,1052,null,null,null,null,null,null,"Region Nordjylland"]
[null,"Hjørring",12271,"2021-01-01",34,"*","*",22,25048,"*","*",9762,147,14,252,0,0,248,4,null,null,null,4,33,0,33,4,33,null,null,90,254,null,null,null,null,null,null,"Region Nordjylland"]
[null,"København",110614,"2021-07-01",219,165,22,32,132359,95564,2439,34356,285,113,2302,"*",15,2273,"*",null,null,null,43,201,5,201,38,201,56,2021,406,2042,null,null,null,null,null,null,"Region Hovedstaden"]
[null,"Frederiksberg",17868,"2021-07-01",46,31,"*","*",25646,19948,"*","*",34,9,235,"*","*",228,"*",null,null,null,10,48,0,48,10,48,null,null,51,212,null,null,null,null,null,null,"Region Hovedstaden"]
[null,"Ballerup",10391,"2021-07-01",30,18,"*","*",26141,15290,"*","*",29,9,336,"*","*",333,"*",null,null,null,null,29,0,29,null,29,null,null,48,310,null,null,null,null,null,null,"Region Hovedstaden"]
[null,"Brøndby",7404,"2021-07-01",31,6,0,25,13043,3565,"*",9478,43,6,151,4,"*",144,"*",null,null,null,9,35,0,35,9,35,null,null,29,126,null,null,null,null,null,null,"Region Hovedstaden"]
[null,"Dragør",3345,"2021-07-01",5,"*","*","*",3174,"*","*","*","*",0,52,0,0,52,0,null,null,null,null,5,0,5,null,5,null,null,3,43,null,null,null,null,null,null,"Region Hovedstaden"]
[null,"Gentofte",16628,"2021-07-01",25,13,"*","*",26504,14358,"*","*",25,"*",201,0,"*",198,"*",null,null,null,5,26,0,26,5,26,5,206,35,209,null,null,null,null,null,null,"Region Hovedstaden"]
[null,"Gladsaxe",15458,"2021-07-01",31,18,0,13,25203,13811,"*",11392,37,12,468,"*","*",461,"*",null,null,null,3,26,0,26,3,26,null,null,70,438,null,null,null,null,null,null,"Region Hovedstaden"]
[null,"Glostrup",4690,"2021-07-01",3,"*",0,"*","*","*","*","*",16,6,93,"*","*","*","*",null,null,null,null,4,null,4,null,4,4,98,18,98,null,null,null,null,null,null,"Region Hovedstaden"]
[null,"Herlev",6330,"2021-07-01",18,9,"*","*",16778,10669,"*","*",17,4,164,"*","*","*","*",null,null,null,null,19,0,19,null,19,null,null,33,167,null,null,null,null,null,null,"Region Hovedstaden"]
[null,"Albertslund",5826,"2021-07-01",24,10,0,14,19813,8055,"*",11758,31,6,142,0,6,132,4,null,null,null,7,28,0,28,7,28,null,null,30,130,null,null,null,null,null,null,"Region Hovedstaden"]
[null,"Hvidovre",11913,"2021-07-01",41,27,0,14,18817,10263,"*",8554,42,13,244,"*","*",232,6,null,null,null,11,41,null,41,null,41,null,null,54,235,null,null,null,null,null,null,"Region Hovedstaden"]
[null,"Høje-Taastrup",11284,"2021-07-01",39,"*","*",22,43703,"*","*",27138,45,6,305,0,6,293,6,null,null,null,9,43,null,43,null,43,null,null,55,261,null,null,null,null,null,null,"Region Hovedstaden"]
[null,"Lyngby-Taarbæk",12043,"2021-07-01",26,"*","*",18,15803,"*","*",13044,21,6,231,"*","*","*","*",null,null,null,6,29,0,29,6,29,null,null,36,211,null,null,null,null,null,null,"Region Hovedstaden"]
[null,"Rødovre",8960,"2021-07-01",23,14,0,9,15350,7288,"*",8062,26,5,178,"*","*",174,"*",null,null,null,4,23,0,23,4,23,null,null,25,175,null,null,null,null,null,null,"Region Hovedstaden"]
[null,"Ishøj",5063,"2021-07-01",21,4,0,17,25672,"*","*","*",23,4,162,"*","*","*","*",null,null,null,3,22,null,22,null,22,3,144,29,144,null,null,null,null,null,null,"Region Hovedstaden"]
[null,"Tårnby",9575,"2021-07-01",10,7,0,3,8166,"*","*","*",31,0,69,0,4,65,0,null,null,null,null,10,0,10,null,10,null,null,94,144,null,null,null,null,null,null,"Region Hovedstaden"]
[null,"Vallensbæk",4003,"2021-07-01",4,"*",0,"*","*","*","*","*",9,"*",60,0,0,60,0,null,null,null,null,4,0,4,null,4,3,54,9,54,null,null,null,null,null,null,"Region Hovedstaden"]
[null,"Furesø",9796,"2021-07-01",14,10,"*","*",5627,4567,"*","*",24,4,193,0,"*",190,"*",null,null,null,null,15,0,15,null,15,null,null,61,206,null,null,null,null,null,null,"Region Hovedstaden"]
[null,"Allerød",6232,"2021-07-01",12,4,0,8,10944,"*","*","*",9,0,78,"*","*","*","*",null,null,null,0,11,0,11,0,11,null,null,19,81,null,null,null,null,null,null,"Region Hovedstaden"]
[null,"Fredensborg",8782,"2021-07-01",23,"*","*",16,11605,"*","*",7143,20,3,148,"*","*","*","*",null,null,null,4,22,0,22,4,22,null,null,51,137,null,null,null,null,null,null,"Region Hovedstaden"]
[null,"Helsingør",12221,"2021-07-01",30,18,"*","*",49967,23544,"*","*",42,7,255,"*","*",246,"*",null,null,null,6,32,0,32,6,32,null,null,27,251,null,null,null,null,null,null,"Region Hovedstaden"]
[null,"Hillerød",11245,"2021-07-01",33,10,0,23,16277,6022,"*",10255,23,9,250,"*","*","*","*",null,null,null,7,35,0,35,7,35,null,null,29,226,null,null,null,null,null,null,"Region Hovedstaden"]
[null,"Hørsholm",5149,"2021-07-01",12,7,0,5,11515,7195,"*",4320,10,"*",47,"*","*","*","*",null,null,null,null,11,0,11,null,11,null,null,5,34,null,null,null,null,null,null,"Region Hovedstaden"]
[null,"Rudersdal",13042,"2021-07-01",16,10,0,6,17015,15558,"*",1457,42,7,169,"*","*",163,3,null,null,null,null,13,null,13,null,13,null,null,24,161,null,null,null,null,null,null,"Region Hovedstaden"]
[null,"Egedal",10446,"2021-07-01",15,7,0,8,14415,4808,"*",9607,21,3,187,"*","*",179,"*",null,null,null,null,16,0,16,null,16,null,null,40,175,null,null,null,null,null,null,"Region Hovedstaden"]
[null,"Frederikssund",8860,"2021-07-01",11,5,0,6,8142,6460,"*",1682,40,4,310,0,4,302,4,null,null,null,4,13,0,13,4,13,null,null,60,266,null,null,null,null,null,null,"Region Hovedstaden"]
[null,"Greve",11113,"2021-07-01",38,"*","*",27,22625,"*","*",15433,40,"*",234,"*","*","*","*",null,null,null,9,36,0,36,9,36,9,237,37,240,null,null,null,null,null,null,"Region Sjælland"]
[null,"Køge",12645,"2021-07-01",30,10,3,17,19360,"*","*",9141,79,10,319,0,6,308,5,null,null,null,9,28,0,28,9,28,null,null,55,290,null,null,null,null,null,null,"Region Sjælland"]
[null,"Halsnæs",5501,"2021-07-01",39,29,"*","*",26942,21684,"*","*",52,"*",233,0,0,230,3,null,null,null,7,40,null,40,null,40,null,null,47,228,null,null,null,null,null,null,"Region Hovedstaden"]
[null,"Roskilde",18546,"2021-07-01",30,16,"*","*",18636,13745,"*","*",81,11,450,0,3,443,4,null,null,null,10,34,null,34,null,34,null,null,108,416,null,null,null,null,null,null,"Region Sjælland"]
[null,"Solrød",5576,"2021-07-01",19,"*","*","*",10331,"*","*","*",9,6,80,0,"*",77,"*",null,null,null,4,19,0,19,4,19,null,null,8,68,null,null,null,null,null,null,"Region Sjælland"]
[null,"Gribskov",7396,"2021-07-01",33,15,0,18,17471,10556,"*",6915,22,7,251,0,"*",248,"*",null,null,null,0,30,0,30,0,30,null,null,69,246,null,null,null,null,null,null,"Region Hovedstaden"]
[null,"Odsherred",5077,"2021-07-01",34,23,"*","*",27127,19010,"*","*",47,10,119,"*","*","*","*",null,null,null,4,31,0,31,4,31,null,null,38,130,null,null,null,null,null,null,"Region Sjælland"]
[null,"Holbæk",14618,"2021-07-01",38,"*","*","*",36465,"*","*","*",75,15,311,"*","*",306,"*",null,null,null,7,39,0,39,7,39,8,314,78,317,null,null,null,null,null,null,"Region Sjælland"]
[null,"Faxe",7022,"2021-07-01",55,13,0,42,33409,7023,"*",26386,45,12,322,"*",4,313,"*",null,null,null,6,52,null,52,null,52,10,307,52,311,null,null,null,null,null,null,"Region Sjælland"]
[null,"Kalundborg",9021,"2021-07-01",40,"*","*",26,33214,"*","*",18178,84,9,243,0,3,240,0,null,null,null,7,41,null,41,null,41,null,null,46,217,null,null,null,null,null,null,"Region Sjælland"]
[null,"Ringsted",7153,"2021-07-01",29,9,0,20,18671,7832,"*",10839,23,6,140,"*","*","*","*",null,null,null,6,33,0,33,6,33,null,null,33,125,null,null,null,null,null,null,"Region Sjælland"]
[null,"Slagelse",14841,"2021-07-01",75,19,0,56,55414,19238,"*",36176,121,16,476,"*","*",459,11,null,null,null,11,69,3,69,8,69,14,431,81,435,null,null,null,null,null,null,"Region Sjælland"]
[null,"Stevns",4301,"2021-07-01",13,4,0,9,11991,"*","*","*",25,3,105,"*","*","*","*",null,null,null,null,13,0,13,null,13,null,null,23,95,null,null,null,null,null,null,"Region Sjælland"]
[null,"Sorø",6149,"2021-07-01",14,7,0,7,6972,4891,"*",2081,24,13,186,"*","*",181,"*",null,null,null,null,13,0,13,null,13,null,null,30,189,null,null,null,null,null,null,"Region Sjælland"]
[null,"Lejre",6309,"2021-07-01",13,6,"*","*",8857,4742,"*","*",22,4,126,"*","*","*","*",null,null,null,3,16,0,16,3,16,null,null,29,115,null,null,null,null,null,null,"Region Sjælland"]
[null,"Lolland",6342,"2021-07-01",51,"*","*",32,25631,"*","*",15906,136,16,277,"*",3,271,"*",null,null,null,8,52,null,52,null,52,null,null,56,251,null,null,null,null,null,null,"Region Sjælland"]
[null,"Næstved",16099,"2021-07-01",105,"*","*",58,63775,"*","*",32140,73,4,362,5,5,348,4,null,null,null,22,111,4,111,18,111,null,null,83,338,null,null,null,null,null,null,"Region Sjælland"]
[null,"Guldborgsund",10208,"2021-07-01",87,28,3,56,57657,"*","*",39453,117,20,361,"*",5,352,"*",null,null,null,12,87,null,87,null,87,17,349,68,360,null,null,null,null,null,null,"Region Sjælland"]
[null,"Vordingborg",7678,"2021-07-01",76,"*","*",61,54594,"*","*",47200,91,10,175,"*","*","*","*",null,null,null,10,76,0,76,10,76,null,null,56,166,null,null,null,null,null,null,"Region Sjælland"]
[null,"Bornholm",6605,"2021-07-01",34,"*","*",17,20080,"*","*",5886,61,"*",168,"*","*",160,4,null,null,null,5,30,0,30,5,30,11,157,26,160,null,null,null,null,null,null,"Region Hovedstaden"]
[null,"Middelfart",7912,"2021-07-01",20,16,0,4,11457,"*","*","*",50,3,177,"*","*","*","*",null,null,null,null,14,0,14,null,14,9,185,40,185,null,null,null,null,null,null,"Region Syddanmark"]
[null,"Assens",8032,"2021-07-01",20,12,0,8,17179,10886,"*",6293,99,8,149,0,0,149,0,null,null,null,4,22,0,22,4,22,null,null,39,154,null,null,null,null,null,null,"Region Syddanmark"]
[null,"Faaborg-Midtfyn",10301,"2021-07-01",36,14,0,22,19797,4473,"*",15324,85,11,226,"*","*",216,"*",null,null,null,null,30,0,30,null,30,null,null,75,242,null,null,null,null,null,null,"Region Syddanmark"]
[null,"Kerteminde",4468,"2021-07-01",11,8,0,3,15011,"*","*","*",23,5,125,0,"*",122,"*",null,null,null,3,13,0,13,3,13,null,null,23,121,null,null,null,null,null,null,"Region Syddanmark"]
[null,"Nyborg",6125,"2021-07-01",20,16,0,4,16216,"*","*","*",56,4,114,"*","*","*","*",null,null,null,6,20,0,20,6,20,3,125,45,125,null,null,null,null,null,null,"Region Syddanmark"]
[null,"Odense",37772,"2021-07-01",165,82,5,78,129278,64602,669,64007,228,27,1300,7,18,1275,0,null,null,null,24,170,3,170,21,170,35,1225,222,1253,null,null,null,null,null,null,"Region Syddanmark"]
[null,"Svendborg",11286,"2021-07-01",48,34,"*","*",34993,24526,"*","*",97,3,311,"*","*",306,"*",null,null,null,5,44,null,44,null,44,5,298,70,305,null,null,null,null,null,null,"Region Syddanmark"]
[null,"Nordfyns",5719,"2021-07-01",36,16,0,20,20468,12431,"*",8037,44,6,176,"*","*",169,"*",null,null,null,3,31,0,31,3,31,null,null,51,178,null,null,null,null,null,null,"Region Syddanmark"]
[null,"Langeland",1649,"2021-07-01",15,12,0,3,5978,"*","*","*",40,"*",76,"*","*","*","*",null,null,null,null,14,null,14,null,14,3,64,5,64,null,null,null,null,null,null,"Region Syddanmark"]
[null,"Ærø",806,"2021-07-01",5,"*","*","*",2779,"*","*","*","*","*",6,0,0,6,0,null,null,null,0,5,0,5,0,5,null,null,null,null,null,null,null,null,null,null,"Region Syddanmark"]
[null,"Haderslev",10686,"2021-07-01",28,"*","*",20,21003,"*","*",15400,146,22,238,0,"*",235,"*",null,null,null,4,26,0,26,4,26,null,null,55,179,null,null,null,null,null,null,"Region Syddanmark"]
[null,"Billund",5546,"2021-07-01",17,5,0,12,8497,2957,"*",5540,53,6,149,0,"*",146,"*",null,null,null,4,20,0,20,4,20,null,null,47,160,null,null,null,null,null,null,"Region Syddanmark"]
[null,"Sønderborg",13777,"2021-07-01",35,19,0,16,20463,16767,"*",3696,101,4,303,"*","*",298,"*",null,null,null,6,31,0,31,6,31,null,null,55,290,null,null,null,null,null,null,"Region Syddanmark"]
[null,"Tønder",6852,"2021-07-01",24,"*","*",16,9731,"*","*",8321,103,7,257,"*","*","*","*",null,null,null,4,22,null,22,null,22,null,null,58,248,null,null,null,null,null,null,"Region Syddanmark"]
[null,"Esbjerg",22649,"2021-07-01",146,73,"*","*",128306,70901,"*","*",122,27,620,0,9,611,0,null,null,null,32,152,3,152,29,152,null,null,153,620,null,null,null,null,null,null,"Region Syddanmark"]
[null,"Fanø",585,"2021-07-01","*","*",0,0,"*","*","*","*","*",0,"*",0,"*",0,0,null,null,null,null,null,null,null,null,null,null,null,null,null,null,null,null,null,null,null,"Region Syddanmark"]
[null,"Varde",10034,"2021-07-01",10,4,0,6,7481,"*","*","*",72,16,413,"*","*","*","*",null,null,null,null,12,0,12,null,12,null,null,83,378,null,null,null,null,null,null,"Region Syddanmark"]
[null,"Vejen",8967,"2021-07-01",27,"*","*",22,19951,"*","*",13917,61,7,183,0,"*",180,"*",null,null,null,7,30,0,30,7,30,5,174,41,174,null,null,null,null,null,null,"Region Syddanmark"]
[null,"Aabenraa",11370,"2021-07-01",38,32,"*","*",31518,30062,"*","*",118,11,345,3,5,337,0,null,null,null,4,32,null,32,null,32,22,340,67,343,null,null,null,null,null,null,"Region Syddanmark"]
[null,"Fredericia",10080,"2021-07-01",18,"*","*",11,9955,"*","*",5242,72,14,312,"*","*",307,"*",null,null,null,5,18,0,18,5,18,null,null,122,354,null,null,null,null,null,null,"Region Syddanmark"]
[null,"Horsens",19715,"2021-07-01",71,"*","*",58,38511,"*","*",22925,121,27,369,0,10,352,7,null,null,null,9,63,0,63,9,63,19,330,113,341,null,null,null,null,null,null,"Region Midtjylland"]
[null,"Kolding",19628,"2021-07-01",30,13,0,17,16681,6444,"*",10237,112,12,354,0,3,351,0,null,null,null,5,28,null,28,null,28,7,341,81,344,null,null,null,null,null,null,"Region Syddanmark"]
[null,"Vejle",25245,"2021-07-01",55,40,"*","*",24595,22035,"*","*",165,20,355,0,5,346,4,null,null,null,11,49,null,49,null,49,null,null,138,414,null,null,null,null,null,null,"Region Syddanmark"]
[null,"Herning",18792,"2021-07-01",23,15,0,8,17685,14432,"*",3253,106,21,350,"*","*",340,6,null,null,null,7,25,0,25,7,25,6,342,108,345,null,null,null,null,null,null,"Region Midtjylland"]
[null,"Holstebro",12398,"2021-07-01",29,19,"*","*",27160,18321,"*","*",88,13,210,"*","*",203,3,null,null,null,6,28,null,28,null,28,null,null,94,234,null,null,null,null,null,null,"Region Midtjylland"]
[null,"Lemvig",3433,"2021-07-01",10,7,0,3,18070,"*","*","*",27,3,85,0,0,85,0,null,null,null,null,9,0,9,null,9,null,null,13,82,null,null,null,null,null,null,"Region Midtjylland"]
[null,"Struer",3838,"2021-07-01",6,"*","*","*",1189,"*","*","*",48,4,120,"*","*","*","*",null,null,null,null,7,0,7,null,7,null,null,16,102,null,null,null,null,null,null,"Region Midtjylland"]
[null,"Syddjurs",8556,"2021-07-01",18,"*","*",14,13312,"*","*",9034,65,10,374,"*","*","*","*",null,null,null,null,15,0,15,null,15,null,null,35,351,null,null,null,null,null,null,"Region Midtjylland"]
[null,"Norddjurs",6335,"2021-07-01",37,29,"*","*",29632,21966,"*","*",76,8,210,0,"*",207,"*",null,null,null,5,35,0,35,5,35,null,null,52,214,null,null,null,null,null,null,"Region Midtjylland"]
[null,"Favrskov",11650,"2021-07-01",40,23,"*","*",22830,15869,"*","*",60,3,183,"*","*",176,4,null,null,null,8,36,0,36,8,36,null,null,51,189,null,null,null,null,null,null,"Region Midtjylland"]
[null,"Odder",4825,"2021-07-01",14,3,0,11,6981,"*","*","*",11,4,150,0,"*",147,"*",null,null,null,null,10,0,10,null,10,null,null,25,136,null,null,null,null,null,null,"Region Midtjylland"]
[null,"Randers",19391,"2021-07-01",40,19,0,21,24779,13731,"*",11048,132,25,342,"*","*",329,8,null,null,null,4,33,null,33,null,33,9,362,111,366,null,null,null,null,null,null,"Region Midtjylland"]
[null,"Silkeborg",21253,"2021-07-01",37,"*","*",18,20418,"*","*",3576,87,8,530,0,0,530,0,null,null,null,4,18,null,18,null,18,null,null,166,556,null,null,null,null,null,null,"Region Midtjylland"]
[null,"Samsø",535,"2021-07-01",4,4,0,0,"*","*","*","*",7,"*",16,0,0,16,0,null,null,null,null,3,0,3,null,3,null,null,6,15,null,null,null,null,null,null,"Region Midtjylland"]
[null,"Skanderborg",16052,"2021-07-01",21,8,0,13,15290,7389,"*",7901,44,6,207,"*","*","*","*",null,null,null,4,22,0,22,4,22,null,null,44,198,null,null,null,null,null,null,"Region Midtjylland"]
[null,"Aarhus",64307,"2021-07-01",175,118,14,43,176105,151477,3067,21561,214,25,1224,"*","*",1207,14,null,null,null,31,175,3,175,28,175,25,1248,332,1252,null,null,null,null,null,null,"Region Midtjylland"]
[null,"Ikast-Brande",8912,"2021-07-01",18,10,0,8,10268,5695,"*",4573,50,12,113,"*","*","*","*",null,null,null,0,14,0,14,0,14,null,null,null,115,null,null,null,null,null,null,"Region Midtjylland"]
[null,"Ringkøbing-Skjern",11521,"2021-07-01",27,18,0,9,31544,26400,"*",5144,88,4,258,"*","*","*","*",null,null,null,8,35,0,35,8,35,null,null,78,285,null,null,null,null,null,null,"Region Midtjylland"]
[null,"Hedensted",10100,"2021-07-01",32,7,0,25,28938,8710,"*",20228,27,"*",175,"*","*",171,"*",null,null,null,9,36,0,36,9,36,null,null,48,176,null,null,null,null,null,null,"Region Midtjylland"]
[null,"Morsø",3714,"2021-07-01",4,"*","*","*","*","*","*","*",49,7,74,"*","*","*","*",null,null,null,0,3,0,3,0,3,6,96,29,96,null,null,null,null,null,null,"Region Nordjylland"]
[null,"Skive",8447,"2021-07-01",23,"*","*",12,16488,"*","*",6740,57,13,153,"*",0,150,"*",null,null,null,3,21,0,21,3,21,null,null,49,162,null,null,null,null,null,null,"Region Midtjylland"]
[null,"Thisted",8464,"2021-07-01",32,27,0,5,29334,23855,"*",5479,75,5,208,"*","*",200,"*",null,null,null,null,28,0,28,null,28,null,null,38,163,null,null,null,null,null,null,"Region Nordjylland"]
[null,"Viborg",20555,"2021-07-01",45,29,"*","*",41332,38415,"*","*",140,17,379,3,4,362,10,null,null,null,5,35,0,35,5,35,11,307,80,310,null,null,null,null,null,null,"Region Midtjylland"]
[null,"Brønderslev",7700,"2021-07-01",24,6,0,18,17400,4040,"*",13360,108,7,165,0,0,165,0,null,null,null,null,21,0,21,null,21,null,null,42,166,null,null,null,null,null,null,"Region Nordjylland"]
[null,"Frederikshavn",10223,"2021-07-01",44,24,"*","*",28885,17698,"*","*",109,12,274,0,"*",271,"*",null,null,null,6,46,3,46,3,46,null,null,74,299,null,null,null,null,null,null,"Region Nordjylland"]
[null,"Vesthimmerlands",7107,"2021-07-01",27,9,0,18,21564,4802,"*",16762,79,7,195,"*","*",187,"*",null,null,null,5,29,0,29,5,29,null,null,59,213,null,null,null,null,null,null,"Region Nordjylland"]
[null,"Læsø",219,"2021-07-01","*","*",0,0,"*","*","*","*","*",0,"*",0,0,3,0,null,null,null,null,null,null,null,null,null,null,null,0,6,null,null,null,null,null,null,"Region Nordjylland"]
[null,"Rebild",7224,"2021-07-01",13,8,0,5,6285,3786,"*",2499,32,5,109,"*","*","*","*",null,null,null,null,15,0,15,null,15,null,null,27,95,null,null,null,null,null,null,"Region Nordjylland"]
[null,"Mariagerfjord",7885,"2021-07-01",27,16,"*","*",30834,19077,"*","*",82,9,217,"*",0,214,"*",null,null,null,6,27,null,27,null,27,null,null,40,214,null,null,null,null,null,null,"Region Nordjylland"]
[null,"Jammerbugt",7715,"2021-07-01",27,5,0,22,21432,9600,"*",11832,75,"*",200,0,3,197,0,null,null,null,6,27,null,27,null,27,null,null,54,216,null,null,null,null,null,null,"Region Nordjylland"]
[null,"Aalborg",39438,"2021-07-01",152,81,3,68,128359,76918,"*","*",278,45,1196,0,12,1176,8,null,null,null,19,145,3,145,16,145,null,null,167,1067,null,null,null,null,null,null,"Region Nordjylland"]
[null,"Hjørring",12213,"2021-07-01",38,"*","*",26,28300,"*","*",11283,147,12,259,0,0,259,0,null,null,null,4,34,0,34,4,34,6,252,71,252,null,null,null,null,null,null,"Region Nordjylland"]
[null,"København",110513,"2022-01-01",217,173,16,28,131176,97246,2322,31608,272,113,2307,11,15,2266,15,null,null,null,56,219,9,219,47,219,null,null,589,2302,null,null,null,null,null,null,"Region Hovedstaden"]
[null,"Frederiksberg",17772,"2022-01-01",38,25,"*","*",23873,18666,"*","*",34,8,241,0,7,234,0,null,null,null,11,46,null,46,null,46,null,null,56,235,null,null,null,null,null,null,"Region Hovedstaden"]
[null,"Ballerup",10418,"2022-01-01",34,21,3,10,28181,17249,"*","*",31,11,342,"*","*",338,"*",null,null,null,6,30,0,30,6,30,null,null,68,336,null,null,null,null,null,null,"Region Hovedstaden"]
[null,"Brøndby",7414,"2022-01-01",26,9,0,17,11415,3128,"*",8287,41,6,151,"*","*",146,"*",null,null,null,10,31,null,31,null,31,null,null,34,151,null,null,null,null,null,null,"Region Hovedstaden"]
[null,"Dragør",3375,"2022-01-01",7,4,0,3,4144,"*","*","*","*",0,57,0,0,57,0,null,null,null,0,5,0,5,0,5,null,null,10,52,null,null,null,null,null,null,"Region Hovedstaden"]
[null,"Gentofte",16656,"2022-01-01",27,15,"*","*",26751,16609,"*","*",25,"*",215,"*","*","*","*",null,null,null,null,25,0,25,null,25,null,null,47,201,null,null,null,null,null,null,"Region Hovedstaden"]
[null,"Gladsaxe",15540,"2022-01-01",31,18,0,13,26501,14438,"*",12063,39,12,452,"*",5,443,"*",null,null,null,5,31,null,31,null,31,null,null,99,468,null,null,null,null,null,null,"Region Hovedstaden"]
[null,"Glostrup",4676,"2022-01-01",4,"*","*","*","*","*","*","*",15,6,94,"*",3,88,"*",null,null,null,0,3,0,3,0,3,null,null,23,93,null,null,null,null,null,null,"Region Hovedstaden"]
[null,"Herlev",6331,"2022-01-01",16,9,"*","*",15712,9046,"*","*",14,4,169,0,3,166,0,null,null,null,4,18,0,18,4,18,null,null,29,164,null,null,null,null,null,null,"Region Hovedstaden"]
[null,"Albertslund",5961,"2022-01-01",20,9,0,11,19463,8988,"*",10475,29,5,150,"*",5,142,"*",null,null,null,5,24,0,24,5,24,6,136,34,142,null,null,null,null,null,null,"Region Hovedstaden"]
[null,"Hvidovre",11924,"2022-01-01",41,26,"*","*",16049,9180,"*","*",43,13,230,0,6,219,5,null,null,null,10,41,0,41,10,41,14,238,66,244,null,null,null,null,null,null,"Region Hovedstaden"]
[null,"Høje-Taastrup",11348,"2022-01-01",30,"*","*",17,36347,"*","*",24272,46,9,321,0,8,306,7,null,null,null,12,39,null,39,null,39,13,299,62,305,null,null,null,null,null,null,"Region Hovedstaden"]
[null,"Lyngby-Taarbæk",12033,"2022-01-01",26,"*","*",18,18222,"*","*",14779,21,5,216,"*","*",212,"*",null,null,null,4,26,0,26,4,26,null,null,54,231,null,null,null,null,null,null,"Region Hovedstaden"]
[null,"Rødovre",9002,"2022-01-01",20,11,0,9,17189,7966,"*",9223,25,5,194,0,"*",191,"*",null,null,null,4,23,0,23,4,23,null,null,27,178,null,null,null,null,null,null,"Region Hovedstaden"]
[null,"Ishøj",5052,"2022-01-01",21,4,0,17,27432,"*","*","*",20,3,169,0,0,169,0,null,null,null,3,21,0,21,3,21,null,null,26,162,null,null,null,null,null,null,"Region Hovedstaden"]
[null,"Tårnby",9610,"2022-01-01",10,6,0,4,9640,"*","*","*",31,0,76,0,4,72,0,null,null,null,null,10,0,10,null,10,4,65,17,69,null,null,null,null,null,null,"Region Hovedstaden"]
[null,"Vallensbæk",3990,"2022-01-01",3,"*",0,"*","*","*","*","*",9,3,60,0,0,60,0,null,null,null,null,4,0,4,null,4,0,60,16,60,null,null,null,null,null,null,"Region Hovedstaden"]
[null,"Furesø",9859,"2022-01-01",14,9,0,5,6333,5104,"*",1229,25,"*",195,0,"*",192,"*",null,null,null,null,14,0,14,null,14,null,null,42,193,null,null,null,null,null,null,"Region Hovedstaden"]
[null,"Allerød",6246,"2022-01-01",12,6,0,6,7244,2827,"*",4417,9,0,108,0,0,108,0,null,null,null,null,12,0,12,null,12,null,null,17,78,null,null,null,null,null,null,"Region Hovedstaden"]
[null,"Fredensborg",8818,"2022-01-01",23,5,0,18,14255,4785,"*",9470,21,"*",187,3,"*",181,"*",null,null,null,null,23,0,23,null,23,null,null,35,148,null,null,null,null,null,null,"Region Hovedstaden"]
[null,"Helsingør",12105,"2022-01-01",26,16,"*","*",45403,20511,"*","*",39,6,268,"*","*",260,5,null,null,null,6,30,0,30,6,30,null,null,23,255,null,null,null,null,null,null,"Region Hovedstaden"]
[null,"Hillerød",11365,"2022-01-01",33,"*","*",21,14824,"*","*",7646,20,10,235,"*","*",232,"*",null,null,null,9,33,0,33,9,33,null,null,56,250,null,null,null,null,null,null,"Region Hovedstaden"]
[null,"Hørsholm",5094,"2022-01-01",12,6,0,6,7012,4640,"*",2372,10,"*",46,"*","*","*","*",null,null,null,3,12,0,12,3,12,null,null,11,47,null,null,null,null,null,null,"Region Hovedstaden"]
[null,"Rudersdal",13041,"2022-01-01",15,10,0,5,17244,15079,"*",2165,42,7,162,"*","*",158,"*",null,null,null,3,16,null,16,null,16,5,166,35,169,null,null,null,null,null,null,"Region Hovedstaden"]
[null,"Egedal",10517,"2022-01-01",12,6,0,6,13074,3571,"*",9503,20,3,201,"*","*",194,"*",null,null,null,6,15,null,15,null,15,null,null,37,187,null,null,null,null,null,null,"Region Hovedstaden"]
[null,"Frederikssund",8834,"2022-01-01",17,8,"*","*",7618,6637,"*","*",40,4,281,0,"*",277,"*",null,null,null,3,11,0,11,3,11,6,306,99,310,null,null,null,null,null,null,"Region Hovedstaden"]
[null,"Greve",11166,"2022-01-01",35,13,0,22,22928,8533,"*",14395,40,"*",229,"*","*","*","*",null,null,null,8,38,0,38,8,38,null,null,49,234,null,null,null,null,null,null,"Region Sjælland"]
[null,"Køge",12611,"2022-01-01",26,11,0,15,20835,11875,"*",8960,84,11,320,"*",5,312,"*",null,null,null,8,30,0,30,8,30,11,313,88,319,null,null,null,null,null,null,"Region Sjælland"]
[null,"Halsnæs",5446,"2022-01-01",45,33,"*","*",24949,19372,"*","*",50,"*",204,"*","*",200,"*",null,null,null,6,39,0,39,6,39,11,233,62,233,null,null,null,null,null,null,"Region Hovedstaden"]
[null,"Roskilde",18573,"2022-01-01",35,23,0,12,23222,16837,"*",6385,78,11,434,"*",3,428,"*",null,null,null,3,30,0,30,3,30,8,447,154,450,null,null,null,null,null,null,"Region Sjælland"]
[null,"Solrød",5660,"2022-01-01",17,"*","*","*",11070,"*","*","*",9,5,55,0,"*",52,"*",null,null,null,4,19,null,19,null,19,null,null,30,80,null,null,null,null,null,null,"Region Sjælland"]
[null,"Gribskov",7329,"2022-01-01",40,20,0,20,21434,11972,"*",9462,23,7,255,"*","*",251,"*",null,null,null,4,33,0,33,4,33,null,null,66,251,null,null,null,null,null,null,"Region Hovedstaden"]
[null,"Odsherred",5030,"2022-01-01",38,28,"*","*",30499,21626,"*","*",50,9,116,"*","*","*","*",null,null,null,null,34,0,34,null,34,null,null,23,119,null,null,null,null,null,null,"Region Sjælland"]
[null,"Holbæk",14699,"2022-01-01",35,"*","*",31,36416,"*","*",33405,72,15,314,"*","*",310,"*",null,null,null,7,38,0,38,7,38,null,null,85,311,null,null,null,null,null,null,"Region Sjælland"]
[null,"Faxe",7023,"2022-01-01",56,"*","*",42,35070,"*","*",27618,47,11,309,"*","*",303,"*",null,null,null,8,55,null,55,null,55,null,null,49,322,null,null,null,null,null,null,"Region Sjælland"]
[null,"Kalundborg",8907,"2022-01-01",34,9,0,25,29610,11786,"*",17824,79,9,258,"*","*",252,"*",null,null,null,10,40,null,40,null,40,8,240,48,243,null,null,null,null,null,null,"Region Sjælland"]
[null,"Ringsted",7136,"2022-01-01",28,8,0,20,16333,6480,"*",9853,23,6,158,0,0,158,0,null,null,null,9,29,0,29,9,29,null,null,37,140,null,null,null,null,null,null,"Region Sjælland"]
[null,"Slagelse",14792,"2022-01-01",80,"*","*",58,66183,"*","*",43574,117,16,494,"*","*",469,14,null,null,null,6,75,0,75,6,75,16,470,100,476,null,null,null,null,null,null,"Region Sjælland"]
[null,"Stevns",4392,"2022-01-01",10,4,0,6,11065,"*","*","*",25,"*",111,"*","*","*","*",null,null,null,3,13,0,13,3,13,null,null,23,105,null,null,null,null,null,null,"Region Sjælland"]
[null,"Sorø",6128,"2022-01-01",14,"*","*",7,7090,"*","*",1938,28,10,197,"*","*",190,4,null,null,null,4,14,0,14,4,14,null,null,42,186,null,null,null,null,null,null,"Region Sjælland"]
[null,"Lejre",6368,"2022-01-01",14,"*","*",7,10605,"*","*",4725,22,3,130,"*","*",127,0,null,null,null,null,13,0,13,null,13,null,null,34,126,null,null,null,null,null,null,"Region Sjælland"]
[null,"Lolland",6283,"2022-01-01",56,"*","*",37,29804,"*","*",17478,138,15,272,"*","*",268,"*",null,null,null,null,51,0,51,null,51,null,null,81,277,null,null,null,null,null,null,"Region Sjælland"]
[null,"Næstved",16145,"2022-01-01",108,"*","*",61,58816,"*","*",30596,65,4,367,"*",8,355,"*",null,null,null,19,105,null,105,null,105,17,352,85,362,null,null,null,null,null,null,"Region Sjælland"]
[null,"Guldborgsund",10163,"2022-01-01",81,"*","*",53,61647,"*","*",40393,112,20,371,"*","*",362,"*",null,null,null,15,87,null,87,null,87,null,null,79,361,null,null,null,null,null,null,"Region Sjælland"]
[null,"Vordingborg",7649,"2022-01-01",75,13,0,62,63701,9127,"*",54574,89,8,187,"*","*",179,"*",null,null,null,8,76,0,76,8,76,null,null,62,175,null,null,null,null,null,null,"Region Sjælland"]
[null,"Bornholm",6588,"2022-01-01",38,18,3,17,22320,16322,"*","*",66,"*",180,"*",4,170,"*",null,null,null,6,34,0,34,6,34,12,164,23,168,null,null,null,null,null,null,"Region Hovedstaden"]
[null,"Middelfart",7927,"2022-01-01",23,20,0,3,13784,"*","*","*",46,4,205,"*","*","*","*",null,null,null,3,20,0,20,3,20,null,null,36,177,null,null,null,null,null,null,"Region Syddanmark"]
[null,"Assens",8012,"2022-01-01",20,11,0,9,17157,12440,"*",4717,97,10,181,"*","*","*","*",null,null,null,null,20,0,20,null,20,7,149,22,149,null,null,null,null,null,null,"Region Syddanmark"]
[null,"Faaborg-Midtfyn",10295,"2022-01-01",40,14,0,26,20953,5108,"*",15845,86,10,215,0,4,211,0,null,null,null,5,36,null,36,null,36,null,null,71,226,null,null,null,null,null,null,"Region Syddanmark"]
[null,"Kerteminde",4499,"2022-01-01",16,10,"*","*",16298,12916,"*","*",22,5,125,3,"*",119,"*",null,null,null,0,11,0,11,0,11,null,null,20,125,null,null,null,null,null,null,"Region Syddanmark"]
[null,"Nyborg",6111,"2022-01-01",21,17,0,4,18444,"*","*","*",55,4,105,"*","*","*","*",null,null,null,null,20,0,20,null,20,null,null,46,114,null,null,null,null,null,null,"Region Syddanmark"]
[null,"Odense",37680,"2022-01-01",163,81,5,77,131498,66732,1208,63558,230,25,1278,3,22,1249,4,null,null,null,25,165,3,165,22,165,35,1275,284,1300,null,null,null,null,null,null,"Region Syddanmark"]
[null,"Svendborg",11485,"2022-01-01",46,30,"*","*",31469,21754,"*","*",97,"*",313,"*","*",309,"*",null,null,null,14,48,null,48,null,48,null,null,88,311,null,null,null,null,null,null,"Region Syddanmark"]
[null,"Nordfyns",5688,"2022-01-01",42,20,0,22,27554,15832,"*",11722,44,5,200,"*","*",194,"*",null,null,null,null,36,0,36,null,36,null,null,47,176,null,null,null,null,null,null,"Region Syddanmark"]
[null,"Langeland",1626,"2022-01-01",13,10,0,3,7813,"*","*","*",42,"*",83,"*","*","*","*",null,null,null,3,15,null,15,null,15,null,null,13,76,null,null,null,null,null,null,"Region Syddanmark"]
[null,"Ærø",808,"2022-01-01",5,"*","*","*",3699,"*","*","*","*","*",8,"*","*","*","*",null,null,null,0,5,0,5,0,5,0,6,null,6,null,null,null,null,null,null,"Region Syddanmark"]
[null,"Haderslev",10610,"2022-01-01",24,"*","*",18,21881,"*","*",15266,146,23,231,"*","*",227,"*",null,null,null,6,28,0,28,6,28,null,null,101,238,null,null,null,null,null,null,"Region Syddanmark"]
[null,"Billund",5542,"2022-01-01",17,4,0,13,10661,"*","*","*",51,8,125,0,"*",121,"*",null,null,null,null,17,null,17,null,17,null,null,54,149,null,null,null,null,null,null,"Region Syddanmark"]
[null,"Sønderborg",13696,"2022-01-01",40,"*","*",23,23432,"*","*",6397,103,5,353,0,3,350,0,null,null,null,4,35,0,35,4,35,null,null,64,303,null,null,null,null,null,null,"Region Syddanmark"]
[null,"Tønder",6840,"2022-01-01",17,3,0,14,10208,"*","*","*",106,5,244,"*","*","*","*",null,null,null,9,24,3,24,6,24,null,null,51,257,null,null,null,null,null,null,"Region Syddanmark"]
[null,"Esbjerg",22644,"2022-01-01",141,73,"*","*",137089,78727,"*","*",127,27,637,0,6,628,3,null,null,null,21,146,null,146,null,146,22,611,145,620,null,null,null,null,null,null,"Region Syddanmark"]
[null,"Fanø",585,"2022-01-01",0,0,0,0,"*","*","*","*","*",0,"*",0,"*",0,0,null,null,null,null,null,null,null,null,null,null,null,null,null,null,null,null,null,null,null,"Region Syddanmark"]
[null,"Varde",9969,"2022-01-01",15,5,0,10,9311,4330,"*",4981,68,24,377,"*","*","*","*",null,null,null,null,10,0,10,null,10,null,null,115,413,null,null,null,null,null,null,"Region Syddanmark"]
[null,"Vejen",8922,"2022-01-01",30,"*","*",22,21554,"*","*",14303,67,6,190,"*","*","*","*",null,null,null,5,27,0,27,5,27,null,null,51,183,null,null,null,null,null,null,"Region Syddanmark"]
[null,"Aabenraa",11471,"2022-01-01",33,28,0,5,29118,28049,"*",1069,110,11,374,3,9,362,0,null,null,null,11,38,null,38,null,38,19,337,73,345,null,null,null,null,null,null,"Region Syddanmark"]
[null,"Fredericia",10079,"2022-01-01",19,"*","*",13,10922,"*","*",6533,75,14,320,0,5,312,3,null,null,null,4,18,0,18,4,18,null,null,90,312,null,null,null,null,null,null,"Region Syddanmark"]
[null,"Horsens",19883,"2022-01-01",60,7,0,53,29317,8188,"*",21129,115,25,333,0,15,312,6,null,null,null,20,71,null,71,null,71,19,359,131,369,null,null,null,null,null,null,"Region Midtjylland"]
[null,"Kolding",19581,"2022-01-01",27,12,0,15,15989,6396,"*",9593,104,13,339,"*","*","*","*",null,null,null,6,30,0,30,6,30,8,351,117,354,null,null,null,null,null,null,"Region Syddanmark"]
[null,"Vejle",25457,"2022-01-01",52,31,"*","*",19240,15151,"*","*",169,20,377,"*","*",366,"*",null,null,null,16,55,0,55,16,55,13,350,127,355,null,null,null,null,null,null,"Region Syddanmark"]
[null,"Herning",18668,"2022-01-01",25,15,"*","*",18777,13778,"*","*",102,21,381,0,"*",377,"*",null,null,null,4,23,0,23,4,23,5,346,103,350,null,null,null,null,null,null,"Region Midtjylland"]
[null,"Holstebro",12392,"2022-01-01",27,17,0,10,17954,12908,"*",5046,85,12,207,"*","*","*","*",null,null,null,4,29,0,29,4,29,null,null,57,210,null,null,null,null,null,null,"Region Midtjylland"]
[null,"Lemvig",3384,"2022-01-01",10,5,0,5,12591,8738,"*",3853,26,"*",80,"*","*","*","*",null,null,null,3,10,0,10,3,10,3,85,19,85,null,null,null,null,null,null,"Region Midtjylland"]
[null,"Struer",3838,"2022-01-01",9,"*","*","*",1887,"*","*","*",46,5,120,"*","*","*","*",null,null,null,null,6,0,6,null,6,null,null,20,120,null,null,null,null,null,null,"Region Midtjylland"]
[null,"Syddjurs",8606,"2022-01-01",21,"*","*",16,15472,"*","*",10342,62,11,383,"*","*",379,"*",null,null,null,null,18,0,18,null,18,null,null,47,374,null,null,null,null,null,null,"Region Midtjylland"]
[null,"Norddjurs",6371,"2022-01-01",39,28,"*","*",30710,22202,"*","*",72,7,226,"*","*","*","*",null,null,null,5,37,0,37,5,37,null,null,41,210,null,null,null,null,null,null,"Region Midtjylland"]
[null,"Favrskov",11743,"2022-01-01",39,22,"*","*",24306,14928,"*","*",54,3,188,"*","*",183,"*",null,null,null,10,40,0,40,10,40,6,180,33,183,null,null,null,null,null,null,"Region Midtjylland"]
[null,"Odder",4880,"2022-01-01",13,"*","*","*",5225,"*","*","*",11,3,133,"*","*","*","*",null,null,null,5,14,0,14,5,14,null,null,45,150,null,null,null,null,null,null,"Region Midtjylland"]
[null,"Randers",19480,"2022-01-01",48,24,"*","*",21477,12388,"*","*",132,21,331,"*","*",319,9,null,null,null,9,40,0,40,9,40,10,337,117,342,null,null,null,null,null,null,"Region Midtjylland"]
[null,"Silkeborg",21451,"2022-01-01",44,22,"*","*",23872,17072,"*","*",86,9,531,0,"*",528,"*",null,null,null,4,37,0,37,4,37,7,530,169,530,null,null,null,null,null,null,"Region Midtjylland"]
[null,"Samsø",525,"2022-01-01",5,"*","*","*",1506,"*","*","*",8,"*",17,0,0,17,0,null,null,null,0,4,0,4,0,4,0,16,5,16,null,null,null,null,null,null,"Region Midtjylland"]
[null,"Skanderborg",16250,"2022-01-01",19,6,0,13,11948,3364,"*",8584,42,6,212,"*","*","*","*",null,null,null,6,21,0,21,6,21,null,null,46,207,null,null,null,null,null,null,"Region Midtjylland"]
[null,"Aarhus",64049,"2022-01-01",161,109,14,38,176903,153357,3724,19822,214,22,1147,"*","*",1129,15,null,null,null,39,175,null,175,null,175,19,1221,366,1224,null,null,null,null,null,null,"Region Midtjylland"]
[null,"Ikast-Brande",8950,"2022-01-01",15,7,0,8,8708,3044,"*",5664,45,11,116,"*","*",113,"*",null,null,null,6,18,null,18,null,18,null,null,0,113,null,null,null,null,null,null,"Region Midtjylland"]
[null,"Ringkøbing-Skjern",11438,"2022-01-01",25,15,0,10,26932,22073,"*",4859,82,3,279,"*","*",275,"*",null,null,null,7,27,0,27,7,27,null,null,65,258,null,null,null,null,null,null,"Region Midtjylland"]
[null,"Hedensted",10014,"2022-01-01",32,8,0,24,29119,10180,"*",18939,25,"*",117,0,"*",114,"*",null,null,null,5,32,0,32,5,32,null,null,71,175,null,null,null,null,null,null,"Region Midtjylland"]
[null,"Morsø",3700,"2022-01-01",5,"*","*","*",1778,"*","*","*",49,7,62,"*","*","*","*",null,null,null,null,4,0,4,null,4,null,null,17,74,null,null,null,null,null,null,"Region Nordjylland"]
[null,"Skive",8357,"2022-01-01",20,11,0,9,15681,10908,"*",4773,59,11,202,"*","*","*","*",null,null,null,6,23,0,23,6,23,null,null,34,153,null,null,null,null,null,null,"Region Midtjylland"]
[null,"Thisted",8412,"2022-01-01",31,25,0,6,27903,23955,"*",3948,73,5,245,0,4,237,4,null,null,null,7,32,0,32,7,32,null,null,48,208,null,null,null,null,null,null,"Region Nordjylland"]
[null,"Viborg",20476,"2022-01-01",46,34,0,12,45834,42405,"*",3429,142,17,395,"*","*",379,11,null,null,null,8,45,null,45,null,45,8,372,124,379,null,null,null,null,null,null,"Region Midtjylland"]
[null,"Brønderslev",7737,"2022-01-01",24,5,0,19,13201,2981,"*",10220,104,7,172,"*","*","*","*",null,null,null,3,24,0,24,3,24,4,165,46,165,null,null,null,null,null,null,"Region Nordjylland"]
[null,"Frederikshavn",10155,"2022-01-01",51,31,"*","*",32078,22798,"*","*",102,15,289,"*","*",284,"*",null,null,null,6,44,0,44,6,44,null,null,59,274,null,null,null,null,null,null,"Region Nordjylland"]
[null,"Vesthimmerlands",7091,"2022-01-01",23,9,0,14,21987,5457,"*",16530,76,6,205,"*","*",202,"*",null,null,null,6,27,0,27,6,27,null,null,62,195,null,null,null,null,null,null,"Region Nordjylland"]
[null,"Læsø",223,"2022-01-01",0,0,0,0,"*","*","*","*","*",0,"*",0,0,4,0,null,null,null,null,null,null,null,null,null,0,3,null,null,null,null,null,null,null,null,"Region Nordjylland"]
[null,"Rebild",7239,"2022-01-01",13,8,0,5,8079,5148,"*",2931,35,4,113,"*","*","*","*",null,null,null,null,13,null,13,0,13,null,null,33,109,null,null,null,null,null,null,"Region Nordjylland"]
[null,"Mariagerfjord",7888,"2022-01-01",27,16,0,11,29070,16739,"*",12331,79,11,238,"*","*","*","*",null,null,null,4,27,0,27,4,27,null,null,47,217,null,null,null,null,null,null,"Region Nordjylland"]
[null,"Jammerbugt",7682,"2022-01-01",31,6,0,25,26168,10692,"*",15476,71,"*",199,"*","*",195,"*",null,null,null,3,27,0,27,3,27,6,197,57,200,null,null,null,null,null,null,"Region Nordjylland"]
[null,"Aalborg",39584,"2022-01-01",155,88,3,64,134342,79197,"*","*",277,42,1225,0,5,1215,5,null,null,null,23,152,0,152,23,152,28,1184,247,1196,null,null,null,null,null,null,"Region Nordjylland"]
[null,"Hjørring",12129,"2022-01-01",38,"*","*",24,30395,"*","*",12030,146,11,283,"*","*","*","*",null,null,null,5,38,0,38,5,38,3,259,90,259,null,null,null,null,null,null,"Region Nordjylland"]
[null,"København",110692,"2022-07-01",243,196,15,32,136329,99775,1764,34790,264,112,2419,9,11,2386,13,null,null,null,53,217,null,217,null,217,72,2281,572,2307,null,null,null,null,null,null,"Region Hovedstaden"]
[null,"Frederiksberg",17854,"2022-07-01",40,24,"*","*",25625,18838,"*","*",34,8,216,"*","*",209,"*",null,null,null,6,38,0,38,6,38,7,234,65,241,null,null,null,null,null,null,"Region Hovedstaden"]
[null,"Ballerup",10452,"2022-07-01",33,22,0,11,28007,17008,"*",10999,30,8,356,0,"*",352,"*",null,null,null,7,34,0,34,7,34,null,null,45,342,null,null,null,null,null,null,"Region Hovedstaden"]
[null,"Brøndby",7518,"2022-07-01",34,"*","*",25,14238,"*","*",10480,37,7,145,0,"*",141,"*",null,null,null,4,26,0,26,4,26,null,null,33,151,null,null,null,null,null,null,"Region Hovedstaden"]
[null,"Dragør",3412,"2022-07-01",6,3,0,3,5198,"*","*","*","*",0,64,"*","*","*","*",null,null,null,null,7,0,7,null,7,0,57,10,57,null,null,null,null,null,null,"Region Hovedstaden"]
[null,"Gentofte",16589,"2022-07-01",27,13,"*","*",27285,15329,"*","*",23,5,223,"*","*",219,"*",null,null,null,6,27,null,27,null,27,null,null,35,215,null,null,null,null,null,null,"Region Hovedstaden"]
[null,"Gladsaxe",15546,"2022-07-01",33,18,0,15,27382,16008,"*",11374,40,13,509,"*","*",502,"*",null,null,null,3,31,0,31,3,31,null,null,53,452,null,null,null,null,null,null,"Region Hovedstaden"]
[null,"Glostrup",4642,"2022-07-01",4,"*","*","*","*","*","*","*",14,8,95,0,3,92,0,null,null,null,0,4,0,4,0,4,null,null,16,94,null,null,null,null,null,null,"Region Hovedstaden"]
[null,"Herlev",6336,"2022-07-01",17,10,"*","*",15604,9162,"*","*",15,"*",155,"*","*","*","*",null,null,null,null,16,0,16,null,16,null,null,41,169,null,null,null,null,null,null,"Region Hovedstaden"]
[null,"Albertslund",5940,"2022-07-01",19,10,0,9,19984,9561,"*",10423,28,5,164,"*","*",157,"*",null,null,null,4,20,0,20,4,20,null,null,40,150,null,null,null,null,null,null,"Region Hovedstaden"]
[null,"Hvidovre",11929,"2022-07-01",45,26,"*","*",16013,10704,"*","*",44,12,232,"*","*",226,"*",null,null,null,6,41,null,41,null,41,5,224,61,230,null,null,null,null,null,null,"Region Hovedstaden"]
[null,"Høje-Taastrup",11541,"2022-07-01",31,13,3,15,34113,"*","*",19841,46,9,301,0,7,288,6,null,null,null,5,30,0,30,5,30,15,313,79,321,null,null,null,null,null,null,"Region Hovedstaden"]
[null,"Lyngby-Taarbæk",12109,"2022-07-01",24,10,0,14,15796,4095,"*",11701,22,5,225,0,"*",221,"*",null,null,null,8,26,0,26,8,26,null,null,43,216,null,null,null,null,null,null,"Region Hovedstaden"]
[null,"Rødovre",9044,"2022-07-01",17,9,0,8,18022,8187,"*",9835,22,5,200,"*","*",191,"*",null,null,null,4,20,0,20,4,20,null,null,46,194,null,null,null,null,null,null,"Region Hovedstaden"]
[null,"Ishøj",5056,"2022-07-01",21,"*","*","*",23751,"*","*","*",19,"*",169,0,0,162,7,null,null,null,3,21,0,21,3,21,4,169,31,169,null,null,null,null,null,null,"Region Hovedstaden"]
[null,"Tårnby",9681,"2022-07-01",13,7,0,6,11815,8623,"*",3192,30,0,123,0,4,119,0,null,null,null,0,10,0,10,0,10,6,72,9,76,null,null,null,null,null,null,"Region Hovedstaden"]
[null,"Vallensbæk",4030,"2022-07-01",8,5,0,3,3381,"*","*","*",9,"*",65,"*","*","*","*",null,null,null,0,3,0,3,0,3,null,null,17,60,null,null,null,null,null,null,"Region Hovedstaden"]
[null,"Furesø",10006,"2022-07-01",16,9,"*","*",8074,6218,"*","*",23,"*",182,"*","*",178,"*",null,null,null,null,14,0,14,null,14,null,null,68,195,null,null,null,null,null,null,"Region Hovedstaden"]
[null,"Allerød",6242,"2022-07-01",13,4,0,9,8635,"*","*","*",8,0,99,0,0,99,0,null,null,null,null,12,null,12,null,12,null,null,31,108,null,null,null,null,null,null,"Region Hovedstaden"]
[null,"Fredensborg",8976,"2022-07-01",24,"*","*",16,15186,"*","*",9968,21,"*",188,"*","*",180,"*",null,null,null,4,23,null,23,null,23,null,null,59,187,null,null,null,null,null,null,"Region Hovedstaden"]
[null,"Helsingør",12092,"2022-07-01",25,18,"*","*",35776,21845,"*","*",36,6,286,"*","*",274,7,null,null,null,5,26,0,26,5,26,null,null,51,268,null,null,null,null,null,null,"Region Hovedstaden"]
[null,"Hillerød",11440,"2022-07-01",32,"*","*",18,18164,"*","*",9074,20,12,238,"*","*",232,"*",null,null,null,5,33,0,33,5,33,null,null,41,235,null,null,null,null,null,null,"Region Hovedstaden"]
[null,"Hørsholm",5049,"2022-07-01",9,5,0,4,5736,"*","*","*",7,"*",49,"*","*","*","*",null,null,null,4,12,0,12,4,12,null,null,8,46,null,null,null,null,null,null,"Region Hovedstaden"]
[null,"Rudersdal",13097,"2022-07-01",13,9,0,4,14271,"*","*","*",38,7,163,0,"*",160,"*",null,null,null,3,15,0,15,3,15,null,null,32,162,null,null,null,null,null,null,"Region Hovedstaden"]
[null,"Egedal",10630,"2022-07-01",16,10,0,6,6185,2526,"*",3659,19,3,214,"*","*",207,"*",null,null,null,5,12,0,12,5,12,null,null,48,201,null,null,null,null,null,null,"Region Hovedstaden"]
[null,"Frederikssund",8806,"2022-07-01",23,9,3,11,9948,"*","*",1686,43,"*",255,"*","*",250,"*",null,null,null,3,17,0,17,3,17,null,null,77,281,null,null,null,null,null,null,"Region Hovedstaden"]
[null,"Greve",11290,"2022-07-01",32,12,0,20,20144,7466,"*",12678,36,"*",220,"*","*","*","*",null,null,null,8,35,0,35,8,35,null,null,59,229,null,null,null,null,null,null,"Region Sjælland"]
[null,"Køge",12665,"2022-07-01",26,12,0,14,23729,13767,"*",9962,78,11,346,"*",4,337,"*",null,null,null,3,26,0,26,3,26,null,null,74,320,null,null,null,null,null,null,"Region Sjælland"]
[null,"Halsnæs",5437,"2022-07-01",44,32,"*","*",25917,21243,"*","*",48,3,235,"*","*",230,"*",null,null,null,6,45,0,45,6,45,null,null,43,204,null,null,null,null,null,null,"Region Hovedstaden"]
[null,"Roskilde",18686,"2022-07-01",33,22,0,11,24715,19257,"*",5458,83,9,424,"*","*",420,"*",null,null,null,9,35,null,35,null,35,null,null,125,434,null,null,null,null,null,null,"Region Sjælland"]
[null,"Solrød",5682,"2022-07-01",13,"*","*","*",9393,"*","*","*",9,5,80,0,"*",77,"*",null,null,null,4,17,0,17,4,17,null,null,21,55,null,null,null,null,null,null,"Region Sjælland"]
[null,"Gribskov",7341,"2022-07-01",42,"*","*",21,24476,"*","*",12200,24,7,252,"*","*",247,"*",null,null,null,6,40,0,40,6,40,null,null,70,255,null,null,null,null,null,null,"Region Hovedstaden"]
[null,"Odsherred",5049,"2022-07-01",39,30,0,9,32464,22467,"*",9997,48,9,108,"*","*","*","*",null,null,null,5,38,0,38,5,38,null,null,32,116,null,null,null,null,null,null,"Region Sjælland"]
[null,"Holbæk",14764,"2022-07-01",41,"*","*","*",30767,"*","*","*",74,20,350,"*","*",346,"*",null,null,null,3,35,0,35,3,35,null,null,63,314,null,null,null,null,null,null,"Region Sjælland"]
[null,"Faxe",7003,"2022-07-01",51,13,0,38,37487,7647,"*",29840,52,13,313,"*",3,307,"*",null,null,null,11,56,null,56,null,56,null,null,41,309,null,null,null,null,null,null,"Region Sjælland"]
[null,"Kalundborg",8912,"2022-07-01",32,"*","*",23,33429,"*","*",20858,84,10,257,"*","*",248,"*",null,null,null,6,34,null,34,null,34,null,null,61,258,null,null,null,null,null,null,"Region Sjælland"]
[null,"Ringsted",7196,"2022-07-01",30,9,0,21,16016,6439,"*",9577,28,7,160,0,"*",157,"*",null,null,null,5,28,0,28,5,28,8,158,42,158,null,null,null,null,null,null,"Region Sjælland"]
[null,"Slagelse",14794,"2022-07-01",83,"*","*",61,68135,"*","*",42740,120,12,547,5,4,523,15,null,null,null,12,80,0,80,12,80,18,483,89,494,null,null,null,null,null,null,"Region Sjælland"]
[null,"Stevns",4456,"2022-07-01",10,6,0,4,10754,"*","*","*",22,"*",119,0,0,119,0,null,null,null,null,10,0,10,null,10,null,null,27,111,null,null,null,null,null,null,"Region Sjælland"]
[null,"Sorø",6110,"2022-07-01",16,5,0,11,7958,4855,"*",3103,30,9,146,"*","*",139,3,null,null,null,null,14,0,14,null,14,5,194,93,197,null,null,null,null,null,null,"Region Sjælland"]
[null,"Lejre",6425,"2022-07-01",14,8,0,6,12167,7003,"*",5164,22,3,114,0,0,114,0,null,null,null,null,14,0,14,null,14,0,127,42,130,null,null,null,null,null,null,"Region Sjælland"]
[null,"Lolland",6240,"2022-07-01",61,21,0,40,34367,14731,"*",19636,134,14,271,"*",3,265,"*",null,null,null,7,56,0,56,7,56,null,null,93,272,null,null,null,null,null,null,"Region Sjælland"]
[null,"Næstved",16249,"2022-07-01",103,"*","*",56,61263,"*","*",30699,67,6,347,"*","*",337,"*",null,null,null,17,108,4,108,13,108,null,null,107,367,null,null,null,null,null,null,"Region Sjælland"]
[null,"Guldborgsund",10134,"2022-07-01",81,"*","*",52,60426,"*","*",37688,112,21,366,"*",8,355,"*",null,null,null,14,81,0,81,14,81,null,null,76,371,null,null,null,null,null,null,"Region Sjælland"]
[null,"Vordingborg",7589,"2022-07-01",70,13,0,57,65984,10338,"*",55646,84,6,186,"*","*",178,"*",null,null,null,11,75,null,75,null,75,null,null,59,187,null,null,null,null,null,null,"Region Sjælland"]
[null,"Bornholm",6656,"2022-07-01",45,"*","*",25,25857,"*","*",8799,69,4,173,"*","*",167,"*",null,null,null,3,38,0,38,3,38,null,null,21,180,null,null,null,null,null,null,"Region Hovedstaden"]
[null,"Middelfart",7953,"2022-07-01",22,16,0,6,15434,11307,"*",4127,46,6,211,"*","*","*","*",null,null,null,3,23,null,23,null,23,null,null,40,205,null,null,null,null,null,null,"Region Syddanmark"]
[null,"Assens",7969,"2022-07-01",27,16,"*","*",17403,12713,"*","*",94,10,166,"*","*","*","*",null,null,null,4,20,0,20,4,20,null,null,47,181,null,null,null,null,null,null,"Region Syddanmark"]
[null,"Faaborg-Midtfyn",10326,"2022-07-01",46,19,0,27,23277,6909,"*",16368,80,11,202,0,4,198,0,null,null,null,5,40,0,40,5,40,9,211,58,215,null,null,null,null,null,null,"Region Syddanmark"]
[null,"Kerteminde",4517,"2022-07-01",14,11,0,3,17654,"*","*","*",23,5,136,"*","*",132,"*",null,null,null,4,16,0,16,4,16,null,null,24,125,null,null,null,null,null,null,"Region Syddanmark"]
[null,"Nyborg",6094,"2022-07-01",24,20,0,4,20142,"*","*","*",60,4,102,"*","*","*","*",null,null,null,null,21,0,21,null,21,null,null,34,105,null,null,null,null,null,null,"Region Syddanmark"]
[null,"Odense",37972,"2022-07-01",178,90,4,84,139882,68043,"*","*",223,26,1373,5,18,1346,4,null,null,null,14,163,null,163,null,163,42,1253,222,1278,null,null,null,null,null,null,"Region Syddanmark"]
[null,"Svendborg",11553,"2022-07-01",49,30,0,19,29686,22154,"*",7532,89,5,298,0,"*",295,"*",null,null,null,5,46,0,46,5,46,null,null,88,313,null,null,null,null,null,null,"Region Syddanmark"]
[null,"Nordfyns",5750,"2022-07-01",37,"*","*",19,25344,"*","*",10746,55,6,166,"*","*",158,"*",null,null,null,8,42,3,42,5,42,null,null,67,200,null,null,null,null,null,null,"Region Syddanmark"]
[null,"Langeland",1694,"2022-07-01",18,13,0,5,8855,7768,"*",1087,35,"*",82,0,0,82,0,null,null,null,null,13,0,13,null,13,null,null,16,83,null,null,null,null,null,null,"Region Syddanmark"]
[null,"Ærø",843,"2022-07-01",4,"*","*","*","*","*","*","*","*","*",8,"*","*","*","*",null,null,null,null,5,0,5,null,5,null,null,3,8,null,null,null,null,null,null,"Region Syddanmark"]
[null,"Haderslev",10671,"2022-07-01",24,8,0,16,19848,7364,"*",12484,138,22,199,0,"*",196,"*",null,null,null,5,24,0,24,5,24,null,null,113,231,null,null,null,null,null,null,"Region Syddanmark"]
[null,"Billund",5555,"2022-07-01",16,5,0,11,10277,4514,"*",5763,52,8,126,0,"*",123,"*",null,null,null,3,17,0,17,3,17,null,null,29,125,null,null,null,null,null,null,"Region Syddanmark"]
[null,"Sønderborg",13768,"2022-07-01",43,"*","*",27,23639,"*","*",9727,104,5,370,"*","*",366,"*",null,null,null,4,40,0,40,4,40,14,350,76,353,null,null,null,null,null,null,"Region Syddanmark"]
[null,"Tønder",6940,"2022-07-01",14,3,0,11,8360,"*","*","*",108,5,238,0,0,238,0,null,null,null,5,17,0,17,5,17,null,null,55,244,null,null,null,null,null,null,"Region Syddanmark"]
[null,"Esbjerg",22708,"2022-07-01",158,73,5,80,140479,73282,622,66575,122,29,630,"*","*",620,"*",null,null,null,16,141,null,141,null,141,32,631,131,637,null,null,null,null,null,null,"Region Syddanmark"]
[null,"Fanø",579,"2022-07-01",0,0,0,0,"*","*","*","*",0,0,"*",0,"*",0,0,null,null,null,0,0,0,0,0,0,null,null,null,null,null,null,null,null,null,null,"Region Syddanmark"]
[null,"Varde",10071,"2022-07-01",15,4,0,11,9345,"*","*","*",65,22,365,0,"*",362,"*",null,null,null,null,15,0,15,null,15,null,null,113,377,null,null,null,null,null,null,"Region Syddanmark"]
[null,"Vejen",8973,"2022-07-01",27,"*","*",19,20526,"*","*",12211,66,3,203,0,0,203,0,null,null,null,7,30,0,30,7,30,null,null,49,190,null,null,null,null,null,null,"Region Syddanmark"]
[null,"Aabenraa",11386,"2022-07-01",34,25,"*","*",22883,21033,"*","*",109,10,344,"*","*",337,"*",null,null,null,10,33,0,33,10,33,14,362,111,374,null,null,null,null,null,null,"Region Syddanmark"]
[null,"Fredericia",10051,"2022-07-01",25,"*","*",19,13123,"*","*",7849,80,14,319,0,6,310,3,null,null,null,null,19,null,19,0,19,10,315,79,320,null,null,null,null,null,null,"Region Syddanmark"]
[null,"Horsens",20111,"2022-07-01",68,"*","*",57,33870,"*","*",24214,112,29,374,"*",13,355,"*",null,null,null,9,60,3,60,6,60,17,318,126,333,null,null,null,null,null,null,"Region Midtjylland"]
[null,"Kolding",19714,"2022-07-01",32,15,0,17,17075,7920,"*",9155,101,12,338,"*","*","*","*",null,null,null,4,27,null,27,null,27,null,null,91,339,null,null,null,null,null,null,"Region Syddanmark"]
[null,"Vejle",25615,"2022-07-01",59,31,0,28,24740,18136,"*",6604,173,29,479,"*","*",463,"*",null,null,null,9,52,0,52,9,52,null,null,82,377,null,null,null,null,null,null,"Region Syddanmark"]
[null,"Herning",18824,"2022-07-01",23,16,"*","*",13481,9758,"*","*",104,20,310,"*","*",305,"*",null,null,null,7,25,0,25,7,25,null,null,176,381,null,null,null,null,null,null,"Region Midtjylland"]
[null,"Holstebro",12491,"2022-07-01",31,19,"*","*",18627,13907,"*","*",81,11,216,0,"*",213,"*",null,null,null,5,27,0,27,5,27,null,null,43,207,null,null,null,null,null,null,"Region Midtjylland"]
[null,"Lemvig",3431,"2022-07-01",9,4,0,5,12142,"*","*","*",22,3,76,"*","*","*","*",null,null,null,null,10,0,10,null,10,null,null,15,80,null,null,null,null,null,null,"Region Midtjylland"]
[null,"Struer",3824,"2022-07-01",9,"*","*","*",2178,"*","*","*",48,3,110,"*","*","*","*",null,null,null,null,9,0,9,null,9,null,null,32,120,null,null,null,null,null,null,"Region Midtjylland"]
[null,"Syddjurs",8708,"2022-07-01",28,"*","*",22,11292,"*","*",10413,58,13,213,"*","*",208,"*",null,null,null,5,21,0,21,5,21,null,null,207,383,null,null,null,null,null,null,"Region Midtjylland"]
[null,"Norddjurs",6348,"2022-07-01",41,27,"*","*",32219,21981,"*","*",72,8,216,"*","*","*","*",null,null,null,4,39,0,39,4,39,null,null,28,226,null,null,null,null,null,null,"Region Midtjylland"]
[null,"Favrskov",11788,"2022-07-01",39,23,"*","*",26428,17201,"*","*",49,3,177,"*","*",172,"*",null,null,null,4,39,0,39,4,39,null,null,40,188,null,null,null,null,null,null,"Region Midtjylland"]
[null,"Odder",4932,"2022-07-01",13,"*","*","*",6865,"*","*","*",12,4,121,"*","*","*","*",null,null,null,null,13,0,13,null,13,null,null,39,133,null,null,null,null,null,null,"Region Midtjylland"]
[null,"Randers",19608,"2022-07-01",59,30,"*","*",25235,15150,"*","*",134,19,341,"*","*",328,6,null,null,null,8,48,0,48,8,48,12,328,87,331,null,null,null,null,null,null,"Region Midtjylland"]
[null,"Silkeborg",21717,"2022-07-01",44,18,3,23,26331,"*","*",9021,86,8,570,"*","*",565,"*",null,null,null,7,44,null,44,null,44,null,null,128,531,null,null,null,null,null,null,"Region Midtjylland"]
[null,"Samsø",556,"2022-07-01",5,"*","*","*",1992,"*","*","*",7,3,26,0,0,26,0,null,null,null,null,5,0,5,null,5,0,17,3,17,null,null,null,null,null,null,"Region Midtjylland"]
[null,"Skanderborg",16388,"2022-07-01",22,"*","*",15,9746,"*","*",5402,43,6,214,"*","*","*","*",null,null,null,4,19,0,19,4,19,null,null,53,212,null,null,null,null,null,null,"Region Midtjylland"]
[null,"Aarhus",64356,"2022-07-01",174,109,17,48,184152,154573,5481,24098,217,22,1112,"*","*",1097,11,null,null,null,22,161,4,161,18,161,34,1144,331,1147,null,null,null,null,null,null,"Region Midtjylland"]
[null,"Ikast-Brande",9053,"2022-07-01",14,8,0,6,7098,4467,"*",2631,41,11,104,"*","*","*","*",null,null,null,4,15,0,15,4,15,null,null,10,116,null,null,null,null,null,null,"Region Midtjylland"]
[null,"Ringkøbing-Skjern",11453,"2022-07-01",38,18,0,20,28598,21048,"*",7550,78,3,260,"*","*","*","*",null,null,null,0,25,0,25,0,25,null,null,67,279,null,null,null,null,null,null,"Region Midtjylland"]
[null,"Hedensted",10080,"2022-07-01",29,8,0,21,32058,10038,"*",22020,24,"*",93,"*","*","*","*",null,null,null,5,32,null,32,null,32,null,null,29,117,null,null,null,null,null,null,"Region Midtjylland"]
[null,"Morsø",3673,"2022-07-01",7,"*","*","*",2625,"*","*","*",51,7,59,"*","*","*","*",null,null,null,0,5,0,5,0,5,null,null,15,62,null,null,null,null,null,null,"Region Nordjylland"]
[null,"Skive",8366,"2022-07-01",17,11,0,6,15372,12005,"*",3367,60,8,174,"*",0,171,"*",null,null,null,4,20,null,20,null,20,null,null,58,202,null,null,null,null,null,null,"Region Midtjylland"]
[null,"Thisted",8482,"2022-07-01",35,24,0,11,29403,24220,"*",5183,70,5,315,"*","*",311,"*",null,null,null,null,31,0,31,null,31,4,241,55,245,null,null,null,null,null,null,"Region Nordjylland"]
[null,"Viborg",20596,"2022-07-01",44,29,0,15,42814,39296,"*",3518,148,18,376,0,4,359,13,null,null,null,12,46,null,46,null,46,12,390,113,395,null,null,null,null,null,null,"Region Midtjylland"]
[null,"Brønderslev",7808,"2022-07-01",24,5,0,19,12929,3886,"*",9043,98,7,155,0,0,155,0,null,null,null,null,24,0,24,null,24,null,null,51,172,null,null,null,null,null,null,"Region Nordjylland"]
[null,"Frederikshavn",10221,"2022-07-01",55,32,"*","*",33670,24116,"*","*",109,11,278,"*",5,269,"*",null,null,null,8,51,0,51,8,51,null,null,63,289,null,null,null,null,null,null,"Region Nordjylland"]
[null,"Vesthimmerlands",7121,"2022-07-01",19,8,0,11,23029,6722,"*",16307,77,9,218,"*","*",215,0,null,null,null,5,23,0,23,5,23,null,null,54,205,null,null,null,null,null,null,"Region Nordjylland"]
[null,"Læsø",224,"2022-07-01",0,0,0,0,"*","*","*","*","*",0,"*",0,0,4,0,null,null,null,0,0,0,0,0,0,0,4,null,null,null,null,null,null,null,null,"Region Nordjylland"]
[null,"Rebild",7321,"2022-07-01",13,8,0,5,9500,5664,"*",3836,34,4,120,"*","*","*","*",null,null,null,null,13,0,13,null,13,null,null,45,113,null,null,null,null,null,null,"Region Nordjylland"]
[null,"Mariagerfjord",7918,"2022-07-01",27,14,0,13,28662,14516,"*",14146,83,10,228,"*","*","*","*",null,null,null,3,27,0,27,3,27,null,null,73,238,null,null,null,null,null,null,"Region Nordjylland"]
[null,"Jammerbugt",7701,"2022-07-01",35,6,0,29,27420,11778,"*",15642,65,3,208,0,0,205,3,null,null,null,5,31,0,31,5,31,null,null,45,199,null,null,null,null,null,null,"Region Nordjylland"]
[null,"Aalborg",39931,"2022-07-01",153,86,"*","*",126384,77338,"*","*",271,41,1295,"*","*",1282,7,null,null,null,28,155,3,155,25,155,20,1220,202,1225,null,null,null,null,null,null,"Region Nordjylland"]
[null,"Hjørring",12135,"2022-07-01",31,"*","*",15,27247,"*","*",9549,137,13,243,"*","*","*","*",null,null,null,13,38,0,38,13,38,null,null,99,283,null,null,null,null,null,null,"Region Nordjylland"]
[null,"København",110835,"2023-01-01",248,200,10,38,146245,115330,2455,28460,269,114,2424,10,13,2387,14,null,null,null,48,243,6,243,42,243,64,2399,614,2419,null,null,null,null,null,null,"Region Hovedstaden"]
[null,"Frederiksberg",17680,"2023-01-01",43,29,3,11,30543,22604,"*","*",35,12,190,3,"*",183,"*",null,null,null,3,40,0,40,3,40,null,null,61,216,null,null,null,null,null,null,"Region Hovedstaden"]
[null,"Ballerup",10477,"2023-01-01",30,20,"*","*",25976,19721,"*","*",29,6,358,0,4,348,6,null,null,null,3,33,0,33,3,33,null,null,62,356,null,null,null,null,null,null,"Region Hovedstaden"]
[null,"Brøndby",7634,"2023-01-01",39,14,0,25,17068,4774,"*",12294,36,5,150,0,6,141,3,null,null,null,7,34,3,34,4,34,null,null,35,145,null,null,null,null,null,null,"Region Hovedstaden"]
[null,"Dragør",3383,"2023-01-01",4,"*",0,"*","*","*","*","*","*",0,53,"*","*","*","*",null,null,null,null,6,0,6,null,6,null,null,14,64,null,null,null,null,null,null,"Region Hovedstaden"]
[null,"Gentofte",16546,"2023-01-01",21,11,0,10,25642,14840,"*",10802,25,6,237,4,"*",228,"*",null,null,null,8,27,0,27,8,27,null,null,36,223,null,null,null,null,null,null,"Region Hovedstaden"]
[null,"Gladsaxe",15618,"2023-01-01",31,20,0,11,27904,16734,"*",11170,41,13,582,"*",8,570,"*",null,null,null,6,33,null,33,null,33,null,null,21,509,null,null,null,null,null,null,"Region Hovedstaden"]
[null,"Glostrup",4668,"2023-01-01",3,"*",0,"*","*","*","*","*",12,7,98,"*","*",93,"*",null,null,null,null,4,0,4,null,4,5,92,18,95,null,null,null,null,null,null,"Region Hovedstaden"]
[null,"Herlev",6387,"2023-01-01",16,10,"*","*",11152,6221,"*","*",14,"*",152,"*","*","*","*",null,null,null,5,17,0,17,5,17,null,null,31,155,null,null,null,null,null,null,"Region Hovedstaden"]
[null,"Albertslund",5886,"2023-01-01",19,6,0,13,20394,8372,"*",12022,26,5,146,"*","*",140,"*",null,null,null,5,19,0,19,5,19,null,null,60,164,null,null,null,null,null,null,"Region Hovedstaden"]
[null,"Hvidovre",11908,"2023-01-01",39,"*","*",20,16071,"*","*",6761,47,12,220,"*","*",212,"*",null,null,null,10,45,3,45,7,45,null,null,64,232,null,null,null,null,null,null,"Region Hovedstaden"]
[null,"Høje-Taastrup",11732,"2023-01-01",28,14,"*","*",34324,15169,"*","*",46,11,287,0,5,279,3,null,null,null,5,31,0,31,5,31,7,294,96,301,null,null,null,null,null,null,"Region Hovedstaden"]
[null,"Lyngby-Taarbæk",12088,"2023-01-01",26,14,0,12,16747,5269,"*",11478,20,4,229,0,"*",225,"*",null,null,null,6,24,0,24,6,24,null,null,43,225,null,null,null,null,null,null,"Region Hovedstaden"]
[null,"Rødovre",9198,"2023-01-01",14,8,0,6,15862,5624,"*",10238,21,5,178,"*","*",170,"*",null,null,null,5,17,0,17,5,17,null,null,42,200,null,null,null,null,null,null,"Region Hovedstaden"]
[null,"Ishøj",5074,"2023-01-01",21,"*","*","*",25822,"*","*","*",20,"*",161,0,0,155,6,null,null,null,null,21,0,21,null,21,null,null,28,169,null,null,null,null,null,null,"Region Hovedstaden"]
[null,"Tårnby",9693,"2023-01-01",15,8,0,7,13633,9834,"*",3799,29,0,128,"*","*",124,"*",null,null,null,null,13,0,13,null,13,3,119,24,123,null,null,null,null,null,null,"Region Hovedstaden"]
[null,"Vallensbæk",4104,"2023-01-01",7,4,0,3,4399,"*","*","*",9,"*",74,"*","*","*","*",null,null,null,3,8,0,8,3,8,null,null,15,65,null,null,null,null,null,null,"Region Hovedstaden"]
[null,"Furesø",10062,"2023-01-01",14,7,"*","*",7052,5178,"*","*",23,"*",188,"*","*",185,0,null,null,null,5,16,0,16,5,16,null,null,40,182,null,null,null,null,null,null,"Region Hovedstaden"]
[null,"Allerød",6251,"2023-01-01",13,3,0,10,10084,"*","*","*",8,0,106,0,0,106,0,null,null,null,null,13,0,13,null,13,null,null,21,99,null,null,null,null,null,null,"Region Hovedstaden"]
[null,"Fredensborg",9008,"2023-01-01",26,"*","*",15,15104,"*","*",8287,21,5,200,"*","*",195,"*",null,null,null,3,24,0,24,3,24,null,null,40,188,null,null,null,null,null,null,"Region Hovedstaden"]
[null,"Helsingør",12073,"2023-01-01",26,18,"*","*",33657,18333,"*","*",36,6,303,"*","*",291,9,null,null,null,3,25,0,25,3,25,5,281,54,286,null,null,null,null,null,null,"Region Hovedstaden"]
[null,"Hillerød",11419,"2023-01-01",31,13,0,18,19169,10145,"*",9024,22,14,242,"*","*",235,4,null,null,null,7,32,0,32,7,32,null,null,42,238,null,null,null,null,null,null,"Region Hovedstaden"]
[null,"Hørsholm",5029,"2023-01-01",12,7,0,5,7700,4164,"*",3536,7,0,57,"*","*","*","*",null,null,null,0,9,0,9,0,9,null,null,10,49,null,null,null,null,null,null,"Region Hovedstaden"]
[null,"Rudersdal",12981,"2023-01-01",15,10,0,5,15809,14048,"*",1761,35,6,182,"*","*",176,"*",null,null,null,null,13,null,13,null,13,null,null,29,163,null,null,null,null,null,null,"Region Hovedstaden"]
[null,"Egedal",10571,"2023-01-01",11,8,0,3,4798,"*","*","*",19,"*",236,"*","*",229,"*",null,null,null,6,16,0,16,6,16,null,null,44,214,null,null,null,null,null,null,"Region Hovedstaden"]
[null,"Frederikssund",8752,"2023-01-01",21,"*","*",12,12472,"*","*",3174,45,"*",276,0,4,269,3,null,null,null,5,23,0,23,5,23,null,null,57,255,null,null,null,null,null,null,"Region Hovedstaden"]
[null,"Greve",11278,"2023-01-01",29,15,0,14,18202,9259,"*",8943,34,"*",198,4,0,194,0,null,null,null,13,32,0,32,13,32,null,null,78,220,null,null,null,null,null,null,"Region Sjælland"]
[null,"Køge",12634,"2023-01-01",26,12,0,14,25827,14010,"*",11817,75,11,366,"*","*",358,"*",null,null,null,null,26,null,26,null,26,null,null,88,346,null,null,null,null,null,null,"Region Sjælland"]
[null,"Halsnæs",5417,"2023-01-01",44,33,"*","*",30096,24912,"*","*",43,3,229,0,"*",225,"*",null,null,null,6,44,0,44,6,44,null,null,73,235,null,null,null,null,null,null,"Region Hovedstaden"]
[null,"Roskilde",18611,"2023-01-01",33,20,0,13,28254,21862,"*",6392,76,9,447,0,3,441,3,null,null,null,7,33,0,33,7,33,null,null,136,424,null,null,null,null,null,null,"Region Sjælland"]
[null,"Solrød",5707,"2023-01-01",16,"*","*","*",9641,"*","*","*",7,5,78,0,0,75,3,null,null,null,null,13,0,13,null,13,null,null,30,80,null,null,null,null,null,null,"Region Sjælland"]
[null,"Gribskov",7314,"2023-01-01",50,25,"*","*",30098,14913,"*","*",26,6,246,0,"*",243,"*",null,null,null,3,42,0,42,3,42,null,null,79,252,null,null,null,null,null,null,"Region Hovedstaden"]
[null,"Odsherred",5036,"2023-01-01",38,28,"*","*",29704,20053,"*","*",48,9,109,"*","*",104,"*",null,null,null,6,39,0,39,6,39,null,null,24,108,null,null,null,null,null,null,"Region Sjælland"]
[null,"Holbæk",14810,"2023-01-01",39,4,0,35,30113,"*","*","*",66,25,334,"*","*","*","*",null,null,null,7,41,0,41,7,41,null,null,85,350,null,null,null,null,null,null,"Region Sjælland"]
[null,"Faxe",6969,"2023-01-01",43,"*","*",32,35869,"*","*",27733,53,13,302,"*","*",291,5,null,null,null,10,51,null,51,null,51,null,null,79,313,null,null,null,null,null,null,"Region Sjælland"]
[null,"Kalundborg",8829,"2023-01-01",29,"*","*",18,29688,"*","*",20162,79,11,266,0,6,260,0,null,null,null,7,32,null,32,null,32,null,null,61,257,null,null,null,null,null,null,"Region Sjælland"]
[null,"Ringsted",7206,"2023-01-01",32,10,0,22,16146,5219,"*",10927,26,6,165,0,"*",162,"*",null,null,null,6,30,0,30,6,30,null,null,50,160,null,null,null,null,null,null,"Region Sjælland"]
[null,"Slagelse",14696,"2023-01-01",72,17,0,55,71180,26258,"*",44922,122,13,468,"*","*",445,17,null,null,null,14,83,null,83,null,83,15,538,150,547,null,null,null,null,null,null,"Region Sjælland"]
[null,"Stevns",4435,"2023-01-01",9,5,0,4,10656,"*","*","*",21,4,130,0,0,130,0,null,null,null,null,10,null,10,null,10,0,119,31,119,null,null,null,null,null,null,"Region Sjælland"]
[null,"Sorø",6215,"2023-01-01",16,"*","*",12,9115,"*","*",4660,30,13,155,"*","*",151,"*",null,null,null,null,16,0,16,null,16,7,142,39,146,null,null,null,null,null,null,"Region Sjælland"]
[null,"Lejre",6370,"2023-01-01",18,11,0,7,15082,8782,"*",6300,22,5,121,"*","*","*","*",null,null,null,0,14,0,14,0,14,4,114,22,114,null,null,null,null,null,null,"Region Sjælland"]
[null,"Lolland",6203,"2023-01-01",56,"*","*",32,34304,"*","*",16825,136,15,290,0,5,282,3,null,null,null,14,61,0,61,14,61,null,null,70,271,null,null,null,null,null,null,"Region Sjælland"]
[null,"Næstved",16092,"2023-01-01",113,39,4,70,66060,"*","*",35017,66,5,365,4,9,352,0,null,null,null,15,103,3,103,12,103,null,null,88,347,null,null,null,null,null,null,"Region Sjælland"]
[null,"Guldborgsund",10102,"2023-01-01",86,28,0,58,60218,19998,"*",40220,113,19,362,"*",7,351,"*",null,null,null,14,81,0,81,14,81,null,null,73,366,null,null,null,null,null,null,"Region Sjælland"]
[null,"Vordingborg",7526,"2023-01-01",68,11,0,57,66661,11119,"*",55542,85,5,183,0,7,176,0,null,null,null,8,70,null,70,null,70,null,null,67,186,null,null,null,null,null,null,"Region Sjælland"]
[null,"Bornholm",6579,"2023-01-01",47,"*","*",25,25400,"*","*",9211,72,4,186,0,0,181,5,null,null,null,8,45,0,45,8,45,null,null,28,173,null,null,null,null,null,null,"Region Hovedstaden"]
[null,"Middelfart",7921,"2023-01-01",22,14,"*","*",11649,8738,"*","*",46,7,223,"*","*","*","*",null,null,null,3,22,null,22,null,22,null,null,51,211,null,null,null,null,null,null,"Region Syddanmark"]
[null,"Assens",7933,"2023-01-01",25,19,0,6,18063,13135,"*",4928,88,12,189,"*","*",184,"*",null,null,null,8,27,0,27,8,27,null,null,37,166,null,null,null,null,null,null,"Region Syddanmark"]
[null,"Faaborg-Midtfyn",10268,"2023-01-01",55,24,0,31,28319,9547,"*",18772,84,9,221,"*","*","*","*",null,null,null,5,46,null,46,null,46,13,198,49,202,null,null,null,null,null,null,"Region Syddanmark"]
[null,"Kerteminde",4491,"2023-01-01",14,10,0,4,15046,"*","*","*",19,5,151,"*","*",147,"*",null,null,null,null,14,0,14,null,14,null,null,23,136,null,null,null,null,null,null,"Region Syddanmark"]
[null,"Nyborg",6080,"2023-01-01",22,19,0,3,19700,"*","*","*",56,4,100,"*","*","*","*",null,null,null,4,24,0,24,4,24,null,null,38,102,null,null,null,null,null,null,"Region Syddanmark"]
[null,"Odense",37807,"2023-01-01",184,90,5,89,146815,78072,1212,67531,223,26,1431,"*",13,1413,"*",null,null,null,22,178,0,178,22,178,34,1350,275,1373,null,null,null,null,null,null,"Region Syddanmark"]
[null,"Svendborg",11658,"2023-01-01",58,35,"*","*",36172,26209,"*","*",80,5,323,0,3,320,0,null,null,null,5,49,0,49,5,49,null,null,68,298,null,null,null,null,null,null,"Region Syddanmark"]
[null,"Nordfyns",5720,"2023-01-01",32,16,"*","*",24300,14986,"*","*",56,6,136,0,5,127,4,null,null,null,8,37,null,37,null,37,null,null,67,166,null,null,null,null,null,null,"Region Syddanmark"]
[null,"Langeland",1640,"2023-01-01",16,12,0,4,10625,"*","*","*",35,"*",74,0,0,74,0,null,null,null,3,18,null,18,null,18,0,82,20,82,null,null,null,null,null,null,"Region Syddanmark"]
[null,"Ærø",829,"2023-01-01",4,"*","*","*","*","*","*","*","*","*",7,0,0,7,0,null,null,null,0,4,0,4,0,4,null,null,null,8,null,null,null,null,null,null,"Region Syddanmark"]
[null,"Haderslev",10549,"2023-01-01",34,"*","*",25,22994,"*","*",14045,135,24,204,0,4,200,0,null,null,null,null,24,0,24,null,24,null,null,85,199,null,null,null,null,null,null,"Region Syddanmark"]
[null,"Billund",5578,"2023-01-01",19,7,0,12,12622,5489,"*",7133,54,7,128,"*","*","*","*",null,null,null,null,16,0,16,null,16,null,null,42,126,null,null,null,null,null,null,"Region Syddanmark"]
[null,"Sønderborg",13797,"2023-01-01",39,"*","*",26,22065,"*","*",11098,105,5,351,"*","*",346,"*",null,null,null,10,43,null,43,null,43,null,null,121,370,null,null,null,null,null,null,"Region Syddanmark"]
[null,"Tønder",6872,"2023-01-01",20,8,0,12,8717,1164,"*",7553,107,5,220,"*","*","*","*",null,null,null,4,14,0,14,4,14,8,238,41,238,null,null,null,null,null,null,"Region Syddanmark"]
[null,"Esbjerg",22568,"2023-01-01",141,"*","*",72,139831,"*","*",70064,120,25,671,"*","*",663,"*",null,null,null,34,158,0,158,34,158,null,null,141,630,null,null,null,null,null,null,"Region Syddanmark"]
[null,"Fanø",580,"2023-01-01",0,0,0,0,"*","*","*","*",0,0,3,0,"*","*",0,null,null,null,0,0,0,0,0,0,null,null,null,null,null,null,null,null,null,null,"Region Syddanmark"]
[null,"Varde",10028,"2023-01-01",16,"*","*","*",10229,"*","*","*",65,25,331,0,"*",328,"*",null,null,null,null,15,0,15,null,15,null,null,111,365,null,null,null,null,null,null,"Region Syddanmark"]
[null,"Vejen",8948,"2023-01-01",30,"*","*",21,23884,"*","*",14171,66,3,183,"*","*","*","*",null,null,null,3,27,0,27,3,27,null,null,65,203,null,null,null,null,null,null,"Region Syddanmark"]
[null,"Aabenraa",11416,"2023-01-01",34,21,"*","*",19992,16054,"*","*",103,12,325,3,"*",317,"*",null,null,null,7,34,0,34,7,34,null,null,92,344,null,null,null,null,null,null,"Region Syddanmark"]
[null,"Fredericia",10021,"2023-01-01",23,7,0,16,12820,4326,"*",8494,82,15,328,"*","*",323,"*",null,null,null,8,25,0,25,8,25,11,313,85,319,null,null,null,null,null,null,"Region Syddanmark"]
[null,"Horsens",20325,"2023-01-01",65,11,0,54,30197,7545,"*",22652,107,27,338,0,10,325,3,null,null,null,15,68,null,68,null,68,null,null,119,374,null,null,null,null,null,null,"Region Midtjylland"]
[null,"Kolding",19604,"2023-01-01",33,13,0,20,14326,9487,"*",4839,103,12,348,0,0,348,0,null,null,null,8,32,null,32,null,32,null,null,94,338,null,null,null,null,null,null,"Region Syddanmark"]
[null,"Vejle",25719,"2023-01-01",55,23,0,32,26411,17718,"*",8693,172,28,542,"*","*",525,"*",null,null,null,16,59,4,59,12,59,null,null,140,479,null,null,null,null,null,null,"Region Syddanmark"]
[null,"Herning",18735,"2023-01-01",30,20,"*","*",11660,8176,"*","*",102,22,326,0,8,315,3,null,null,null,7,23,null,23,null,23,null,null,112,310,null,null,null,null,null,null,"Region Midtjylland"]
[null,"Holstebro",12497,"2023-01-01",33,19,3,11,21260,14678,"*","*",86,15,182,"*","*","*","*",null,null,null,4,31,null,31,null,31,null,null,87,216,null,null,null,null,null,null,"Region Midtjylland"]
[null,"Lemvig",3392,"2023-01-01",9,5,0,4,13377,"*","*","*",19,3,85,"*","*","*","*",null,null,null,null,9,0,9,null,9,null,null,9,76,null,null,null,null,null,null,"Region Midtjylland"]
[null,"Struer",3793,"2023-01-01",9,3,0,6,2555,"*","*","*",46,3,98,"*","*","*","*",null,null,null,null,9,0,9,null,9,null,null,31,110,null,null,null,null,null,null,"Region Midtjylland"]
[null,"Syddjurs",8709,"2023-01-01",26,5,0,21,11465,1536,"*",9929,60,12,255,"*","*",250,"*",null,null,null,7,28,null,28,null,28,null,null,36,213,null,null,null,null,null,null,"Region Midtjylland"]
[null,"Norddjurs",6388,"2023-01-01",40,26,"*","*",34438,22509,"*","*",73,7,213,0,"*",209,"*",null,null,null,4,41,0,41,4,41,null,null,32,216,null,null,null,null,null,null,"Region Midtjylland"]
[null,"Favrskov",11794,"2023-01-01",38,22,"*","*",28919,19934,"*","*",45,5,165,"*","*",160,"*",null,null,null,5,39,0,39,5,39,null,null,45,177,null,null,null,null,null,null,"Region Midtjylland"]
[null,"Odder",4883,"2023-01-01",12,"*","*",9,6414,"*","*",5166,13,3,121,"*","*","*","*",null,null,null,null,13,null,13,null,13,null,null,40,121,null,null,null,null,null,null,"Region Midtjylland"]
[null,"Randers",19535,"2023-01-01",65,32,0,33,29843,18360,"*",11483,130,18,355,3,0,347,5,null,null,null,6,59,0,59,6,59,9,334,112,341,null,null,null,null,null,null,"Region Midtjylland"]
[null,"Silkeborg",21831,"2023-01-01",40,"*","*",23,28590,"*","*",12851,89,14,492,"*","*",487,"*",null,null,null,5,44,null,44,null,44,null,null,230,570,null,null,null,null,null,null,"Region Midtjylland"]
[null,"Samsø",577,"2023-01-01",5,"*","*","*",2912,"*","*","*",7,"*",34,"*","*","*","*",null,null,null,0,5,0,5,0,5,null,null,null,26,null,null,null,null,null,null,"Region Midtjylland"]
[null,"Skanderborg",16422,"2023-01-01",18,"*","*",13,8550,"*","*",5109,42,6,202,"*",0,199,"*",null,null,null,6,22,0,22,6,22,null,null,58,214,null,null,null,null,null,null,"Region Midtjylland"]
[null,"Aarhus",64420,"2023-01-01",168,110,14,44,174335,147751,5754,20830,205,25,1086,0,0,1071,15,null,null,null,32,174,0,174,32,174,24,1108,325,1112,null,null,null,null,null,null,"Region Midtjylland"]
[null,"Ikast-Brande",9092,"2023-01-01",12,6,0,6,8184,4716,"*",3468,44,10,97,"*","*",93,"*",null,null,null,3,14,null,14,null,14,null,null,9,104,null,null,null,null,null,null,"Region Midtjylland"]
[null,"Ringkøbing-Skjern",11384,"2023-01-01",42,19,0,23,33293,23133,"*",10160,68,3,275,0,0,275,0,null,null,null,4,38,0,38,4,38,null,null,59,260,null,null,null,null,null,null,"Region Midtjylland"]
[null,"Hedensted",10006,"2023-01-01",34,10,0,24,33946,11820,"*",22126,24,"*",86,"*","*","*","*",null,null,null,5,29,0,29,5,29,null,null,18,93,null,null,null,null,null,null,"Region Midtjylland"]
[null,"Morsø",3666,"2023-01-01",8,"*","*","*",2233,"*","*","*",49,6,53,"*","*","*","*",null,null,null,3,7,0,7,3,7,null,null,19,59,null,null,null,null,null,null,"Region Nordjylland"]
[null,"Skive",8261,"2023-01-01",19,"*","*",9,15683,"*","*",3169,60,6,163,0,"*",160,"*",null,null,null,3,17,0,17,3,17,null,null,51,174,null,null,null,null,null,null,"Region Midtjylland"]
[null,"Thisted",8451,"2023-01-01",36,25,0,11,31175,25436,"*",5739,71,7,318,"*","*",310,4,null,null,null,5,35,0,35,5,35,null,null,87,315,null,null,null,null,null,null,"Region Nordjylland"]
[null,"Viborg",20466,"2023-01-01",52,39,0,13,45902,41301,"*",4601,141,18,389,3,3,374,9,null,null,null,3,44,0,44,3,44,8,372,127,376,null,null,null,null,null,null,"Region Midtjylland"]
[null,"Brønderslev",7789,"2023-01-01",19,"*","*",13,13510,"*","*",8611,96,5,190,"*","*","*","*",null,null,null,7,24,0,24,7,24,null,null,44,155,null,null,null,null,null,null,"Region Nordjylland"]
[null,"Frederikshavn",10111,"2023-01-01",62,31,"*","*",33771,22642,"*","*",110,18,291,"*","*",282,"*",null,null,null,10,55,5,55,5,55,null,null,80,278,null,null,null,null,null,null,"Region Nordjylland"]
[null,"Vesthimmerlands",7078,"2023-01-01",22,9,0,13,18357,6450,"*",11907,75,10,208,"*","*",198,"*",null,null,null,3,19,0,19,3,19,12,215,77,218,null,null,null,null,null,null,"Region Nordjylland"]
[null,"Læsø",224,"2023-01-01",0,0,0,0,"*","*","*","*","*",0,6,0,0,6,0,null,null,null,0,0,0,0,0,0,0,4,null,null,null,null,null,null,null,null,"Region Nordjylland"]
[null,"Rebild",7346,"2023-01-01",11,7,0,4,9870,"*","*","*",34,4,118,"*","*","*","*",null,null,null,null,13,0,13,null,13,null,null,30,120,null,null,null,null,null,null,"Region Nordjylland"]
[null,"Mariagerfjord",7887,"2023-01-01",26,13,0,13,28447,16068,"*",12379,83,12,244,"*",0,241,"*",null,null,null,3,27,0,27,3,27,null,null,49,228,null,null,null,null,null,null,"Region Nordjylland"]
[null,"Jammerbugt",7612,"2023-01-01",42,8,0,34,30599,13064,"*",17535,69,3,217,0,0,213,4,null,null,null,4,35,0,35,4,35,5,208,57,208,null,null,null,null,null,null,"Region Nordjylland"]
[null,"Aalborg",40001,"2023-01-01",149,81,"*","*",124038,81177,"*","*",264,36,1248,0,3,1241,4,null,null,null,23,153,null,153,null,153,25,1289,297,1295,null,null,null,null,null,null,"Region Nordjylland"]
[null,"Hjørring",12026,"2023-01-01",27,14,"*","*",18653,12869,"*","*",132,13,249,0,3,246,0,null,null,null,11,31,null,31,null,31,null,null,95,243,null,null,null,null,null,null,"Region Nordjylland"]
[]
[]
[]
[]
[null,"Variable til brug for nøgletal 1-4, 5.2 samt 7",null,null,1,"1.1","1.2","1.3",2,"2.1","2.2","2.3",3,4,5,"5.1","5.2","5.3","5.4",6,"6.1","6.2",7,7,"7.1",null,"7.2",null,8,8,9,9,10,10,"10.1","10.1","10.2","10.2"]
[null,"Region","Antal indbyggere","År","Antal institutionsanbragte (udregnes i hjælpetabellen)","Antal anbragte på døgninstitution","Antal anbragte på sikret døgninstitution","Antal anbragte på socialpædagogiske opholdssteder","Varighed igangværende institutionsanbringelser","Varighed igangværende anbringelser på døgninstitution","Varighed igangværende anbringelser på sikret døgninstitution","Varighed igangværende anbringelser på socialpædagogisk opholdssted","Antal anbragte i plejefamilier","Antal anbragte i netværksplejefamilier","Antal modtagere af hjemmebaserede foranstaltninger","Antal modtagere af døgnophold","Antal modtagere af hjemmebaserede anbringelser","Antal modtagere af forebyggende foranstaltninger","Antal modtagere af forældrerettede indsatser","Forebyggende indsatser (§ 11, stk. 3-tilbud)","Myndighedsbevilgede § 11, stk. 3-tilbud (pr. 1.000 0-17-årige)","Øvrige § 11, stk. 3-tilbud (pr. 1.000 0-17-årige)","Antal institutionsanbragte 0-17 årige, og som nu ikke er anbragt på denne form (udregnes i hjælpetabellen)","Antal institutionsanbragte 0-17 årige pr. forrige kvartal","0-17 årige, der ved sidste opgørelse var institutionsanbragt, men nu er anbragt i anden form","Antal 0-17-årige institutionsanbragte forrige opgørelse","0-17 årige, der ved sidste opgørelse var institutionsanbragt, men nu ikke er anbragt","Antal 0-17-årige institutionsanbragte forrige opgørelse","0-17-årige, der ved sidste opgørelse modtog en hjemmebaseret foranstaltning, som nu er anbragt","Antal 0-17-årige, der modtog hjemmebaseret foranstaltning, og ikke var anbragt pr. forrige opgørelse","0-17-årige, der ved sidste opgørelse modtog hjemmebaseret foranstaltning, men som nu hverken modtager hjemmebaseret foranstaltning eller er anbragt","Antal 0-17-årige som ved forrige opgørelse modtog hjemmebaseret foranstaltning","Andel børn og unge, der har modtaget en § 11, stk. 3-indsats inden for de første 6 måneder af året, hvor der efterfølgende træffes en afgørelse om en § 50 undersøgelse i alt","Antal 0-17-årige der inden for de første 6 måneder har påbegyndt en § 11, stk. 3-indsats","Børn der har modtaget en myndighedsbevilget § 11, stk. 3-indsats inden for de første 6 måneder af året, hvor der efterfølgende træffes en afgørelse om en § 50 undersøgelse","Antal 0-17-årige der inden for de første 6 måneder har påbegyndt en myndighedsbevilget § 11, stk. 3-indsats","Børn der har modtaget en ikke-myndighedsbevilget § 11, stk. 3-indsats inden for de første 6 måneder af året, hvor der efterfølgende træffes en afgørelse om en § 50 undersøgelse","Antal 0-17-årige der inden for de første 6 måneder har påbegyndt en ikke-myndighedsbevilget § 11, stk. 3-indsats"]
[null,"Region Hovedstaden",null,"2015-07-01"]
[null,"Region Midtjylland",null,"2015-07-01"]
[null,"Region Nordjylland",null,"2015-07-01"]
[null,"Region Sjælland",null,"2015-07-01"]
[null,"Region Syddanmark",null,"2015-07-01"]
[null,"Region Hovedstaden",null,"2016-01-01"]
[null,"Region Midtjylland",null,"2016-01-01"]
[null,"Region Nordjylland",null,"2016-01-01"]
[null,"Region Sjælland",null,"2016-01-01"]
[null,"Region Syddanmark",null,"2016-01-01"]
[null,"Region Hovedstaden",null,"2016-07-01"]
[null,"Region Midtjylland",null,"2016-07-01"]
[null,"Region Nordjylland",null,"2016-07-01"]
[null,"Region Sjælland",null,"2016-07-01"]
[null,"Region Syddanmark",null,"2016-07-01"]
[null,"Region Hovedstaden",null,"2017-01-01"]
[null,"Region Midtjylland",null,"2017-01-01"]
[null,"Region Nordjylland",null,"2017-01-01"]
[null,"Region Sjælland",null,"2017-01-01"]
[null,"Region Syddanmark",null,"2017-01-01"]
[null,"Region Hovedstaden",null,"2017-07-01"]
[null,"Region Midtjylland",null,"2017-07-01"]
[null,"Region Nordjylland",null,"2017-07-01"]
[null,"Region Sjælland",null,"2017-07-01"]
[null,"Region Syddanmark",null,"2017-07-01"]
[null,"Region Hovedstaden",null,"2018-01-01"]
[null,"Region Midtjylland",null,"2018-01-01"]
[null,"Region Nordjylland",null,"2018-01-01"]
[null,"Region Sjælland",null,"2018-01-01"]
[null,"Region Syddanmark",null,"2018-01-01"]
[null,"Region Hovedstaden",null,"2018-07-01"]
[null,"Region Midtjylland",null,"2018-07-01"]
[null,"Region Nordjylland",null,"2018-07-01"]
[null,"Region Sjælland",null,"2018-07-01"]
[null,"Region Syddanmark",null,"2018-07-01"]
[null,"Region Hovedstaden",null,"2019-01-01"]
[null,"Region Midtjylland",null,"2019-01-01"]
[null,"Region Nordjylland",null,"2019-01-01"]
[null,"Region Sjælland",null,"2019-01-01"]
[null,"Region Syddanmark",null,"2019-01-01"]
[null,"Region Hovedstaden",null,"2019-07-01"]
[null,"Region Midtjylland",null,"2019-07-01"]
[null,"Region Nordjylland",null,"2019-07-01"]
[null,"Region Sjælland",null,"2019-07-01"]
[null,"Region Syddanmark",null,"2019-07-01"]
[null,"Region Hovedstaden",null,"2020-01-01"]
[null,"Region Midtjylland",null,"2020-01-01"]
[null,"Region Nordjylland",null,"2020-01-01"]
[null,"Region Sjælland",null,"2020-01-01"]
[null,"Region Syddanmark",null,"2020-01-01"]
[]
[]
[]
[]
[]
[]
[]
[]
[]
[]
[]
[]
[null,"Variable til brug for nøgletal 1-4, 5.2 samt 7",null,null,1,"1.1","1.2","1.3",2,"2.1","2.2","2.3",3,4,5,"5.1","5.2","5.3","5.4",6,"6.1","6.2",7,7,"7.1",null,"7.2",null,8,8,9,9,10,10,"10.1","10.1","10.2","10.2"]
[null,"Hele landet","Antal indbyggere","År","Antal institutionsanbragte  (udregnes i hjælpetabellen)","Antal anbragte på døgninstitution","Antal anbragte på sikret døgninstitution","Antal anbragte på socialpædagogiske opholdssteder","Varighed igangværende institutionsanbringelser","Varighed igangværende anbringelser på døgninstitution","Varighed igangværende anbringelser på sikret døgninstitution","Varighed igangværende anbringelser på socialpædagogisk opholdssted","Antal anbragte i plejefamilier","Antal anbragte i netværksplejefamilier","Antal modtagere af hjemmebaserede foranstaltninger","Antal modtagere af døgnophold","Antal modtagere af hjemmebaserede anbringelser","Antal modtagere af forebyggende foranstaltninger","Antal modtagere af forældrerettede indsatser","Forebyggende indsatser (§ 11, stk. 3-tilbud)","Myndighedsbevilgede § 11, stk. 3-tilbud (pr. 1.000 0-17-årige)","Øvrige § 11, stk. 3-tilbud (pr. 1.000 0-17-årige)","Antal institutionsanbragte 0-17 årige, og som nu ikke er anbragt på denne form (udregnes i hjælpetabellen)","Antal institutionsanbragte 0-17 årige pr. forrige kvartal","0-17 årige, der ved sidste opgørelse var institutionsanbragt, men nu er anbragt i anden form","Antal 0-17-årige institutionsanbragte forrige opgørelse","0-17 årige, der ved sidste opgørelse var institutionsanbragt, men nu ikke er anbragt","Antal 0-17-årige institutionsanbragte forrige opgørelse","0-17-årige, der ved sidste opgørelse modtog en hjemmebaseret foranstaltning, som nu er anbragt","Antal 0-17-årige, der modtog hjemmebaseret foranstaltning, og ikke var anbragt pr. forrige opgørelse","0-17-årige, der ved sidste opgørelse modtog hjemmebaseret foranstaltning, men som nu hverken modtager hjemmebaseret foranstaltning eller er anbragt","Antal 0-17-årige som ved forrige opgørelse modtog hjemmebaseret foranstaltning","Andel børn og unge, der har modtaget en § 11, stk. 3-indsats inden for de første 6 måneder af året, hvor der efterfølgende træffes en afgørelse om en § 50 undersøgelse i alt","Antal 0-17-årige der inden for de første 6 måneder har påbegyndt en § 11, stk. 3-indsats","Børn der har modtaget en myndighedsbevilget § 11, stk. 3-indsats inden for de første 6 måneder af året, hvor der efterfølgende træffes en afgørelse om en § 50 undersøgelse","Antal 0-17-årige der inden for de første 6 måneder har påbegyndt en myndighedsbevilget § 11, stk. 3-indsats","Børn der har modtaget en ikke-myndighedsbevilget § 11, stk. 3-indsats inden for de første 6 måneder af året, hvor der efterfølgende træffes en afgørelse om en § 50 undersøgelse","Antal 0-17-årige der inden for de første 6 måneder har påbegyndt en ikke-myndighedsbevilget § 11, stk. 3-indsats"]
[null,"Hele landet",1165918,"2015-07-01",3525,1905,71,1549,3226630,1899140,27966,1299524,6614,927,23726,96,429,22836,365]
[null,"Hele landet",1167426,"2016-01-01",3438,1830,58,1550,3141398,1833692,19522,1288184,6595,942,23861,90,398,23022,351,null,null,null,626,3525,63,3525,563,3525,775,23201,5247,23726]
[null,"Hele landet",1167002,"2016-07-01",3434,1843,62,1529,2999675,1772046,19854,1207775,6668,959,23864,63,364,23094,343,null,null,null,673,3438,75,3438,598,3438,819,23373,5854,23861]
[null,"Hele landet",1168201,"2017-01-01",3381,1815,80,1486,2926881,1747663,23846,1155372,6765,954,23957,87,360,23188,322,null,null,null,634,3434,76,3434,558,3434,823,23437,5403,23864]
[null,"Hele landet",1165363,"2017-07-01",3463,1809,79,1575,2872799,1686242,25839,1160718,6800,999,23985,85,336,23270,294,null,null,null,653,3381,72,3381,581,3381,809,23510,5889,23957]
[null,"Hele landet",1165475,"2018-01-01",3375,1760,64,1551,2788973,1626960,18299,1143714,6764,961,24277,68,319,23601,289,null,null,null,697,3463,80,3463,617,3463,767,23564,5622,23985]
[null,"Hele landet",1162195,"2018-07-01",3401,1771,84,1546,2678553,1553179,18138,1107236,6814,943,23840,84,255,23231,270,null,null,null,645,3375,59,3375,586,3375,777,23890,6393,24277]
[null,"Hele landet",1160360,"2019-01-01",3298,1688,76,1534,2556646,1469501,20357,1066788,6788,942,24353,79,252,23784,238,null,null,null,675,3401,77,3401,598,3401,717,23501,5767,23840]
[null,"Hele landet",1156537,"2019-07-01",3276,1686,72,1518,2525234,1463985,23262,1037987,6768,917,24158,72,223,23654,209,null,null,null,602,3298,60,3298,542,3298,680,24022,6875,24353]
[null,"Hele landet",1156116,"2020-01-01",3268,1675,79,1514,2484125,1443662,20737,1019726,6647,899,25052,88,252,24495,217,null,null,null,652,3276,74,3276,578,3276,728,23863,6008,24158]
[null,"Hele landet",1153027,"2020-07-01",3331,1666,84,1581,2543481,1452255,21082,1070144,6585,919,25126,86,235,24589,216,null,null,null,557,3268,50,3268,507,3268,756,24712,5834,25052]
[null,"Hele landet",1152972,"2021-01-01",3391,1701,95,1595,2543999,1444481,18812,1080706,6525,943,25586,77,251,25026,232,null,null,null,594,3331,68,3331,526,3331,760,24805,6194,25126]
[null,"Hele landet",1151374,"2021-07-01",3479,1688,98,1693,2565330,1435374,22266,1107690,6509,946,26506,63,245,25988,210,null,null,null,584,3391,59,3391,525,3391,785,25258,5860,25586]
[null,"Hele landet",1151704,"2022-01-01",3460,1699,84,1677,2595601,1444354,19232,1132015,6410,929,26802,72,255,26269,206,null,null,null,646,3479,44,3479,602,3479,729,26198,6650,26506]
[null,"Hele landet",1157254,"2022-07-01",3624,1763,88,1773,2636910,1469416,20585,1146909,6335,947,26911,61,249,26379,222,null,null,null,562,3460,42,3460,520,3460,800,26475,6665,26802]
[null,"Hele landet",1155814,"2023-01-01",3632,1765,85,1782,2688748,1510747,20791,1157210,6243,978,27050,71,244,26490,245,null,null,null,637,3624,52,3624,585,3624,737,26601,6938,26911]
[]
[]
[]
[]
[null,"Valg af Kommune",null,"Dags dato",null,"Valg nøgletal"]
[null,48,null,{"$f":"TODAY()","v":"2023-10-26"},null,1]
[]
[null,"Valg af\nsammenligningskommune",null,"Dato for ny model","Denne skal opdateres årligt","Valg registernøgletal","Valg indtastning",null,"Vis userform"]
[null,48,null,"2022-01-01",null,2,1,null,{"$f":"IF(D1667>D1670,FALSE,TRUE)","v":false}]
[]
[null,null,null,null,null,null,null,null,null,"Denne liste skal opdateres årligt, og det samme skal det navngivne område \"År_liste\""]
[null,"Nummer","Liste over kommuner","Region",null,"Nummer","Liste over nøgletal",null,"Nummer","Liste over kvartaler","Kvartal-navn"]
[null,1,"Albertslund","Region Hovedstaden",null,1,"Vis alle",null,1,20161,{"$f":"LEFT(J1674,4)&\" \"&RIGHT(J1674,1)&\". halvår\"","v":"2016 1. halvår"}]
[null,2,"Allerød","Region Hovedstaden",null,2,"Nøgletal 1 - Institutionsanbringelser",null,2,20162,{"$f":"LEFT(J1675,4)&\" \"&RIGHT(J1675,1)&\". halvår\"","v":"2016 2. halvår"}]
[null,3,"Assens","Region Syddanmark",null,3,"Nøgletal 2 - Varighed af institutionsanbringelser",null,3,20171,{"$f":"LEFT(J1676,4)&\" \"&RIGHT(J1676,1)&\". halvår\"","v":"2017 1. halvår"}]
[null,4,"Ballerup","Region Hovedstaden",null,4,"Nøgletal 3 - Anbragte i plejefamilie",null,4,20172,"2017 2. halvår"]
[null,5,"Billund","Region Syddanmark",null,5,"Nøgletal 4 - Anbragte i netværksplejefamilie",null,5,20181,"2018 1. halvår"]
[null,6,"Bornholm","Region Hovedstaden",null,6,"Nøgletal 5 - Hjemmebaserede foranstaltninger",null,6,20182,"2018 2. halvår"]
[null,7,"Brøndby","Region Hovedstaden",null,7,"Nøgletal 6 - Forebyggende indsatser (§ 11.3 tilbud)",null,7,20191,"2019 1. halvår"]
[null,8,"Brønderslev","Region Nordjylland",null,8,"Nøgletal 7 - Tidligere institutionsanbragte",null,8,20192,"2019 2. halvår"]
[null,9,"Dragør","Region Hovedstaden",null,9,"Nøgletal 8 - Fra hjemmebaseret foranst. og op ad indsatstrappen",null,9,20201,"2020 1. halvår"]
[null,10,"Egedal","Region Hovedstaden",null,10,"Nøgletal 9 - Fra hjemmebaseret foranst. og ned ad indsatstrappen",null,10,20202,"2020 2. halvår"]
[null,11,"Esbjerg","Region Syddanmark",null,11,"Nøgletal 10 - Fra forebyggende indsatser og op ad trappen",null,11]
[null,12,"Fanø","Region Syddanmark",null,12,"Nøgletal 11 - Frekvens af opfølgninger",null,12]
[null,13,"Favrskov","Region Midtjylland",null,null,null,null,13]
[null,14,"Faxe","Region Sjælland",null,null,null,null,14]
[null,15,"Fredensborg","Region Hovedstaden",null,null,null,null,15]
[null,16,"Fredericia","Region Syddanmark",null,null,null,null,16]
[null,17,"Frederiksberg","Region Hovedstaden",null,null,null,null,17]
[null,18,"Frederikshavn","Region Nordjylland",null,"Nummer","Liste over registernøgletal",null,18]
[null,19,"Frederikssund","Region Hovedstaden",null,1,"Vis alle",null,19]
[null,20,"Furesø","Region Hovedstaden",null,2,"Nøgletal 1 - Institutionsanbringelser",null,20]
[null,21,"Faaborg-Midtfyn","Region Syddanmark",null,3,"Nøgletal 2 - Varighed af institutionsanbringelser",null,21]
[null,22,"Gentofte","Region Hovedstaden",null,4,"Nøgletal 3 - Anbragte i plejefamilie",null,22]
[null,23,"Gladsaxe","Region Hovedstaden",null,5,"Nøgletal 4 - Anbragte i netværksplejefamilie",null,23]
[null,24,"Glostrup","Region Hovedstaden",null,6,"Nøgletal 5 - Hjemmebaserede foranstaltninger",null,24]
[null,25,"Greve","Region Sjælland",null,7,"Nøgletal 7 - Tidligere institutionsanbragte",null,25]
[null,26,"Gribskov","Region Hovedstaden",null,8,"Nøgletal 8 - Fra hjemmebaseret foranst. og op ad indsatstrappen"]
[null,27,"Guldborgsund","Region Sjælland",null,9,"Nøgletal 9 - Fra hjemmebaseret foranst. og ned ad indsatstrappen"]
[null,28,"Haderslev","Region Syddanmark"]
[null,29,"Halsnæs","Region Hovedstaden"]
[null,30,"Hedensted","Region Midtjylland"]
[null,31,"Helsingør","Region Hovedstaden",null,"Nummer","Liste over indtastnings-nøgletal"]
[null,32,"Herlev","Region Hovedstaden",null,1,"Vis alle"]
[null,33,"Herning","Region Midtjylland",null,2,"Nøgletal 6 - Forebyggende indsatser (§ 11, stk. 3-tilbud)"]
[null,34,"Hillerød","Region Hovedstaden",null,3,"Nøgletal 10 - Udvikling i forebyggende indsatser (§ 11, stk. 3-tilbud)"]
[null,35,"Hjørring","Region Nordjylland",null,4,"Nøgletal 11 - Opfølgninger"]
[null,36,"Holbæk","Region Sjælland"]
[null,37,"Holstebro","Region Midtjylland"]
[null,38,"Horsens","Region Midtjylland"]
[null,39,"Hvidovre","Region Hovedstaden"]
[null,40,"Høje-Taastrup","Region Hovedstaden"]
[null,41,"Hørsholm","Region Hovedstaden"]
[null,42,"Ikast-Brande","Region Midtjylland"]
[null,43,"Ishøj","Region Hovedstaden"]
[null,44,"Jammerbugt","Region Nordjylland"]
[null,45,"Kalundborg","Region Sjælland"]
[null,46,"Kerteminde","Region Syddanmark"]
[null,47,"Kolding","Region Syddanmark"]
[null,48,"København","Region Hovedstaden"]
[null,49,"Køge","Region Sjælland"]
[null,50,"Langeland","Region Syddanmark"]
[null,51,"Lejre","Region Sjælland"]
[null,52,"Lemvig","Region Midtjylland"]
[null,53,"Lolland","Region Sjælland"]
[null,54,"Lyngby-Taarbæk","Region Hovedstaden"]
[null,55,"Læsø","Region Nordjylland"]
[null,56,"Mariagerfjord","Region Nordjylland"]
[null,57,"Middelfart","Region Syddanmark"]
[null,58,"Morsø","Region Nordjylland"]
[null,59,"Norddjurs","Region Midtjylland"]
[null,60,"Nordfyns","Region Syddanmark"]
[null,61,"Nyborg","Region Syddanmark"]
[null,62,"Næstved","Region Sjælland"]
[null,63,"Odder","Region Midtjylland"]
[null,64,"Odense","Region Syddanmark"]
[null,65,"Odsherred","Region Sjælland"]
[null,66,"Randers","Region Midtjylland"]
[null,67,"Rebild","Region Nordjylland"]
[null,68,"Ringkøbing-Skjern","Region Midtjylland"]
[null,69,"Ringsted","Region Sjælland"]
[null,70,"Roskilde","Region Sjælland"]
[null,71,"Rudersdal","Region Hovedstaden"]
[null,72,"Rødovre","Region Hovedstaden"]
[null,73,"Samsø","Region Midtjylland"]
[null,74,"Silkeborg","Region Midtjylland"]
[null,75,"Skanderborg","Region Midtjylland"]
[null,76,"Skive","Region Midtjylland"]
[null,77,"Slagelse","Region Sjælland"]
[null,78,"Solrød","Region Sjælland"]
[null,79,"Sorø","Region Sjælland"]
[null,80,"Stevns","Region Sjælland"]
[null,81,"Struer","Region Midtjylland"]
[null,82,"Svendborg","Region Syddanmark"]
[null,83,"Syddjurs","Region Midtjylland"]
[null,84,"Sønderborg","Region Syddanmark"]
[null,85,"Thisted","Region Nordjylland"]
[null,86,"Tønder","Region Syddanmark"]
[null,87,"Tårnby","Region Hovedstaden"]
[null,88,"Vallensbæk","Region Hovedstaden"]
[null,89,"Varde","Region Syddanmark"]
[null,90,"Vejen","Region Syddanmark"]
[null,91,"Vejle","Region Syddanmark"]
[null,92,"Vesthimmerlands","Region Nordjylland"]
[null,93,"Viborg","Region Midtjylland"]
[null,94,"Vordingborg","Region Sjælland"]
[null,95,"Ærø","Region Syddanmark"]
[null,96,"Aabenraa","Region Syddanmark"]
[null,97,"Aalborg","Region Nordjylland"]
[null,98,"Aarhus","Region Midtjylland"]